{"text_format":"1","workbook":"xlsx","n_sheets":19,"sheets":["Inicial","Ações-Lançamentos","Ações-Custódia","Ações-Recebidos","FII-Lançamentos","FII-Custódia","FII-Recebidos","TD-Lançamentos","TD-Custódia","TD-Recebidos","RF-Lançamentos","RF-Custódia","RF-Recebidos","Fundos-Lançamentos","Fundos-Custódia","Fundos-Recebidos","Patrimônio","Configurações","Cotações"],"not_rendered":{"charts":17,"images":4,"macros":1,"external_links":0,"defined_names":77,"comments":4,"pivot_tables":7},"unopened":[],"bounds":{"document_bytes":16777216,"sheet_cells":100000,"rows_first":2000,"rows_last":500,"rows_between":2000,"halvings":0,"cell_chars":16384,"cell_head_chars":4096},"cells_cut":0,"cells_raw":0,"read":"whole","date_system":"1900"}

{"sheet":"Inicial","index":0,"n_rows":98,"n_cols":10,"rows_kept":98,"cut":false,"hidden":false,"merged":[[97,0,1048575,16],[81,1,82,1],[82,2,82,3],[83,1,84,1],[84,2,84,3],[71,0,71,16],[77,1,78,1],[77,2,78,3],[79,1,80,1],[80,2,80,3],[77,4,78,4],[96,9,96,12],[54,1,55,1],[55,2,55,3],[56,1,57,1],[57,2,57,3],[70,0,70,16],[44,0,44,16],[45,0,45,16],[50,1,51,1],[50,2,51,3],[52,1,53,1],[53,2,53,3],[13,0,13,16],[14,0,14,16],[39,7,39,8],[40,7,40,8],[28,1,29,1],[30,1,31,1],[39,5,39,6],[39,10,39,13],[40,5,40,6],[40,10,40,13],[24,1,25,1],[26,1,27,1],[23,7,23,8],[25,7,25,8],[26,7,26,8],[27,7,27,8],[28,7,28,8],[29,7,29,8],[30,7,30,8],[36,5,36,6],[36,10,36,13],[37,5,37,6],[37,10,37,13],[38,5,38,6],[38,10,38,13],[36,7,36,8],[37,7,37,8],[38,7,38,8],[33,5,33,6],[33,10,33,13],[34,5,34,6],[34,10,34,13],[35,5,35,6],[35,10,35,13],[33,7,33,8],[34,7,34,8],[35,7,35,8],[15,0,15,16],[19,0,19,16],[21,5,21,6],[21,10,21,13],[30,5,30,6],[30,10,30,13],[31,5,31,6],[31,10,31,13],[32,5,32,6],[32,10,32,13],[31,7,31,8],[32,7,32,8],[27,5,27,6],[27,10,27,13],[28,5,28,6],[28,10,28,13],[29,5,29,6],[29,10,29,13],[24,2,25,3],[29,2,29,3],[31,2,31,3],[27,2,27,3],[25,5,25,6],[24,7,24,8],[26,5,26,6],[26,10,26,13],[5,0,5,16383],[8,0,8,16383],[7,0,7,16383],[12,0,12,16383],[11,0,11,16383],[0,0,0,16],[2,0,2,16],[4,0,4,16383],[6,0,6,16383],[9,0,9,16383],[10,0,10,16383],[1,0,1,16383],[3,0,3,16383],[18,0,18,16],[22,5,22,6],[23,5,23,6],[22,7,22,8],[22,10,22,13],[23,10,23,13],[24,5,24,6],[24,10,24,13],[25,10,25,13]]}
["INVE$TINDO"]
[]
[]
[]
[]
[]
[]
[]
[]
[]
[]
[]
[]
["VISÃO GERAL"]
["Visão geral do seu patrimônio."]
[]
[]
[]
["VALORES INVESTIDOS"]
["Valores que você aplicou."]
[]
[]
[]
[]
[null,"TOTAL",{"$f":"rendafixa_in+rendavariavel_in+fundos_in","v":0}]
[]
[null,"RENDA FIXA"]
[null,null,{"$f":"rendafixa_in","v":0}]
[null,"RENDA VARIÁVEL"]
[null,null,{"$f":"rendavariavel_in","v":0}]
[null,"FUNDOS"]
[null,null,{"$f":"fundos_in","v":0}]
[]
[]
[]
[]
[]
[]
[]
[]
[]
[]
[]
[]
["VALORES ATUAIS"]
["Valor do seu patrimônio considerando a cotação atual."]
[]
[]
[]
[]
[null,"TOTAL",{"$f":"rendafixa_at+rendavariavel_at+fundos_at","v":0}]
[]
[null,"RENDA FIXA"]
[null,null,{"$f":"rendafixa_at","v":0}]
[null,"RENDA VARIÁVEL"]
[null,null,{"$f":"rendavariavel_at","v":0}]
[null,"FUNDOS"]
[null,null,{"$f":"fundos_at","v":0}]
[]
[]
[]
[]
[]
[]
[]
[]
[]
[]
[]
[]
["VARIAÇÃO"]
["Mudança no valor do seu patrimônio considerando a cotação atual."]
[]
[]
[]
[]
[]
[null,"TOTAL",{"$f":"atual-investido","v":0},null,{"$f":"atual/investido-1","v":{"$error":"#DIV/0!"}}]
[]
[null,"RENDA FIXA"]
[null,null,{"$f":"rendafixa_at-rendafixa_in","v":0},null,{"$f":"IFERROR(rendafixa_at/rendafixa_in-1,0)","v":0}]
[null,"RENDA VARIÁVEL"]
[null,null,{"$f":"rendavariavel_at-rendavariavel_in","v":0},null,{"$f":"IFERROR(rendavariavel_at/rendavariavel_in-1,0)","v":0}]
[null,"FUNDOS"]
[null,null,{"$f":"fundos_at-fundos_in","v":0},null,{"$f":"IFERROR(fundos_at/fundos_in-1,0)","v":0}]
[]
[]
[]
[]
[]
[]
[]
[]
[]
[]
[]
[null,null,null,"Termo de Uso",null,null,null,null,null,"Política de Privacidade"]
["WWW.INVESTINDO.ORG"]

{"sheet":"Ações-Lançamentos","index":1,"n_rows":1,"n_cols":15,"rows_kept":1,"cut":false,"hidden":false,"merged":[]}
["DATA","C/V","QTD","PAPEL","PRECO","CORRETAGEM","CBLC","EMOLUMENTOS","OUTRAS TAXAS","IRRF","TOTAL","EVENTO","QTD TOTAL","R$ INVESTIDO","PM"]

{"sheet":"Ações-Custódia","index":2,"n_rows":350,"n_cols":27,"rows_kept":350,"cut":false,"hidden":false,"merged":[[0,6,0,8],[0,13,0,14],[0,2,0,4],[0,21,0,23],[7,21,7,23],[8,21,8,23],[14,21,14,23],[0,10,0,11],[11,21,11,23],[9,21,9,23],[13,21,13,23],[12,21,12,23],[10,21,10,23]]}
["AÇÕES",null,"VALORES APLICADOS",null,null,null,"VALORES ATUAIS",null,null,null,"OBJETIVO",null,null,"RESULTADO",null,null,"PREÇO MÉDIO",null,"VALOR PARA I.R.",null,null,"COMPRAR MAIS"]
["PAPEL",null,"QUANTIDADE","R$","% TOTAL",null,"COTAÇÃO","R$","% TOTAL",null,"% ATUAL","DIFERENÇA",null,"R$","%",null,"R$",null,"R$",null,null,"PRIORIDADE","AÇÃO","DIFERENCIAL"]
["(vazio)",{"$f":"CONCATENATE(#REF!,\".sa\")","v":{"$error":"#REF!"}},{"$f":"SUMIFS('Ações-Lançamentos'!C:C,'Ações-Lançamentos'!D:D,$A3,'Ações-Lançamentos'!B:B,\"C\")+SUMIFS('Ações-Lançamentos'!C:C,'Ações-Lançamentos'!D:D,$A3,'Ações-Lançamentos'!B:B,\"v\")","v":0},{"$f":"IF(C3=0,0,SUMIFS('Ações-Lançamentos'!K:K,'Ações-Lançamentos'!D:D,$A3,'Ações-Lançamentos'!B:B,\"C\")-SUMIFS('Ações-Lançamentos'!K:K,'Ações-Lançamentos'!D:D,$A3,'Ações-Lançamentos'!B:B,\"v\"))-SUMIFS('Ações-Lançamentos'!K:K,'Ações-Lançamentos'!D:D,$A3,'Ações-Lançamentos'!L:L,\"BONIFICAÇÃO\")","v":0},{"$f":"IF($V$9=0,0,D3/$V$9)","v":0},null,{"$f":"IFERROR(VLOOKUP(A3,Cotações!B:C,2,FALSE),\"\")","v":""},{"$f":"IF(C3=\"\",0,IF(G3=\"\",D3,C3*G3))","v":0},{"$f":"IF($V$11=0,0,H3/$V$11)","v":0},null,null,{"$f":"IF(OR(K3=\"\",I3=\"\",E3=\"\"),0,IF($K$2=\"% ATUAL\",K3-I3,K3-E3))","v":0},null,{"$f":"IF(OR(D3=0,G3=\"\"),0,H3-D3)","v":0},{"$f":"IF(OR(D3=0,G3=\"\"),0,N3/D3)","v":0},null,{"$f":"IF(OR(A3=\"\",A3=\"(vazio)\"),0,IFERROR(LOOKUP(2,1/('Ações-Lançamentos'!D:D=A3),'Ações-Lançamentos'!O:O),0))","v":0},null,{"$f":"IF(OR(A3=\"\",A3=\"(vazio)\"),0,C3*Q3)","v":0},null,null,"1º",{"$f":"IFERROR(INDIRECT(CONCATENATE(\"a\",MATCH(X3,L:L,0))),\"\")","v":""},{"$f":"IF(MAX(L$3:L$350)<=0,\"\",MAX(L$3:L$350))","v":""}]
[null,{"$f":"CONCATENATE(A4,\".sa\")","v":".sa"},{"$f":"SUMIFS('Ações-Lançamentos'!C:C,'Ações-Lançamentos'!D:D,$A4,'Ações-Lançamentos'!B:B,\"C\")+SUMIFS('Ações-Lançamentos'!C:C,'Ações-Lançamentos'!D:D,$A4,'Ações-Lançamentos'!B:B,\"v\")","v":0},{"$f":"IF(C4=0,0,SUMIFS('Ações-Lançamentos'!K:K,'Ações-Lançamentos'!D:D,$A4,'Ações-Lançamentos'!B:B,\"C\")-SUMIFS('Ações-Lançamentos'!K:K,'Ações-Lançamentos'!D:D,$A4,'Ações-Lançamentos'!B:B,\"v\"))-SUMIFS('Ações-Lançamentos'!K:K,'Ações-Lançamentos'!D:D,$A4,'Ações-Lançamentos'!L:L,\"BONIFICAÇÃO\")","v":0},{"$f":"IF($V$9=0,0,D4/$V$9)","v":0},null,{"$f":"IFERROR(VLOOKUP(A4,Cotações!B:C,2,FALSE),\"\")","v":""},{"$f":"IF(C4=\"\",0,IF(G4=\"\",D4,C4*G4))","v":0},{"$f":"IF($V$11=0,0,H4/$V$11)","v":0},null,null,{"$f":"IF(OR(K4=\"\",I4=\"\",E4=\"\"),0,IF($K$2=\"% ATUAL\",K4-I4,K4-E4))","v":0},null,{"$f":"IF(OR(D4=0,G4=\"\"),0,H4-D4)","v":0},{"$f":"IF(OR(D4=0,G4=\"\"),0,N4/D4)","v":0},null,{"$f":"IF(OR(A4=\"\",A4=\"(vazio)\"),0,IFERROR(LOOKUP(2,1/('Ações-Lançamentos'!D:D=A4),'Ações-Lançamentos'!O:O),0))","v":0},null,{"$f":"IF(OR(A4=\"\",A4=\"(vazio)\"),0,IFERROR(LOOKUP(2,1/('Ações-Lançamentos'!D:D=A4),'Ações-Lançamentos'!N:N),0))","v":0},null,null,"2º",{"$f":"IFERROR(INDIRECT(CONCATENATE(\"a\",MATCH(X4,L:L,0))),\"\")","v":""},{"$f":"IF(LARGE(L$3:L$350,2)<=0,\"\",LARGE(L$3:L$350,2))","v":""}]
[null,".sa",{"$f":"SUMIFS('Ações-Lançamentos'!C:C,'Ações-Lançamentos'!D:D,$A5,'Ações-Lançamentos'!B:B,\"C\")+SUMIFS('Ações-Lançamentos'!C:C,'Ações-Lançamentos'!D:D,$A5,'Ações-Lançamentos'!B:B,\"v\")","v":0},{"$f":"IF(C5=0,0,SUMIFS('Ações-Lançamentos'!K:K,'Ações-Lançamentos'!D:D,$A5,'Ações-Lançamentos'!B:B,\"C\")-SUMIFS('Ações-Lançamentos'!K:K,'Ações-Lançamentos'!D:D,$A5,'Ações-Lançamentos'!B:B,\"v\"))-SUMIFS('Ações-Lançamentos'!K:K,'Ações-Lançamentos'!D:D,$A5,'Ações-Lançamentos'!L:L,\"BONIFICAÇÃO\")","v":0},0,null,{"$f":"IFERROR(VLOOKUP(A5,Cotações!B:C,2,FALSE),\"\")","v":""},0,0,null,null,0,null,0,0,null,{"$f":"IF(OR(A5=\"\",A5=\"(vazio)\"),0,IFERROR(LOOKUP(2,1/('Ações-Lançamentos'!D:D=A5),'Ações-Lançamentos'!O:O),0))","v":0},null,{"$f":"IF(OR(A5=\"\",A5=\"(vazio)\"),0,IFERROR(LOOKUP(2,1/('Ações-Lançamentos'!D:D=A5),'Ações-Lançamentos'!N:N),0))","v":0},null,null,"3º",{"$f":"IFERROR(INDIRECT(CONCATENATE(\"a\",MATCH(X5,L:L,0))),\"\")","v":""},{"$f":"IF(LARGE(L$3:L$350,3)<=0,\"\",LARGE(L$3:L$350,3))","v":""}]
[null,".sa",{"$f":"SUMIFS('Ações-Lançamentos'!C:C,'Ações-Lançamentos'!D:D,$A6,'Ações-Lançamentos'!B:B,\"C\")+SUMIFS('Ações-Lançamentos'!C:C,'Ações-Lançamentos'!D:D,$A6,'Ações-Lançamentos'!B:B,\"v\")","v":0},{"$f":"IF(C6=0,0,SUMIFS('Ações-Lançamentos'!K:K,'Ações-Lançamentos'!D:D,$A6,'Ações-Lançamentos'!B:B,\"C\")-SUMIFS('Ações-Lançamentos'!K:K,'Ações-Lançamentos'!D:D,$A6,'Ações-Lançamentos'!B:B,\"v\"))-SUMIFS('Ações-Lançamentos'!K:K,'Ações-Lançamentos'!D:D,$A6,'Ações-Lançamentos'!L:L,\"BONIFICAÇÃO\")","v":0},0,null,{"$f":"IFERROR(VLOOKUP(A6,Cotações!B:C,2,FALSE),\"\")","v":""},0,0,null,null,0,null,0,0,null,{"$f":"IF(OR(A6=\"\",A6=\"(vazio)\"),0,IFERROR(LOOKUP(2,1/('Ações-Lançamentos'!D:D=A6),'Ações-Lançamentos'!O:O),0))","v":0},null,{"$f":"IF(OR(A6=\"\",A6=\"(vazio)\"),0,IFERROR(LOOKUP(2,1/('Ações-Lançamentos'!D:D=A6),'Ações-Lançamentos'!N:N),0))","v":0}]
[null,".sa",{"$f":"SUMIFS('Ações-Lançamentos'!C:C,'Ações-Lançamentos'!D:D,$A7,'Ações-Lançamentos'!B:B,\"C\")+SUMIFS('Ações-Lançamentos'!C:C,'Ações-Lançamentos'!D:D,$A7,'Ações-Lançamentos'!B:B,\"v\")","v":0},{"$f":"IF(C7=0,0,SUMIFS('Ações-Lançamentos'!K:K,'Ações-Lançamentos'!D:D,$A7,'Ações-Lançamentos'!B:B,\"C\")-SUMIFS('Ações-Lançamentos'!K:K,'Ações-Lançamentos'!D:D,$A7,'Ações-Lançamentos'!B:B,\"v\"))-SUMIFS('Ações-Lançamentos'!K:K,'Ações-Lançamentos'!D:D,$A7,'Ações-Lançamentos'!L:L,\"BONIFICAÇÃO\")","v":0},0,null,{"$f":"IFERROR(VLOOKUP(A7,Cotações!B:C,2,FALSE),\"\")","v":""},0,0,null,null,0,null,0,0,null,{"$f":"IF(OR(A7=\"\",A7=\"(vazio)\"),0,IFERROR(LOOKUP(2,1/('Ações-Lançamentos'!D:D=A7),'Ações-Lançamentos'!O:O),0))","v":0},null,{"$f":"IF(OR(A7=\"\",A7=\"(vazio)\"),0,IFERROR(LOOKUP(2,1/('Ações-Lançamentos'!D:D=A7),'Ações-Lançamentos'!N:N),0))","v":0}]
[null,".sa",{"$f":"SUMIFS('Ações-Lançamentos'!C:C,'Ações-Lançamentos'!D:D,$A8,'Ações-Lançamentos'!B:B,\"C\")+SUMIFS('Ações-Lançamentos'!C:C,'Ações-Lançamentos'!D:D,$A8,'Ações-Lançamentos'!B:B,\"v\")","v":0},{"$f":"IF(C8=0,0,SUMIFS('Ações-Lançamentos'!K:K,'Ações-Lançamentos'!D:D,$A8,'Ações-Lançamentos'!B:B,\"C\")-SUMIFS('Ações-Lançamentos'!K:K,'Ações-Lançamentos'!D:D,$A8,'Ações-Lançamentos'!B:B,\"v\"))-SUMIFS('Ações-Lançamentos'!K:K,'Ações-Lançamentos'!D:D,$A8,'Ações-Lançamentos'!L:L,\"BONIFICAÇÃO\")","v":0},0,null,{"$f":"IFERROR(VLOOKUP(A8,Cotações!B:C,2,FALSE),\"\")","v":""},0,0,null,null,0,null,0,0,null,{"$f":"IF(OR(A8=\"\",A8=\"(vazio)\"),0,IFERROR(LOOKUP(2,1/('Ações-Lançamentos'!D:D=A8),'Ações-Lançamentos'!O:O),0))","v":0},null,{"$f":"IF(OR(A8=\"\",A8=\"(vazio)\"),0,IFERROR(LOOKUP(2,1/('Ações-Lançamentos'!D:D=A8),'Ações-Lançamentos'!N:N),0))","v":0},null,null,"TOTAL INVESTIDO"]
[null,".sa",{"$f":"SUMIFS('Ações-Lançamentos'!C:C,'Ações-Lançamentos'!D:D,$A9,'Ações-Lançamentos'!B:B,\"C\")+SUMIFS('Ações-Lançamentos'!C:C,'Ações-Lançamentos'!D:D,$A9,'Ações-Lançamentos'!B:B,\"v\")","v":0},{"$f":"IF(C9=0,0,SUMIFS('Ações-Lançamentos'!K:K,'Ações-Lançamentos'!D:D,$A9,'Ações-Lançamentos'!B:B,\"C\")-SUMIFS('Ações-Lançamentos'!K:K,'Ações-Lançamentos'!D:D,$A9,'Ações-Lançamentos'!B:B,\"v\"))-SUMIFS('Ações-Lançamentos'!K:K,'Ações-Lançamentos'!D:D,$A9,'Ações-Lançamentos'!L:L,\"BONIFICAÇÃO\")","v":0},0,null,{"$f":"IFERROR(VLOOKUP(A9,Cotações!B:C,2,FALSE),\"\")","v":""},0,0,null,null,0,null,0,0,null,{"$f":"IF(OR(A9=\"\",A9=\"(vazio)\"),0,IFERROR(LOOKUP(2,1/('Ações-Lançamentos'!D:D=A9),'Ações-Lançamentos'!O:O),0))","v":0},null,{"$f":"IF(OR(A9=\"\",A9=\"(vazio)\"),0,IFERROR(LOOKUP(2,1/('Ações-Lançamentos'!D:D=A9),'Ações-Lançamentos'!N:N),0))","v":0},null,null,{"$f":"SUM(D3:D350)","v":0}]
[null,".sa",{"$f":"SUMIFS('Ações-Lançamentos'!C:C,'Ações-Lançamentos'!D:D,$A10,'Ações-Lançamentos'!B:B,\"C\")+SUMIFS('Ações-Lançamentos'!C:C,'Ações-Lançamentos'!D:D,$A10,'Ações-Lançamentos'!B:B,\"v\")","v":0},{"$f":"IF(C10=0,0,SUMIFS('Ações-Lançamentos'!K:K,'Ações-Lançamentos'!D:D,$A10,'Ações-Lançamentos'!B:B,\"C\")-SUMIFS('Ações-Lançamentos'!K:K,'Ações-Lançamentos'!D:D,$A10,'Ações-Lançamentos'!B:B,\"v\"))-SUMIFS('Ações-Lançamentos'!K:K,'Ações-Lançamentos'!D:D,$A10,'Ações-Lançamentos'!L:L,\"BONIFICAÇÃO\")","v":0},0,null,{"$f":"IFERROR(VLOOKUP(A10,Cotações!B:C,2,FALSE),\"\")","v":""},0,0,null,null,0,null,0,0,null,{"$f":"IF(OR(A10=\"\",A10=\"(vazio)\"),0,IFERROR(LOOKUP(2,1/('Ações-Lançamentos'!D:D=A10),'Ações-Lançamentos'!O:O),0))","v":0},null,{"$f":"IF(OR(A10=\"\",A10=\"(vazio)\"),0,IFERROR(LOOKUP(2,1/('Ações-Lançamentos'!D:D=A10),'Ações-Lançamentos'!N:N),0))","v":0},null,null,"TOTAL ATUAL"]
[null,".sa",{"$f":"SUMIFS('Ações-Lançamentos'!C:C,'Ações-Lançamentos'!D:D,$A11,'Ações-Lançamentos'!B:B,\"C\")+SUMIFS('Ações-Lançamentos'!C:C,'Ações-Lançamentos'!D:D,$A11,'Ações-Lançamentos'!B:B,\"v\")","v":0},{"$f":"IF(C11=0,0,SUMIFS('Ações-Lançamentos'!K:K,'Ações-Lançamentos'!D:D,$A11,'Ações-Lançamentos'!B:B,\"C\")-SUMIFS('Ações-Lançamentos'!K:K,'Ações-Lançamentos'!D:D,$A11,'Ações-Lançamentos'!B:B,\"v\"))-SUMIFS('Ações-Lançamentos'!K:K,'Ações-Lançamentos'!D:D,$A11,'Ações-Lançamentos'!L:L,\"BONIFICAÇÃO\")","v":0},0,null,{"$f":"IFERROR(VLOOKUP(A11,Cotações!B:C,2,FALSE),\"\")","v":""},0,0,null,null,0,null,0,0,null,{"$f":"IF(OR(A11=\"\",A11=\"(vazio)\"),0,IFERROR(LOOKUP(2,1/('Ações-Lançamentos'!D:D=A11),'Ações-Lançamentos'!O:O),0))","v":0},null,{"$f":"IF(OR(A11=\"\",A11=\"(vazio)\"),0,IFERROR(LOOKUP(2,1/('Ações-Lançamentos'!D:D=A11),'Ações-Lançamentos'!N:N),0))","v":0},null,null,{"$f":"SUM(H3:H350)","v":0}]
[null,".sa",{"$f":"SUMIFS('Ações-Lançamentos'!C:C,'Ações-Lançamentos'!D:D,$A12,'Ações-Lançamentos'!B:B,\"C\")+SUMIFS('Ações-Lançamentos'!C:C,'Ações-Lançamentos'!D:D,$A12,'Ações-Lançamentos'!B:B,\"v\")","v":0},{"$f":"IF(C12=0,0,SUMIFS('Ações-Lançamentos'!K:K,'Ações-Lançamentos'!D:D,$A12,'Ações-Lançamentos'!B:B,\"C\")-SUMIFS('Ações-Lançamentos'!K:K,'Ações-Lançamentos'!D:D,$A12,'Ações-Lançamentos'!B:B,\"v\"))-SUMIFS('Ações-Lançamentos'!K:K,'Ações-Lançamentos'!D:D,$A12,'Ações-Lançamentos'!L:L,\"BONIFICAÇÃO\")","v":0},0,null,{"$f":"IFERROR(VLOOKUP(A12,Cotações!B:C,2,FALSE),\"\")","v":""},0,0,null,null,0,null,0,0,null,{"$f":"IF(OR(A12=\"\",A12=\"(vazio)\"),0,IFERROR(LOOKUP(2,1/('Ações-Lançamentos'!D:D=A12),'Ações-Lançamentos'!O:O),0))","v":0},null,{"$f":"IF(OR(A12=\"\",A12=\"(vazio)\"),0,IFERROR(LOOKUP(2,1/('Ações-Lançamentos'!D:D=A12),'Ações-Lançamentos'!N:N),0))","v":0},null,null,"RESULTADO EM REAIS"]
[null,".sa",{"$f":"SUMIFS('Ações-Lançamentos'!C:C,'Ações-Lançamentos'!D:D,$A13,'Ações-Lançamentos'!B:B,\"C\")+SUMIFS('Ações-Lançamentos'!C:C,'Ações-Lançamentos'!D:D,$A13,'Ações-Lançamentos'!B:B,\"v\")","v":0},{"$f":"IF(C13=0,0,SUMIFS('Ações-Lançamentos'!K:K,'Ações-Lançamentos'!D:D,$A13,'Ações-Lançamentos'!B:B,\"C\")-SUMIFS('Ações-Lançamentos'!K:K,'Ações-Lançamentos'!D:D,$A13,'Ações-Lançamentos'!B:B,\"v\"))-SUMIFS('Ações-Lançamentos'!K:K,'Ações-Lançamentos'!D:D,$A13,'Ações-Lançamentos'!L:L,\"BONIFICAÇÃO\")","v":0},0,null,{"$f":"IFERROR(VLOOKUP(A13,Cotações!B:C,2,FALSE),\"\")","v":""},0,0,null,null,0,null,0,0,null,{"$f":"IF(OR(A13=\"\",A13=\"(vazio)\"),0,IFERROR(LOOKUP(2,1/('Ações-Lançamentos'!D:D=A13),'Ações-Lançamentos'!O:O),0))","v":0},null,{"$f":"IF(OR(A13=\"\",A13=\"(vazio)\"),0,IFERROR(LOOKUP(2,1/('Ações-Lançamentos'!D:D=A13),'Ações-Lançamentos'!N:N),0))","v":0},null,null,{"$f":"SUM(N3:N350)","v":0}]
[null,".sa",{"$f":"SUMIFS('Ações-Lançamentos'!C:C,'Ações-Lançamentos'!D:D,$A14,'Ações-Lançamentos'!B:B,\"C\")+SUMIFS('Ações-Lançamentos'!C:C,'Ações-Lançamentos'!D:D,$A14,'Ações-Lançamentos'!B:B,\"v\")","v":0},{"$f":"IF(C14=0,0,SUMIFS('Ações-Lançamentos'!K:K,'Ações-Lançamentos'!D:D,$A14,'Ações-Lançamentos'!B:B,\"C\")-SUMIFS('Ações-Lançamentos'!K:K,'Ações-Lançamentos'!D:D,$A14,'Ações-Lançamentos'!B:B,\"v\"))-SUMIFS('Ações-Lançamentos'!K:K,'Ações-Lançamentos'!D:D,$A14,'Ações-Lançamentos'!L:L,\"BONIFICAÇÃO\")","v":0},0,null,{"$f":"IFERROR(VLOOKUP(A14,Cotações!B:C,2,FALSE),\"\")","v":""},0,0,null,null,0,null,0,0,null,{"$f":"IF(OR(A14=\"\",A14=\"(vazio)\"),0,IFERROR(LOOKUP(2,1/('Ações-Lançamentos'!D:D=A14),'Ações-Lançamentos'!O:O),0))","v":0},null,{"$f":"IF(OR(A14=\"\",A14=\"(vazio)\"),0,IFERROR(LOOKUP(2,1/('Ações-Lançamentos'!D:D=A14),'Ações-Lançamentos'!N:N),0))","v":0},null,null,"RESULTADO EM PERCENTUAL",null,null,null,{"$f":"IF(K14=\"\",\"\",K14-I14)","v":""},{"$f":"IF(OR($A14=\"TOTAL\",$A14=\"\"),\"\",$A14)","v":""}]
[null,".sa",{"$f":"SUMIFS('Ações-Lançamentos'!C:C,'Ações-Lançamentos'!D:D,$A15,'Ações-Lançamentos'!B:B,\"C\")+SUMIFS('Ações-Lançamentos'!C:C,'Ações-Lançamentos'!D:D,$A15,'Ações-Lançamentos'!B:B,\"v\")","v":0},{"$f":"IF(C15=0,0,SUMIFS('Ações-Lançamentos'!K:K,'Ações-Lançamentos'!D:D,$A15,'Ações-Lançamentos'!B:B,\"C\")-SUMIFS('Ações-Lançamentos'!K:K,'Ações-Lançamentos'!D:D,$A15,'Ações-Lançamentos'!B:B,\"v\"))-SUMIFS('Ações-Lançamentos'!K:K,'Ações-Lançamentos'!D:D,$A15,'Ações-Lançamentos'!L:L,\"BONIFICAÇÃO\")","v":0},0,null,{"$f":"IFERROR(VLOOKUP(A15,Cotações!B:C,2,FALSE),\"\")","v":""},0,0,null,null,0,null,0,0,null,{"$f":"IF(OR(A15=\"\",A15=\"(vazio)\"),0,IFERROR(LOOKUP(2,1/('Ações-Lançamentos'!D:D=A15),'Ações-Lançamentos'!O:O),0))","v":0},null,{"$f":"IF(OR(A15=\"\",A15=\"(vazio)\"),0,IFERROR(LOOKUP(2,1/('Ações-Lançamentos'!D:D=A15),'Ações-Lançamentos'!N:N),0))","v":0},null,null,{"$f":"IFERROR((V11/V9)-1,0)","v":0},null,null,null,"",""]
[null,".sa",{"$f":"SUMIFS('Ações-Lançamentos'!C:C,'Ações-Lançamentos'!D:D,$A16,'Ações-Lançamentos'!B:B,\"C\")+SUMIFS('Ações-Lançamentos'!C:C,'Ações-Lançamentos'!D:D,$A16,'Ações-Lançamentos'!B:B,\"v\")","v":0},{"$f":"IF(C16=0,0,SUMIFS('Ações-Lançamentos'!K:K,'Ações-Lançamentos'!D:D,$A16,'Ações-Lançamentos'!B:B,\"C\")-SUMIFS('Ações-Lançamentos'!K:K,'Ações-Lançamentos'!D:D,$A16,'Ações-Lançamentos'!B:B,\"v\"))-SUMIFS('Ações-Lançamentos'!K:K,'Ações-Lançamentos'!D:D,$A16,'Ações-Lançamentos'!L:L,\"BONIFICAÇÃO\")","v":0},0,null,{"$f":"IFERROR(VLOOKUP(A16,Cotações!B:C,2,FALSE),\"\")","v":""},0,0,null,null,0,null,0,0,null,{"$f":"IF(OR(A16=\"\",A16=\"(vazio)\"),0,IFERROR(LOOKUP(2,1/('Ações-Lançamentos'!D:D=A16),'Ações-Lançamentos'!O:O),0))","v":0},null,{"$f":"IF(OR(A16=\"\",A16=\"(vazio)\"),0,IFERROR(LOOKUP(2,1/('Ações-Lançamentos'!D:D=A16),'Ações-Lançamentos'!N:N),0))","v":0},null,null,null,null,null,null,"",""]
[null,".sa",{"$f":"SUMIFS('Ações-Lançamentos'!C:C,'Ações-Lançamentos'!D:D,$A17,'Ações-Lançamentos'!B:B,\"C\")+SUMIFS('Ações-Lançamentos'!C:C,'Ações-Lançamentos'!D:D,$A17,'Ações-Lançamentos'!B:B,\"v\")","v":0},{"$f":"IF(C17=0,0,SUMIFS('Ações-Lançamentos'!K:K,'Ações-Lançamentos'!D:D,$A17,'Ações-Lançamentos'!B:B,\"C\")-SUMIFS('Ações-Lançamentos'!K:K,'Ações-Lançamentos'!D:D,$A17,'Ações-Lançamentos'!B:B,\"v\"))-SUMIFS('Ações-Lançamentos'!K:K,'Ações-Lançamentos'!D:D,$A17,'Ações-Lançamentos'!L:L,\"BONIFICAÇÃO\")","v":0},0,null,{"$f":"IFERROR(VLOOKUP(A17,Cotações!B:C,2,FALSE),\"\")","v":""},0,0,null,null,0,null,0,0,null,{"$f":"IF(OR(A17=\"\",A17=\"(vazio)\"),0,IFERROR(LOOKUP(2,1/('Ações-Lançamentos'!D:D=A17),'Ações-Lançamentos'!O:O),0))","v":0},null,{"$f":"IF(OR(A17=\"\",A17=\"(vazio)\"),0,IFERROR(LOOKUP(2,1/('Ações-Lançamentos'!D:D=A17),'Ações-Lançamentos'!N:N),0))","v":0},null,null,null,"% ATUAL",null,null,"",""]
[null,".sa",{"$f":"SUMIFS('Ações-Lançamentos'!C:C,'Ações-Lançamentos'!D:D,$A18,'Ações-Lançamentos'!B:B,\"C\")+SUMIFS('Ações-Lançamentos'!C:C,'Ações-Lançamentos'!D:D,$A18,'Ações-Lançamentos'!B:B,\"v\")","v":0},{"$f":"IF(C18=0,0,SUMIFS('Ações-Lançamentos'!K:K,'Ações-Lançamentos'!D:D,$A18,'Ações-Lançamentos'!B:B,\"C\")-SUMIFS('Ações-Lançamentos'!K:K,'Ações-Lançamentos'!D:D,$A18,'Ações-Lançamentos'!B:B,\"v\"))-SUMIFS('Ações-Lançamentos'!K:K,'Ações-Lançamentos'!D:D,$A18,'Ações-Lançamentos'!L:L,\"BONIFICAÇÃO\")","v":0},0,null,{"$f":"IFERROR(VLOOKUP(A18,Cotações!B:C,2,FALSE),\"\")","v":""},0,0,null,null,0,null,0,0,null,{"$f":"IF(OR(A18=\"\",A18=\"(vazio)\"),0,IFERROR(LOOKUP(2,1/('Ações-Lançamentos'!D:D=A18),'Ações-Lançamentos'!O:O),0))","v":0},null,{"$f":"IF(OR(A18=\"\",A18=\"(vazio)\"),0,IFERROR(LOOKUP(2,1/('Ações-Lançamentos'!D:D=A18),'Ações-Lançamentos'!N:N),0))","v":0},null,null,null,"% INVESTIDO",null,null,"",""]
[null,".sa",{"$f":"SUMIFS('Ações-Lançamentos'!C:C,'Ações-Lançamentos'!D:D,$A19,'Ações-Lançamentos'!B:B,\"C\")+SUMIFS('Ações-Lançamentos'!C:C,'Ações-Lançamentos'!D:D,$A19,'Ações-Lançamentos'!B:B,\"v\")","v":0},{"$f":"IF(C19=0,0,SUMIFS('Ações-Lançamentos'!K:K,'Ações-Lançamentos'!D:D,$A19,'Ações-Lançamentos'!B:B,\"C\")-SUMIFS('Ações-Lançamentos'!K:K,'Ações-Lançamentos'!D:D,$A19,'Ações-Lançamentos'!B:B,\"v\"))-SUMIFS('Ações-Lançamentos'!K:K,'Ações-Lançamentos'!D:D,$A19,'Ações-Lançamentos'!L:L,\"BONIFICAÇÃO\")","v":0},0,null,{"$f":"IFERROR(VLOOKUP(A19,Cotações!B:C,2,FALSE),\"\")","v":""},0,0,null,null,0,null,0,0,null,{"$f":"IF(OR(A19=\"\",A19=\"(vazio)\"),0,IFERROR(LOOKUP(2,1/('Ações-Lançamentos'!D:D=A19),'Ações-Lançamentos'!O:O),0))","v":0},null,{"$f":"IF(OR(A19=\"\",A19=\"(vazio)\"),0,IFERROR(LOOKUP(2,1/('Ações-Lançamentos'!D:D=A19),'Ações-Lançamentos'!N:N),0))","v":0},null,null,null,null,null,null,"",""]
[null,".sa",{"$f":"SUMIFS('Ações-Lançamentos'!C:C,'Ações-Lançamentos'!D:D,$A20,'Ações-Lançamentos'!B:B,\"C\")+SUMIFS('Ações-Lançamentos'!C:C,'Ações-Lançamentos'!D:D,$A20,'Ações-Lançamentos'!B:B,\"v\")","v":0},{"$f":"IF(C20=0,0,SUMIFS('Ações-Lançamentos'!K:K,'Ações-Lançamentos'!D:D,$A20,'Ações-Lançamentos'!B:B,\"C\")-SUMIFS('Ações-Lançamentos'!K:K,'Ações-Lançamentos'!D:D,$A20,'Ações-Lançamentos'!B:B,\"v\"))-SUMIFS('Ações-Lançamentos'!K:K,'Ações-Lançamentos'!D:D,$A20,'Ações-Lançamentos'!L:L,\"BONIFICAÇÃO\")","v":0},0,null,{"$f":"IFERROR(VLOOKUP(A20,Cotações!B:C,2,FALSE),\"\")","v":""},0,0,null,null,0,null,0,0,null,{"$f":"IF(OR(A20=\"\",A20=\"(vazio)\"),0,IFERROR(LOOKUP(2,1/('Ações-Lançamentos'!D:D=A20),'Ações-Lançamentos'!O:O),0))","v":0},null,{"$f":"IF(OR(A20=\"\",A20=\"(vazio)\"),0,IFERROR(LOOKUP(2,1/('Ações-Lançamentos'!D:D=A20),'Ações-Lançamentos'!N:N),0))","v":0},null,null,null,null,null,null,"",""]
[null,".sa",{"$f":"SUMIFS('Ações-Lançamentos'!C:C,'Ações-Lançamentos'!D:D,$A21,'Ações-Lançamentos'!B:B,\"C\")+SUMIFS('Ações-Lançamentos'!C:C,'Ações-Lançamentos'!D:D,$A21,'Ações-Lançamentos'!B:B,\"v\")","v":0},{"$f":"IF(C21=0,0,SUMIFS('Ações-Lançamentos'!K:K,'Ações-Lançamentos'!D:D,$A21,'Ações-Lançamentos'!B:B,\"C\")-SUMIFS('Ações-Lançamentos'!K:K,'Ações-Lançamentos'!D:D,$A21,'Ações-Lançamentos'!B:B,\"v\"))-SUMIFS('Ações-Lançamentos'!K:K,'Ações-Lançamentos'!D:D,$A21,'Ações-Lançamentos'!L:L,\"BONIFICAÇÃO\")","v":0},0,null,{"$f":"IFERROR(VLOOKUP(A21,Cotações!B:C,2,FALSE),\"\")","v":""},0,0,null,null,0,null,0,0,null,{"$f":"IF(OR(A21=\"\",A21=\"(vazio)\"),0,IFERROR(LOOKUP(2,1/('Ações-Lançamentos'!D:D=A21),'Ações-Lançamentos'!O:O),0))","v":0},null,{"$f":"IF(OR(A21=\"\",A21=\"(vazio)\"),0,IFERROR(LOOKUP(2,1/('Ações-Lançamentos'!D:D=A21),'Ações-Lançamentos'!N:N),0))","v":0},null,null,null,null,null,null,"",""]
[null,".sa",{"$f":"SUMIFS('Ações-Lançamentos'!C:C,'Ações-Lançamentos'!D:D,$A22,'Ações-Lançamentos'!B:B,\"C\")+SUMIFS('Ações-Lançamentos'!C:C,'Ações-Lançamentos'!D:D,$A22,'Ações-Lançamentos'!B:B,\"v\")","v":0},{"$f":"IF(C22=0,0,SUMIFS('Ações-Lançamentos'!K:K,'Ações-Lançamentos'!D:D,$A22,'Ações-Lançamentos'!B:B,\"C\")-SUMIFS('Ações-Lançamentos'!K:K,'Ações-Lançamentos'!D:D,$A22,'Ações-Lançamentos'!B:B,\"v\"))-SUMIFS('Ações-Lançamentos'!K:K,'Ações-Lançamentos'!D:D,$A22,'Ações-Lançamentos'!L:L,\"BONIFICAÇÃO\")","v":0},0,null,{"$f":"IFERROR(VLOOKUP(A22,Cotações!B:C,2,FALSE),\"\")","v":""},0,0,null,null,0,null,0,0,null,{"$f":"IF(OR(A22=\"\",A22=\"(vazio)\"),0,IFERROR(LOOKUP(2,1/('Ações-Lançamentos'!D:D=A22),'Ações-Lançamentos'!O:O),0))","v":0},null,{"$f":"IF(OR(A22=\"\",A22=\"(vazio)\"),0,IFERROR(LOOKUP(2,1/('Ações-Lançamentos'!D:D=A22),'Ações-Lançamentos'!N:N),0))","v":0},null,null,null,null,null,null,"",""]
[null,".sa",{"$f":"SUMIFS('Ações-Lançamentos'!C:C,'Ações-Lançamentos'!D:D,$A23,'Ações-Lançamentos'!B:B,\"C\")+SUMIFS('Ações-Lançamentos'!C:C,'Ações-Lançamentos'!D:D,$A23,'Ações-Lançamentos'!B:B,\"v\")","v":0},{"$f":"IF(C23=0,0,SUMIFS('Ações-Lançamentos'!K:K,'Ações-Lançamentos'!D:D,$A23,'Ações-Lançamentos'!B:B,\"C\")-SUMIFS('Ações-Lançamentos'!K:K,'Ações-Lançamentos'!D:D,$A23,'Ações-Lançamentos'!B:B,\"v\"))-SUMIFS('Ações-Lançamentos'!K:K,'Ações-Lançamentos'!D:D,$A23,'Ações-Lançamentos'!L:L,\"BONIFICAÇÃO\")","v":0},0,null,{"$f":"IFERROR(VLOOKUP(A23,Cotações!B:C,2,FALSE),\"\")","v":""},0,0,null,null,0,null,0,0,null,{"$f":"IF(OR(A23=\"\",A23=\"(vazio)\"),0,IFERROR(LOOKUP(2,1/('Ações-Lançamentos'!D:D=A23),'Ações-Lançamentos'!O:O),0))","v":0},null,{"$f":"IF(OR(A23=\"\",A23=\"(vazio)\"),0,IFERROR(LOOKUP(2,1/('Ações-Lançamentos'!D:D=A23),'Ações-Lançamentos'!N:N),0))","v":0},null,null,null,null,null,null,"",""]
[null,".sa",{"$f":"SUMIFS('Ações-Lançamentos'!C:C,'Ações-Lançamentos'!D:D,$A24,'Ações-Lançamentos'!B:B,\"C\")+SUMIFS('Ações-Lançamentos'!C:C,'Ações-Lançamentos'!D:D,$A24,'Ações-Lançamentos'!B:B,\"v\")","v":0},{"$f":"IF(C24=0,0,SUMIFS('Ações-Lançamentos'!K:K,'Ações-Lançamentos'!D:D,$A24,'Ações-Lançamentos'!B:B,\"C\")-SUMIFS('Ações-Lançamentos'!K:K,'Ações-Lançamentos'!D:D,$A24,'Ações-Lançamentos'!B:B,\"v\"))-SUMIFS('Ações-Lançamentos'!K:K,'Ações-Lançamentos'!D:D,$A24,'Ações-Lançamentos'!L:L,\"BONIFICAÇÃO\")","v":0},0,null,{"$f":"IFERROR(VLOOKUP(A24,Cotações!B:C,2,FALSE),\"\")","v":""},0,0,null,null,0,null,0,0,null,{"$f":"IF(OR(A24=\"\",A24=\"(vazio)\"),0,IFERROR(LOOKUP(2,1/('Ações-Lançamentos'!D:D=A24),'Ações-Lançamentos'!O:O),0))","v":0},null,{"$f":"IF(OR(A24=\"\",A24=\"(vazio)\"),0,IFERROR(LOOKUP(2,1/('Ações-Lançamentos'!D:D=A24),'Ações-Lançamentos'!N:N),0))","v":0},null,null,null,null,null,null,"",""]
[null,".sa",{"$f":"SUMIFS('Ações-Lançamentos'!C:C,'Ações-Lançamentos'!D:D,$A25,'Ações-Lançamentos'!B:B,\"C\")+SUMIFS('Ações-Lançamentos'!C:C,'Ações-Lançamentos'!D:D,$A25,'Ações-Lançamentos'!B:B,\"v\")","v":0},{"$f":"IF(C25=0,0,SUMIFS('Ações-Lançamentos'!K:K,'Ações-Lançamentos'!D:D,$A25,'Ações-Lançamentos'!B:B,\"C\")-SUMIFS('Ações-Lançamentos'!K:K,'Ações-Lançamentos'!D:D,$A25,'Ações-Lançamentos'!B:B,\"v\"))-SUMIFS('Ações-Lançamentos'!K:K,'Ações-Lançamentos'!D:D,$A25,'Ações-Lançamentos'!L:L,\"BONIFICAÇÃO\")","v":0},0,null,{"$f":"IFERROR(VLOOKUP(A25,Cotações!B:C,2,FALSE),\"\")","v":""},0,0,null,null,0,null,0,0,null,{"$f":"IF(OR(A25=\"\",A25=\"(vazio)\"),0,IFERROR(LOOKUP(2,1/('Ações-Lançamentos'!D:D=A25),'Ações-Lançamentos'!O:O),0))","v":0},null,{"$f":"IF(OR(A25=\"\",A25=\"(vazio)\"),0,IFERROR(LOOKUP(2,1/('Ações-Lançamentos'!D:D=A25),'Ações-Lançamentos'!N:N),0))","v":0},null,null,null,null,null,null,"",""]
[null,".sa",{"$f":"SUMIFS('Ações-Lançamentos'!C:C,'Ações-Lançamentos'!D:D,$A26,'Ações-Lançamentos'!B:B,\"C\")+SUMIFS('Ações-Lançamentos'!C:C,'Ações-Lançamentos'!D:D,$A26,'Ações-Lançamentos'!B:B,\"v\")","v":0},{"$f":"IF(C26=0,0,SUMIFS('Ações-Lançamentos'!K:K,'Ações-Lançamentos'!D:D,$A26,'Ações-Lançamentos'!B:B,\"C\")-SUMIFS('Ações-Lançamentos'!K:K,'Ações-Lançamentos'!D:D,$A26,'Ações-Lançamentos'!B:B,\"v\"))-SUMIFS('Ações-Lançamentos'!K:K,'Ações-Lançamentos'!D:D,$A26,'Ações-Lançamentos'!L:L,\"BONIFICAÇÃO\")","v":0},0,null,{"$f":"IFERROR(VLOOKUP(A26,Cotações!B:C,2,FALSE),\"\")","v":""},0,0,null,null,0,null,0,0,null,{"$f":"IF(OR(A26=\"\",A26=\"(vazio)\"),0,IFERROR(LOOKUP(2,1/('Ações-Lançamentos'!D:D=A26),'Ações-Lançamentos'!O:O),0))","v":0},null,{"$f":"IF(OR(A26=\"\",A26=\"(vazio)\"),0,IFERROR(LOOKUP(2,1/('Ações-Lançamentos'!D:D=A26),'Ações-Lançamentos'!N:N),0))","v":0},null,null,null,null,null,null,"",""]
[null,".sa",{"$f":"SUMIFS('Ações-Lançamentos'!C:C,'Ações-Lançamentos'!D:D,$A27,'Ações-Lançamentos'!B:B,\"C\")+SUMIFS('Ações-Lançamentos'!C:C,'Ações-Lançamentos'!D:D,$A27,'Ações-Lançamentos'!B:B,\"v\")","v":0},{"$f":"IF(C27=0,0,SUMIFS('Ações-Lançamentos'!K:K,'Ações-Lançamentos'!D:D,$A27,'Ações-Lançamentos'!B:B,\"C\")-SUMIFS('Ações-Lançamentos'!K:K,'Ações-Lançamentos'!D:D,$A27,'Ações-Lançamentos'!B:B,\"v\"))-SUMIFS('Ações-Lançamentos'!K:K,'Ações-Lançamentos'!D:D,$A27,'Ações-Lançamentos'!L:L,\"BONIFICAÇÃO\")","v":0},0,null,{"$f":"IFERROR(VLOOKUP(A27,Cotações!B:C,2,FALSE),\"\")","v":""},0,0,null,null,0,null,0,0,null,{"$f":"IF(OR(A27=\"\",A27=\"(vazio)\"),0,IFERROR(LOOKUP(2,1/('Ações-Lançamentos'!D:D=A27),'Ações-Lançamentos'!O:O),0))","v":0},null,{"$f":"IF(OR(A27=\"\",A27=\"(vazio)\"),0,IFERROR(LOOKUP(2,1/('Ações-Lançamentos'!D:D=A27),'Ações-Lançamentos'!N:N),0))","v":0},null,null,null,null,null,null,"",""]
[null,".sa",{"$f":"SUMIFS('Ações-Lançamentos'!C:C,'Ações-Lançamentos'!D:D,$A28,'Ações-Lançamentos'!B:B,\"C\")+SUMIFS('Ações-Lançamentos'!C:C,'Ações-Lançamentos'!D:D,$A28,'Ações-Lançamentos'!B:B,\"v\")","v":0},{"$f":"IF(C28=0,0,SUMIFS('Ações-Lançamentos'!K:K,'Ações-Lançamentos'!D:D,$A28,'Ações-Lançamentos'!B:B,\"C\")-SUMIFS('Ações-Lançamentos'!K:K,'Ações-Lançamentos'!D:D,$A28,'Ações-Lançamentos'!B:B,\"v\"))-SUMIFS('Ações-Lançamentos'!K:K,'Ações-Lançamentos'!D:D,$A28,'Ações-Lançamentos'!L:L,\"BONIFICAÇÃO\")","v":0},0,null,{"$f":"IFERROR(VLOOKUP(A28,Cotações!B:C,2,FALSE),\"\")","v":""},0,0,null,null,0,null,0,0,null,{"$f":"IF(OR(A28=\"\",A28=\"(vazio)\"),0,IFERROR(LOOKUP(2,1/('Ações-Lançamentos'!D:D=A28),'Ações-Lançamentos'!O:O),0))","v":0},null,{"$f":"IF(OR(A28=\"\",A28=\"(vazio)\"),0,IFERROR(LOOKUP(2,1/('Ações-Lançamentos'!D:D=A28),'Ações-Lançamentos'!N:N),0))","v":0},null,null,null,null,null,null,"",""]
[null,".sa",{"$f":"SUMIFS('Ações-Lançamentos'!C:C,'Ações-Lançamentos'!D:D,$A29,'Ações-Lançamentos'!B:B,\"C\")+SUMIFS('Ações-Lançamentos'!C:C,'Ações-Lançamentos'!D:D,$A29,'Ações-Lançamentos'!B:B,\"v\")","v":0},{"$f":"IF(C29=0,0,SUMIFS('Ações-Lançamentos'!K:K,'Ações-Lançamentos'!D:D,$A29,'Ações-Lançamentos'!B:B,\"C\")-SUMIFS('Ações-Lançamentos'!K:K,'Ações-Lançamentos'!D:D,$A29,'Ações-Lançamentos'!B:B,\"v\"))-SUMIFS('Ações-Lançamentos'!K:K,'Ações-Lançamentos'!D:D,$A29,'Ações-Lançamentos'!L:L,\"BONIFICAÇÃO\")","v":0},0,null,{"$f":"IFERROR(VLOOKUP(A29,Cotações!B:C,2,FALSE),\"\")","v":""},0,0,null,null,0,null,0,0,null,{"$f":"IF(OR(A29=\"\",A29=\"(vazio)\"),0,IFERROR(LOOKUP(2,1/('Ações-Lançamentos'!D:D=A29),'Ações-Lançamentos'!O:O),0))","v":0},null,{"$f":"IF(OR(A29=\"\",A29=\"(vazio)\"),0,IFERROR(LOOKUP(2,1/('Ações-Lançamentos'!D:D=A29),'Ações-Lançamentos'!N:N),0))","v":0},null,null,null,null,null,null,"",""]
[null,".sa",{"$f":"SUMIFS('Ações-Lançamentos'!C:C,'Ações-Lançamentos'!D:D,$A30,'Ações-Lançamentos'!B:B,\"C\")+SUMIFS('Ações-Lançamentos'!C:C,'Ações-Lançamentos'!D:D,$A30,'Ações-Lançamentos'!B:B,\"v\")","v":0},{"$f":"IF(C30=0,0,SUMIFS('Ações-Lançamentos'!K:K,'Ações-Lançamentos'!D:D,$A30,'Ações-Lançamentos'!B:B,\"C\")-SUMIFS('Ações-Lançamentos'!K:K,'Ações-Lançamentos'!D:D,$A30,'Ações-Lançamentos'!B:B,\"v\"))-SUMIFS('Ações-Lançamentos'!K:K,'Ações-Lançamentos'!D:D,$A30,'Ações-Lançamentos'!L:L,\"BONIFICAÇÃO\")","v":0},0,null,{"$f":"IFERROR(VLOOKUP(A30,Cotações!B:C,2,FALSE),\"\")","v":""},0,0,null,null,0,null,0,0,null,{"$f":"IF(OR(A30=\"\",A30=\"(vazio)\"),0,IFERROR(LOOKUP(2,1/('Ações-Lançamentos'!D:D=A30),'Ações-Lançamentos'!O:O),0))","v":0},null,{"$f":"IF(OR(A30=\"\",A30=\"(vazio)\"),0,IFERROR(LOOKUP(2,1/('Ações-Lançamentos'!D:D=A30),'Ações-Lançamentos'!N:N),0))","v":0},null,null,null,null,null,null,"",""]
[null,".sa",{"$f":"SUMIFS('Ações-Lançamentos'!C:C,'Ações-Lançamentos'!D:D,$A31,'Ações-Lançamentos'!B:B,\"C\")+SUMIFS('Ações-Lançamentos'!C:C,'Ações-Lançamentos'!D:D,$A31,'Ações-Lançamentos'!B:B,\"v\")","v":0},{"$f":"IF(C31=0,0,SUMIFS('Ações-Lançamentos'!K:K,'Ações-Lançamentos'!D:D,$A31,'Ações-Lançamentos'!B:B,\"C\")-SUMIFS('Ações-Lançamentos'!K:K,'Ações-Lançamentos'!D:D,$A31,'Ações-Lançamentos'!B:B,\"v\"))-SUMIFS('Ações-Lançamentos'!K:K,'Ações-Lançamentos'!D:D,$A31,'Ações-Lançamentos'!L:L,\"BONIFICAÇÃO\")","v":0},0,null,{"$f":"IFERROR(VLOOKUP(A31,Cotações!B:C,2,FALSE),\"\")","v":""},0,0,null,null,0,null,0,0,null,{"$f":"IF(OR(A31=\"\",A31=\"(vazio)\"),0,IFERROR(LOOKUP(2,1/('Ações-Lançamentos'!D:D=A31),'Ações-Lançamentos'!O:O),0))","v":0},null,{"$f":"IF(OR(A31=\"\",A31=\"(vazio)\"),0,IFERROR(LOOKUP(2,1/('Ações-Lançamentos'!D:D=A31),'Ações-Lançamentos'!N:N),0))","v":0},null,null,null,null,null,null,"",""]
[null,".sa",{"$f":"SUMIFS('Ações-Lançamentos'!C:C,'Ações-Lançamentos'!D:D,$A32,'Ações-Lançamentos'!B:B,\"C\")+SUMIFS('Ações-Lançamentos'!C:C,'Ações-Lançamentos'!D:D,$A32,'Ações-Lançamentos'!B:B,\"v\")","v":0},{"$f":"IF(C32=0,0,SUMIFS('Ações-Lançamentos'!K:K,'Ações-Lançamentos'!D:D,$A32,'Ações-Lançamentos'!B:B,\"C\")-SUMIFS('Ações-Lançamentos'!K:K,'Ações-Lançamentos'!D:D,$A32,'Ações-Lançamentos'!B:B,\"v\"))-SUMIFS('Ações-Lançamentos'!K:K,'Ações-Lançamentos'!D:D,$A32,'Ações-Lançamentos'!L:L,\"BONIFICAÇÃO\")","v":0},0,null,{"$f":"IFERROR(VLOOKUP(A32,Cotações!B:C,2,FALSE),\"\")","v":""},0,0,null,null,0,null,0,0,null,{"$f":"IF(OR(A32=\"\",A32=\"(vazio)\"),0,IFERROR(LOOKUP(2,1/('Ações-Lançamentos'!D:D=A32),'Ações-Lançamentos'!O:O),0))","v":0},null,{"$f":"IF(OR(A32=\"\",A32=\"(vazio)\"),0,IFERROR(LOOKUP(2,1/('Ações-Lançamentos'!D:D=A32),'Ações-Lançamentos'!N:N),0))","v":0},null,null,null,null,null,null,"",""]
[null,".sa",{"$f":"SUMIFS('Ações-Lançamentos'!C:C,'Ações-Lançamentos'!D:D,$A33,'Ações-Lançamentos'!B:B,\"C\")+SUMIFS('Ações-Lançamentos'!C:C,'Ações-Lançamentos'!D:D,$A33,'Ações-Lançamentos'!B:B,\"v\")","v":0},{"$f":"IF(C33=0,0,SUMIFS('Ações-Lançamentos'!K:K,'Ações-Lançamentos'!D:D,$A33,'Ações-Lançamentos'!B:B,\"C\")-SUMIFS('Ações-Lançamentos'!K:K,'Ações-Lançamentos'!D:D,$A33,'Ações-Lançamentos'!B:B,\"v\"))-SUMIFS('Ações-Lançamentos'!K:K,'Ações-Lançamentos'!D:D,$A33,'Ações-Lançamentos'!L:L,\"BONIFICAÇÃO\")","v":0},0,null,{"$f":"IFERROR(VLOOKUP(A33,Cotações!B:C,2,FALSE),\"\")","v":""},0,0,null,null,0,null,0,0,null,{"$f":"IF(OR(A33=\"\",A33=\"(vazio)\"),0,IFERROR(LOOKUP(2,1/('Ações-Lançamentos'!D:D=A33),'Ações-Lançamentos'!O:O),0))","v":0},null,{"$f":"IF(OR(A33=\"\",A33=\"(vazio)\"),0,IFERROR(LOOKUP(2,1/('Ações-Lançamentos'!D:D=A33),'Ações-Lançamentos'!N:N),0))","v":0},null,null,null,null,null,null,"",""]
[null,".sa",{"$f":"SUMIFS('Ações-Lançamentos'!C:C,'Ações-Lançamentos'!D:D,$A34,'Ações-Lançamentos'!B:B,\"C\")+SUMIFS('Ações-Lançamentos'!C:C,'Ações-Lançamentos'!D:D,$A34,'Ações-Lançamentos'!B:B,\"v\")","v":0},{"$f":"IF(C34=0,0,SUMIFS('Ações-Lançamentos'!K:K,'Ações-Lançamentos'!D:D,$A34,'Ações-Lançamentos'!B:B,\"C\")-SUMIFS('Ações-Lançamentos'!K:K,'Ações-Lançamentos'!D:D,$A34,'Ações-Lançamentos'!B:B,\"v\"))-SUMIFS('Ações-Lançamentos'!K:K,'Ações-Lançamentos'!D:D,$A34,'Ações-Lançamentos'!L:L,\"BONIFICAÇÃO\")","v":0},0,null,{"$f":"IFERROR(VLOOKUP(A34,Cotações!B:C,2,FALSE),\"\")","v":""},0,0,null,null,0,null,0,0,null,{"$f":"IF(OR(A34=\"\",A34=\"(vazio)\"),0,IFERROR(LOOKUP(2,1/('Ações-Lançamentos'!D:D=A34),'Ações-Lançamentos'!O:O),0))","v":0},null,{"$f":"IF(OR(A34=\"\",A34=\"(vazio)\"),0,IFERROR(LOOKUP(2,1/('Ações-Lançamentos'!D:D=A34),'Ações-Lançamentos'!N:N),0))","v":0},null,null,null,null,null,null,"",""]
[null,".sa",{"$f":"SUMIFS('Ações-Lançamentos'!C:C,'Ações-Lançamentos'!D:D,$A35,'Ações-Lançamentos'!B:B,\"C\")+SUMIFS('Ações-Lançamentos'!C:C,'Ações-Lançamentos'!D:D,$A35,'Ações-Lançamentos'!B:B,\"v\")","v":0},{"$f":"IF(C35=0,0,SUMIFS('Ações-Lançamentos'!K:K,'Ações-Lançamentos'!D:D,$A35,'Ações-Lançamentos'!B:B,\"C\")-SUMIFS('Ações-Lançamentos'!K:K,'Ações-Lançamentos'!D:D,$A35,'Ações-Lançamentos'!B:B,\"v\"))-SUMIFS('Ações-Lançamentos'!K:K,'Ações-Lançamentos'!D:D,$A35,'Ações-Lançamentos'!L:L,\"BONIFICAÇÃO\")","v":0},0,null,{"$f":"IFERROR(VLOOKUP(A35,Cotações!B:C,2,FALSE),\"\")","v":""},0,0,null,null,0,null,0,0,null,{"$f":"IF(OR(A35=\"\",A35=\"(vazio)\"),0,IFERROR(LOOKUP(2,1/('Ações-Lançamentos'!D:D=A35),'Ações-Lançamentos'!O:O),0))","v":0},null,{"$f":"IF(OR(A35=\"\",A35=\"(vazio)\"),0,IFERROR(LOOKUP(2,1/('Ações-Lançamentos'!D:D=A35),'Ações-Lançamentos'!N:N),0))","v":0},null,null,null,null,null,null,"",""]
[null,".sa",{"$f":"SUMIFS('Ações-Lançamentos'!C:C,'Ações-Lançamentos'!D:D,$A36,'Ações-Lançamentos'!B:B,\"C\")+SUMIFS('Ações-Lançamentos'!C:C,'Ações-Lançamentos'!D:D,$A36,'Ações-Lançamentos'!B:B,\"v\")","v":0},{"$f":"IF(C36=0,0,SUMIFS('Ações-Lançamentos'!K:K,'Ações-Lançamentos'!D:D,$A36,'Ações-Lançamentos'!B:B,\"C\")-SUMIFS('Ações-Lançamentos'!K:K,'Ações-Lançamentos'!D:D,$A36,'Ações-Lançamentos'!B:B,\"v\"))-SUMIFS('Ações-Lançamentos'!K:K,'Ações-Lançamentos'!D:D,$A36,'Ações-Lançamentos'!L:L,\"BONIFICAÇÃO\")","v":0},0,null,{"$f":"IFERROR(VLOOKUP(A36,Cotações!B:C,2,FALSE),\"\")","v":""},0,0,null,null,0,null,0,0,null,{"$f":"IF(OR(A36=\"\",A36=\"(vazio)\"),0,IFERROR(LOOKUP(2,1/('Ações-Lançamentos'!D:D=A36),'Ações-Lançamentos'!O:O),0))","v":0},null,{"$f":"IF(OR(A36=\"\",A36=\"(vazio)\"),0,IFERROR(LOOKUP(2,1/('Ações-Lançamentos'!D:D=A36),'Ações-Lançamentos'!N:N),0))","v":0},null,null,null,null,null,null,"",""]
[null,".sa",{"$f":"SUMIFS('Ações-Lançamentos'!C:C,'Ações-Lançamentos'!D:D,$A37,'Ações-Lançamentos'!B:B,\"C\")+SUMIFS('Ações-Lançamentos'!C:C,'Ações-Lançamentos'!D:D,$A37,'Ações-Lançamentos'!B:B,\"v\")","v":0},{"$f":"IF(C37=0,0,SUMIFS('Ações-Lançamentos'!K:K,'Ações-Lançamentos'!D:D,$A37,'Ações-Lançamentos'!B:B,\"C\")-SUMIFS('Ações-Lançamentos'!K:K,'Ações-Lançamentos'!D:D,$A37,'Ações-Lançamentos'!B:B,\"v\"))-SUMIFS('Ações-Lançamentos'!K:K,'Ações-Lançamentos'!D:D,$A37,'Ações-Lançamentos'!L:L,\"BONIFICAÇÃO\")","v":0},0,null,{"$f":"IFERROR(VLOOKUP(A37,Cotações!B:C,2,FALSE),\"\")","v":""},0,0,null,null,0,null,0,0,null,{"$f":"IF(OR(A37=\"\",A37=\"(vazio)\"),0,IFERROR(LOOKUP(2,1/('Ações-Lançamentos'!D:D=A37),'Ações-Lançamentos'!O:O),0))","v":0},null,{"$f":"IF(OR(A37=\"\",A37=\"(vazio)\"),0,IFERROR(LOOKUP(2,1/('Ações-Lançamentos'!D:D=A37),'Ações-Lançamentos'!N:N),0))","v":0},null,null,null,null,null,null,"",""]
[null,".sa",{"$f":"SUMIFS('Ações-Lançamentos'!C:C,'Ações-Lançamentos'!D:D,$A38,'Ações-Lançamentos'!B:B,\"C\")+SUMIFS('Ações-Lançamentos'!C:C,'Ações-Lançamentos'!D:D,$A38,'Ações-Lançamentos'!B:B,\"v\")","v":0},{"$f":"IF(C38=0,0,SUMIFS('Ações-Lançamentos'!K:K,'Ações-Lançamentos'!D:D,$A38,'Ações-Lançamentos'!B:B,\"C\")-SUMIFS('Ações-Lançamentos'!K:K,'Ações-Lançamentos'!D:D,$A38,'Ações-Lançamentos'!B:B,\"v\"))-SUMIFS('Ações-Lançamentos'!K:K,'Ações-Lançamentos'!D:D,$A38,'Ações-Lançamentos'!L:L,\"BONIFICAÇÃO\")","v":0},0,null,{"$f":"IFERROR(VLOOKUP(A38,Cotações!B:C,2,FALSE),\"\")","v":""},0,0,null,null,0,null,0,0,null,{"$f":"IF(OR(A38=\"\",A38=\"(vazio)\"),0,IFERROR(LOOKUP(2,1/('Ações-Lançamentos'!D:D=A38),'Ações-Lançamentos'!O:O),0))","v":0},null,{"$f":"IF(OR(A38=\"\",A38=\"(vazio)\"),0,IFERROR(LOOKUP(2,1/('Ações-Lançamentos'!D:D=A38),'Ações-Lançamentos'!N:N),0))","v":0},null,null,null,null,null,null,"",""]
[null,".sa",{"$f":"SUMIFS('Ações-Lançamentos'!C:C,'Ações-Lançamentos'!D:D,$A39,'Ações-Lançamentos'!B:B,\"C\")+SUMIFS('Ações-Lançamentos'!C:C,'Ações-Lançamentos'!D:D,$A39,'Ações-Lançamentos'!B:B,\"v\")","v":0},{"$f":"IF(C39=0,0,SUMIFS('Ações-Lançamentos'!K:K,'Ações-Lançamentos'!D:D,$A39,'Ações-Lançamentos'!B:B,\"C\")-SUMIFS('Ações-Lançamentos'!K:K,'Ações-Lançamentos'!D:D,$A39,'Ações-Lançamentos'!B:B,\"v\"))-SUMIFS('Ações-Lançamentos'!K:K,'Ações-Lançamentos'!D:D,$A39,'Ações-Lançamentos'!L:L,\"BONIFICAÇÃO\")","v":0},0,null,{"$f":"IFERROR(VLOOKUP(A39,Cotações!B:C,2,FALSE),\"\")","v":""},0,0,null,null,0,null,0,0,null,{"$f":"IF(OR(A39=\"\",A39=\"(vazio)\"),0,IFERROR(LOOKUP(2,1/('Ações-Lançamentos'!D:D=A39),'Ações-Lançamentos'!O:O),0))","v":0},null,{"$f":"IF(OR(A39=\"\",A39=\"(vazio)\"),0,IFERROR(LOOKUP(2,1/('Ações-Lançamentos'!D:D=A39),'Ações-Lançamentos'!N:N),0))","v":0},null,null,null,null,null,null,"",""]
[null,".sa",{"$f":"SUMIFS('Ações-Lançamentos'!C:C,'Ações-Lançamentos'!D:D,$A40,'Ações-Lançamentos'!B:B,\"C\")+SUMIFS('Ações-Lançamentos'!C:C,'Ações-Lançamentos'!D:D,$A40,'Ações-Lançamentos'!B:B,\"v\")","v":0},{"$f":"IF(C40=0,0,SUMIFS('Ações-Lançamentos'!K:K,'Ações-Lançamentos'!D:D,$A40,'Ações-Lançamentos'!B:B,\"C\")-SUMIFS('Ações-Lançamentos'!K:K,'Ações-Lançamentos'!D:D,$A40,'Ações-Lançamentos'!B:B,\"v\"))-SUMIFS('Ações-Lançamentos'!K:K,'Ações-Lançamentos'!D:D,$A40,'Ações-Lançamentos'!L:L,\"BONIFICAÇÃO\")","v":0},0,null,{"$f":"IFERROR(VLOOKUP(A40,Cotações!B:C,2,FALSE),\"\")","v":""},0,0,null,null,0,null,0,0,null,{"$f":"IF(OR(A40=\"\",A40=\"(vazio)\"),0,IFERROR(LOOKUP(2,1/('Ações-Lançamentos'!D:D=A40),'Ações-Lançamentos'!O:O),0))","v":0},null,{"$f":"IF(OR(A40=\"\",A40=\"(vazio)\"),0,IFERROR(LOOKUP(2,1/('Ações-Lançamentos'!D:D=A40),'Ações-Lançamentos'!N:N),0))","v":0},null,null,null,null,null,null,"",""]
[null,".sa",{"$f":"SUMIFS('Ações-Lançamentos'!C:C,'Ações-Lançamentos'!D:D,$A41,'Ações-Lançamentos'!B:B,\"C\")+SUMIFS('Ações-Lançamentos'!C:C,'Ações-Lançamentos'!D:D,$A41,'Ações-Lançamentos'!B:B,\"v\")","v":0},{"$f":"IF(C41=0,0,SUMIFS('Ações-Lançamentos'!K:K,'Ações-Lançamentos'!D:D,$A41,'Ações-Lançamentos'!B:B,\"C\")-SUMIFS('Ações-Lançamentos'!K:K,'Ações-Lançamentos'!D:D,$A41,'Ações-Lançamentos'!B:B,\"v\"))-SUMIFS('Ações-Lançamentos'!K:K,'Ações-Lançamentos'!D:D,$A41,'Ações-Lançamentos'!L:L,\"BONIFICAÇÃO\")","v":0},0,null,{"$f":"IFERROR(VLOOKUP(A41,Cotações!B:C,2,FALSE),\"\")","v":""},0,0,null,null,0,null,0,0,null,{"$f":"IF(OR(A41=\"\",A41=\"(vazio)\"),0,IFERROR(LOOKUP(2,1/('Ações-Lançamentos'!D:D=A41),'Ações-Lançamentos'!O:O),0))","v":0},null,{"$f":"IF(OR(A41=\"\",A41=\"(vazio)\"),0,IFERROR(LOOKUP(2,1/('Ações-Lançamentos'!D:D=A41),'Ações-Lançamentos'!N:N),0))","v":0},null,null,null,null,null,null,"",""]
[null,".sa",{"$f":"SUMIFS('Ações-Lançamentos'!C:C,'Ações-Lançamentos'!D:D,$A42,'Ações-Lançamentos'!B:B,\"C\")+SUMIFS('Ações-Lançamentos'!C:C,'Ações-Lançamentos'!D:D,$A42,'Ações-Lançamentos'!B:B,\"v\")","v":0},{"$f":"IF(C42=0,0,SUMIFS('Ações-Lançamentos'!K:K,'Ações-Lançamentos'!D:D,$A42,'Ações-Lançamentos'!B:B,\"C\")-SUMIFS('Ações-Lançamentos'!K:K,'Ações-Lançamentos'!D:D,$A42,'Ações-Lançamentos'!B:B,\"v\"))-SUMIFS('Ações-Lançamentos'!K:K,'Ações-Lançamentos'!D:D,$A42,'Ações-Lançamentos'!L:L,\"BONIFICAÇÃO\")","v":0},0,null,{"$f":"IFERROR(VLOOKUP(A42,Cotações!B:C,2,FALSE),\"\")","v":""},0,0,null,null,0,null,0,0,null,{"$f":"IF(OR(A42=\"\",A42=\"(vazio)\"),0,IFERROR(LOOKUP(2,1/('Ações-Lançamentos'!D:D=A42),'Ações-Lançamentos'!O:O),0))","v":0},null,{"$f":"IF(OR(A42=\"\",A42=\"(vazio)\"),0,IFERROR(LOOKUP(2,1/('Ações-Lançamentos'!D:D=A42),'Ações-Lançamentos'!N:N),0))","v":0},null,null,null,null,null,null,"",""]
[null,".sa",{"$f":"SUMIFS('Ações-Lançamentos'!C:C,'Ações-Lançamentos'!D:D,$A43,'Ações-Lançamentos'!B:B,\"C\")+SUMIFS('Ações-Lançamentos'!C:C,'Ações-Lançamentos'!D:D,$A43,'Ações-Lançamentos'!B:B,\"v\")","v":0},{"$f":"IF(C43=0,0,SUMIFS('Ações-Lançamentos'!K:K,'Ações-Lançamentos'!D:D,$A43,'Ações-Lançamentos'!B:B,\"C\")-SUMIFS('Ações-Lançamentos'!K:K,'Ações-Lançamentos'!D:D,$A43,'Ações-Lançamentos'!B:B,\"v\"))-SUMIFS('Ações-Lançamentos'!K:K,'Ações-Lançamentos'!D:D,$A43,'Ações-Lançamentos'!L:L,\"BONIFICAÇÃO\")","v":0},0,null,{"$f":"IFERROR(VLOOKUP(A43,Cotações!B:C,2,FALSE),\"\")","v":""},0,0,null,null,0,null,0,0,null,{"$f":"IF(OR(A43=\"\",A43=\"(vazio)\"),0,IFERROR(LOOKUP(2,1/('Ações-Lançamentos'!D:D=A43),'Ações-Lançamentos'!O:O),0))","v":0},null,{"$f":"IF(OR(A43=\"\",A43=\"(vazio)\"),0,IFERROR(LOOKUP(2,1/('Ações-Lançamentos'!D:D=A43),'Ações-Lançamentos'!N:N),0))","v":0},null,null,null,null,null,null,"",""]
[null,".sa",{"$f":"SUMIFS('Ações-Lançamentos'!C:C,'Ações-Lançamentos'!D:D,$A44,'Ações-Lançamentos'!B:B,\"C\")+SUMIFS('Ações-Lançamentos'!C:C,'Ações-Lançamentos'!D:D,$A44,'Ações-Lançamentos'!B:B,\"v\")","v":0},{"$f":"IF(C44=0,0,SUMIFS('Ações-Lançamentos'!K:K,'Ações-Lançamentos'!D:D,$A44,'Ações-Lançamentos'!B:B,\"C\")-SUMIFS('Ações-Lançamentos'!K:K,'Ações-Lançamentos'!D:D,$A44,'Ações-Lançamentos'!B:B,\"v\"))-SUMIFS('Ações-Lançamentos'!K:K,'Ações-Lançamentos'!D:D,$A44,'Ações-Lançamentos'!L:L,\"BONIFICAÇÃO\")","v":0},0,null,{"$f":"IFERROR(VLOOKUP(A44,Cotações!B:C,2,FALSE),\"\")","v":""},0,0,null,null,0,null,0,0,null,{"$f":"IF(OR(A44=\"\",A44=\"(vazio)\"),0,IFERROR(LOOKUP(2,1/('Ações-Lançamentos'!D:D=A44),'Ações-Lançamentos'!O:O),0))","v":0},null,{"$f":"IF(OR(A44=\"\",A44=\"(vazio)\"),0,IFERROR(LOOKUP(2,1/('Ações-Lançamentos'!D:D=A44),'Ações-Lançamentos'!N:N),0))","v":0},null,null,null,null,null,null,"",""]
[null,".sa",{"$f":"SUMIFS('Ações-Lançamentos'!C:C,'Ações-Lançamentos'!D:D,$A45,'Ações-Lançamentos'!B:B,\"C\")+SUMIFS('Ações-Lançamentos'!C:C,'Ações-Lançamentos'!D:D,$A45,'Ações-Lançamentos'!B:B,\"v\")","v":0},{"$f":"IF(C45=0,0,SUMIFS('Ações-Lançamentos'!K:K,'Ações-Lançamentos'!D:D,$A45,'Ações-Lançamentos'!B:B,\"C\")-SUMIFS('Ações-Lançamentos'!K:K,'Ações-Lançamentos'!D:D,$A45,'Ações-Lançamentos'!B:B,\"v\"))-SUMIFS('Ações-Lançamentos'!K:K,'Ações-Lançamentos'!D:D,$A45,'Ações-Lançamentos'!L:L,\"BONIFICAÇÃO\")","v":0},0,null,{"$f":"IFERROR(VLOOKUP(A45,Cotações!B:C,2,FALSE),\"\")","v":""},0,0,null,null,0,null,0,0,null,{"$f":"IF(OR(A45=\"\",A45=\"(vazio)\"),0,IFERROR(LOOKUP(2,1/('Ações-Lançamentos'!D:D=A45),'Ações-Lançamentos'!O:O),0))","v":0},null,{"$f":"IF(OR(A45=\"\",A45=\"(vazio)\"),0,IFERROR(LOOKUP(2,1/('Ações-Lançamentos'!D:D=A45),'Ações-Lançamentos'!N:N),0))","v":0},null,null,null,null,null,null,"",""]
[null,".sa",{"$f":"SUMIFS('Ações-Lançamentos'!C:C,'Ações-Lançamentos'!D:D,$A46,'Ações-Lançamentos'!B:B,\"C\")+SUMIFS('Ações-Lançamentos'!C:C,'Ações-Lançamentos'!D:D,$A46,'Ações-Lançamentos'!B:B,\"v\")","v":0},{"$f":"IF(C46=0,0,SUMIFS('Ações-Lançamentos'!K:K,'Ações-Lançamentos'!D:D,$A46,'Ações-Lançamentos'!B:B,\"C\")-SUMIFS('Ações-Lançamentos'!K:K,'Ações-Lançamentos'!D:D,$A46,'Ações-Lançamentos'!B:B,\"v\"))-SUMIFS('Ações-Lançamentos'!K:K,'Ações-Lançamentos'!D:D,$A46,'Ações-Lançamentos'!L:L,\"BONIFICAÇÃO\")","v":0},0,null,{"$f":"IFERROR(VLOOKUP(A46,Cotações!B:C,2,FALSE),\"\")","v":""},0,0,null,null,0,null,0,0,null,{"$f":"IF(OR(A46=\"\",A46=\"(vazio)\"),0,IFERROR(LOOKUP(2,1/('Ações-Lançamentos'!D:D=A46),'Ações-Lançamentos'!O:O),0))","v":0},null,{"$f":"IF(OR(A46=\"\",A46=\"(vazio)\"),0,IFERROR(LOOKUP(2,1/('Ações-Lançamentos'!D:D=A46),'Ações-Lançamentos'!N:N),0))","v":0},null,null,null,null,null,null,"",""]
[null,".sa",{"$f":"SUMIFS('Ações-Lançamentos'!C:C,'Ações-Lançamentos'!D:D,$A47,'Ações-Lançamentos'!B:B,\"C\")+SUMIFS('Ações-Lançamentos'!C:C,'Ações-Lançamentos'!D:D,$A47,'Ações-Lançamentos'!B:B,\"v\")","v":0},{"$f":"IF(C47=0,0,SUMIFS('Ações-Lançamentos'!K:K,'Ações-Lançamentos'!D:D,$A47,'Ações-Lançamentos'!B:B,\"C\")-SUMIFS('Ações-Lançamentos'!K:K,'Ações-Lançamentos'!D:D,$A47,'Ações-Lançamentos'!B:B,\"v\"))-SUMIFS('Ações-Lançamentos'!K:K,'Ações-Lançamentos'!D:D,$A47,'Ações-Lançamentos'!L:L,\"BONIFICAÇÃO\")","v":0},0,null,{"$f":"IFERROR(VLOOKUP(A47,Cotações!B:C,2,FALSE),\"\")","v":""},0,0,null,null,0,null,0,0,null,{"$f":"IF(OR(A47=\"\",A47=\"(vazio)\"),0,IFERROR(LOOKUP(2,1/('Ações-Lançamentos'!D:D=A47),'Ações-Lançamentos'!O:O),0))","v":0},null,{"$f":"IF(OR(A47=\"\",A47=\"(vazio)\"),0,IFERROR(LOOKUP(2,1/('Ações-Lançamentos'!D:D=A47),'Ações-Lançamentos'!N:N),0))","v":0},null,null,null,null,null,null,"",""]
[null,".sa",{"$f":"SUMIFS('Ações-Lançamentos'!C:C,'Ações-Lançamentos'!D:D,$A48,'Ações-Lançamentos'!B:B,\"C\")+SUMIFS('Ações-Lançamentos'!C:C,'Ações-Lançamentos'!D:D,$A48,'Ações-Lançamentos'!B:B,\"v\")","v":0},{"$f":"IF(C48=0,0,SUMIFS('Ações-Lançamentos'!K:K,'Ações-Lançamentos'!D:D,$A48,'Ações-Lançamentos'!B:B,\"C\")-SUMIFS('Ações-Lançamentos'!K:K,'Ações-Lançamentos'!D:D,$A48,'Ações-Lançamentos'!B:B,\"v\"))-SUMIFS('Ações-Lançamentos'!K:K,'Ações-Lançamentos'!D:D,$A48,'Ações-Lançamentos'!L:L,\"BONIFICAÇÃO\")","v":0},0,null,{"$f":"IFERROR(VLOOKUP(A48,Cotações!B:C,2,FALSE),\"\")","v":""},0,0,null,null,0,null,0,0,null,{"$f":"IF(OR(A48=\"\",A48=\"(vazio)\"),0,IFERROR(LOOKUP(2,1/('Ações-Lançamentos'!D:D=A48),'Ações-Lançamentos'!O:O),0))","v":0},null,{"$f":"IF(OR(A48=\"\",A48=\"(vazio)\"),0,IFERROR(LOOKUP(2,1/('Ações-Lançamentos'!D:D=A48),'Ações-Lançamentos'!N:N),0))","v":0},null,null,null,null,null,null,"",""]
[null,".sa",{"$f":"SUMIFS('Ações-Lançamentos'!C:C,'Ações-Lançamentos'!D:D,$A49,'Ações-Lançamentos'!B:B,\"C\")+SUMIFS('Ações-Lançamentos'!C:C,'Ações-Lançamentos'!D:D,$A49,'Ações-Lançamentos'!B:B,\"v\")","v":0},{"$f":"IF(C49=0,0,SUMIFS('Ações-Lançamentos'!K:K,'Ações-Lançamentos'!D:D,$A49,'Ações-Lançamentos'!B:B,\"C\")-SUMIFS('Ações-Lançamentos'!K:K,'Ações-Lançamentos'!D:D,$A49,'Ações-Lançamentos'!B:B,\"v\"))-SUMIFS('Ações-Lançamentos'!K:K,'Ações-Lançamentos'!D:D,$A49,'Ações-Lançamentos'!L:L,\"BONIFICAÇÃO\")","v":0},0,null,{"$f":"IFERROR(VLOOKUP(A49,Cotações!B:C,2,FALSE),\"\")","v":""},0,0,null,null,0,null,0,0,null,{"$f":"IF(OR(A49=\"\",A49=\"(vazio)\"),0,IFERROR(LOOKUP(2,1/('Ações-Lançamentos'!D:D=A49),'Ações-Lançamentos'!O:O),0))","v":0},null,{"$f":"IF(OR(A49=\"\",A49=\"(vazio)\"),0,IFERROR(LOOKUP(2,1/('Ações-Lançamentos'!D:D=A49),'Ações-Lançamentos'!N:N),0))","v":0},null,null,null,null,null,null,"",""]
[null,".sa",{"$f":"SUMIFS('Ações-Lançamentos'!C:C,'Ações-Lançamentos'!D:D,$A50,'Ações-Lançamentos'!B:B,\"C\")+SUMIFS('Ações-Lançamentos'!C:C,'Ações-Lançamentos'!D:D,$A50,'Ações-Lançamentos'!B:B,\"v\")","v":0},{"$f":"IF(C50=0,0,SUMIFS('Ações-Lançamentos'!K:K,'Ações-Lançamentos'!D:D,$A50,'Ações-Lançamentos'!B:B,\"C\")-SUMIFS('Ações-Lançamentos'!K:K,'Ações-Lançamentos'!D:D,$A50,'Ações-Lançamentos'!B:B,\"v\"))-SUMIFS('Ações-Lançamentos'!K:K,'Ações-Lançamentos'!D:D,$A50,'Ações-Lançamentos'!L:L,\"BONIFICAÇÃO\")","v":0},0,null,{"$f":"IFERROR(VLOOKUP(A50,Cotações!B:C,2,FALSE),\"\")","v":""},0,0,null,null,0,null,0,0,null,{"$f":"IF(OR(A50=\"\",A50=\"(vazio)\"),0,IFERROR(LOOKUP(2,1/('Ações-Lançamentos'!D:D=A50),'Ações-Lançamentos'!O:O),0))","v":0},null,{"$f":"IF(OR(A50=\"\",A50=\"(vazio)\"),0,IFERROR(LOOKUP(2,1/('Ações-Lançamentos'!D:D=A50),'Ações-Lançamentos'!N:N),0))","v":0},null,null,null,null,null,null,"",""]
[null,".sa",{"$f":"SUMIFS('Ações-Lançamentos'!C:C,'Ações-Lançamentos'!D:D,$A51,'Ações-Lançamentos'!B:B,\"C\")+SUMIFS('Ações-Lançamentos'!C:C,'Ações-Lançamentos'!D:D,$A51,'Ações-Lançamentos'!B:B,\"v\")","v":0},{"$f":"IF(C51=0,0,SUMIFS('Ações-Lançamentos'!K:K,'Ações-Lançamentos'!D:D,$A51,'Ações-Lançamentos'!B:B,\"C\")-SUMIFS('Ações-Lançamentos'!K:K,'Ações-Lançamentos'!D:D,$A51,'Ações-Lançamentos'!B:B,\"v\"))-SUMIFS('Ações-Lançamentos'!K:K,'Ações-Lançamentos'!D:D,$A51,'Ações-Lançamentos'!L:L,\"BONIFICAÇÃO\")","v":0},0,null,{"$f":"IFERROR(VLOOKUP(A51,Cotações!B:C,2,FALSE),\"\")","v":""},0,0,null,null,0,null,0,0,null,{"$f":"IF(OR(A51=\"\",A51=\"(vazio)\"),0,IFERROR(LOOKUP(2,1/('Ações-Lançamentos'!D:D=A51),'Ações-Lançamentos'!O:O),0))","v":0},null,{"$f":"IF(OR(A51=\"\",A51=\"(vazio)\"),0,IFERROR(LOOKUP(2,1/('Ações-Lançamentos'!D:D=A51),'Ações-Lançamentos'!N:N),0))","v":0},null,null,null,null,null,null,"",""]
[null,".sa",{"$f":"SUMIFS('Ações-Lançamentos'!C:C,'Ações-Lançamentos'!D:D,$A52,'Ações-Lançamentos'!B:B,\"C\")+SUMIFS('Ações-Lançamentos'!C:C,'Ações-Lançamentos'!D:D,$A52,'Ações-Lançamentos'!B:B,\"v\")","v":0},{"$f":"IF(C52=0,0,SUMIFS('Ações-Lançamentos'!K:K,'Ações-Lançamentos'!D:D,$A52,'Ações-Lançamentos'!B:B,\"C\")-SUMIFS('Ações-Lançamentos'!K:K,'Ações-Lançamentos'!D:D,$A52,'Ações-Lançamentos'!B:B,\"v\"))-SUMIFS('Ações-Lançamentos'!K:K,'Ações-Lançamentos'!D:D,$A52,'Ações-Lançamentos'!L:L,\"BONIFICAÇÃO\")","v":0},0,null,{"$f":"IFERROR(VLOOKUP(A52,Cotações!B:C,2,FALSE),\"\")","v":""},0,0,null,null,0,null,0,0,null,{"$f":"IF(OR(A52=\"\",A52=\"(vazio)\"),0,IFERROR(LOOKUP(2,1/('Ações-Lançamentos'!D:D=A52),'Ações-Lançamentos'!O:O),0))","v":0},null,{"$f":"IF(OR(A52=\"\",A52=\"(vazio)\"),0,IFERROR(LOOKUP(2,1/('Ações-Lançamentos'!D:D=A52),'Ações-Lançamentos'!N:N),0))","v":0},null,null,null,null,null,null,"",""]
[null,".sa",{"$f":"SUMIFS('Ações-Lançamentos'!C:C,'Ações-Lançamentos'!D:D,$A53,'Ações-Lançamentos'!B:B,\"C\")+SUMIFS('Ações-Lançamentos'!C:C,'Ações-Lançamentos'!D:D,$A53,'Ações-Lançamentos'!B:B,\"v\")","v":0},{"$f":"IF(C53=0,0,SUMIFS('Ações-Lançamentos'!K:K,'Ações-Lançamentos'!D:D,$A53,'Ações-Lançamentos'!B:B,\"C\")-SUMIFS('Ações-Lançamentos'!K:K,'Ações-Lançamentos'!D:D,$A53,'Ações-Lançamentos'!B:B,\"v\"))-SUMIFS('Ações-Lançamentos'!K:K,'Ações-Lançamentos'!D:D,$A53,'Ações-Lançamentos'!L:L,\"BONIFICAÇÃO\")","v":0},0,null,{"$f":"IFERROR(VLOOKUP(A53,Cotações!B:C,2,FALSE),\"\")","v":""},0,0,null,null,0,null,0,0,null,{"$f":"IF(OR(A53=\"\",A53=\"(vazio)\"),0,IFERROR(LOOKUP(2,1/('Ações-Lançamentos'!D:D=A53),'Ações-Lançamentos'!O:O),0))","v":0},null,{"$f":"IF(OR(A53=\"\",A53=\"(vazio)\"),0,IFERROR(LOOKUP(2,1/('Ações-Lançamentos'!D:D=A53),'Ações-Lançamentos'!N:N),0))","v":0},null,null,null,null,null,null,"",""]
[null,".sa",{"$f":"SUMIFS('Ações-Lançamentos'!C:C,'Ações-Lançamentos'!D:D,$A54,'Ações-Lançamentos'!B:B,\"C\")+SUMIFS('Ações-Lançamentos'!C:C,'Ações-Lançamentos'!D:D,$A54,'Ações-Lançamentos'!B:B,\"v\")","v":0},{"$f":"IF(C54=0,0,SUMIFS('Ações-Lançamentos'!K:K,'Ações-Lançamentos'!D:D,$A54,'Ações-Lançamentos'!B:B,\"C\")-SUMIFS('Ações-Lançamentos'!K:K,'Ações-Lançamentos'!D:D,$A54,'Ações-Lançamentos'!B:B,\"v\"))-SUMIFS('Ações-Lançamentos'!K:K,'Ações-Lançamentos'!D:D,$A54,'Ações-Lançamentos'!L:L,\"BONIFICAÇÃO\")","v":0},0,null,{"$f":"IFERROR(VLOOKUP(A54,Cotações!B:C,2,FALSE),\"\")","v":""},0,0,null,null,0,null,0,0,null,{"$f":"IF(OR(A54=\"\",A54=\"(vazio)\"),0,IFERROR(LOOKUP(2,1/('Ações-Lançamentos'!D:D=A54),'Ações-Lançamentos'!O:O),0))","v":0},null,{"$f":"IF(OR(A54=\"\",A54=\"(vazio)\"),0,IFERROR(LOOKUP(2,1/('Ações-Lançamentos'!D:D=A54),'Ações-Lançamentos'!N:N),0))","v":0},null,null,null,null,null,null,"",""]
[null,".sa",{"$f":"SUMIFS('Ações-Lançamentos'!C:C,'Ações-Lançamentos'!D:D,$A55,'Ações-Lançamentos'!B:B,\"C\")+SUMIFS('Ações-Lançamentos'!C:C,'Ações-Lançamentos'!D:D,$A55,'Ações-Lançamentos'!B:B,\"v\")","v":0},{"$f":"IF(C55=0,0,SUMIFS('Ações-Lançamentos'!K:K,'Ações-Lançamentos'!D:D,$A55,'Ações-Lançamentos'!B:B,\"C\")-SUMIFS('Ações-Lançamentos'!K:K,'Ações-Lançamentos'!D:D,$A55,'Ações-Lançamentos'!B:B,\"v\"))-SUMIFS('Ações-Lançamentos'!K:K,'Ações-Lançamentos'!D:D,$A55,'Ações-Lançamentos'!L:L,\"BONIFICAÇÃO\")","v":0},0,null,{"$f":"IFERROR(VLOOKUP(A55,Cotações!B:C,2,FALSE),\"\")","v":""},0,0,null,null,0,null,0,0,null,{"$f":"IF(OR(A55=\"\",A55=\"(vazio)\"),0,IFERROR(LOOKUP(2,1/('Ações-Lançamentos'!D:D=A55),'Ações-Lançamentos'!O:O),0))","v":0},null,{"$f":"IF(OR(A55=\"\",A55=\"(vazio)\"),0,IFERROR(LOOKUP(2,1/('Ações-Lançamentos'!D:D=A55),'Ações-Lançamentos'!N:N),0))","v":0},null,null,null,null,null,null,"",""]
[null,".sa",{"$f":"SUMIFS('Ações-Lançamentos'!C:C,'Ações-Lançamentos'!D:D,$A56,'Ações-Lançamentos'!B:B,\"C\")+SUMIFS('Ações-Lançamentos'!C:C,'Ações-Lançamentos'!D:D,$A56,'Ações-Lançamentos'!B:B,\"v\")","v":0},{"$f":"IF(C56=0,0,SUMIFS('Ações-Lançamentos'!K:K,'Ações-Lançamentos'!D:D,$A56,'Ações-Lançamentos'!B:B,\"C\")-SUMIFS('Ações-Lançamentos'!K:K,'Ações-Lançamentos'!D:D,$A56,'Ações-Lançamentos'!B:B,\"v\"))-SUMIFS('Ações-Lançamentos'!K:K,'Ações-Lançamentos'!D:D,$A56,'Ações-Lançamentos'!L:L,\"BONIFICAÇÃO\")","v":0},0,null,{"$f":"IFERROR(VLOOKUP(A56,Cotações!B:C,2,FALSE),\"\")","v":""},0,0,null,null,0,null,0,0,null,{"$f":"IF(OR(A56=\"\",A56=\"(vazio)\"),0,IFERROR(LOOKUP(2,1/('Ações-Lançamentos'!D:D=A56),'Ações-Lançamentos'!O:O),0))","v":0},null,{"$f":"IF(OR(A56=\"\",A56=\"(vazio)\"),0,IFERROR(LOOKUP(2,1/('Ações-Lançamentos'!D:D=A56),'Ações-Lançamentos'!N:N),0))","v":0},null,null,null,null,null,null,"",""]
[null,".sa",{"$f":"SUMIFS('Ações-Lançamentos'!C:C,'Ações-Lançamentos'!D:D,$A57,'Ações-Lançamentos'!B:B,\"C\")+SUMIFS('Ações-Lançamentos'!C:C,'Ações-Lançamentos'!D:D,$A57,'Ações-Lançamentos'!B:B,\"v\")","v":0},{"$f":"IF(C57=0,0,SUMIFS('Ações-Lançamentos'!K:K,'Ações-Lançamentos'!D:D,$A57,'Ações-Lançamentos'!B:B,\"C\")-SUMIFS('Ações-Lançamentos'!K:K,'Ações-Lançamentos'!D:D,$A57,'Ações-Lançamentos'!B:B,\"v\"))-SUMIFS('Ações-Lançamentos'!K:K,'Ações-Lançamentos'!D:D,$A57,'Ações-Lançamentos'!L:L,\"BONIFICAÇÃO\")","v":0},0,null,{"$f":"IFERROR(VLOOKUP(A57,Cotações!B:C,2,FALSE),\"\")","v":""},0,0,null,null,0,null,0,0,null,{"$f":"IF(OR(A57=\"\",A57=\"(vazio)\"),0,IFERROR(LOOKUP(2,1/('Ações-Lançamentos'!D:D=A57),'Ações-Lançamentos'!O:O),0))","v":0},null,{"$f":"IF(OR(A57=\"\",A57=\"(vazio)\"),0,IFERROR(LOOKUP(2,1/('Ações-Lançamentos'!D:D=A57),'Ações-Lançamentos'!N:N),0))","v":0},null,null,null,null,null,null,"",""]
[null,".sa",{"$f":"SUMIFS('Ações-Lançamentos'!C:C,'Ações-Lançamentos'!D:D,$A58,'Ações-Lançamentos'!B:B,\"C\")+SUMIFS('Ações-Lançamentos'!C:C,'Ações-Lançamentos'!D:D,$A58,'Ações-Lançamentos'!B:B,\"v\")","v":0},{"$f":"IF(C58=0,0,SUMIFS('Ações-Lançamentos'!K:K,'Ações-Lançamentos'!D:D,$A58,'Ações-Lançamentos'!B:B,\"C\")-SUMIFS('Ações-Lançamentos'!K:K,'Ações-Lançamentos'!D:D,$A58,'Ações-Lançamentos'!B:B,\"v\"))-SUMIFS('Ações-Lançamentos'!K:K,'Ações-Lançamentos'!D:D,$A58,'Ações-Lançamentos'!L:L,\"BONIFICAÇÃO\")","v":0},0,null,{"$f":"IFERROR(VLOOKUP(A58,Cotações!B:C,2,FALSE),\"\")","v":""},0,0,null,null,0,null,0,0,null,{"$f":"IF(OR(A58=\"\",A58=\"(vazio)\"),0,IFERROR(LOOKUP(2,1/('Ações-Lançamentos'!D:D=A58),'Ações-Lançamentos'!O:O),0))","v":0},null,{"$f":"IF(OR(A58=\"\",A58=\"(vazio)\"),0,IFERROR(LOOKUP(2,1/('Ações-Lançamentos'!D:D=A58),'Ações-Lançamentos'!N:N),0))","v":0},null,null,null,null,null,null,"",""]
[null,".sa",{"$f":"SUMIFS('Ações-Lançamentos'!C:C,'Ações-Lançamentos'!D:D,$A59,'Ações-Lançamentos'!B:B,\"C\")+SUMIFS('Ações-Lançamentos'!C:C,'Ações-Lançamentos'!D:D,$A59,'Ações-Lançamentos'!B:B,\"v\")","v":0},{"$f":"IF(C59=0,0,SUMIFS('Ações-Lançamentos'!K:K,'Ações-Lançamentos'!D:D,$A59,'Ações-Lançamentos'!B:B,\"C\")-SUMIFS('Ações-Lançamentos'!K:K,'Ações-Lançamentos'!D:D,$A59,'Ações-Lançamentos'!B:B,\"v\"))-SUMIFS('Ações-Lançamentos'!K:K,'Ações-Lançamentos'!D:D,$A59,'Ações-Lançamentos'!L:L,\"BONIFICAÇÃO\")","v":0},0,null,{"$f":"IFERROR(VLOOKUP(A59,Cotações!B:C,2,FALSE),\"\")","v":""},0,0,null,null,0,null,0,0,null,{"$f":"IF(OR(A59=\"\",A59=\"(vazio)\"),0,IFERROR(LOOKUP(2,1/('Ações-Lançamentos'!D:D=A59),'Ações-Lançamentos'!O:O),0))","v":0},null,{"$f":"IF(OR(A59=\"\",A59=\"(vazio)\"),0,IFERROR(LOOKUP(2,1/('Ações-Lançamentos'!D:D=A59),'Ações-Lançamentos'!N:N),0))","v":0},null,null,null,null,null,null,"",""]
[null,".sa",{"$f":"SUMIFS('Ações-Lançamentos'!C:C,'Ações-Lançamentos'!D:D,$A60,'Ações-Lançamentos'!B:B,\"C\")+SUMIFS('Ações-Lançamentos'!C:C,'Ações-Lançamentos'!D:D,$A60,'Ações-Lançamentos'!B:B,\"v\")","v":0},{"$f":"IF(C60=0,0,SUMIFS('Ações-Lançamentos'!K:K,'Ações-Lançamentos'!D:D,$A60,'Ações-Lançamentos'!B:B,\"C\")-SUMIFS('Ações-Lançamentos'!K:K,'Ações-Lançamentos'!D:D,$A60,'Ações-Lançamentos'!B:B,\"v\"))-SUMIFS('Ações-Lançamentos'!K:K,'Ações-Lançamentos'!D:D,$A60,'Ações-Lançamentos'!L:L,\"BONIFICAÇÃO\")","v":0},0,null,{"$f":"IFERROR(VLOOKUP(A60,Cotações!B:C,2,FALSE),\"\")","v":""},0,0,null,null,0,null,0,0,null,{"$f":"IF(OR(A60=\"\",A60=\"(vazio)\"),0,IFERROR(LOOKUP(2,1/('Ações-Lançamentos'!D:D=A60),'Ações-Lançamentos'!O:O),0))","v":0},null,{"$f":"IF(OR(A60=\"\",A60=\"(vazio)\"),0,IFERROR(LOOKUP(2,1/('Ações-Lançamentos'!D:D=A60),'Ações-Lançamentos'!N:N),0))","v":0},null,null,null,null,null,null,"",""]
[null,".sa",{"$f":"SUMIFS('Ações-Lançamentos'!C:C,'Ações-Lançamentos'!D:D,$A61,'Ações-Lançamentos'!B:B,\"C\")+SUMIFS('Ações-Lançamentos'!C:C,'Ações-Lançamentos'!D:D,$A61,'Ações-Lançamentos'!B:B,\"v\")","v":0},{"$f":"IF(C61=0,0,SUMIFS('Ações-Lançamentos'!K:K,'Ações-Lançamentos'!D:D,$A61,'Ações-Lançamentos'!B:B,\"C\")-SUMIFS('Ações-Lançamentos'!K:K,'Ações-Lançamentos'!D:D,$A61,'Ações-Lançamentos'!B:B,\"v\"))-SUMIFS('Ações-Lançamentos'!K:K,'Ações-Lançamentos'!D:D,$A61,'Ações-Lançamentos'!L:L,\"BONIFICAÇÃO\")","v":0},0,null,{"$f":"IFERROR(VLOOKUP(A61,Cotações!B:C,2,FALSE),\"\")","v":""},0,0,null,null,0,null,0,0,null,{"$f":"IF(OR(A61=\"\",A61=\"(vazio)\"),0,IFERROR(LOOKUP(2,1/('Ações-Lançamentos'!D:D=A61),'Ações-Lançamentos'!O:O),0))","v":0},null,{"$f":"IF(OR(A61=\"\",A61=\"(vazio)\"),0,IFERROR(LOOKUP(2,1/('Ações-Lançamentos'!D:D=A61),'Ações-Lançamentos'!N:N),0))","v":0},null,null,null,null,null,null,"",""]
[null,".sa",{"$f":"SUMIFS('Ações-Lançamentos'!C:C,'Ações-Lançamentos'!D:D,$A62,'Ações-Lançamentos'!B:B,\"C\")+SUMIFS('Ações-Lançamentos'!C:C,'Ações-Lançamentos'!D:D,$A62,'Ações-Lançamentos'!B:B,\"v\")","v":0},{"$f":"IF(C62=0,0,SUMIFS('Ações-Lançamentos'!K:K,'Ações-Lançamentos'!D:D,$A62,'Ações-Lançamentos'!B:B,\"C\")-SUMIFS('Ações-Lançamentos'!K:K,'Ações-Lançamentos'!D:D,$A62,'Ações-Lançamentos'!B:B,\"v\"))-SUMIFS('Ações-Lançamentos'!K:K,'Ações-Lançamentos'!D:D,$A62,'Ações-Lançamentos'!L:L,\"BONIFICAÇÃO\")","v":0},0,null,{"$f":"IFERROR(VLOOKUP(A62,Cotações!B:C,2,FALSE),\"\")","v":""},0,0,null,null,0,null,0,0,null,{"$f":"IF(OR(A62=\"\",A62=\"(vazio)\"),0,IFERROR(LOOKUP(2,1/('Ações-Lançamentos'!D:D=A62),'Ações-Lançamentos'!O:O),0))","v":0},null,{"$f":"IF(OR(A62=\"\",A62=\"(vazio)\"),0,IFERROR(LOOKUP(2,1/('Ações-Lançamentos'!D:D=A62),'Ações-Lançamentos'!N:N),0))","v":0},null,null,null,null,null,null,"",""]
[null,".sa",{"$f":"SUMIFS('Ações-Lançamentos'!C:C,'Ações-Lançamentos'!D:D,$A63,'Ações-Lançamentos'!B:B,\"C\")+SUMIFS('Ações-Lançamentos'!C:C,'Ações-Lançamentos'!D:D,$A63,'Ações-Lançamentos'!B:B,\"v\")","v":0},{"$f":"IF(C63=0,0,SUMIFS('Ações-Lançamentos'!K:K,'Ações-Lançamentos'!D:D,$A63,'Ações-Lançamentos'!B:B,\"C\")-SUMIFS('Ações-Lançamentos'!K:K,'Ações-Lançamentos'!D:D,$A63,'Ações-Lançamentos'!B:B,\"v\"))-SUMIFS('Ações-Lançamentos'!K:K,'Ações-Lançamentos'!D:D,$A63,'Ações-Lançamentos'!L:L,\"BONIFICAÇÃO\")","v":0},0,null,{"$f":"IFERROR(VLOOKUP(A63,Cotações!B:C,2,FALSE),\"\")","v":""},0,0,null,null,0,null,0,0,null,{"$f":"IF(OR(A63=\"\",A63=\"(vazio)\"),0,IFERROR(LOOKUP(2,1/('Ações-Lançamentos'!D:D=A63),'Ações-Lançamentos'!O:O),0))","v":0},null,{"$f":"IF(OR(A63=\"\",A63=\"(vazio)\"),0,IFERROR(LOOKUP(2,1/('Ações-Lançamentos'!D:D=A63),'Ações-Lançamentos'!N:N),0))","v":0},null,null,null,null,null,null,"",""]
[null,".sa",{"$f":"SUMIFS('Ações-Lançamentos'!C:C,'Ações-Lançamentos'!D:D,$A64,'Ações-Lançamentos'!B:B,\"C\")+SUMIFS('Ações-Lançamentos'!C:C,'Ações-Lançamentos'!D:D,$A64,'Ações-Lançamentos'!B:B,\"v\")","v":0},{"$f":"IF(C64=0,0,SUMIFS('Ações-Lançamentos'!K:K,'Ações-Lançamentos'!D:D,$A64,'Ações-Lançamentos'!B:B,\"C\")-SUMIFS('Ações-Lançamentos'!K:K,'Ações-Lançamentos'!D:D,$A64,'Ações-Lançamentos'!B:B,\"v\"))-SUMIFS('Ações-Lançamentos'!K:K,'Ações-Lançamentos'!D:D,$A64,'Ações-Lançamentos'!L:L,\"BONIFICAÇÃO\")","v":0},0,null,{"$f":"IFERROR(VLOOKUP(A64,Cotações!B:C,2,FALSE),\"\")","v":""},0,0,null,null,0,null,0,0,null,{"$f":"IF(OR(A64=\"\",A64=\"(vazio)\"),0,IFERROR(LOOKUP(2,1/('Ações-Lançamentos'!D:D=A64),'Ações-Lançamentos'!O:O),0))","v":0},null,{"$f":"IF(OR(A64=\"\",A64=\"(vazio)\"),0,IFERROR(LOOKUP(2,1/('Ações-Lançamentos'!D:D=A64),'Ações-Lançamentos'!N:N),0))","v":0},null,null,null,null,null,null,"",""]
[null,".sa",{"$f":"SUMIFS('Ações-Lançamentos'!C:C,'Ações-Lançamentos'!D:D,$A65,'Ações-Lançamentos'!B:B,\"C\")+SUMIFS('Ações-Lançamentos'!C:C,'Ações-Lançamentos'!D:D,$A65,'Ações-Lançamentos'!B:B,\"v\")","v":0},{"$f":"IF(C65=0,0,SUMIFS('Ações-Lançamentos'!K:K,'Ações-Lançamentos'!D:D,$A65,'Ações-Lançamentos'!B:B,\"C\")-SUMIFS('Ações-Lançamentos'!K:K,'Ações-Lançamentos'!D:D,$A65,'Ações-Lançamentos'!B:B,\"v\"))-SUMIFS('Ações-Lançamentos'!K:K,'Ações-Lançamentos'!D:D,$A65,'Ações-Lançamentos'!L:L,\"BONIFICAÇÃO\")","v":0},0,null,{"$f":"IFERROR(VLOOKUP(A65,Cotações!B:C,2,FALSE),\"\")","v":""},0,0,null,null,0,null,0,0,null,{"$f":"IF(OR(A65=\"\",A65=\"(vazio)\"),0,IFERROR(LOOKUP(2,1/('Ações-Lançamentos'!D:D=A65),'Ações-Lançamentos'!O:O),0))","v":0},null,{"$f":"IF(OR(A65=\"\",A65=\"(vazio)\"),0,IFERROR(LOOKUP(2,1/('Ações-Lançamentos'!D:D=A65),'Ações-Lançamentos'!N:N),0))","v":0},null,null,null,null,null,null,"",""]
[null,".sa",{"$f":"SUMIFS('Ações-Lançamentos'!C:C,'Ações-Lançamentos'!D:D,$A66,'Ações-Lançamentos'!B:B,\"C\")+SUMIFS('Ações-Lançamentos'!C:C,'Ações-Lançamentos'!D:D,$A66,'Ações-Lançamentos'!B:B,\"v\")","v":0},{"$f":"IF(C66=0,0,SUMIFS('Ações-Lançamentos'!K:K,'Ações-Lançamentos'!D:D,$A66,'Ações-Lançamentos'!B:B,\"C\")-SUMIFS('Ações-Lançamentos'!K:K,'Ações-Lançamentos'!D:D,$A66,'Ações-Lançamentos'!B:B,\"v\"))-SUMIFS('Ações-Lançamentos'!K:K,'Ações-Lançamentos'!D:D,$A66,'Ações-Lançamentos'!L:L,\"BONIFICAÇÃO\")","v":0},0,null,{"$f":"IFERROR(VLOOKUP(A66,Cotações!B:C,2,FALSE),\"\")","v":""},0,0,null,null,0,null,0,0,null,{"$f":"IF(OR(A66=\"\",A66=\"(vazio)\"),0,IFERROR(LOOKUP(2,1/('Ações-Lançamentos'!D:D=A66),'Ações-Lançamentos'!O:O),0))","v":0},null,{"$f":"IF(OR(A66=\"\",A66=\"(vazio)\"),0,IFERROR(LOOKUP(2,1/('Ações-Lançamentos'!D:D=A66),'Ações-Lançamentos'!N:N),0))","v":0},null,null,null,null,null,null,"",""]
[null,".sa",{"$f":"SUMIFS('Ações-Lançamentos'!C:C,'Ações-Lançamentos'!D:D,$A67,'Ações-Lançamentos'!B:B,\"C\")+SUMIFS('Ações-Lançamentos'!C:C,'Ações-Lançamentos'!D:D,$A67,'Ações-Lançamentos'!B:B,\"v\")","v":0},{"$f":"IF(C67=0,0,SUMIFS('Ações-Lançamentos'!K:K,'Ações-Lançamentos'!D:D,$A67,'Ações-Lançamentos'!B:B,\"C\")-SUMIFS('Ações-Lançamentos'!K:K,'Ações-Lançamentos'!D:D,$A67,'Ações-Lançamentos'!B:B,\"v\"))-SUMIFS('Ações-Lançamentos'!K:K,'Ações-Lançamentos'!D:D,$A67,'Ações-Lançamentos'!L:L,\"BONIFICAÇÃO\")","v":0},0,null,{"$f":"IFERROR(VLOOKUP(A67,Cotações!B:C,2,FALSE),\"\")","v":""},0,0,null,null,0,null,0,0,null,{"$f":"IF(OR(A67=\"\",A67=\"(vazio)\"),0,IFERROR(LOOKUP(2,1/('Ações-Lançamentos'!D:D=A67),'Ações-Lançamentos'!O:O),0))","v":0},null,{"$f":"IF(OR(A67=\"\",A67=\"(vazio)\"),0,IFERROR(LOOKUP(2,1/('Ações-Lançamentos'!D:D=A67),'Ações-Lançamentos'!N:N),0))","v":0},null,null,null,null,null,null,"",""]
[null,{"$f":"CONCATENATE(A68,\".sa\")","v":".sa"},{"$f":"SUMIFS('Ações-Lançamentos'!C:C,'Ações-Lançamentos'!D:D,$A68,'Ações-Lançamentos'!B:B,\"C\")+SUMIFS('Ações-Lançamentos'!C:C,'Ações-Lançamentos'!D:D,$A68,'Ações-Lançamentos'!B:B,\"v\")","v":0},{"$f":"IF(C68=0,0,SUMIFS('Ações-Lançamentos'!K:K,'Ações-Lançamentos'!D:D,$A68,'Ações-Lançamentos'!B:B,\"C\")-SUMIFS('Ações-Lançamentos'!K:K,'Ações-Lançamentos'!D:D,$A68,'Ações-Lançamentos'!B:B,\"v\"))-SUMIFS('Ações-Lançamentos'!K:K,'Ações-Lançamentos'!D:D,$A68,'Ações-Lançamentos'!L:L,\"BONIFICAÇÃO\")","v":0},{"$f":"IF($V$9=0,0,D68/$V$9)","v":0},null,{"$f":"IFERROR(VLOOKUP(A68,Cotações!B:C,2,FALSE),\"\")","v":""},{"$f":"IF(C68=\"\",0,IF(G68=\"\",D68,C68*G68))","v":0},{"$f":"IF($V$11=0,0,H68/$V$11)","v":0},null,null,{"$f":"IF(OR(K68=\"\",I68=\"\",E68=\"\"),0,IF($K$2=\"% ATUAL\",K68-I68,K68-E68))","v":0},null,{"$f":"IF(OR(D68=0,G68=\"\"),0,H68-D68)","v":0},{"$f":"IF(OR(D68=0,G68=\"\"),0,N68/D68)","v":0},null,{"$f":"IF(OR(A68=\"\",A68=\"(vazio)\"),0,IFERROR(LOOKUP(2,1/('Ações-Lançamentos'!D:D=A68),'Ações-Lançamentos'!O:O),0))","v":0},null,{"$f":"IF(OR(A68=\"\",A68=\"(vazio)\"),0,IFERROR(LOOKUP(2,1/('Ações-Lançamentos'!D:D=A68),'Ações-Lançamentos'!N:N),0))","v":0},null,null,null,null,null,null,"",""]
[null,".sa",{"$f":"SUMIFS('Ações-Lançamentos'!C:C,'Ações-Lançamentos'!D:D,$A69,'Ações-Lançamentos'!B:B,\"C\")+SUMIFS('Ações-Lançamentos'!C:C,'Ações-Lançamentos'!D:D,$A69,'Ações-Lançamentos'!B:B,\"v\")","v":0},{"$f":"IF(C69=0,0,SUMIFS('Ações-Lançamentos'!K:K,'Ações-Lançamentos'!D:D,$A69,'Ações-Lançamentos'!B:B,\"C\")-SUMIFS('Ações-Lançamentos'!K:K,'Ações-Lançamentos'!D:D,$A69,'Ações-Lançamentos'!B:B,\"v\"))-SUMIFS('Ações-Lançamentos'!K:K,'Ações-Lançamentos'!D:D,$A69,'Ações-Lançamentos'!L:L,\"BONIFICAÇÃO\")","v":0},0,null,{"$f":"IFERROR(VLOOKUP(A69,Cotações!B:C,2,FALSE),\"\")","v":""},0,0,null,null,0,null,0,0,null,{"$f":"IF(OR(A69=\"\",A69=\"(vazio)\"),0,IFERROR(LOOKUP(2,1/('Ações-Lançamentos'!D:D=A69),'Ações-Lançamentos'!O:O),0))","v":0},null,{"$f":"IF(OR(A69=\"\",A69=\"(vazio)\"),0,IFERROR(LOOKUP(2,1/('Ações-Lançamentos'!D:D=A69),'Ações-Lançamentos'!N:N),0))","v":0},null,null,null,null,null,null,"",""]
[null,".sa",{"$f":"SUMIFS('Ações-Lançamentos'!C:C,'Ações-Lançamentos'!D:D,$A70,'Ações-Lançamentos'!B:B,\"C\")+SUMIFS('Ações-Lançamentos'!C:C,'Ações-Lançamentos'!D:D,$A70,'Ações-Lançamentos'!B:B,\"v\")","v":0},{"$f":"IF(C70=0,0,SUMIFS('Ações-Lançamentos'!K:K,'Ações-Lançamentos'!D:D,$A70,'Ações-Lançamentos'!B:B,\"C\")-SUMIFS('Ações-Lançamentos'!K:K,'Ações-Lançamentos'!D:D,$A70,'Ações-Lançamentos'!B:B,\"v\"))-SUMIFS('Ações-Lançamentos'!K:K,'Ações-Lançamentos'!D:D,$A70,'Ações-Lançamentos'!L:L,\"BONIFICAÇÃO\")","v":0},0,null,{"$f":"IFERROR(VLOOKUP(A70,Cotações!B:C,2,FALSE),\"\")","v":""},0,0,null,null,0,null,0,0,null,{"$f":"IF(OR(A70=\"\",A70=\"(vazio)\"),0,IFERROR(LOOKUP(2,1/('Ações-Lançamentos'!D:D=A70),'Ações-Lançamentos'!O:O),0))","v":0},null,{"$f":"IF(OR(A70=\"\",A70=\"(vazio)\"),0,IFERROR(LOOKUP(2,1/('Ações-Lançamentos'!D:D=A70),'Ações-Lançamentos'!N:N),0))","v":0},null,null,null,null,null,null,"",""]
[null,".sa",{"$f":"SUMIFS('Ações-Lançamentos'!C:C,'Ações-Lançamentos'!D:D,$A71,'Ações-Lançamentos'!B:B,\"C\")+SUMIFS('Ações-Lançamentos'!C:C,'Ações-Lançamentos'!D:D,$A71,'Ações-Lançamentos'!B:B,\"v\")","v":0},{"$f":"IF(C71=0,0,SUMIFS('Ações-Lançamentos'!K:K,'Ações-Lançamentos'!D:D,$A71,'Ações-Lançamentos'!B:B,\"C\")-SUMIFS('Ações-Lançamentos'!K:K,'Ações-Lançamentos'!D:D,$A71,'Ações-Lançamentos'!B:B,\"v\"))-SUMIFS('Ações-Lançamentos'!K:K,'Ações-Lançamentos'!D:D,$A71,'Ações-Lançamentos'!L:L,\"BONIFICAÇÃO\")","v":0},0,null,{"$f":"IFERROR(VLOOKUP(A71,Cotações!B:C,2,FALSE),\"\")","v":""},0,0,null,null,0,null,0,0,null,{"$f":"IF(OR(A71=\"\",A71=\"(vazio)\"),0,IFERROR(LOOKUP(2,1/('Ações-Lançamentos'!D:D=A71),'Ações-Lançamentos'!O:O),0))","v":0},null,{"$f":"IF(OR(A71=\"\",A71=\"(vazio)\"),0,IFERROR(LOOKUP(2,1/('Ações-Lançamentos'!D:D=A71),'Ações-Lançamentos'!N:N),0))","v":0},null,null,null,null,null,null,"",""]
[null,".sa",{"$f":"SUMIFS('Ações-Lançamentos'!C:C,'Ações-Lançamentos'!D:D,$A72,'Ações-Lançamentos'!B:B,\"C\")+SUMIFS('Ações-Lançamentos'!C:C,'Ações-Lançamentos'!D:D,$A72,'Ações-Lançamentos'!B:B,\"v\")","v":0},{"$f":"IF(C72=0,0,SUMIFS('Ações-Lançamentos'!K:K,'Ações-Lançamentos'!D:D,$A72,'Ações-Lançamentos'!B:B,\"C\")-SUMIFS('Ações-Lançamentos'!K:K,'Ações-Lançamentos'!D:D,$A72,'Ações-Lançamentos'!B:B,\"v\"))-SUMIFS('Ações-Lançamentos'!K:K,'Ações-Lançamentos'!D:D,$A72,'Ações-Lançamentos'!L:L,\"BONIFICAÇÃO\")","v":0},0,null,{"$f":"IFERROR(VLOOKUP(A72,Cotações!B:C,2,FALSE),\"\")","v":""},0,0,null,null,0,null,0,0,null,{"$f":"IF(OR(A72=\"\",A72=\"(vazio)\"),0,IFERROR(LOOKUP(2,1/('Ações-Lançamentos'!D:D=A72),'Ações-Lançamentos'!O:O),0))","v":0},null,{"$f":"IF(OR(A72=\"\",A72=\"(vazio)\"),0,IFERROR(LOOKUP(2,1/('Ações-Lançamentos'!D:D=A72),'Ações-Lançamentos'!N:N),0))","v":0},null,null,null,null,null,null,"",""]
[null,".sa",{"$f":"SUMIFS('Ações-Lançamentos'!C:C,'Ações-Lançamentos'!D:D,$A73,'Ações-Lançamentos'!B:B,\"C\")+SUMIFS('Ações-Lançamentos'!C:C,'Ações-Lançamentos'!D:D,$A73,'Ações-Lançamentos'!B:B,\"v\")","v":0},{"$f":"IF(C73=0,0,SUMIFS('Ações-Lançamentos'!K:K,'Ações-Lançamentos'!D:D,$A73,'Ações-Lançamentos'!B:B,\"C\")-SUMIFS('Ações-Lançamentos'!K:K,'Ações-Lançamentos'!D:D,$A73,'Ações-Lançamentos'!B:B,\"v\"))-SUMIFS('Ações-Lançamentos'!K:K,'Ações-Lançamentos'!D:D,$A73,'Ações-Lançamentos'!L:L,\"BONIFICAÇÃO\")","v":0},0,null,{"$f":"IFERROR(VLOOKUP(A73,Cotações!B:C,2,FALSE),\"\")","v":""},0,0,null,null,0,null,0,0,null,{"$f":"IF(OR(A73=\"\",A73=\"(vazio)\"),0,IFERROR(LOOKUP(2,1/('Ações-Lançamentos'!D:D=A73),'Ações-Lançamentos'!O:O),0))","v":0},null,{"$f":"IF(OR(A73=\"\",A73=\"(vazio)\"),0,IFERROR(LOOKUP(2,1/('Ações-Lançamentos'!D:D=A73),'Ações-Lançamentos'!N:N),0))","v":0},null,null,null,null,null,null,"",""]
[null,".sa",{"$f":"SUMIFS('Ações-Lançamentos'!C:C,'Ações-Lançamentos'!D:D,$A74,'Ações-Lançamentos'!B:B,\"C\")+SUMIFS('Ações-Lançamentos'!C:C,'Ações-Lançamentos'!D:D,$A74,'Ações-Lançamentos'!B:B,\"v\")","v":0},{"$f":"IF(C74=0,0,SUMIFS('Ações-Lançamentos'!K:K,'Ações-Lançamentos'!D:D,$A74,'Ações-Lançamentos'!B:B,\"C\")-SUMIFS('Ações-Lançamentos'!K:K,'Ações-Lançamentos'!D:D,$A74,'Ações-Lançamentos'!B:B,\"v\"))-SUMIFS('Ações-Lançamentos'!K:K,'Ações-Lançamentos'!D:D,$A74,'Ações-Lançamentos'!L:L,\"BONIFICAÇÃO\")","v":0},0,null,{"$f":"IFERROR(VLOOKUP(A74,Cotações!B:C,2,FALSE),\"\")","v":""},0,0,null,null,0,null,0,0,null,{"$f":"IF(OR(A74=\"\",A74=\"(vazio)\"),0,IFERROR(LOOKUP(2,1/('Ações-Lançamentos'!D:D=A74),'Ações-Lançamentos'!O:O),0))","v":0},null,{"$f":"IF(OR(A74=\"\",A74=\"(vazio)\"),0,IFERROR(LOOKUP(2,1/('Ações-Lançamentos'!D:D=A74),'Ações-Lançamentos'!N:N),0))","v":0},null,null,null,null,null,null,"",""]
[null,".sa",{"$f":"SUMIFS('Ações-Lançamentos'!C:C,'Ações-Lançamentos'!D:D,$A75,'Ações-Lançamentos'!B:B,\"C\")+SUMIFS('Ações-Lançamentos'!C:C,'Ações-Lançamentos'!D:D,$A75,'Ações-Lançamentos'!B:B,\"v\")","v":0},{"$f":"IF(C75=0,0,SUMIFS('Ações-Lançamentos'!K:K,'Ações-Lançamentos'!D:D,$A75,'Ações-Lançamentos'!B:B,\"C\")-SUMIFS('Ações-Lançamentos'!K:K,'Ações-Lançamentos'!D:D,$A75,'Ações-Lançamentos'!B:B,\"v\"))-SUMIFS('Ações-Lançamentos'!K:K,'Ações-Lançamentos'!D:D,$A75,'Ações-Lançamentos'!L:L,\"BONIFICAÇÃO\")","v":0},0,null,{"$f":"IFERROR(VLOOKUP(A75,Cotações!B:C,2,FALSE),\"\")","v":""},0,0,null,null,0,null,0,0,null,{"$f":"IF(OR(A75=\"\",A75=\"(vazio)\"),0,IFERROR(LOOKUP(2,1/('Ações-Lançamentos'!D:D=A75),'Ações-Lançamentos'!O:O),0))","v":0},null,{"$f":"IF(OR(A75=\"\",A75=\"(vazio)\"),0,IFERROR(LOOKUP(2,1/('Ações-Lançamentos'!D:D=A75),'Ações-Lançamentos'!N:N),0))","v":0},null,null,null,null,null,null,"",""]
[null,".sa",{"$f":"SUMIFS('Ações-Lançamentos'!C:C,'Ações-Lançamentos'!D:D,$A76,'Ações-Lançamentos'!B:B,\"C\")+SUMIFS('Ações-Lançamentos'!C:C,'Ações-Lançamentos'!D:D,$A76,'Ações-Lançamentos'!B:B,\"v\")","v":0},{"$f":"IF(C76=0,0,SUMIFS('Ações-Lançamentos'!K:K,'Ações-Lançamentos'!D:D,$A76,'Ações-Lançamentos'!B:B,\"C\")-SUMIFS('Ações-Lançamentos'!K:K,'Ações-Lançamentos'!D:D,$A76,'Ações-Lançamentos'!B:B,\"v\"))-SUMIFS('Ações-Lançamentos'!K:K,'Ações-Lançamentos'!D:D,$A76,'Ações-Lançamentos'!L:L,\"BONIFICAÇÃO\")","v":0},0,null,{"$f":"IFERROR(VLOOKUP(A76,Cotações!B:C,2,FALSE),\"\")","v":""},0,0,null,null,0,null,0,0,null,{"$f":"IF(OR(A76=\"\",A76=\"(vazio)\"),0,IFERROR(LOOKUP(2,1/('Ações-Lançamentos'!D:D=A76),'Ações-Lançamentos'!O:O),0))","v":0},null,{"$f":"IF(OR(A76=\"\",A76=\"(vazio)\"),0,IFERROR(LOOKUP(2,1/('Ações-Lançamentos'!D:D=A76),'Ações-Lançamentos'!N:N),0))","v":0},null,null,null,null,null,null,"",""]
[null,".sa",{"$f":"SUMIFS('Ações-Lançamentos'!C:C,'Ações-Lançamentos'!D:D,$A77,'Ações-Lançamentos'!B:B,\"C\")+SUMIFS('Ações-Lançamentos'!C:C,'Ações-Lançamentos'!D:D,$A77,'Ações-Lançamentos'!B:B,\"v\")","v":0},{"$f":"IF(C77=0,0,SUMIFS('Ações-Lançamentos'!K:K,'Ações-Lançamentos'!D:D,$A77,'Ações-Lançamentos'!B:B,\"C\")-SUMIFS('Ações-Lançamentos'!K:K,'Ações-Lançamentos'!D:D,$A77,'Ações-Lançamentos'!B:B,\"v\"))-SUMIFS('Ações-Lançamentos'!K:K,'Ações-Lançamentos'!D:D,$A77,'Ações-Lançamentos'!L:L,\"BONIFICAÇÃO\")","v":0},0,null,{"$f":"IFERROR(VLOOKUP(A77,Cotações!B:C,2,FALSE),\"\")","v":""},0,0,null,null,0,null,0,0,null,{"$f":"IF(OR(A77=\"\",A77=\"(vazio)\"),0,IFERROR(LOOKUP(2,1/('Ações-Lançamentos'!D:D=A77),'Ações-Lançamentos'!O:O),0))","v":0},null,{"$f":"IF(OR(A77=\"\",A77=\"(vazio)\"),0,IFERROR(LOOKUP(2,1/('Ações-Lançamentos'!D:D=A77),'Ações-Lançamentos'!N:N),0))","v":0},null,null,null,null,null,null,"",""]
[null,".sa",{"$f":"SUMIFS('Ações-Lançamentos'!C:C,'Ações-Lançamentos'!D:D,$A78,'Ações-Lançamentos'!B:B,\"C\")+SUMIFS('Ações-Lançamentos'!C:C,'Ações-Lançamentos'!D:D,$A78,'Ações-Lançamentos'!B:B,\"v\")","v":0},{"$f":"IF(C78=0,0,SUMIFS('Ações-Lançamentos'!K:K,'Ações-Lançamentos'!D:D,$A78,'Ações-Lançamentos'!B:B,\"C\")-SUMIFS('Ações-Lançamentos'!K:K,'Ações-Lançamentos'!D:D,$A78,'Ações-Lançamentos'!B:B,\"v\"))-SUMIFS('Ações-Lançamentos'!K:K,'Ações-Lançamentos'!D:D,$A78,'Ações-Lançamentos'!L:L,\"BONIFICAÇÃO\")","v":0},0,null,{"$f":"IFERROR(VLOOKUP(A78,Cotações!B:C,2,FALSE),\"\")","v":""},0,0,null,null,0,null,0,0,null,{"$f":"IF(OR(A78=\"\",A78=\"(vazio)\"),0,IFERROR(LOOKUP(2,1/('Ações-Lançamentos'!D:D=A78),'Ações-Lançamentos'!O:O),0))","v":0},null,{"$f":"IF(OR(A78=\"\",A78=\"(vazio)\"),0,IFERROR(LOOKUP(2,1/('Ações-Lançamentos'!D:D=A78),'Ações-Lançamentos'!N:N),0))","v":0},null,null,null,null,null,null,{"$f":"IF(K78=\"\",\"\",K78-I78)","v":""},{"$f":"IF(OR($A78=\"TOTAL\",$A78=\"\"),\"\",$A78)","v":""}]
[null,".sa",{"$f":"SUMIFS('Ações-Lançamentos'!C:C,'Ações-Lançamentos'!D:D,$A79,'Ações-Lançamentos'!B:B,\"C\")+SUMIFS('Ações-Lançamentos'!C:C,'Ações-Lançamentos'!D:D,$A79,'Ações-Lançamentos'!B:B,\"v\")","v":0},{"$f":"IF(C79=0,0,SUMIFS('Ações-Lançamentos'!K:K,'Ações-Lançamentos'!D:D,$A79,'Ações-Lançamentos'!B:B,\"C\")-SUMIFS('Ações-Lançamentos'!K:K,'Ações-Lançamentos'!D:D,$A79,'Ações-Lançamentos'!B:B,\"v\"))-SUMIFS('Ações-Lançamentos'!K:K,'Ações-Lançamentos'!D:D,$A79,'Ações-Lançamentos'!L:L,\"BONIFICAÇÃO\")","v":0},0,null,{"$f":"IFERROR(VLOOKUP(A79,Cotações!B:C,2,FALSE),\"\")","v":""},0,0,null,null,0,null,0,0,null,{"$f":"IF(OR(A79=\"\",A79=\"(vazio)\"),0,IFERROR(LOOKUP(2,1/('Ações-Lançamentos'!D:D=A79),'Ações-Lançamentos'!O:O),0))","v":0},null,{"$f":"IF(OR(A79=\"\",A79=\"(vazio)\"),0,IFERROR(LOOKUP(2,1/('Ações-Lançamentos'!D:D=A79),'Ações-Lançamentos'!N:N),0))","v":0},null,null,null,null,null,null,"",""]
[null,".sa",{"$f":"SUMIFS('Ações-Lançamentos'!C:C,'Ações-Lançamentos'!D:D,$A80,'Ações-Lançamentos'!B:B,\"C\")+SUMIFS('Ações-Lançamentos'!C:C,'Ações-Lançamentos'!D:D,$A80,'Ações-Lançamentos'!B:B,\"v\")","v":0},{"$f":"IF(C80=0,0,SUMIFS('Ações-Lançamentos'!K:K,'Ações-Lançamentos'!D:D,$A80,'Ações-Lançamentos'!B:B,\"C\")-SUMIFS('Ações-Lançamentos'!K:K,'Ações-Lançamentos'!D:D,$A80,'Ações-Lançamentos'!B:B,\"v\"))-SUMIFS('Ações-Lançamentos'!K:K,'Ações-Lançamentos'!D:D,$A80,'Ações-Lançamentos'!L:L,\"BONIFICAÇÃO\")","v":0},0,null,{"$f":"IFERROR(VLOOKUP(A80,Cotações!B:C,2,FALSE),\"\")","v":""},0,0,null,null,0,null,0,0,null,{"$f":"IF(OR(A80=\"\",A80=\"(vazio)\"),0,IFERROR(LOOKUP(2,1/('Ações-Lançamentos'!D:D=A80),'Ações-Lançamentos'!O:O),0))","v":0},null,{"$f":"IF(OR(A80=\"\",A80=\"(vazio)\"),0,IFERROR(LOOKUP(2,1/('Ações-Lançamentos'!D:D=A80),'Ações-Lançamentos'!N:N),0))","v":0},null,null,null,null,null,null,"",""]
[null,".sa",{"$f":"SUMIFS('Ações-Lançamentos'!C:C,'Ações-Lançamentos'!D:D,$A81,'Ações-Lançamentos'!B:B,\"C\")+SUMIFS('Ações-Lançamentos'!C:C,'Ações-Lançamentos'!D:D,$A81,'Ações-Lançamentos'!B:B,\"v\")","v":0},{"$f":"IF(C81=0,0,SUMIFS('Ações-Lançamentos'!K:K,'Ações-Lançamentos'!D:D,$A81,'Ações-Lançamentos'!B:B,\"C\")-SUMIFS('Ações-Lançamentos'!K:K,'Ações-Lançamentos'!D:D,$A81,'Ações-Lançamentos'!B:B,\"v\"))-SUMIFS('Ações-Lançamentos'!K:K,'Ações-Lançamentos'!D:D,$A81,'Ações-Lançamentos'!L:L,\"BONIFICAÇÃO\")","v":0},0,null,{"$f":"IFERROR(VLOOKUP(A81,Cotações!B:C,2,FALSE),\"\")","v":""},0,0,null,null,0,null,0,0,null,{"$f":"IF(OR(A81=\"\",A81=\"(vazio)\"),0,IFERROR(LOOKUP(2,1/('Ações-Lançamentos'!D:D=A81),'Ações-Lançamentos'!O:O),0))","v":0},null,{"$f":"IF(OR(A81=\"\",A81=\"(vazio)\"),0,IFERROR(LOOKUP(2,1/('Ações-Lançamentos'!D:D=A81),'Ações-Lançamentos'!N:N),0))","v":0},null,null,null,null,null,null,"",""]
[null,".sa",{"$f":"SUMIFS('Ações-Lançamentos'!C:C,'Ações-Lançamentos'!D:D,$A82,'Ações-Lançamentos'!B:B,\"C\")+SUMIFS('Ações-Lançamentos'!C:C,'Ações-Lançamentos'!D:D,$A82,'Ações-Lançamentos'!B:B,\"v\")","v":0},{"$f":"IF(C82=0,0,SUMIFS('Ações-Lançamentos'!K:K,'Ações-Lançamentos'!D:D,$A82,'Ações-Lançamentos'!B:B,\"C\")-SUMIFS('Ações-Lançamentos'!K:K,'Ações-Lançamentos'!D:D,$A82,'Ações-Lançamentos'!B:B,\"v\"))-SUMIFS('Ações-Lançamentos'!K:K,'Ações-Lançamentos'!D:D,$A82,'Ações-Lançamentos'!L:L,\"BONIFICAÇÃO\")","v":0},0,null,{"$f":"IFERROR(VLOOKUP(A82,Cotações!B:C,2,FALSE),\"\")","v":""},0,0,null,null,0,null,0,0,null,{"$f":"IF(OR(A82=\"\",A82=\"(vazio)\"),0,IFERROR(LOOKUP(2,1/('Ações-Lançamentos'!D:D=A82),'Ações-Lançamentos'!O:O),0))","v":0},null,{"$f":"IF(OR(A82=\"\",A82=\"(vazio)\"),0,IFERROR(LOOKUP(2,1/('Ações-Lançamentos'!D:D=A82),'Ações-Lançamentos'!N:N),0))","v":0},null,null,null,null,null,null,"",""]
[null,".sa",{"$f":"SUMIFS('Ações-Lançamentos'!C:C,'Ações-Lançamentos'!D:D,$A83,'Ações-Lançamentos'!B:B,\"C\")+SUMIFS('Ações-Lançamentos'!C:C,'Ações-Lançamentos'!D:D,$A83,'Ações-Lançamentos'!B:B,\"v\")","v":0},{"$f":"IF(C83=0,0,SUMIFS('Ações-Lançamentos'!K:K,'Ações-Lançamentos'!D:D,$A83,'Ações-Lançamentos'!B:B,\"C\")-SUMIFS('Ações-Lançamentos'!K:K,'Ações-Lançamentos'!D:D,$A83,'Ações-Lançamentos'!B:B,\"v\"))-SUMIFS('Ações-Lançamentos'!K:K,'Ações-Lançamentos'!D:D,$A83,'Ações-Lançamentos'!L:L,\"BONIFICAÇÃO\")","v":0},0,null,{"$f":"IFERROR(VLOOKUP(A83,Cotações!B:C,2,FALSE),\"\")","v":""},0,0,null,null,0,null,0,0,null,{"$f":"IF(OR(A83=\"\",A83=\"(vazio)\"),0,IFERROR(LOOKUP(2,1/('Ações-Lançamentos'!D:D=A83),'Ações-Lançamentos'!O:O),0))","v":0},null,{"$f":"IF(OR(A83=\"\",A83=\"(vazio)\"),0,IFERROR(LOOKUP(2,1/('Ações-Lançamentos'!D:D=A83),'Ações-Lançamentos'!N:N),0))","v":0},null,null,null,null,null,null,"",""]
[null,".sa",{"$f":"SUMIFS('Ações-Lançamentos'!C:C,'Ações-Lançamentos'!D:D,$A84,'Ações-Lançamentos'!B:B,\"C\")+SUMIFS('Ações-Lançamentos'!C:C,'Ações-Lançamentos'!D:D,$A84,'Ações-Lançamentos'!B:B,\"v\")","v":0},{"$f":"IF(C84=0,0,SUMIFS('Ações-Lançamentos'!K:K,'Ações-Lançamentos'!D:D,$A84,'Ações-Lançamentos'!B:B,\"C\")-SUMIFS('Ações-Lançamentos'!K:K,'Ações-Lançamentos'!D:D,$A84,'Ações-Lançamentos'!B:B,\"v\"))-SUMIFS('Ações-Lançamentos'!K:K,'Ações-Lançamentos'!D:D,$A84,'Ações-Lançamentos'!L:L,\"BONIFICAÇÃO\")","v":0},0,null,{"$f":"IFERROR(VLOOKUP(A84,Cotações!B:C,2,FALSE),\"\")","v":""},0,0,null,null,0,null,0,0,null,{"$f":"IF(OR(A84=\"\",A84=\"(vazio)\"),0,IFERROR(LOOKUP(2,1/('Ações-Lançamentos'!D:D=A84),'Ações-Lançamentos'!O:O),0))","v":0},null,{"$f":"IF(OR(A84=\"\",A84=\"(vazio)\"),0,IFERROR(LOOKUP(2,1/('Ações-Lançamentos'!D:D=A84),'Ações-Lançamentos'!N:N),0))","v":0},null,null,null,null,null,null,"",""]
[null,".sa",{"$f":"SUMIFS('Ações-Lançamentos'!C:C,'Ações-Lançamentos'!D:D,$A85,'Ações-Lançamentos'!B:B,\"C\")+SUMIFS('Ações-Lançamentos'!C:C,'Ações-Lançamentos'!D:D,$A85,'Ações-Lançamentos'!B:B,\"v\")","v":0},{"$f":"IF(C85=0,0,SUMIFS('Ações-Lançamentos'!K:K,'Ações-Lançamentos'!D:D,$A85,'Ações-Lançamentos'!B:B,\"C\")-SUMIFS('Ações-Lançamentos'!K:K,'Ações-Lançamentos'!D:D,$A85,'Ações-Lançamentos'!B:B,\"v\"))-SUMIFS('Ações-Lançamentos'!K:K,'Ações-Lançamentos'!D:D,$A85,'Ações-Lançamentos'!L:L,\"BONIFICAÇÃO\")","v":0},0,null,{"$f":"IFERROR(VLOOKUP(A85,Cotações!B:C,2,FALSE),\"\")","v":""},0,0,null,null,0,null,0,0,null,{"$f":"IF(OR(A85=\"\",A85=\"(vazio)\"),0,IFERROR(LOOKUP(2,1/('Ações-Lançamentos'!D:D=A85),'Ações-Lançamentos'!O:O),0))","v":0},null,{"$f":"IF(OR(A85=\"\",A85=\"(vazio)\"),0,IFERROR(LOOKUP(2,1/('Ações-Lançamentos'!D:D=A85),'Ações-Lançamentos'!N:N),0))","v":0},null,null,null,null,null,null,"",""]
[null,".sa",{"$f":"SUMIFS('Ações-Lançamentos'!C:C,'Ações-Lançamentos'!D:D,$A86,'Ações-Lançamentos'!B:B,\"C\")+SUMIFS('Ações-Lançamentos'!C:C,'Ações-Lançamentos'!D:D,$A86,'Ações-Lançamentos'!B:B,\"v\")","v":0},{"$f":"IF(C86=0,0,SUMIFS('Ações-Lançamentos'!K:K,'Ações-Lançamentos'!D:D,$A86,'Ações-Lançamentos'!B:B,\"C\")-SUMIFS('Ações-Lançamentos'!K:K,'Ações-Lançamentos'!D:D,$A86,'Ações-Lançamentos'!B:B,\"v\"))-SUMIFS('Ações-Lançamentos'!K:K,'Ações-Lançamentos'!D:D,$A86,'Ações-Lançamentos'!L:L,\"BONIFICAÇÃO\")","v":0},0,null,{"$f":"IFERROR(VLOOKUP(A86,Cotações!B:C,2,FALSE),\"\")","v":""},0,0,null,null,0,null,0,0,null,{"$f":"IF(OR(A86=\"\",A86=\"(vazio)\"),0,IFERROR(LOOKUP(2,1/('Ações-Lançamentos'!D:D=A86),'Ações-Lançamentos'!O:O),0))","v":0},null,{"$f":"IF(OR(A86=\"\",A86=\"(vazio)\"),0,IFERROR(LOOKUP(2,1/('Ações-Lançamentos'!D:D=A86),'Ações-Lançamentos'!N:N),0))","v":0},null,null,null,null,null,null,"",""]
[null,".sa",{"$f":"SUMIFS('Ações-Lançamentos'!C:C,'Ações-Lançamentos'!D:D,$A87,'Ações-Lançamentos'!B:B,\"C\")+SUMIFS('Ações-Lançamentos'!C:C,'Ações-Lançamentos'!D:D,$A87,'Ações-Lançamentos'!B:B,\"v\")","v":0},{"$f":"IF(C87=0,0,SUMIFS('Ações-Lançamentos'!K:K,'Ações-Lançamentos'!D:D,$A87,'Ações-Lançamentos'!B:B,\"C\")-SUMIFS('Ações-Lançamentos'!K:K,'Ações-Lançamentos'!D:D,$A87,'Ações-Lançamentos'!B:B,\"v\"))-SUMIFS('Ações-Lançamentos'!K:K,'Ações-Lançamentos'!D:D,$A87,'Ações-Lançamentos'!L:L,\"BONIFICAÇÃO\")","v":0},0,null,{"$f":"IFERROR(VLOOKUP(A87,Cotações!B:C,2,FALSE),\"\")","v":""},0,0,null,null,0,null,0,0,null,{"$f":"IF(OR(A87=\"\",A87=\"(vazio)\"),0,IFERROR(LOOKUP(2,1/('Ações-Lançamentos'!D:D=A87),'Ações-Lançamentos'!O:O),0))","v":0},null,{"$f":"IF(OR(A87=\"\",A87=\"(vazio)\"),0,IFERROR(LOOKUP(2,1/('Ações-Lançamentos'!D:D=A87),'Ações-Lançamentos'!N:N),0))","v":0},null,null,null,null,null,null,"",""]
[null,".sa",{"$f":"SUMIFS('Ações-Lançamentos'!C:C,'Ações-Lançamentos'!D:D,$A88,'Ações-Lançamentos'!B:B,\"C\")+SUMIFS('Ações-Lançamentos'!C:C,'Ações-Lançamentos'!D:D,$A88,'Ações-Lançamentos'!B:B,\"v\")","v":0},{"$f":"IF(C88=0,0,SUMIFS('Ações-Lançamentos'!K:K,'Ações-Lançamentos'!D:D,$A88,'Ações-Lançamentos'!B:B,\"C\")-SUMIFS('Ações-Lançamentos'!K:K,'Ações-Lançamentos'!D:D,$A88,'Ações-Lançamentos'!B:B,\"v\"))-SUMIFS('Ações-Lançamentos'!K:K,'Ações-Lançamentos'!D:D,$A88,'Ações-Lançamentos'!L:L,\"BONIFICAÇÃO\")","v":0},0,null,{"$f":"IFERROR(VLOOKUP(A88,Cotações!B:C,2,FALSE),\"\")","v":""},0,0,null,null,0,null,0,0,null,{"$f":"IF(OR(A88=\"\",A88=\"(vazio)\"),0,IFERROR(LOOKUP(2,1/('Ações-Lançamentos'!D:D=A88),'Ações-Lançamentos'!O:O),0))","v":0},null,{"$f":"IF(OR(A88=\"\",A88=\"(vazio)\"),0,IFERROR(LOOKUP(2,1/('Ações-Lançamentos'!D:D=A88),'Ações-Lançamentos'!N:N),0))","v":0},null,null,null,null,null,null,"",""]
[null,".sa",{"$f":"SUMIFS('Ações-Lançamentos'!C:C,'Ações-Lançamentos'!D:D,$A89,'Ações-Lançamentos'!B:B,\"C\")+SUMIFS('Ações-Lançamentos'!C:C,'Ações-Lançamentos'!D:D,$A89,'Ações-Lançamentos'!B:B,\"v\")","v":0},{"$f":"IF(C89=0,0,SUMIFS('Ações-Lançamentos'!K:K,'Ações-Lançamentos'!D:D,$A89,'Ações-Lançamentos'!B:B,\"C\")-SUMIFS('Ações-Lançamentos'!K:K,'Ações-Lançamentos'!D:D,$A89,'Ações-Lançamentos'!B:B,\"v\"))-SUMIFS('Ações-Lançamentos'!K:K,'Ações-Lançamentos'!D:D,$A89,'Ações-Lançamentos'!L:L,\"BONIFICAÇÃO\")","v":0},0,null,{"$f":"IFERROR(VLOOKUP(A89,Cotações!B:C,2,FALSE),\"\")","v":""},0,0,null,null,0,null,0,0,null,{"$f":"IF(OR(A89=\"\",A89=\"(vazio)\"),0,IFERROR(LOOKUP(2,1/('Ações-Lançamentos'!D:D=A89),'Ações-Lançamentos'!O:O),0))","v":0},null,{"$f":"IF(OR(A89=\"\",A89=\"(vazio)\"),0,IFERROR(LOOKUP(2,1/('Ações-Lançamentos'!D:D=A89),'Ações-Lançamentos'!N:N),0))","v":0},null,null,null,null,null,null,"",""]
[null,".sa",{"$f":"SUMIFS('Ações-Lançamentos'!C:C,'Ações-Lançamentos'!D:D,$A90,'Ações-Lançamentos'!B:B,\"C\")+SUMIFS('Ações-Lançamentos'!C:C,'Ações-Lançamentos'!D:D,$A90,'Ações-Lançamentos'!B:B,\"v\")","v":0},{"$f":"IF(C90=0,0,SUMIFS('Ações-Lançamentos'!K:K,'Ações-Lançamentos'!D:D,$A90,'Ações-Lançamentos'!B:B,\"C\")-SUMIFS('Ações-Lançamentos'!K:K,'Ações-Lançamentos'!D:D,$A90,'Ações-Lançamentos'!B:B,\"v\"))-SUMIFS('Ações-Lançamentos'!K:K,'Ações-Lançamentos'!D:D,$A90,'Ações-Lançamentos'!L:L,\"BONIFICAÇÃO\")","v":0},0,null,{"$f":"IFERROR(VLOOKUP(A90,Cotações!B:C,2,FALSE),\"\")","v":""},0,0,null,null,0,null,0,0,null,{"$f":"IF(OR(A90=\"\",A90=\"(vazio)\"),0,IFERROR(LOOKUP(2,1/('Ações-Lançamentos'!D:D=A90),'Ações-Lançamentos'!O:O),0))","v":0},null,{"$f":"IF(OR(A90=\"\",A90=\"(vazio)\"),0,IFERROR(LOOKUP(2,1/('Ações-Lançamentos'!D:D=A90),'Ações-Lançamentos'!N:N),0))","v":0},null,null,null,null,null,null,"",""]
[null,".sa",{"$f":"SUMIFS('Ações-Lançamentos'!C:C,'Ações-Lançamentos'!D:D,$A91,'Ações-Lançamentos'!B:B,\"C\")+SUMIFS('Ações-Lançamentos'!C:C,'Ações-Lançamentos'!D:D,$A91,'Ações-Lançamentos'!B:B,\"v\")","v":0},{"$f":"IF(C91=0,0,SUMIFS('Ações-Lançamentos'!K:K,'Ações-Lançamentos'!D:D,$A91,'Ações-Lançamentos'!B:B,\"C\")-SUMIFS('Ações-Lançamentos'!K:K,'Ações-Lançamentos'!D:D,$A91,'Ações-Lançamentos'!B:B,\"v\"))-SUMIFS('Ações-Lançamentos'!K:K,'Ações-Lançamentos'!D:D,$A91,'Ações-Lançamentos'!L:L,\"BONIFICAÇÃO\")","v":0},0,null,{"$f":"IFERROR(VLOOKUP(A91,Cotações!B:C,2,FALSE),\"\")","v":""},0,0,null,null,0,null,0,0,null,{"$f":"IF(OR(A91=\"\",A91=\"(vazio)\"),0,IFERROR(LOOKUP(2,1/('Ações-Lançamentos'!D:D=A91),'Ações-Lançamentos'!O:O),0))","v":0},null,{"$f":"IF(OR(A91=\"\",A91=\"(vazio)\"),0,IFERROR(LOOKUP(2,1/('Ações-Lançamentos'!D:D=A91),'Ações-Lançamentos'!N:N),0))","v":0},null,null,null,null,null,null,"",""]
[null,".sa",{"$f":"SUMIFS('Ações-Lançamentos'!C:C,'Ações-Lançamentos'!D:D,$A92,'Ações-Lançamentos'!B:B,\"C\")+SUMIFS('Ações-Lançamentos'!C:C,'Ações-Lançamentos'!D:D,$A92,'Ações-Lançamentos'!B:B,\"v\")","v":0},{"$f":"IF(C92=0,0,SUMIFS('Ações-Lançamentos'!K:K,'Ações-Lançamentos'!D:D,$A92,'Ações-Lançamentos'!B:B,\"C\")-SUMIFS('Ações-Lançamentos'!K:K,'Ações-Lançamentos'!D:D,$A92,'Ações-Lançamentos'!B:B,\"v\"))-SUMIFS('Ações-Lançamentos'!K:K,'Ações-Lançamentos'!D:D,$A92,'Ações-Lançamentos'!L:L,\"BONIFICAÇÃO\")","v":0},0,null,{"$f":"IFERROR(VLOOKUP(A92,Cotações!B:C,2,FALSE),\"\")","v":""},0,0,null,null,0,null,0,0,null,{"$f":"IF(OR(A92=\"\",A92=\"(vazio)\"),0,IFERROR(LOOKUP(2,1/('Ações-Lançamentos'!D:D=A92),'Ações-Lançamentos'!O:O),0))","v":0},null,{"$f":"IF(OR(A92=\"\",A92=\"(vazio)\"),0,IFERROR(LOOKUP(2,1/('Ações-Lançamentos'!D:D=A92),'Ações-Lançamentos'!N:N),0))","v":0},null,null,null,null,null,null,"",""]
[null,".sa",{"$f":"SUMIFS('Ações-Lançamentos'!C:C,'Ações-Lançamentos'!D:D,$A93,'Ações-Lançamentos'!B:B,\"C\")+SUMIFS('Ações-Lançamentos'!C:C,'Ações-Lançamentos'!D:D,$A93,'Ações-Lançamentos'!B:B,\"v\")","v":0},{"$f":"IF(C93=0,0,SUMIFS('Ações-Lançamentos'!K:K,'Ações-Lançamentos'!D:D,$A93,'Ações-Lançamentos'!B:B,\"C\")-SUMIFS('Ações-Lançamentos'!K:K,'Ações-Lançamentos'!D:D,$A93,'Ações-Lançamentos'!B:B,\"v\"))-SUMIFS('Ações-Lançamentos'!K:K,'Ações-Lançamentos'!D:D,$A93,'Ações-Lançamentos'!L:L,\"BONIFICAÇÃO\")","v":0},0,null,{"$f":"IFERROR(VLOOKUP(A93,Cotações!B:C,2,FALSE),\"\")","v":""},0,0,null,null,0,null,0,0,null,{"$f":"IF(OR(A93=\"\",A93=\"(vazio)\"),0,IFERROR(LOOKUP(2,1/('Ações-Lançamentos'!D:D=A93),'Ações-Lançamentos'!O:O),0))","v":0},null,{"$f":"IF(OR(A93=\"\",A93=\"(vazio)\"),0,IFERROR(LOOKUP(2,1/('Ações-Lançamentos'!D:D=A93),'Ações-Lançamentos'!N:N),0))","v":0},null,null,null,null,null,null,"",""]
[null,".sa",{"$f":"SUMIFS('Ações-Lançamentos'!C:C,'Ações-Lançamentos'!D:D,$A94,'Ações-Lançamentos'!B:B,\"C\")+SUMIFS('Ações-Lançamentos'!C:C,'Ações-Lançamentos'!D:D,$A94,'Ações-Lançamentos'!B:B,\"v\")","v":0},{"$f":"IF(C94=0,0,SUMIFS('Ações-Lançamentos'!K:K,'Ações-Lançamentos'!D:D,$A94,'Ações-Lançamentos'!B:B,\"C\")-SUMIFS('Ações-Lançamentos'!K:K,'Ações-Lançamentos'!D:D,$A94,'Ações-Lançamentos'!B:B,\"v\"))-SUMIFS('Ações-Lançamentos'!K:K,'Ações-Lançamentos'!D:D,$A94,'Ações-Lançamentos'!L:L,\"BONIFICAÇÃO\")","v":0},0,null,{"$f":"IFERROR(VLOOKUP(A94,Cotações!B:C,2,FALSE),\"\")","v":""},0,0,null,null,0,null,0,0,null,{"$f":"IF(OR(A94=\"\",A94=\"(vazio)\"),0,IFERROR(LOOKUP(2,1/('Ações-Lançamentos'!D:D=A94),'Ações-Lançamentos'!O:O),0))","v":0},null,{"$f":"IF(OR(A94=\"\",A94=\"(vazio)\"),0,IFERROR(LOOKUP(2,1/('Ações-Lançamentos'!D:D=A94),'Ações-Lançamentos'!N:N),0))","v":0},null,null,null,null,null,null,"",""]
[null,".sa",{"$f":"SUMIFS('Ações-Lançamentos'!C:C,'Ações-Lançamentos'!D:D,$A95,'Ações-Lançamentos'!B:B,\"C\")+SUMIFS('Ações-Lançamentos'!C:C,'Ações-Lançamentos'!D:D,$A95,'Ações-Lançamentos'!B:B,\"v\")","v":0},{"$f":"IF(C95=0,0,SUMIFS('Ações-Lançamentos'!K:K,'Ações-Lançamentos'!D:D,$A95,'Ações-Lançamentos'!B:B,\"C\")-SUMIFS('Ações-Lançamentos'!K:K,'Ações-Lançamentos'!D:D,$A95,'Ações-Lançamentos'!B:B,\"v\"))-SUMIFS('Ações-Lançamentos'!K:K,'Ações-Lançamentos'!D:D,$A95,'Ações-Lançamentos'!L:L,\"BONIFICAÇÃO\")","v":0},0,null,{"$f":"IFERROR(VLOOKUP(A95,Cotações!B:C,2,FALSE),\"\")","v":""},0,0,null,null,0,null,0,0,null,{"$f":"IF(OR(A95=\"\",A95=\"(vazio)\"),0,IFERROR(LOOKUP(2,1/('Ações-Lançamentos'!D:D=A95),'Ações-Lançamentos'!O:O),0))","v":0},null,{"$f":"IF(OR(A95=\"\",A95=\"(vazio)\"),0,IFERROR(LOOKUP(2,1/('Ações-Lançamentos'!D:D=A95),'Ações-Lançamentos'!N:N),0))","v":0},null,null,null,null,null,null,"",""]
[null,".sa",{"$f":"SUMIFS('Ações-Lançamentos'!C:C,'Ações-Lançamentos'!D:D,$A96,'Ações-Lançamentos'!B:B,\"C\")+SUMIFS('Ações-Lançamentos'!C:C,'Ações-Lançamentos'!D:D,$A96,'Ações-Lançamentos'!B:B,\"v\")","v":0},{"$f":"IF(C96=0,0,SUMIFS('Ações-Lançamentos'!K:K,'Ações-Lançamentos'!D:D,$A96,'Ações-Lançamentos'!B:B,\"C\")-SUMIFS('Ações-Lançamentos'!K:K,'Ações-Lançamentos'!D:D,$A96,'Ações-Lançamentos'!B:B,\"v\"))-SUMIFS('Ações-Lançamentos'!K:K,'Ações-Lançamentos'!D:D,$A96,'Ações-Lançamentos'!L:L,\"BONIFICAÇÃO\")","v":0},0,null,{"$f":"IFERROR(VLOOKUP(A96,Cotações!B:C,2,FALSE),\"\")","v":""},0,0,null,null,0,null,0,0,null,{"$f":"IF(OR(A96=\"\",A96=\"(vazio)\"),0,IFERROR(LOOKUP(2,1/('Ações-Lançamentos'!D:D=A96),'Ações-Lançamentos'!O:O),0))","v":0},null,{"$f":"IF(OR(A96=\"\",A96=\"(vazio)\"),0,IFERROR(LOOKUP(2,1/('Ações-Lançamentos'!D:D=A96),'Ações-Lançamentos'!N:N),0))","v":0},null,null,null,null,null,null,"",""]
[null,".sa",{"$f":"SUMIFS('Ações-Lançamentos'!C:C,'Ações-Lançamentos'!D:D,$A97,'Ações-Lançamentos'!B:B,\"C\")+SUMIFS('Ações-Lançamentos'!C:C,'Ações-Lançamentos'!D:D,$A97,'Ações-Lançamentos'!B:B,\"v\")","v":0},{"$f":"IF(C97=0,0,SUMIFS('Ações-Lançamentos'!K:K,'Ações-Lançamentos'!D:D,$A97,'Ações-Lançamentos'!B:B,\"C\")-SUMIFS('Ações-Lançamentos'!K:K,'Ações-Lançamentos'!D:D,$A97,'Ações-Lançamentos'!B:B,\"v\"))-SUMIFS('Ações-Lançamentos'!K:K,'Ações-Lançamentos'!D:D,$A97,'Ações-Lançamentos'!L:L,\"BONIFICAÇÃO\")","v":0},0,null,{"$f":"IFERROR(VLOOKUP(A97,Cotações!B:C,2,FALSE),\"\")","v":""},0,0,null,null,0,null,0,0,null,{"$f":"IF(OR(A97=\"\",A97=\"(vazio)\"),0,IFERROR(LOOKUP(2,1/('Ações-Lançamentos'!D:D=A97),'Ações-Lançamentos'!O:O),0))","v":0},null,{"$f":"IF(OR(A97=\"\",A97=\"(vazio)\"),0,IFERROR(LOOKUP(2,1/('Ações-Lançamentos'!D:D=A97),'Ações-Lançamentos'!N:N),0))","v":0},null,null,null,null,null,null,"",""]
[null,".sa",{"$f":"SUMIFS('Ações-Lançamentos'!C:C,'Ações-Lançamentos'!D:D,$A98,'Ações-Lançamentos'!B:B,\"C\")+SUMIFS('Ações-Lançamentos'!C:C,'Ações-Lançamentos'!D:D,$A98,'Ações-Lançamentos'!B:B,\"v\")","v":0},{"$f":"IF(C98=0,0,SUMIFS('Ações-Lançamentos'!K:K,'Ações-Lançamentos'!D:D,$A98,'Ações-Lançamentos'!B:B,\"C\")-SUMIFS('Ações-Lançamentos'!K:K,'Ações-Lançamentos'!D:D,$A98,'Ações-Lançamentos'!B:B,\"v\"))-SUMIFS('Ações-Lançamentos'!K:K,'Ações-Lançamentos'!D:D,$A98,'Ações-Lançamentos'!L:L,\"BONIFICAÇÃO\")","v":0},0,null,{"$f":"IFERROR(VLOOKUP(A98,Cotações!B:C,2,FALSE),\"\")","v":""},0,0,null,null,0,null,0,0,null,{"$f":"IF(OR(A98=\"\",A98=\"(vazio)\"),0,IFERROR(LOOKUP(2,1/('Ações-Lançamentos'!D:D=A98),'Ações-Lançamentos'!O:O),0))","v":0},null,{"$f":"IF(OR(A98=\"\",A98=\"(vazio)\"),0,IFERROR(LOOKUP(2,1/('Ações-Lançamentos'!D:D=A98),'Ações-Lançamentos'!N:N),0))","v":0},null,null,null,null,null,null,"",""]
[null,".sa",{"$f":"SUMIFS('Ações-Lançamentos'!C:C,'Ações-Lançamentos'!D:D,$A99,'Ações-Lançamentos'!B:B,\"C\")+SUMIFS('Ações-Lançamentos'!C:C,'Ações-Lançamentos'!D:D,$A99,'Ações-Lançamentos'!B:B,\"v\")","v":0},{"$f":"IF(C99=0,0,SUMIFS('Ações-Lançamentos'!K:K,'Ações-Lançamentos'!D:D,$A99,'Ações-Lançamentos'!B:B,\"C\")-SUMIFS('Ações-Lançamentos'!K:K,'Ações-Lançamentos'!D:D,$A99,'Ações-Lançamentos'!B:B,\"v\"))-SUMIFS('Ações-Lançamentos'!K:K,'Ações-Lançamentos'!D:D,$A99,'Ações-Lançamentos'!L:L,\"BONIFICAÇÃO\")","v":0},0,null,{"$f":"IFERROR(VLOOKUP(A99,Cotações!B:C,2,FALSE),\"\")","v":""},0,0,null,null,0,null,0,0,null,{"$f":"IF(OR(A99=\"\",A99=\"(vazio)\"),0,IFERROR(LOOKUP(2,1/('Ações-Lançamentos'!D:D=A99),'Ações-Lançamentos'!O:O),0))","v":0},null,{"$f":"IF(OR(A99=\"\",A99=\"(vazio)\"),0,IFERROR(LOOKUP(2,1/('Ações-Lançamentos'!D:D=A99),'Ações-Lançamentos'!N:N),0))","v":0},null,null,null,null,null,null,"",""]
[null,".sa",{"$f":"SUMIFS('Ações-Lançamentos'!C:C,'Ações-Lançamentos'!D:D,$A100,'Ações-Lançamentos'!B:B,\"C\")+SUMIFS('Ações-Lançamentos'!C:C,'Ações-Lançamentos'!D:D,$A100,'Ações-Lançamentos'!B:B,\"v\")","v":0},{"$f":"IF(C100=0,0,SUMIFS('Ações-Lançamentos'!K:K,'Ações-Lançamentos'!D:D,$A100,'Ações-Lançamentos'!B:B,\"C\")-SUMIFS('Ações-Lançamentos'!K:K,'Ações-Lançamentos'!D:D,$A100,'Ações-Lançamentos'!B:B,\"v\"))-SUMIFS('Ações-Lançamentos'!K:K,'Ações-Lançamentos'!D:D,$A100,'Ações-Lançamentos'!L:L,\"BONIFICAÇÃO\")","v":0},0,null,{"$f":"IFERROR(VLOOKUP(A100,Cotações!B:C,2,FALSE),\"\")","v":""},0,0,null,null,0,null,0,0,null,{"$f":"IF(OR(A100=\"\",A100=\"(vazio)\"),0,IFERROR(LOOKUP(2,1/('Ações-Lançamentos'!D:D=A100),'Ações-Lançamentos'!O:O),0))","v":0},null,{"$f":"IF(OR(A100=\"\",A100=\"(vazio)\"),0,IFERROR(LOOKUP(2,1/('Ações-Lançamentos'!D:D=A100),'Ações-Lançamentos'!N:N),0))","v":0},null,null,null,null,null,null,"",""]
[null,".sa",{"$f":"SUMIFS('Ações-Lançamentos'!C:C,'Ações-Lançamentos'!D:D,$A101,'Ações-Lançamentos'!B:B,\"C\")+SUMIFS('Ações-Lançamentos'!C:C,'Ações-Lançamentos'!D:D,$A101,'Ações-Lançamentos'!B:B,\"v\")","v":0},{"$f":"IF(C101=0,0,SUMIFS('Ações-Lançamentos'!K:K,'Ações-Lançamentos'!D:D,$A101,'Ações-Lançamentos'!B:B,\"C\")-SUMIFS('Ações-Lançamentos'!K:K,'Ações-Lançamentos'!D:D,$A101,'Ações-Lançamentos'!B:B,\"v\"))-SUMIFS('Ações-Lançamentos'!K:K,'Ações-Lançamentos'!D:D,$A101,'Ações-Lançamentos'!L:L,\"BONIFICAÇÃO\")","v":0},0,null,{"$f":"IFERROR(VLOOKUP(A101,Cotações!B:C,2,FALSE),\"\")","v":""},0,0,null,null,0,null,0,0,null,{"$f":"IF(OR(A101=\"\",A101=\"(vazio)\"),0,IFERROR(LOOKUP(2,1/('Ações-Lançamentos'!D:D=A101),'Ações-Lançamentos'!O:O),0))","v":0},null,{"$f":"IF(OR(A101=\"\",A101=\"(vazio)\"),0,IFERROR(LOOKUP(2,1/('Ações-Lançamentos'!D:D=A101),'Ações-Lançamentos'!N:N),0))","v":0},null,null,null,null,null,null,"",""]
[null,".sa",{"$f":"SUMIFS('Ações-Lançamentos'!C:C,'Ações-Lançamentos'!D:D,$A102,'Ações-Lançamentos'!B:B,\"C\")+SUMIFS('Ações-Lançamentos'!C:C,'Ações-Lançamentos'!D:D,$A102,'Ações-Lançamentos'!B:B,\"v\")","v":0},{"$f":"IF(C102=0,0,SUMIFS('Ações-Lançamentos'!K:K,'Ações-Lançamentos'!D:D,$A102,'Ações-Lançamentos'!B:B,\"C\")-SUMIFS('Ações-Lançamentos'!K:K,'Ações-Lançamentos'!D:D,$A102,'Ações-Lançamentos'!B:B,\"v\"))-SUMIFS('Ações-Lançamentos'!K:K,'Ações-Lançamentos'!D:D,$A102,'Ações-Lançamentos'!L:L,\"BONIFICAÇÃO\")","v":0},0,null,{"$f":"IFERROR(VLOOKUP(A102,Cotações!B:C,2,FALSE),\"\")","v":""},0,0,null,null,0,null,0,0,null,{"$f":"IF(OR(A102=\"\",A102=\"(vazio)\"),0,IFERROR(LOOKUP(2,1/('Ações-Lançamentos'!D:D=A102),'Ações-Lançamentos'!O:O),0))","v":0},null,{"$f":"IF(OR(A102=\"\",A102=\"(vazio)\"),0,IFERROR(LOOKUP(2,1/('Ações-Lançamentos'!D:D=A102),'Ações-Lançamentos'!N:N),0))","v":0},null,null,null,null,null,null,"",""]
[null,".sa",{"$f":"SUMIFS('Ações-Lançamentos'!C:C,'Ações-Lançamentos'!D:D,$A103,'Ações-Lançamentos'!B:B,\"C\")+SUMIFS('Ações-Lançamentos'!C:C,'Ações-Lançamentos'!D:D,$A103,'Ações-Lançamentos'!B:B,\"v\")","v":0},{"$f":"IF(C103=0,0,SUMIFS('Ações-Lançamentos'!K:K,'Ações-Lançamentos'!D:D,$A103,'Ações-Lançamentos'!B:B,\"C\")-SUMIFS('Ações-Lançamentos'!K:K,'Ações-Lançamentos'!D:D,$A103,'Ações-Lançamentos'!B:B,\"v\"))-SUMIFS('Ações-Lançamentos'!K:K,'Ações-Lançamentos'!D:D,$A103,'Ações-Lançamentos'!L:L,\"BONIFICAÇÃO\")","v":0},0,null,{"$f":"IFERROR(VLOOKUP(A103,Cotações!B:C,2,FALSE),\"\")","v":""},0,0,null,null,0,null,0,0,null,{"$f":"IF(OR(A103=\"\",A103=\"(vazio)\"),0,IFERROR(LOOKUP(2,1/('Ações-Lançamentos'!D:D=A103),'Ações-Lançamentos'!O:O),0))","v":0},null,{"$f":"IF(OR(A103=\"\",A103=\"(vazio)\"),0,IFERROR(LOOKUP(2,1/('Ações-Lançamentos'!D:D=A103),'Ações-Lançamentos'!N:N),0))","v":0},null,null,null,null,null,null,"",""]
[null,".sa",{"$f":"SUMIFS('Ações-Lançamentos'!C:C,'Ações-Lançamentos'!D:D,$A104,'Ações-Lançamentos'!B:B,\"C\")+SUMIFS('Ações-Lançamentos'!C:C,'Ações-Lançamentos'!D:D,$A104,'Ações-Lançamentos'!B:B,\"v\")","v":0},{"$f":"IF(C104=0,0,SUMIFS('Ações-Lançamentos'!K:K,'Ações-Lançamentos'!D:D,$A104,'Ações-Lançamentos'!B:B,\"C\")-SUMIFS('Ações-Lançamentos'!K:K,'Ações-Lançamentos'!D:D,$A104,'Ações-Lançamentos'!B:B,\"v\"))-SUMIFS('Ações-Lançamentos'!K:K,'Ações-Lançamentos'!D:D,$A104,'Ações-Lançamentos'!L:L,\"BONIFICAÇÃO\")","v":0},0,null,{"$f":"IFERROR(VLOOKUP(A104,Cotações!B:C,2,FALSE),\"\")","v":""},0,0,null,null,0,null,0,0,null,{"$f":"IF(OR(A104=\"\",A104=\"(vazio)\"),0,IFERROR(LOOKUP(2,1/('Ações-Lançamentos'!D:D=A104),'Ações-Lançamentos'!O:O),0))","v":0},null,{"$f":"IF(OR(A104=\"\",A104=\"(vazio)\"),0,IFERROR(LOOKUP(2,1/('Ações-Lançamentos'!D:D=A104),'Ações-Lançamentos'!N:N),0))","v":0},null,null,null,null,null,null,"",""]
[null,".sa",{"$f":"SUMIFS('Ações-Lançamentos'!C:C,'Ações-Lançamentos'!D:D,$A105,'Ações-Lançamentos'!B:B,\"C\")+SUMIFS('Ações-Lançamentos'!C:C,'Ações-Lançamentos'!D:D,$A105,'Ações-Lançamentos'!B:B,\"v\")","v":0},{"$f":"IF(C105=0,0,SUMIFS('Ações-Lançamentos'!K:K,'Ações-Lançamentos'!D:D,$A105,'Ações-Lançamentos'!B:B,\"C\")-SUMIFS('Ações-Lançamentos'!K:K,'Ações-Lançamentos'!D:D,$A105,'Ações-Lançamentos'!B:B,\"v\"))-SUMIFS('Ações-Lançamentos'!K:K,'Ações-Lançamentos'!D:D,$A105,'Ações-Lançamentos'!L:L,\"BONIFICAÇÃO\")","v":0},0,null,{"$f":"IFERROR(VLOOKUP(A105,Cotações!B:C,2,FALSE),\"\")","v":""},0,0,null,null,0,null,0,0,null,{"$f":"IF(OR(A105=\"\",A105=\"(vazio)\"),0,IFERROR(LOOKUP(2,1/('Ações-Lançamentos'!D:D=A105),'Ações-Lançamentos'!O:O),0))","v":0},null,{"$f":"IF(OR(A105=\"\",A105=\"(vazio)\"),0,IFERROR(LOOKUP(2,1/('Ações-Lançamentos'!D:D=A105),'Ações-Lançamentos'!N:N),0))","v":0},null,null,null,null,null,null,"",""]
[null,".sa",{"$f":"SUMIFS('Ações-Lançamentos'!C:C,'Ações-Lançamentos'!D:D,$A106,'Ações-Lançamentos'!B:B,\"C\")+SUMIFS('Ações-Lançamentos'!C:C,'Ações-Lançamentos'!D:D,$A106,'Ações-Lançamentos'!B:B,\"v\")","v":0},{"$f":"IF(C106=0,0,SUMIFS('Ações-Lançamentos'!K:K,'Ações-Lançamentos'!D:D,$A106,'Ações-Lançamentos'!B:B,\"C\")-SUMIFS('Ações-Lançamentos'!K:K,'Ações-Lançamentos'!D:D,$A106,'Ações-Lançamentos'!B:B,\"v\"))-SUMIFS('Ações-Lançamentos'!K:K,'Ações-Lançamentos'!D:D,$A106,'Ações-Lançamentos'!L:L,\"BONIFICAÇÃO\")","v":0},0,null,{"$f":"IFERROR(VLOOKUP(A106,Cotações!B:C,2,FALSE),\"\")","v":""},0,0,null,null,0,null,0,0,null,{"$f":"IF(OR(A106=\"\",A106=\"(vazio)\"),0,IFERROR(LOOKUP(2,1/('Ações-Lançamentos'!D:D=A106),'Ações-Lançamentos'!O:O),0))","v":0},null,{"$f":"IF(OR(A106=\"\",A106=\"(vazio)\"),0,IFERROR(LOOKUP(2,1/('Ações-Lançamentos'!D:D=A106),'Ações-Lançamentos'!N:N),0))","v":0},null,null,null,null,null,null,"",""]
[null,".sa",{"$f":"SUMIFS('Ações-Lançamentos'!C:C,'Ações-Lançamentos'!D:D,$A107,'Ações-Lançamentos'!B:B,\"C\")+SUMIFS('Ações-Lançamentos'!C:C,'Ações-Lançamentos'!D:D,$A107,'Ações-Lançamentos'!B:B,\"v\")","v":0},{"$f":"IF(C107=0,0,SUMIFS('Ações-Lançamentos'!K:K,'Ações-Lançamentos'!D:D,$A107,'Ações-Lançamentos'!B:B,\"C\")-SUMIFS('Ações-Lançamentos'!K:K,'Ações-Lançamentos'!D:D,$A107,'Ações-Lançamentos'!B:B,\"v\"))-SUMIFS('Ações-Lançamentos'!K:K,'Ações-Lançamentos'!D:D,$A107,'Ações-Lançamentos'!L:L,\"BONIFICAÇÃO\")","v":0},0,null,{"$f":"IFERROR(VLOOKUP(A107,Cotações!B:C,2,FALSE),\"\")","v":""},0,0,null,null,0,null,0,0,null,{"$f":"IF(OR(A107=\"\",A107=\"(vazio)\"),0,IFERROR(LOOKUP(2,1/('Ações-Lançamentos'!D:D=A107),'Ações-Lançamentos'!O:O),0))","v":0},null,{"$f":"IF(OR(A107=\"\",A107=\"(vazio)\"),0,IFERROR(LOOKUP(2,1/('Ações-Lançamentos'!D:D=A107),'Ações-Lançamentos'!N:N),0))","v":0},null,null,null,null,null,null,"",""]
[null,".sa",{"$f":"SUMIFS('Ações-Lançamentos'!C:C,'Ações-Lançamentos'!D:D,$A108,'Ações-Lançamentos'!B:B,\"C\")+SUMIFS('Ações-Lançamentos'!C:C,'Ações-Lançamentos'!D:D,$A108,'Ações-Lançamentos'!B:B,\"v\")","v":0},{"$f":"IF(C108=0,0,SUMIFS('Ações-Lançamentos'!K:K,'Ações-Lançamentos'!D:D,$A108,'Ações-Lançamentos'!B:B,\"C\")-SUMIFS('Ações-Lançamentos'!K:K,'Ações-Lançamentos'!D:D,$A108,'Ações-Lançamentos'!B:B,\"v\"))-SUMIFS('Ações-Lançamentos'!K:K,'Ações-Lançamentos'!D:D,$A108,'Ações-Lançamentos'!L:L,\"BONIFICAÇÃO\")","v":0},0,null,{"$f":"IFERROR(VLOOKUP(A108,Cotações!B:C,2,FALSE),\"\")","v":""},0,0,null,null,0,null,0,0,null,{"$f":"IF(OR(A108=\"\",A108=\"(vazio)\"),0,IFERROR(LOOKUP(2,1/('Ações-Lançamentos'!D:D=A108),'Ações-Lançamentos'!O:O),0))","v":0},null,{"$f":"IF(OR(A108=\"\",A108=\"(vazio)\"),0,IFERROR(LOOKUP(2,1/('Ações-Lançamentos'!D:D=A108),'Ações-Lançamentos'!N:N),0))","v":0},null,null,null,null,null,null,"",""]
[null,".sa",{"$f":"SUMIFS('Ações-Lançamentos'!C:C,'Ações-Lançamentos'!D:D,$A109,'Ações-Lançamentos'!B:B,\"C\")+SUMIFS('Ações-Lançamentos'!C:C,'Ações-Lançamentos'!D:D,$A109,'Ações-Lançamentos'!B:B,\"v\")","v":0},{"$f":"IF(C109=0,0,SUMIFS('Ações-Lançamentos'!K:K,'Ações-Lançamentos'!D:D,$A109,'Ações-Lançamentos'!B:B,\"C\")-SUMIFS('Ações-Lançamentos'!K:K,'Ações-Lançamentos'!D:D,$A109,'Ações-Lançamentos'!B:B,\"v\"))-SUMIFS('Ações-Lançamentos'!K:K,'Ações-Lançamentos'!D:D,$A109,'Ações-Lançamentos'!L:L,\"BONIFICAÇÃO\")","v":0},0,null,{"$f":"IFERROR(VLOOKUP(A109,Cotações!B:C,2,FALSE),\"\")","v":""},0,0,null,null,0,null,0,0,null,{"$f":"IF(OR(A109=\"\",A109=\"(vazio)\"),0,IFERROR(LOOKUP(2,1/('Ações-Lançamentos'!D:D=A109),'Ações-Lançamentos'!O:O),0))","v":0},null,{"$f":"IF(OR(A109=\"\",A109=\"(vazio)\"),0,IFERROR(LOOKUP(2,1/('Ações-Lançamentos'!D:D=A109),'Ações-Lançamentos'!N:N),0))","v":0},null,null,null,null,null,null,"",""]
[null,".sa",{"$f":"SUMIFS('Ações-Lançamentos'!C:C,'Ações-Lançamentos'!D:D,$A110,'Ações-Lançamentos'!B:B,\"C\")+SUMIFS('Ações-Lançamentos'!C:C,'Ações-Lançamentos'!D:D,$A110,'Ações-Lançamentos'!B:B,\"v\")","v":0},{"$f":"IF(C110=0,0,SUMIFS('Ações-Lançamentos'!K:K,'Ações-Lançamentos'!D:D,$A110,'Ações-Lançamentos'!B:B,\"C\")-SUMIFS('Ações-Lançamentos'!K:K,'Ações-Lançamentos'!D:D,$A110,'Ações-Lançamentos'!B:B,\"v\"))-SUMIFS('Ações-Lançamentos'!K:K,'Ações-Lançamentos'!D:D,$A110,'Ações-Lançamentos'!L:L,\"BONIFICAÇÃO\")","v":0},0,null,{"$f":"IFERROR(VLOOKUP(A110,Cotações!B:C,2,FALSE),\"\")","v":""},0,0,null,null,0,null,0,0,null,{"$f":"IF(OR(A110=\"\",A110=\"(vazio)\"),0,IFERROR(LOOKUP(2,1/('Ações-Lançamentos'!D:D=A110),'Ações-Lançamentos'!O:O),0))","v":0},null,{"$f":"IF(OR(A110=\"\",A110=\"(vazio)\"),0,IFERROR(LOOKUP(2,1/('Ações-Lançamentos'!D:D=A110),'Ações-Lançamentos'!N:N),0))","v":0},null,null,null,null,null,null,"",""]
[null,".sa",{"$f":"SUMIFS('Ações-Lançamentos'!C:C,'Ações-Lançamentos'!D:D,$A111,'Ações-Lançamentos'!B:B,\"C\")+SUMIFS('Ações-Lançamentos'!C:C,'Ações-Lançamentos'!D:D,$A111,'Ações-Lançamentos'!B:B,\"v\")","v":0},{"$f":"IF(C111=0,0,SUMIFS('Ações-Lançamentos'!K:K,'Ações-Lançamentos'!D:D,$A111,'Ações-Lançamentos'!B:B,\"C\")-SUMIFS('Ações-Lançamentos'!K:K,'Ações-Lançamentos'!D:D,$A111,'Ações-Lançamentos'!B:B,\"v\"))-SUMIFS('Ações-Lançamentos'!K:K,'Ações-Lançamentos'!D:D,$A111,'Ações-Lançamentos'!L:L,\"BONIFICAÇÃO\")","v":0},0,null,{"$f":"IFERROR(VLOOKUP(A111,Cotações!B:C,2,FALSE),\"\")","v":""},0,0,null,null,0,null,0,0,null,{"$f":"IF(OR(A111=\"\",A111=\"(vazio)\"),0,IFERROR(LOOKUP(2,1/('Ações-Lançamentos'!D:D=A111),'Ações-Lançamentos'!O:O),0))","v":0},null,{"$f":"IF(OR(A111=\"\",A111=\"(vazio)\"),0,IFERROR(LOOKUP(2,1/('Ações-Lançamentos'!D:D=A111),'Ações-Lançamentos'!N:N),0))","v":0},null,null,null,null,null,null,"",""]
[null,".sa",{"$f":"SUMIFS('Ações-Lançamentos'!C:C,'Ações-Lançamentos'!D:D,$A112,'Ações-Lançamentos'!B:B,\"C\")+SUMIFS('Ações-Lançamentos'!C:C,'Ações-Lançamentos'!D:D,$A112,'Ações-Lançamentos'!B:B,\"v\")","v":0},{"$f":"IF(C112=0,0,SUMIFS('Ações-Lançamentos'!K:K,'Ações-Lançamentos'!D:D,$A112,'Ações-Lançamentos'!B:B,\"C\")-SUMIFS('Ações-Lançamentos'!K:K,'Ações-Lançamentos'!D:D,$A112,'Ações-Lançamentos'!B:B,\"v\"))-SUMIFS('Ações-Lançamentos'!K:K,'Ações-Lançamentos'!D:D,$A112,'Ações-Lançamentos'!L:L,\"BONIFICAÇÃO\")","v":0},0,null,{"$f":"IFERROR(VLOOKUP(A112,Cotações!B:C,2,FALSE),\"\")","v":""},0,0,null,null,0,null,0,0,null,{"$f":"IF(OR(A112=\"\",A112=\"(vazio)\"),0,IFERROR(LOOKUP(2,1/('Ações-Lançamentos'!D:D=A112),'Ações-Lançamentos'!O:O),0))","v":0},null,{"$f":"IF(OR(A112=\"\",A112=\"(vazio)\"),0,IFERROR(LOOKUP(2,1/('Ações-Lançamentos'!D:D=A112),'Ações-Lançamentos'!N:N),0))","v":0},null,null,null,null,null,null,"",""]
[null,".sa",{"$f":"SUMIFS('Ações-Lançamentos'!C:C,'Ações-Lançamentos'!D:D,$A113,'Ações-Lançamentos'!B:B,\"C\")+SUMIFS('Ações-Lançamentos'!C:C,'Ações-Lançamentos'!D:D,$A113,'Ações-Lançamentos'!B:B,\"v\")","v":0},{"$f":"IF(C113=0,0,SUMIFS('Ações-Lançamentos'!K:K,'Ações-Lançamentos'!D:D,$A113,'Ações-Lançamentos'!B:B,\"C\")-SUMIFS('Ações-Lançamentos'!K:K,'Ações-Lançamentos'!D:D,$A113,'Ações-Lançamentos'!B:B,\"v\"))-SUMIFS('Ações-Lançamentos'!K:K,'Ações-Lançamentos'!D:D,$A113,'Ações-Lançamentos'!L:L,\"BONIFICAÇÃO\")","v":0},0,null,{"$f":"IFERROR(VLOOKUP(A113,Cotações!B:C,2,FALSE),\"\")","v":""},0,0,null,null,0,null,0,0,null,{"$f":"IF(OR(A113=\"\",A113=\"(vazio)\"),0,IFERROR(LOOKUP(2,1/('Ações-Lançamentos'!D:D=A113),'Ações-Lançamentos'!O:O),0))","v":0},null,{"$f":"IF(OR(A113=\"\",A113=\"(vazio)\"),0,IFERROR(LOOKUP(2,1/('Ações-Lançamentos'!D:D=A113),'Ações-Lançamentos'!N:N),0))","v":0},null,null,null,null,null,null,"",""]
[null,".sa",{"$f":"SUMIFS('Ações-Lançamentos'!C:C,'Ações-Lançamentos'!D:D,$A114,'Ações-Lançamentos'!B:B,\"C\")+SUMIFS('Ações-Lançamentos'!C:C,'Ações-Lançamentos'!D:D,$A114,'Ações-Lançamentos'!B:B,\"v\")","v":0},{"$f":"IF(C114=0,0,SUMIFS('Ações-Lançamentos'!K:K,'Ações-Lançamentos'!D:D,$A114,'Ações-Lançamentos'!B:B,\"C\")-SUMIFS('Ações-Lançamentos'!K:K,'Ações-Lançamentos'!D:D,$A114,'Ações-Lançamentos'!B:B,\"v\"))-SUMIFS('Ações-Lançamentos'!K:K,'Ações-Lançamentos'!D:D,$A114,'Ações-Lançamentos'!L:L,\"BONIFICAÇÃO\")","v":0},0,null,{"$f":"IFERROR(VLOOKUP(A114,Cotações!B:C,2,FALSE),\"\")","v":""},0,0,null,null,0,null,0,0,null,{"$f":"IF(OR(A114=\"\",A114=\"(vazio)\"),0,IFERROR(LOOKUP(2,1/('Ações-Lançamentos'!D:D=A114),'Ações-Lançamentos'!O:O),0))","v":0},null,{"$f":"IF(OR(A114=\"\",A114=\"(vazio)\"),0,IFERROR(LOOKUP(2,1/('Ações-Lançamentos'!D:D=A114),'Ações-Lançamentos'!N:N),0))","v":0},null,null,null,null,null,null,"",""]
[null,".sa",{"$f":"SUMIFS('Ações-Lançamentos'!C:C,'Ações-Lançamentos'!D:D,$A115,'Ações-Lançamentos'!B:B,\"C\")+SUMIFS('Ações-Lançamentos'!C:C,'Ações-Lançamentos'!D:D,$A115,'Ações-Lançamentos'!B:B,\"v\")","v":0},{"$f":"IF(C115=0,0,SUMIFS('Ações-Lançamentos'!K:K,'Ações-Lançamentos'!D:D,$A115,'Ações-Lançamentos'!B:B,\"C\")-SUMIFS('Ações-Lançamentos'!K:K,'Ações-Lançamentos'!D:D,$A115,'Ações-Lançamentos'!B:B,\"v\"))-SUMIFS('Ações-Lançamentos'!K:K,'Ações-Lançamentos'!D:D,$A115,'Ações-Lançamentos'!L:L,\"BONIFICAÇÃO\")","v":0},0,null,{"$f":"IFERROR(VLOOKUP(A115,Cotações!B:C,2,FALSE),\"\")","v":""},0,0,null,null,0,null,0,0,null,{"$f":"IF(OR(A115=\"\",A115=\"(vazio)\"),0,IFERROR(LOOKUP(2,1/('Ações-Lançamentos'!D:D=A115),'Ações-Lançamentos'!O:O),0))","v":0},null,{"$f":"IF(OR(A115=\"\",A115=\"(vazio)\"),0,IFERROR(LOOKUP(2,1/('Ações-Lançamentos'!D:D=A115),'Ações-Lançamentos'!N:N),0))","v":0},null,null,null,null,null,null,"",""]
[null,".sa",{"$f":"SUMIFS('Ações-Lançamentos'!C:C,'Ações-Lançamentos'!D:D,$A116,'Ações-Lançamentos'!B:B,\"C\")+SUMIFS('Ações-Lançamentos'!C:C,'Ações-Lançamentos'!D:D,$A116,'Ações-Lançamentos'!B:B,\"v\")","v":0},{"$f":"IF(C116=0,0,SUMIFS('Ações-Lançamentos'!K:K,'Ações-Lançamentos'!D:D,$A116,'Ações-Lançamentos'!B:B,\"C\")-SUMIFS('Ações-Lançamentos'!K:K,'Ações-Lançamentos'!D:D,$A116,'Ações-Lançamentos'!B:B,\"v\"))-SUMIFS('Ações-Lançamentos'!K:K,'Ações-Lançamentos'!D:D,$A116,'Ações-Lançamentos'!L:L,\"BONIFICAÇÃO\")","v":0},0,null,{"$f":"IFERROR(VLOOKUP(A116,Cotações!B:C,2,FALSE),\"\")","v":""},0,0,null,null,0,null,0,0,null,{"$f":"IF(OR(A116=\"\",A116=\"(vazio)\"),0,IFERROR(LOOKUP(2,1/('Ações-Lançamentos'!D:D=A116),'Ações-Lançamentos'!O:O),0))","v":0},null,{"$f":"IF(OR(A116=\"\",A116=\"(vazio)\"),0,IFERROR(LOOKUP(2,1/('Ações-Lançamentos'!D:D=A116),'Ações-Lançamentos'!N:N),0))","v":0},null,null,null,null,null,null,"",""]
[null,".sa",{"$f":"SUMIFS('Ações-Lançamentos'!C:C,'Ações-Lançamentos'!D:D,$A117,'Ações-Lançamentos'!B:B,\"C\")+SUMIFS('Ações-Lançamentos'!C:C,'Ações-Lançamentos'!D:D,$A117,'Ações-Lançamentos'!B:B,\"v\")","v":0},{"$f":"IF(C117=0,0,SUMIFS('Ações-Lançamentos'!K:K,'Ações-Lançamentos'!D:D,$A117,'Ações-Lançamentos'!B:B,\"C\")-SUMIFS('Ações-Lançamentos'!K:K,'Ações-Lançamentos'!D:D,$A117,'Ações-Lançamentos'!B:B,\"v\"))-SUMIFS('Ações-Lançamentos'!K:K,'Ações-Lançamentos'!D:D,$A117,'Ações-Lançamentos'!L:L,\"BONIFICAÇÃO\")","v":0},0,null,{"$f":"IFERROR(VLOOKUP(A117,Cotações!B:C,2,FALSE),\"\")","v":""},0,0,null,null,0,null,0,0,null,{"$f":"IF(OR(A117=\"\",A117=\"(vazio)\"),0,IFERROR(LOOKUP(2,1/('Ações-Lançamentos'!D:D=A117),'Ações-Lançamentos'!O:O),0))","v":0},null,{"$f":"IF(OR(A117=\"\",A117=\"(vazio)\"),0,IFERROR(LOOKUP(2,1/('Ações-Lançamentos'!D:D=A117),'Ações-Lançamentos'!N:N),0))","v":0},null,null,null,null,null,null,"",""]
[null,".sa",{"$f":"SUMIFS('Ações-Lançamentos'!C:C,'Ações-Lançamentos'!D:D,$A118,'Ações-Lançamentos'!B:B,\"C\")+SUMIFS('Ações-Lançamentos'!C:C,'Ações-Lançamentos'!D:D,$A118,'Ações-Lançamentos'!B:B,\"v\")","v":0},{"$f":"IF(C118=0,0,SUMIFS('Ações-Lançamentos'!K:K,'Ações-Lançamentos'!D:D,$A118,'Ações-Lançamentos'!B:B,\"C\")-SUMIFS('Ações-Lançamentos'!K:K,'Ações-Lançamentos'!D:D,$A118,'Ações-Lançamentos'!B:B,\"v\"))-SUMIFS('Ações-Lançamentos'!K:K,'Ações-Lançamentos'!D:D,$A118,'Ações-Lançamentos'!L:L,\"BONIFICAÇÃO\")","v":0},0,null,{"$f":"IFERROR(VLOOKUP(A118,Cotações!B:C,2,FALSE),\"\")","v":""},0,0,null,null,0,null,0,0,null,{"$f":"IF(OR(A118=\"\",A118=\"(vazio)\"),0,IFERROR(LOOKUP(2,1/('Ações-Lançamentos'!D:D=A118),'Ações-Lançamentos'!O:O),0))","v":0},null,{"$f":"IF(OR(A118=\"\",A118=\"(vazio)\"),0,IFERROR(LOOKUP(2,1/('Ações-Lançamentos'!D:D=A118),'Ações-Lançamentos'!N:N),0))","v":0},null,null,null,null,null,null,"",""]
[null,".sa",{"$f":"SUMIFS('Ações-Lançamentos'!C:C,'Ações-Lançamentos'!D:D,$A119,'Ações-Lançamentos'!B:B,\"C\")+SUMIFS('Ações-Lançamentos'!C:C,'Ações-Lançamentos'!D:D,$A119,'Ações-Lançamentos'!B:B,\"v\")","v":0},{"$f":"IF(C119=0,0,SUMIFS('Ações-Lançamentos'!K:K,'Ações-Lançamentos'!D:D,$A119,'Ações-Lançamentos'!B:B,\"C\")-SUMIFS('Ações-Lançamentos'!K:K,'Ações-Lançamentos'!D:D,$A119,'Ações-Lançamentos'!B:B,\"v\"))-SUMIFS('Ações-Lançamentos'!K:K,'Ações-Lançamentos'!D:D,$A119,'Ações-Lançamentos'!L:L,\"BONIFICAÇÃO\")","v":0},0,null,{"$f":"IFERROR(VLOOKUP(A119,Cotações!B:C,2,FALSE),\"\")","v":""},0,0,null,null,0,null,0,0,null,{"$f":"IF(OR(A119=\"\",A119=\"(vazio)\"),0,IFERROR(LOOKUP(2,1/('Ações-Lançamentos'!D:D=A119),'Ações-Lançamentos'!O:O),0))","v":0},null,{"$f":"IF(OR(A119=\"\",A119=\"(vazio)\"),0,IFERROR(LOOKUP(2,1/('Ações-Lançamentos'!D:D=A119),'Ações-Lançamentos'!N:N),0))","v":0},null,null,null,null,null,null,"",""]
[null,".sa",{"$f":"SUMIFS('Ações-Lançamentos'!C:C,'Ações-Lançamentos'!D:D,$A120,'Ações-Lançamentos'!B:B,\"C\")+SUMIFS('Ações-Lançamentos'!C:C,'Ações-Lançamentos'!D:D,$A120,'Ações-Lançamentos'!B:B,\"v\")","v":0},{"$f":"IF(C120=0,0,SUMIFS('Ações-Lançamentos'!K:K,'Ações-Lançamentos'!D:D,$A120,'Ações-Lançamentos'!B:B,\"C\")-SUMIFS('Ações-Lançamentos'!K:K,'Ações-Lançamentos'!D:D,$A120,'Ações-Lançamentos'!B:B,\"v\"))-SUMIFS('Ações-Lançamentos'!K:K,'Ações-Lançamentos'!D:D,$A120,'Ações-Lançamentos'!L:L,\"BONIFICAÇÃO\")","v":0},0,null,{"$f":"IFERROR(VLOOKUP(A120,Cotações!B:C,2,FALSE),\"\")","v":""},0,0,null,null,0,null,0,0,null,{"$f":"IF(OR(A120=\"\",A120=\"(vazio)\"),0,IFERROR(LOOKUP(2,1/('Ações-Lançamentos'!D:D=A120),'Ações-Lançamentos'!O:O),0))","v":0},null,{"$f":"IF(OR(A120=\"\",A120=\"(vazio)\"),0,IFERROR(LOOKUP(2,1/('Ações-Lançamentos'!D:D=A120),'Ações-Lançamentos'!N:N),0))","v":0},null,null,null,null,null,null,"",""]
[null,".sa",{"$f":"SUMIFS('Ações-Lançamentos'!C:C,'Ações-Lançamentos'!D:D,$A121,'Ações-Lançamentos'!B:B,\"C\")+SUMIFS('Ações-Lançamentos'!C:C,'Ações-Lançamentos'!D:D,$A121,'Ações-Lançamentos'!B:B,\"v\")","v":0},{"$f":"IF(C121=0,0,SUMIFS('Ações-Lançamentos'!K:K,'Ações-Lançamentos'!D:D,$A121,'Ações-Lançamentos'!B:B,\"C\")-SUMIFS('Ações-Lançamentos'!K:K,'Ações-Lançamentos'!D:D,$A121,'Ações-Lançamentos'!B:B,\"v\"))-SUMIFS('Ações-Lançamentos'!K:K,'Ações-Lançamentos'!D:D,$A121,'Ações-Lançamentos'!L:L,\"BONIFICAÇÃO\")","v":0},0,null,{"$f":"IFERROR(VLOOKUP(A121,Cotações!B:C,2,FALSE),\"\")","v":""},0,0,null,null,0,null,0,0,null,{"$f":"IF(OR(A121=\"\",A121=\"(vazio)\"),0,IFERROR(LOOKUP(2,1/('Ações-Lançamentos'!D:D=A121),'Ações-Lançamentos'!O:O),0))","v":0},null,{"$f":"IF(OR(A121=\"\",A121=\"(vazio)\"),0,IFERROR(LOOKUP(2,1/('Ações-Lançamentos'!D:D=A121),'Ações-Lançamentos'!N:N),0))","v":0},null,null,null,null,null,null,"",""]
[null,".sa",{"$f":"SUMIFS('Ações-Lançamentos'!C:C,'Ações-Lançamentos'!D:D,$A122,'Ações-Lançamentos'!B:B,\"C\")+SUMIFS('Ações-Lançamentos'!C:C,'Ações-Lançamentos'!D:D,$A122,'Ações-Lançamentos'!B:B,\"v\")","v":0},{"$f":"IF(C122=0,0,SUMIFS('Ações-Lançamentos'!K:K,'Ações-Lançamentos'!D:D,$A122,'Ações-Lançamentos'!B:B,\"C\")-SUMIFS('Ações-Lançamentos'!K:K,'Ações-Lançamentos'!D:D,$A122,'Ações-Lançamentos'!B:B,\"v\"))-SUMIFS('Ações-Lançamentos'!K:K,'Ações-Lançamentos'!D:D,$A122,'Ações-Lançamentos'!L:L,\"BONIFICAÇÃO\")","v":0},0,null,{"$f":"IFERROR(VLOOKUP(A122,Cotações!B:C,2,FALSE),\"\")","v":""},0,0,null,null,0,null,0,0,null,{"$f":"IF(OR(A122=\"\",A122=\"(vazio)\"),0,IFERROR(LOOKUP(2,1/('Ações-Lançamentos'!D:D=A122),'Ações-Lançamentos'!O:O),0))","v":0},null,{"$f":"IF(OR(A122=\"\",A122=\"(vazio)\"),0,IFERROR(LOOKUP(2,1/('Ações-Lançamentos'!D:D=A122),'Ações-Lançamentos'!N:N),0))","v":0},null,null,null,null,null,null,"",""]
[null,".sa",{"$f":"SUMIFS('Ações-Lançamentos'!C:C,'Ações-Lançamentos'!D:D,$A123,'Ações-Lançamentos'!B:B,\"C\")+SUMIFS('Ações-Lançamentos'!C:C,'Ações-Lançamentos'!D:D,$A123,'Ações-Lançamentos'!B:B,\"v\")","v":0},{"$f":"IF(C123=0,0,SUMIFS('Ações-Lançamentos'!K:K,'Ações-Lançamentos'!D:D,$A123,'Ações-Lançamentos'!B:B,\"C\")-SUMIFS('Ações-Lançamentos'!K:K,'Ações-Lançamentos'!D:D,$A123,'Ações-Lançamentos'!B:B,\"v\"))-SUMIFS('Ações-Lançamentos'!K:K,'Ações-Lançamentos'!D:D,$A123,'Ações-Lançamentos'!L:L,\"BONIFICAÇÃO\")","v":0},0,null,{"$f":"IFERROR(VLOOKUP(A123,Cotações!B:C,2,FALSE),\"\")","v":""},0,0,null,null,0,null,0,0,null,{"$f":"IF(OR(A123=\"\",A123=\"(vazio)\"),0,IFERROR(LOOKUP(2,1/('Ações-Lançamentos'!D:D=A123),'Ações-Lançamentos'!O:O),0))","v":0},null,{"$f":"IF(OR(A123=\"\",A123=\"(vazio)\"),0,IFERROR(LOOKUP(2,1/('Ações-Lançamentos'!D:D=A123),'Ações-Lançamentos'!N:N),0))","v":0},null,null,null,null,null,null,"",""]
[null,".sa",{"$f":"SUMIFS('Ações-Lançamentos'!C:C,'Ações-Lançamentos'!D:D,$A124,'Ações-Lançamentos'!B:B,\"C\")+SUMIFS('Ações-Lançamentos'!C:C,'Ações-Lançamentos'!D:D,$A124,'Ações-Lançamentos'!B:B,\"v\")","v":0},{"$f":"IF(C124=0,0,SUMIFS('Ações-Lançamentos'!K:K,'Ações-Lançamentos'!D:D,$A124,'Ações-Lançamentos'!B:B,\"C\")-SUMIFS('Ações-Lançamentos'!K:K,'Ações-Lançamentos'!D:D,$A124,'Ações-Lançamentos'!B:B,\"v\"))-SUMIFS('Ações-Lançamentos'!K:K,'Ações-Lançamentos'!D:D,$A124,'Ações-Lançamentos'!L:L,\"BONIFICAÇÃO\")","v":0},0,null,{"$f":"IFERROR(VLOOKUP(A124,Cotações!B:C,2,FALSE),\"\")","v":""},0,0,null,null,0,null,0,0,null,{"$f":"IF(OR(A124=\"\",A124=\"(vazio)\"),0,IFERROR(LOOKUP(2,1/('Ações-Lançamentos'!D:D=A124),'Ações-Lançamentos'!O:O),0))","v":0},null,{"$f":"IF(OR(A124=\"\",A124=\"(vazio)\"),0,IFERROR(LOOKUP(2,1/('Ações-Lançamentos'!D:D=A124),'Ações-Lançamentos'!N:N),0))","v":0},null,null,null,null,null,null,"",""]
[null,".sa",{"$f":"SUMIFS('Ações-Lançamentos'!C:C,'Ações-Lançamentos'!D:D,$A125,'Ações-Lançamentos'!B:B,\"C\")+SUMIFS('Ações-Lançamentos'!C:C,'Ações-Lançamentos'!D:D,$A125,'Ações-Lançamentos'!B:B,\"v\")","v":0},{"$f":"IF(C125=0,0,SUMIFS('Ações-Lançamentos'!K:K,'Ações-Lançamentos'!D:D,$A125,'Ações-Lançamentos'!B:B,\"C\")-SUMIFS('Ações-Lançamentos'!K:K,'Ações-Lançamentos'!D:D,$A125,'Ações-Lançamentos'!B:B,\"v\"))-SUMIFS('Ações-Lançamentos'!K:K,'Ações-Lançamentos'!D:D,$A125,'Ações-Lançamentos'!L:L,\"BONIFICAÇÃO\")","v":0},0,null,{"$f":"IFERROR(VLOOKUP(A125,Cotações!B:C,2,FALSE),\"\")","v":""},0,0,null,null,0,null,0,0,null,{"$f":"IF(OR(A125=\"\",A125=\"(vazio)\"),0,IFERROR(LOOKUP(2,1/('Ações-Lançamentos'!D:D=A125),'Ações-Lançamentos'!O:O),0))","v":0},null,{"$f":"IF(OR(A125=\"\",A125=\"(vazio)\"),0,IFERROR(LOOKUP(2,1/('Ações-Lançamentos'!D:D=A125),'Ações-Lançamentos'!N:N),0))","v":0},null,null,null,null,null,null,"",""]
[null,".sa",{"$f":"SUMIFS('Ações-Lançamentos'!C:C,'Ações-Lançamentos'!D:D,$A126,'Ações-Lançamentos'!B:B,\"C\")+SUMIFS('Ações-Lançamentos'!C:C,'Ações-Lançamentos'!D:D,$A126,'Ações-Lançamentos'!B:B,\"v\")","v":0},{"$f":"IF(C126=0,0,SUMIFS('Ações-Lançamentos'!K:K,'Ações-Lançamentos'!D:D,$A126,'Ações-Lançamentos'!B:B,\"C\")-SUMIFS('Ações-Lançamentos'!K:K,'Ações-Lançamentos'!D:D,$A126,'Ações-Lançamentos'!B:B,\"v\"))-SUMIFS('Ações-Lançamentos'!K:K,'Ações-Lançamentos'!D:D,$A126,'Ações-Lançamentos'!L:L,\"BONIFICAÇÃO\")","v":0},0,null,{"$f":"IFERROR(VLOOKUP(A126,Cotações!B:C,2,FALSE),\"\")","v":""},0,0,null,null,0,null,0,0,null,{"$f":"IF(OR(A126=\"\",A126=\"(vazio)\"),0,IFERROR(LOOKUP(2,1/('Ações-Lançamentos'!D:D=A126),'Ações-Lançamentos'!O:O),0))","v":0},null,{"$f":"IF(OR(A126=\"\",A126=\"(vazio)\"),0,IFERROR(LOOKUP(2,1/('Ações-Lançamentos'!D:D=A126),'Ações-Lançamentos'!N:N),0))","v":0},null,null,null,null,null,null,"",""]
[null,".sa",{"$f":"SUMIFS('Ações-Lançamentos'!C:C,'Ações-Lançamentos'!D:D,$A127,'Ações-Lançamentos'!B:B,\"C\")+SUMIFS('Ações-Lançamentos'!C:C,'Ações-Lançamentos'!D:D,$A127,'Ações-Lançamentos'!B:B,\"v\")","v":0},{"$f":"IF(C127=0,0,SUMIFS('Ações-Lançamentos'!K:K,'Ações-Lançamentos'!D:D,$A127,'Ações-Lançamentos'!B:B,\"C\")-SUMIFS('Ações-Lançamentos'!K:K,'Ações-Lançamentos'!D:D,$A127,'Ações-Lançamentos'!B:B,\"v\"))-SUMIFS('Ações-Lançamentos'!K:K,'Ações-Lançamentos'!D:D,$A127,'Ações-Lançamentos'!L:L,\"BONIFICAÇÃO\")","v":0},0,null,{"$f":"IFERROR(VLOOKUP(A127,Cotações!B:C,2,FALSE),\"\")","v":""},0,0,null,null,0,null,0,0,null,{"$f":"IF(OR(A127=\"\",A127=\"(vazio)\"),0,IFERROR(LOOKUP(2,1/('Ações-Lançamentos'!D:D=A127),'Ações-Lançamentos'!O:O),0))","v":0},null,{"$f":"IF(OR(A127=\"\",A127=\"(vazio)\"),0,IFERROR(LOOKUP(2,1/('Ações-Lançamentos'!D:D=A127),'Ações-Lançamentos'!N:N),0))","v":0},null,null,null,null,null,null,"",""]
[null,".sa",{"$f":"SUMIFS('Ações-Lançamentos'!C:C,'Ações-Lançamentos'!D:D,$A128,'Ações-Lançamentos'!B:B,\"C\")+SUMIFS('Ações-Lançamentos'!C:C,'Ações-Lançamentos'!D:D,$A128,'Ações-Lançamentos'!B:B,\"v\")","v":0},{"$f":"IF(C128=0,0,SUMIFS('Ações-Lançamentos'!K:K,'Ações-Lançamentos'!D:D,$A128,'Ações-Lançamentos'!B:B,\"C\")-SUMIFS('Ações-Lançamentos'!K:K,'Ações-Lançamentos'!D:D,$A128,'Ações-Lançamentos'!B:B,\"v\"))-SUMIFS('Ações-Lançamentos'!K:K,'Ações-Lançamentos'!D:D,$A128,'Ações-Lançamentos'!L:L,\"BONIFICAÇÃO\")","v":0},0,null,{"$f":"IFERROR(VLOOKUP(A128,Cotações!B:C,2,FALSE),\"\")","v":""},0,0,null,null,0,null,0,0,null,{"$f":"IF(OR(A128=\"\",A128=\"(vazio)\"),0,IFERROR(LOOKUP(2,1/('Ações-Lançamentos'!D:D=A128),'Ações-Lançamentos'!O:O),0))","v":0},null,{"$f":"IF(OR(A128=\"\",A128=\"(vazio)\"),0,IFERROR(LOOKUP(2,1/('Ações-Lançamentos'!D:D=A128),'Ações-Lançamentos'!N:N),0))","v":0},null,null,null,null,null,null,"",""]
[null,".sa",{"$f":"SUMIFS('Ações-Lançamentos'!C:C,'Ações-Lançamentos'!D:D,$A129,'Ações-Lançamentos'!B:B,\"C\")+SUMIFS('Ações-Lançamentos'!C:C,'Ações-Lançamentos'!D:D,$A129,'Ações-Lançamentos'!B:B,\"v\")","v":0},{"$f":"IF(C129=0,0,SUMIFS('Ações-Lançamentos'!K:K,'Ações-Lançamentos'!D:D,$A129,'Ações-Lançamentos'!B:B,\"C\")-SUMIFS('Ações-Lançamentos'!K:K,'Ações-Lançamentos'!D:D,$A129,'Ações-Lançamentos'!B:B,\"v\"))-SUMIFS('Ações-Lançamentos'!K:K,'Ações-Lançamentos'!D:D,$A129,'Ações-Lançamentos'!L:L,\"BONIFICAÇÃO\")","v":0},0,null,{"$f":"IFERROR(VLOOKUP(A129,Cotações!B:C,2,FALSE),\"\")","v":""},0,0,null,null,0,null,0,0,null,{"$f":"IF(OR(A129=\"\",A129=\"(vazio)\"),0,IFERROR(LOOKUP(2,1/('Ações-Lançamentos'!D:D=A129),'Ações-Lançamentos'!O:O),0))","v":0},null,{"$f":"IF(OR(A129=\"\",A129=\"(vazio)\"),0,IFERROR(LOOKUP(2,1/('Ações-Lançamentos'!D:D=A129),'Ações-Lançamentos'!N:N),0))","v":0},null,null,null,null,null,null,"",""]
[null,".sa",{"$f":"SUMIFS('Ações-Lançamentos'!C:C,'Ações-Lançamentos'!D:D,$A130,'Ações-Lançamentos'!B:B,\"C\")+SUMIFS('Ações-Lançamentos'!C:C,'Ações-Lançamentos'!D:D,$A130,'Ações-Lançamentos'!B:B,\"v\")","v":0},{"$f":"IF(C130=0,0,SUMIFS('Ações-Lançamentos'!K:K,'Ações-Lançamentos'!D:D,$A130,'Ações-Lançamentos'!B:B,\"C\")-SUMIFS('Ações-Lançamentos'!K:K,'Ações-Lançamentos'!D:D,$A130,'Ações-Lançamentos'!B:B,\"v\"))-SUMIFS('Ações-Lançamentos'!K:K,'Ações-Lançamentos'!D:D,$A130,'Ações-Lançamentos'!L:L,\"BONIFICAÇÃO\")","v":0},0,null,{"$f":"IFERROR(VLOOKUP(A130,Cotações!B:C,2,FALSE),\"\")","v":""},0,0,null,null,0,null,0,0,null,{"$f":"IF(OR(A130=\"\",A130=\"(vazio)\"),0,IFERROR(LOOKUP(2,1/('Ações-Lançamentos'!D:D=A130),'Ações-Lançamentos'!O:O),0))","v":0},null,{"$f":"IF(OR(A130=\"\",A130=\"(vazio)\"),0,IFERROR(LOOKUP(2,1/('Ações-Lançamentos'!D:D=A130),'Ações-Lançamentos'!N:N),0))","v":0},null,null,null,null,null,null,"",""]
[null,".sa",{"$f":"SUMIFS('Ações-Lançamentos'!C:C,'Ações-Lançamentos'!D:D,$A131,'Ações-Lançamentos'!B:B,\"C\")+SUMIFS('Ações-Lançamentos'!C:C,'Ações-Lançamentos'!D:D,$A131,'Ações-Lançamentos'!B:B,\"v\")","v":0},{"$f":"IF(C131=0,0,SUMIFS('Ações-Lançamentos'!K:K,'Ações-Lançamentos'!D:D,$A131,'Ações-Lançamentos'!B:B,\"C\")-SUMIFS('Ações-Lançamentos'!K:K,'Ações-Lançamentos'!D:D,$A131,'Ações-Lançamentos'!B:B,\"v\"))-SUMIFS('Ações-Lançamentos'!K:K,'Ações-Lançamentos'!D:D,$A131,'Ações-Lançamentos'!L:L,\"BONIFICAÇÃO\")","v":0},0,null,{"$f":"IFERROR(VLOOKUP(A131,Cotações!B:C,2,FALSE),\"\")","v":""},0,0,null,null,0,null,0,0,null,{"$f":"IF(OR(A131=\"\",A131=\"(vazio)\"),0,IFERROR(LOOKUP(2,1/('Ações-Lançamentos'!D:D=A131),'Ações-Lançamentos'!O:O),0))","v":0},null,{"$f":"IF(OR(A131=\"\",A131=\"(vazio)\"),0,IFERROR(LOOKUP(2,1/('Ações-Lançamentos'!D:D=A131),'Ações-Lançamentos'!N:N),0))","v":0},null,null,null,null,null,null,"",""]
[null,{"$f":"CONCATENATE(A132,\".sa\")","v":".sa"},{"$f":"SUMIFS('Ações-Lançamentos'!C:C,'Ações-Lançamentos'!D:D,$A132,'Ações-Lançamentos'!B:B,\"C\")+SUMIFS('Ações-Lançamentos'!C:C,'Ações-Lançamentos'!D:D,$A132,'Ações-Lançamentos'!B:B,\"v\")","v":0},{"$f":"IF(C132=0,0,SUMIFS('Ações-Lançamentos'!K:K,'Ações-Lançamentos'!D:D,$A132,'Ações-Lançamentos'!B:B,\"C\")-SUMIFS('Ações-Lançamentos'!K:K,'Ações-Lançamentos'!D:D,$A132,'Ações-Lançamentos'!B:B,\"v\"))-SUMIFS('Ações-Lançamentos'!K:K,'Ações-Lançamentos'!D:D,$A132,'Ações-Lançamentos'!L:L,\"BONIFICAÇÃO\")","v":0},{"$f":"IF($V$9=0,0,D132/$V$9)","v":0},null,{"$f":"IFERROR(VLOOKUP(A132,Cotações!B:C,2,FALSE),\"\")","v":""},{"$f":"IF(C132=\"\",0,IF(G132=\"\",D132,C132*G132))","v":0},{"$f":"IF($V$11=0,0,H132/$V$11)","v":0},null,null,{"$f":"IF(OR(K132=\"\",I132=\"\",E132=\"\"),0,IF($K$2=\"% ATUAL\",K132-I132,K132-E132))","v":0},null,{"$f":"IF(OR(D132=0,G132=\"\"),0,H132-D132)","v":0},{"$f":"IF(OR(D132=0,G132=\"\"),0,N132/D132)","v":0},null,{"$f":"IF(OR(A132=\"\",A132=\"(vazio)\"),0,IFERROR(LOOKUP(2,1/('Ações-Lançamentos'!D:D=A132),'Ações-Lançamentos'!O:O),0))","v":0},null,{"$f":"IF(OR(A132=\"\",A132=\"(vazio)\"),0,IFERROR(LOOKUP(2,1/('Ações-Lançamentos'!D:D=A132),'Ações-Lançamentos'!N:N),0))","v":0},null,null,null,null,null,null,"",""]
[null,".sa",{"$f":"SUMIFS('Ações-Lançamentos'!C:C,'Ações-Lançamentos'!D:D,$A133,'Ações-Lançamentos'!B:B,\"C\")+SUMIFS('Ações-Lançamentos'!C:C,'Ações-Lançamentos'!D:D,$A133,'Ações-Lançamentos'!B:B,\"v\")","v":0},{"$f":"IF(C133=0,0,SUMIFS('Ações-Lançamentos'!K:K,'Ações-Lançamentos'!D:D,$A133,'Ações-Lançamentos'!B:B,\"C\")-SUMIFS('Ações-Lançamentos'!K:K,'Ações-Lançamentos'!D:D,$A133,'Ações-Lançamentos'!B:B,\"v\"))-SUMIFS('Ações-Lançamentos'!K:K,'Ações-Lançamentos'!D:D,$A133,'Ações-Lançamentos'!L:L,\"BONIFICAÇÃO\")","v":0},0,null,{"$f":"IFERROR(VLOOKUP(A133,Cotações!B:C,2,FALSE),\"\")","v":""},0,0,null,null,0,null,0,0,null,{"$f":"IF(OR(A133=\"\",A133=\"(vazio)\"),0,IFERROR(LOOKUP(2,1/('Ações-Lançamentos'!D:D=A133),'Ações-Lançamentos'!O:O),0))","v":0},null,{"$f":"IF(OR(A133=\"\",A133=\"(vazio)\"),0,IFERROR(LOOKUP(2,1/('Ações-Lançamentos'!D:D=A133),'Ações-Lançamentos'!N:N),0))","v":0},null,null,null,null,null,null,"",""]
[null,".sa",{"$f":"SUMIFS('Ações-Lançamentos'!C:C,'Ações-Lançamentos'!D:D,$A134,'Ações-Lançamentos'!B:B,\"C\")+SUMIFS('Ações-Lançamentos'!C:C,'Ações-Lançamentos'!D:D,$A134,'Ações-Lançamentos'!B:B,\"v\")","v":0},{"$f":"IF(C134=0,0,SUMIFS('Ações-Lançamentos'!K:K,'Ações-Lançamentos'!D:D,$A134,'Ações-Lançamentos'!B:B,\"C\")-SUMIFS('Ações-Lançamentos'!K:K,'Ações-Lançamentos'!D:D,$A134,'Ações-Lançamentos'!B:B,\"v\"))-SUMIFS('Ações-Lançamentos'!K:K,'Ações-Lançamentos'!D:D,$A134,'Ações-Lançamentos'!L:L,\"BONIFICAÇÃO\")","v":0},0,null,{"$f":"IFERROR(VLOOKUP(A134,Cotações!B:C,2,FALSE),\"\")","v":""},0,0,null,null,0,null,0,0,null,{"$f":"IF(OR(A134=\"\",A134=\"(vazio)\"),0,IFERROR(LOOKUP(2,1/('Ações-Lançamentos'!D:D=A134),'Ações-Lançamentos'!O:O),0))","v":0},null,{"$f":"IF(OR(A134=\"\",A134=\"(vazio)\"),0,IFERROR(LOOKUP(2,1/('Ações-Lançamentos'!D:D=A134),'Ações-Lançamentos'!N:N),0))","v":0},null,null,null,null,null,null,"",""]
[null,".sa",{"$f":"SUMIFS('Ações-Lançamentos'!C:C,'Ações-Lançamentos'!D:D,$A135,'Ações-Lançamentos'!B:B,\"C\")+SUMIFS('Ações-Lançamentos'!C:C,'Ações-Lançamentos'!D:D,$A135,'Ações-Lançamentos'!B:B,\"v\")","v":0},{"$f":"IF(C135=0,0,SUMIFS('Ações-Lançamentos'!K:K,'Ações-Lançamentos'!D:D,$A135,'Ações-Lançamentos'!B:B,\"C\")-SUMIFS('Ações-Lançamentos'!K:K,'Ações-Lançamentos'!D:D,$A135,'Ações-Lançamentos'!B:B,\"v\"))-SUMIFS('Ações-Lançamentos'!K:K,'Ações-Lançamentos'!D:D,$A135,'Ações-Lançamentos'!L:L,\"BONIFICAÇÃO\")","v":0},0,null,{"$f":"IFERROR(VLOOKUP(A135,Cotações!B:C,2,FALSE),\"\")","v":""},0,0,null,null,0,null,0,0,null,{"$f":"IF(OR(A135=\"\",A135=\"(vazio)\"),0,IFERROR(LOOKUP(2,1/('Ações-Lançamentos'!D:D=A135),'Ações-Lançamentos'!O:O),0))","v":0},null,{"$f":"IF(OR(A135=\"\",A135=\"(vazio)\"),0,IFERROR(LOOKUP(2,1/('Ações-Lançamentos'!D:D=A135),'Ações-Lançamentos'!N:N),0))","v":0},null,null,null,null,null,null,"",""]
[null,".sa",{"$f":"SUMIFS('Ações-Lançamentos'!C:C,'Ações-Lançamentos'!D:D,$A136,'Ações-Lançamentos'!B:B,\"C\")+SUMIFS('Ações-Lançamentos'!C:C,'Ações-Lançamentos'!D:D,$A136,'Ações-Lançamentos'!B:B,\"v\")","v":0},{"$f":"IF(C136=0,0,SUMIFS('Ações-Lançamentos'!K:K,'Ações-Lançamentos'!D:D,$A136,'Ações-Lançamentos'!B:B,\"C\")-SUMIFS('Ações-Lançamentos'!K:K,'Ações-Lançamentos'!D:D,$A136,'Ações-Lançamentos'!B:B,\"v\"))-SUMIFS('Ações-Lançamentos'!K:K,'Ações-Lançamentos'!D:D,$A136,'Ações-Lançamentos'!L:L,\"BONIFICAÇÃO\")","v":0},0,null,{"$f":"IFERROR(VLOOKUP(A136,Cotações!B:C,2,FALSE),\"\")","v":""},0,0,null,null,0,null,0,0,null,{"$f":"IF(OR(A136=\"\",A136=\"(vazio)\"),0,IFERROR(LOOKUP(2,1/('Ações-Lançamentos'!D:D=A136),'Ações-Lançamentos'!O:O),0))","v":0},null,{"$f":"IF(OR(A136=\"\",A136=\"(vazio)\"),0,IFERROR(LOOKUP(2,1/('Ações-Lançamentos'!D:D=A136),'Ações-Lançamentos'!N:N),0))","v":0},null,null,null,null,null,null,"",""]
[null,".sa",{"$f":"SUMIFS('Ações-Lançamentos'!C:C,'Ações-Lançamentos'!D:D,$A137,'Ações-Lançamentos'!B:B,\"C\")+SUMIFS('Ações-Lançamentos'!C:C,'Ações-Lançamentos'!D:D,$A137,'Ações-Lançamentos'!B:B,\"v\")","v":0},{"$f":"IF(C137=0,0,SUMIFS('Ações-Lançamentos'!K:K,'Ações-Lançamentos'!D:D,$A137,'Ações-Lançamentos'!B:B,\"C\")-SUMIFS('Ações-Lançamentos'!K:K,'Ações-Lançamentos'!D:D,$A137,'Ações-Lançamentos'!B:B,\"v\"))-SUMIFS('Ações-Lançamentos'!K:K,'Ações-Lançamentos'!D:D,$A137,'Ações-Lançamentos'!L:L,\"BONIFICAÇÃO\")","v":0},0,null,{"$f":"IFERROR(VLOOKUP(A137,Cotações!B:C,2,FALSE),\"\")","v":""},0,0,null,null,0,null,0,0,null,{"$f":"IF(OR(A137=\"\",A137=\"(vazio)\"),0,IFERROR(LOOKUP(2,1/('Ações-Lançamentos'!D:D=A137),'Ações-Lançamentos'!O:O),0))","v":0},null,{"$f":"IF(OR(A137=\"\",A137=\"(vazio)\"),0,IFERROR(LOOKUP(2,1/('Ações-Lançamentos'!D:D=A137),'Ações-Lançamentos'!N:N),0))","v":0},null,null,null,null,null,null,"",""]
[null,".sa",{"$f":"SUMIFS('Ações-Lançamentos'!C:C,'Ações-Lançamentos'!D:D,$A138,'Ações-Lançamentos'!B:B,\"C\")+SUMIFS('Ações-Lançamentos'!C:C,'Ações-Lançamentos'!D:D,$A138,'Ações-Lançamentos'!B:B,\"v\")","v":0},{"$f":"IF(C138=0,0,SUMIFS('Ações-Lançamentos'!K:K,'Ações-Lançamentos'!D:D,$A138,'Ações-Lançamentos'!B:B,\"C\")-SUMIFS('Ações-Lançamentos'!K:K,'Ações-Lançamentos'!D:D,$A138,'Ações-Lançamentos'!B:B,\"v\"))-SUMIFS('Ações-Lançamentos'!K:K,'Ações-Lançamentos'!D:D,$A138,'Ações-Lançamentos'!L:L,\"BONIFICAÇÃO\")","v":0},0,null,{"$f":"IFERROR(VLOOKUP(A138,Cotações!B:C,2,FALSE),\"\")","v":""},0,0,null,null,0,null,0,0,null,{"$f":"IF(OR(A138=\"\",A138=\"(vazio)\"),0,IFERROR(LOOKUP(2,1/('Ações-Lançamentos'!D:D=A138),'Ações-Lançamentos'!O:O),0))","v":0},null,{"$f":"IF(OR(A138=\"\",A138=\"(vazio)\"),0,IFERROR(LOOKUP(2,1/('Ações-Lançamentos'!D:D=A138),'Ações-Lançamentos'!N:N),0))","v":0},null,null,null,null,null,null,"",""]
[null,".sa",{"$f":"SUMIFS('Ações-Lançamentos'!C:C,'Ações-Lançamentos'!D:D,$A139,'Ações-Lançamentos'!B:B,\"C\")+SUMIFS('Ações-Lançamentos'!C:C,'Ações-Lançamentos'!D:D,$A139,'Ações-Lançamentos'!B:B,\"v\")","v":0},{"$f":"IF(C139=0,0,SUMIFS('Ações-Lançamentos'!K:K,'Ações-Lançamentos'!D:D,$A139,'Ações-Lançamentos'!B:B,\"C\")-SUMIFS('Ações-Lançamentos'!K:K,'Ações-Lançamentos'!D:D,$A139,'Ações-Lançamentos'!B:B,\"v\"))-SUMIFS('Ações-Lançamentos'!K:K,'Ações-Lançamentos'!D:D,$A139,'Ações-Lançamentos'!L:L,\"BONIFICAÇÃO\")","v":0},0,null,{"$f":"IFERROR(VLOOKUP(A139,Cotações!B:C,2,FALSE),\"\")","v":""},0,0,null,null,0,null,0,0,null,{"$f":"IF(OR(A139=\"\",A139=\"(vazio)\"),0,IFERROR(LOOKUP(2,1/('Ações-Lançamentos'!D:D=A139),'Ações-Lançamentos'!O:O),0))","v":0},null,{"$f":"IF(OR(A139=\"\",A139=\"(vazio)\"),0,IFERROR(LOOKUP(2,1/('Ações-Lançamentos'!D:D=A139),'Ações-Lançamentos'!N:N),0))","v":0},null,null,null,null,null,null,"",""]
[null,".sa",{"$f":"SUMIFS('Ações-Lançamentos'!C:C,'Ações-Lançamentos'!D:D,$A140,'Ações-Lançamentos'!B:B,\"C\")+SUMIFS('Ações-Lançamentos'!C:C,'Ações-Lançamentos'!D:D,$A140,'Ações-Lançamentos'!B:B,\"v\")","v":0},{"$f":"IF(C140=0,0,SUMIFS('Ações-Lançamentos'!K:K,'Ações-Lançamentos'!D:D,$A140,'Ações-Lançamentos'!B:B,\"C\")-SUMIFS('Ações-Lançamentos'!K:K,'Ações-Lançamentos'!D:D,$A140,'Ações-Lançamentos'!B:B,\"v\"))-SUMIFS('Ações-Lançamentos'!K:K,'Ações-Lançamentos'!D:D,$A140,'Ações-Lançamentos'!L:L,\"BONIFICAÇÃO\")","v":0},0,null,{"$f":"IFERROR(VLOOKUP(A140,Cotações!B:C,2,FALSE),\"\")","v":""},0,0,null,null,0,null,0,0,null,{"$f":"IF(OR(A140=\"\",A140=\"(vazio)\"),0,IFERROR(LOOKUP(2,1/('Ações-Lançamentos'!D:D=A140),'Ações-Lançamentos'!O:O),0))","v":0},null,{"$f":"IF(OR(A140=\"\",A140=\"(vazio)\"),0,IFERROR(LOOKUP(2,1/('Ações-Lançamentos'!D:D=A140),'Ações-Lançamentos'!N:N),0))","v":0},null,null,null,null,null,null,"",""]
[null,".sa",{"$f":"SUMIFS('Ações-Lançamentos'!C:C,'Ações-Lançamentos'!D:D,$A141,'Ações-Lançamentos'!B:B,\"C\")+SUMIFS('Ações-Lançamentos'!C:C,'Ações-Lançamentos'!D:D,$A141,'Ações-Lançamentos'!B:B,\"v\")","v":0},{"$f":"IF(C141=0,0,SUMIFS('Ações-Lançamentos'!K:K,'Ações-Lançamentos'!D:D,$A141,'Ações-Lançamentos'!B:B,\"C\")-SUMIFS('Ações-Lançamentos'!K:K,'Ações-Lançamentos'!D:D,$A141,'Ações-Lançamentos'!B:B,\"v\"))-SUMIFS('Ações-Lançamentos'!K:K,'Ações-Lançamentos'!D:D,$A141,'Ações-Lançamentos'!L:L,\"BONIFICAÇÃO\")","v":0},0,null,{"$f":"IFERROR(VLOOKUP(A141,Cotações!B:C,2,FALSE),\"\")","v":""},0,0,null,null,0,null,0,0,null,{"$f":"IF(OR(A141=\"\",A141=\"(vazio)\"),0,IFERROR(LOOKUP(2,1/('Ações-Lançamentos'!D:D=A141),'Ações-Lançamentos'!O:O),0))","v":0},null,{"$f":"IF(OR(A141=\"\",A141=\"(vazio)\"),0,IFERROR(LOOKUP(2,1/('Ações-Lançamentos'!D:D=A141),'Ações-Lançamentos'!N:N),0))","v":0},null,null,null,null,null,null,"",""]
[null,".sa",{"$f":"SUMIFS('Ações-Lançamentos'!C:C,'Ações-Lançamentos'!D:D,$A142,'Ações-Lançamentos'!B:B,\"C\")+SUMIFS('Ações-Lançamentos'!C:C,'Ações-Lançamentos'!D:D,$A142,'Ações-Lançamentos'!B:B,\"v\")","v":0},{"$f":"IF(C142=0,0,SUMIFS('Ações-Lançamentos'!K:K,'Ações-Lançamentos'!D:D,$A142,'Ações-Lançamentos'!B:B,\"C\")-SUMIFS('Ações-Lançamentos'!K:K,'Ações-Lançamentos'!D:D,$A142,'Ações-Lançamentos'!B:B,\"v\"))-SUMIFS('Ações-Lançamentos'!K:K,'Ações-Lançamentos'!D:D,$A142,'Ações-Lançamentos'!L:L,\"BONIFICAÇÃO\")","v":0},0,null,{"$f":"IFERROR(VLOOKUP(A142,Cotações!B:C,2,FALSE),\"\")","v":""},0,0,null,null,0,null,0,0,null,{"$f":"IF(OR(A142=\"\",A142=\"(vazio)\"),0,IFERROR(LOOKUP(2,1/('Ações-Lançamentos'!D:D=A142),'Ações-Lançamentos'!O:O),0))","v":0},null,{"$f":"IF(OR(A142=\"\",A142=\"(vazio)\"),0,IFERROR(LOOKUP(2,1/('Ações-Lançamentos'!D:D=A142),'Ações-Lançamentos'!N:N),0))","v":0},null,null,null,null,null,null,{"$f":"IF(K142=\"\",\"\",K142-I142)","v":""},{"$f":"IF(OR($A142=\"TOTAL\",$A142=\"\"),\"\",$A142)","v":""}]
[null,".sa",{"$f":"SUMIFS('Ações-Lançamentos'!C:C,'Ações-Lançamentos'!D:D,$A143,'Ações-Lançamentos'!B:B,\"C\")+SUMIFS('Ações-Lançamentos'!C:C,'Ações-Lançamentos'!D:D,$A143,'Ações-Lançamentos'!B:B,\"v\")","v":0},{"$f":"IF(C143=0,0,SUMIFS('Ações-Lançamentos'!K:K,'Ações-Lançamentos'!D:D,$A143,'Ações-Lançamentos'!B:B,\"C\")-SUMIFS('Ações-Lançamentos'!K:K,'Ações-Lançamentos'!D:D,$A143,'Ações-Lançamentos'!B:B,\"v\"))-SUMIFS('Ações-Lançamentos'!K:K,'Ações-Lançamentos'!D:D,$A143,'Ações-Lançamentos'!L:L,\"BONIFICAÇÃO\")","v":0},0,null,{"$f":"IFERROR(VLOOKUP(A143,Cotações!B:C,2,FALSE),\"\")","v":""},0,0,null,null,0,null,0,0,null,{"$f":"IF(OR(A143=\"\",A143=\"(vazio)\"),0,IFERROR(LOOKUP(2,1/('Ações-Lançamentos'!D:D=A143),'Ações-Lançamentos'!O:O),0))","v":0},null,{"$f":"IF(OR(A143=\"\",A143=\"(vazio)\"),0,IFERROR(LOOKUP(2,1/('Ações-Lançamentos'!D:D=A143),'Ações-Lançamentos'!N:N),0))","v":0},null,null,null,null,null,null,"",""]
[null,".sa",{"$f":"SUMIFS('Ações-Lançamentos'!C:C,'Ações-Lançamentos'!D:D,$A144,'Ações-Lançamentos'!B:B,\"C\")+SUMIFS('Ações-Lançamentos'!C:C,'Ações-Lançamentos'!D:D,$A144,'Ações-Lançamentos'!B:B,\"v\")","v":0},{"$f":"IF(C144=0,0,SUMIFS('Ações-Lançamentos'!K:K,'Ações-Lançamentos'!D:D,$A144,'Ações-Lançamentos'!B:B,\"C\")-SUMIFS('Ações-Lançamentos'!K:K,'Ações-Lançamentos'!D:D,$A144,'Ações-Lançamentos'!B:B,\"v\"))-SUMIFS('Ações-Lançamentos'!K:K,'Ações-Lançamentos'!D:D,$A144,'Ações-Lançamentos'!L:L,\"BONIFICAÇÃO\")","v":0},0,null,{"$f":"IFERROR(VLOOKUP(A144,Cotações!B:C,2,FALSE),\"\")","v":""},0,0,null,null,0,null,0,0,null,{"$f":"IF(OR(A144=\"\",A144=\"(vazio)\"),0,IFERROR(LOOKUP(2,1/('Ações-Lançamentos'!D:D=A144),'Ações-Lançamentos'!O:O),0))","v":0},null,{"$f":"IF(OR(A144=\"\",A144=\"(vazio)\"),0,IFERROR(LOOKUP(2,1/('Ações-Lançamentos'!D:D=A144),'Ações-Lançamentos'!N:N),0))","v":0},null,null,null,null,null,null,"",""]
[null,".sa",{"$f":"SUMIFS('Ações-Lançamentos'!C:C,'Ações-Lançamentos'!D:D,$A145,'Ações-Lançamentos'!B:B,\"C\")+SUMIFS('Ações-Lançamentos'!C:C,'Ações-Lançamentos'!D:D,$A145,'Ações-Lançamentos'!B:B,\"v\")","v":0},{"$f":"IF(C145=0,0,SUMIFS('Ações-Lançamentos'!K:K,'Ações-Lançamentos'!D:D,$A145,'Ações-Lançamentos'!B:B,\"C\")-SUMIFS('Ações-Lançamentos'!K:K,'Ações-Lançamentos'!D:D,$A145,'Ações-Lançamentos'!B:B,\"v\"))-SUMIFS('Ações-Lançamentos'!K:K,'Ações-Lançamentos'!D:D,$A145,'Ações-Lançamentos'!L:L,\"BONIFICAÇÃO\")","v":0},0,null,{"$f":"IFERROR(VLOOKUP(A145,Cotações!B:C,2,FALSE),\"\")","v":""},0,0,null,null,0,null,0,0,null,{"$f":"IF(OR(A145=\"\",A145=\"(vazio)\"),0,IFERROR(LOOKUP(2,1/('Ações-Lançamentos'!D:D=A145),'Ações-Lançamentos'!O:O),0))","v":0},null,{"$f":"IF(OR(A145=\"\",A145=\"(vazio)\"),0,IFERROR(LOOKUP(2,1/('Ações-Lançamentos'!D:D=A145),'Ações-Lançamentos'!N:N),0))","v":0},null,null,null,null,null,null,"",""]
[null,".sa",{"$f":"SUMIFS('Ações-Lançamentos'!C:C,'Ações-Lançamentos'!D:D,$A146,'Ações-Lançamentos'!B:B,\"C\")+SUMIFS('Ações-Lançamentos'!C:C,'Ações-Lançamentos'!D:D,$A146,'Ações-Lançamentos'!B:B,\"v\")","v":0},{"$f":"IF(C146=0,0,SUMIFS('Ações-Lançamentos'!K:K,'Ações-Lançamentos'!D:D,$A146,'Ações-Lançamentos'!B:B,\"C\")-SUMIFS('Ações-Lançamentos'!K:K,'Ações-Lançamentos'!D:D,$A146,'Ações-Lançamentos'!B:B,\"v\"))-SUMIFS('Ações-Lançamentos'!K:K,'Ações-Lançamentos'!D:D,$A146,'Ações-Lançamentos'!L:L,\"BONIFICAÇÃO\")","v":0},0,null,{"$f":"IFERROR(VLOOKUP(A146,Cotações!B:C,2,FALSE),\"\")","v":""},0,0,null,null,0,null,0,0,null,{"$f":"IF(OR(A146=\"\",A146=\"(vazio)\"),0,IFERROR(LOOKUP(2,1/('Ações-Lançamentos'!D:D=A146),'Ações-Lançamentos'!O:O),0))","v":0},null,{"$f":"IF(OR(A146=\"\",A146=\"(vazio)\"),0,IFERROR(LOOKUP(2,1/('Ações-Lançamentos'!D:D=A146),'Ações-Lançamentos'!N:N),0))","v":0},null,null,null,null,null,null,"",""]
[null,".sa",{"$f":"SUMIFS('Ações-Lançamentos'!C:C,'Ações-Lançamentos'!D:D,$A147,'Ações-Lançamentos'!B:B,\"C\")+SUMIFS('Ações-Lançamentos'!C:C,'Ações-Lançamentos'!D:D,$A147,'Ações-Lançamentos'!B:B,\"v\")","v":0},{"$f":"IF(C147=0,0,SUMIFS('Ações-Lançamentos'!K:K,'Ações-Lançamentos'!D:D,$A147,'Ações-Lançamentos'!B:B,\"C\")-SUMIFS('Ações-Lançamentos'!K:K,'Ações-Lançamentos'!D:D,$A147,'Ações-Lançamentos'!B:B,\"v\"))-SUMIFS('Ações-Lançamentos'!K:K,'Ações-Lançamentos'!D:D,$A147,'Ações-Lançamentos'!L:L,\"BONIFICAÇÃO\")","v":0},0,null,{"$f":"IFERROR(VLOOKUP(A147,Cotações!B:C,2,FALSE),\"\")","v":""},0,0,null,null,0,null,0,0,null,{"$f":"IF(OR(A147=\"\",A147=\"(vazio)\"),0,IFERROR(LOOKUP(2,1/('Ações-Lançamentos'!D:D=A147),'Ações-Lançamentos'!O:O),0))","v":0},null,{"$f":"IF(OR(A147=\"\",A147=\"(vazio)\"),0,IFERROR(LOOKUP(2,1/('Ações-Lançamentos'!D:D=A147),'Ações-Lançamentos'!N:N),0))","v":0},null,null,null,null,null,null,"",""]
[null,".sa",{"$f":"SUMIFS('Ações-Lançamentos'!C:C,'Ações-Lançamentos'!D:D,$A148,'Ações-Lançamentos'!B:B,\"C\")+SUMIFS('Ações-Lançamentos'!C:C,'Ações-Lançamentos'!D:D,$A148,'Ações-Lançamentos'!B:B,\"v\")","v":0},{"$f":"IF(C148=0,0,SUMIFS('Ações-Lançamentos'!K:K,'Ações-Lançamentos'!D:D,$A148,'Ações-Lançamentos'!B:B,\"C\")-SUMIFS('Ações-Lançamentos'!K:K,'Ações-Lançamentos'!D:D,$A148,'Ações-Lançamentos'!B:B,\"v\"))-SUMIFS('Ações-Lançamentos'!K:K,'Ações-Lançamentos'!D:D,$A148,'Ações-Lançamentos'!L:L,\"BONIFICAÇÃO\")","v":0},0,null,{"$f":"IFERROR(VLOOKUP(A148,Cotações!B:C,2,FALSE),\"\")","v":""},0,0,null,null,0,null,0,0,null,{"$f":"IF(OR(A148=\"\",A148=\"(vazio)\"),0,IFERROR(LOOKUP(2,1/('Ações-Lançamentos'!D:D=A148),'Ações-Lançamentos'!O:O),0))","v":0},null,{"$f":"IF(OR(A148=\"\",A148=\"(vazio)\"),0,IFERROR(LOOKUP(2,1/('Ações-Lançamentos'!D:D=A148),'Ações-Lançamentos'!N:N),0))","v":0},null,null,null,null,null,null,"",""]
[null,".sa",{"$f":"SUMIFS('Ações-Lançamentos'!C:C,'Ações-Lançamentos'!D:D,$A149,'Ações-Lançamentos'!B:B,\"C\")+SUMIFS('Ações-Lançamentos'!C:C,'Ações-Lançamentos'!D:D,$A149,'Ações-Lançamentos'!B:B,\"v\")","v":0},{"$f":"IF(C149=0,0,SUMIFS('Ações-Lançamentos'!K:K,'Ações-Lançamentos'!D:D,$A149,'Ações-Lançamentos'!B:B,\"C\")-SUMIFS('Ações-Lançamentos'!K:K,'Ações-Lançamentos'!D:D,$A149,'Ações-Lançamentos'!B:B,\"v\"))-SUMIFS('Ações-Lançamentos'!K:K,'Ações-Lançamentos'!D:D,$A149,'Ações-Lançamentos'!L:L,\"BONIFICAÇÃO\")","v":0},0,null,{"$f":"IFERROR(VLOOKUP(A149,Cotações!B:C,2,FALSE),\"\")","v":""},0,0,null,null,0,null,0,0,null,{"$f":"IF(OR(A149=\"\",A149=\"(vazio)\"),0,IFERROR(LOOKUP(2,1/('Ações-Lançamentos'!D:D=A149),'Ações-Lançamentos'!O:O),0))","v":0},null,{"$f":"IF(OR(A149=\"\",A149=\"(vazio)\"),0,IFERROR(LOOKUP(2,1/('Ações-Lançamentos'!D:D=A149),'Ações-Lançamentos'!N:N),0))","v":0},null,null,null,null,null,null,"",""]
[null,".sa",{"$f":"SUMIFS('Ações-Lançamentos'!C:C,'Ações-Lançamentos'!D:D,$A150,'Ações-Lançamentos'!B:B,\"C\")+SUMIFS('Ações-Lançamentos'!C:C,'Ações-Lançamentos'!D:D,$A150,'Ações-Lançamentos'!B:B,\"v\")","v":0},{"$f":"IF(C150=0,0,SUMIFS('Ações-Lançamentos'!K:K,'Ações-Lançamentos'!D:D,$A150,'Ações-Lançamentos'!B:B,\"C\")-SUMIFS('Ações-Lançamentos'!K:K,'Ações-Lançamentos'!D:D,$A150,'Ações-Lançamentos'!B:B,\"v\"))-SUMIFS('Ações-Lançamentos'!K:K,'Ações-Lançamentos'!D:D,$A150,'Ações-Lançamentos'!L:L,\"BONIFICAÇÃO\")","v":0},0,null,{"$f":"IFERROR(VLOOKUP(A150,Cotações!B:C,2,FALSE),\"\")","v":""},0,0,null,null,0,null,0,0,null,{"$f":"IF(OR(A150=\"\",A150=\"(vazio)\"),0,IFERROR(LOOKUP(2,1/('Ações-Lançamentos'!D:D=A150),'Ações-Lançamentos'!O:O),0))","v":0},null,{"$f":"IF(OR(A150=\"\",A150=\"(vazio)\"),0,IFERROR(LOOKUP(2,1/('Ações-Lançamentos'!D:D=A150),'Ações-Lançamentos'!N:N),0))","v":0},null,null,null,null,null,null,"",""]
[null,".sa",{"$f":"SUMIFS('Ações-Lançamentos'!C:C,'Ações-Lançamentos'!D:D,$A151,'Ações-Lançamentos'!B:B,\"C\")+SUMIFS('Ações-Lançamentos'!C:C,'Ações-Lançamentos'!D:D,$A151,'Ações-Lançamentos'!B:B,\"v\")","v":0},{"$f":"IF(C151=0,0,SUMIFS('Ações-Lançamentos'!K:K,'Ações-Lançamentos'!D:D,$A151,'Ações-Lançamentos'!B:B,\"C\")-SUMIFS('Ações-Lançamentos'!K:K,'Ações-Lançamentos'!D:D,$A151,'Ações-Lançamentos'!B:B,\"v\"))-SUMIFS('Ações-Lançamentos'!K:K,'Ações-Lançamentos'!D:D,$A151,'Ações-Lançamentos'!L:L,\"BONIFICAÇÃO\")","v":0},0,null,{"$f":"IFERROR(VLOOKUP(A151,Cotações!B:C,2,FALSE),\"\")","v":""},0,0,null,null,0,null,0,0,null,{"$f":"IF(OR(A151=\"\",A151=\"(vazio)\"),0,IFERROR(LOOKUP(2,1/('Ações-Lançamentos'!D:D=A151),'Ações-Lançamentos'!O:O),0))","v":0},null,{"$f":"IF(OR(A151=\"\",A151=\"(vazio)\"),0,IFERROR(LOOKUP(2,1/('Ações-Lançamentos'!D:D=A151),'Ações-Lançamentos'!N:N),0))","v":0},null,null,null,null,null,null,"",""]
[null,".sa",{"$f":"SUMIFS('Ações-Lançamentos'!C:C,'Ações-Lançamentos'!D:D,$A152,'Ações-Lançamentos'!B:B,\"C\")+SUMIFS('Ações-Lançamentos'!C:C,'Ações-Lançamentos'!D:D,$A152,'Ações-Lançamentos'!B:B,\"v\")","v":0},{"$f":"IF(C152=0,0,SUMIFS('Ações-Lançamentos'!K:K,'Ações-Lançamentos'!D:D,$A152,'Ações-Lançamentos'!B:B,\"C\")-SUMIFS('Ações-Lançamentos'!K:K,'Ações-Lançamentos'!D:D,$A152,'Ações-Lançamentos'!B:B,\"v\"))-SUMIFS('Ações-Lançamentos'!K:K,'Ações-Lançamentos'!D:D,$A152,'Ações-Lançamentos'!L:L,\"BONIFICAÇÃO\")","v":0},0,null,{"$f":"IFERROR(VLOOKUP(A152,Cotações!B:C,2,FALSE),\"\")","v":""},0,0,null,null,0,null,0,0,null,{"$f":"IF(OR(A152=\"\",A152=\"(vazio)\"),0,IFERROR(LOOKUP(2,1/('Ações-Lançamentos'!D:D=A152),'Ações-Lançamentos'!O:O),0))","v":0},null,{"$f":"IF(OR(A152=\"\",A152=\"(vazio)\"),0,IFERROR(LOOKUP(2,1/('Ações-Lançamentos'!D:D=A152),'Ações-Lançamentos'!N:N),0))","v":0},null,null,null,null,null,null,"",""]
[null,".sa",{"$f":"SUMIFS('Ações-Lançamentos'!C:C,'Ações-Lançamentos'!D:D,$A153,'Ações-Lançamentos'!B:B,\"C\")+SUMIFS('Ações-Lançamentos'!C:C,'Ações-Lançamentos'!D:D,$A153,'Ações-Lançamentos'!B:B,\"v\")","v":0},{"$f":"IF(C153=0,0,SUMIFS('Ações-Lançamentos'!K:K,'Ações-Lançamentos'!D:D,$A153,'Ações-Lançamentos'!B:B,\"C\")-SUMIFS('Ações-Lançamentos'!K:K,'Ações-Lançamentos'!D:D,$A153,'Ações-Lançamentos'!B:B,\"v\"))-SUMIFS('Ações-Lançamentos'!K:K,'Ações-Lançamentos'!D:D,$A153,'Ações-Lançamentos'!L:L,\"BONIFICAÇÃO\")","v":0},0,null,{"$f":"IFERROR(VLOOKUP(A153,Cotações!B:C,2,FALSE),\"\")","v":""},0,0,null,null,0,null,0,0,null,{"$f":"IF(OR(A153=\"\",A153=\"(vazio)\"),0,IFERROR(LOOKUP(2,1/('Ações-Lançamentos'!D:D=A153),'Ações-Lançamentos'!O:O),0))","v":0},null,{"$f":"IF(OR(A153=\"\",A153=\"(vazio)\"),0,IFERROR(LOOKUP(2,1/('Ações-Lançamentos'!D:D=A153),'Ações-Lançamentos'!N:N),0))","v":0},null,null,null,null,null,null,"",""]
[null,".sa",{"$f":"SUMIFS('Ações-Lançamentos'!C:C,'Ações-Lançamentos'!D:D,$A154,'Ações-Lançamentos'!B:B,\"C\")+SUMIFS('Ações-Lançamentos'!C:C,'Ações-Lançamentos'!D:D,$A154,'Ações-Lançamentos'!B:B,\"v\")","v":0},{"$f":"IF(C154=0,0,SUMIFS('Ações-Lançamentos'!K:K,'Ações-Lançamentos'!D:D,$A154,'Ações-Lançamentos'!B:B,\"C\")-SUMIFS('Ações-Lançamentos'!K:K,'Ações-Lançamentos'!D:D,$A154,'Ações-Lançamentos'!B:B,\"v\"))-SUMIFS('Ações-Lançamentos'!K:K,'Ações-Lançamentos'!D:D,$A154,'Ações-Lançamentos'!L:L,\"BONIFICAÇÃO\")","v":0},0,null,{"$f":"IFERROR(VLOOKUP(A154,Cotações!B:C,2,FALSE),\"\")","v":""},0,0,null,null,0,null,0,0,null,{"$f":"IF(OR(A154=\"\",A154=\"(vazio)\"),0,IFERROR(LOOKUP(2,1/('Ações-Lançamentos'!D:D=A154),'Ações-Lançamentos'!O:O),0))","v":0},null,{"$f":"IF(OR(A154=\"\",A154=\"(vazio)\"),0,IFERROR(LOOKUP(2,1/('Ações-Lançamentos'!D:D=A154),'Ações-Lançamentos'!N:N),0))","v":0},null,null,null,null,null,null,"",""]
[null,".sa",{"$f":"SUMIFS('Ações-Lançamentos'!C:C,'Ações-Lançamentos'!D:D,$A155,'Ações-Lançamentos'!B:B,\"C\")+SUMIFS('Ações-Lançamentos'!C:C,'Ações-Lançamentos'!D:D,$A155,'Ações-Lançamentos'!B:B,\"v\")","v":0},{"$f":"IF(C155=0,0,SUMIFS('Ações-Lançamentos'!K:K,'Ações-Lançamentos'!D:D,$A155,'Ações-Lançamentos'!B:B,\"C\")-SUMIFS('Ações-Lançamentos'!K:K,'Ações-Lançamentos'!D:D,$A155,'Ações-Lançamentos'!B:B,\"v\"))-SUMIFS('Ações-Lançamentos'!K:K,'Ações-Lançamentos'!D:D,$A155,'Ações-Lançamentos'!L:L,\"BONIFICAÇÃO\")","v":0},0,null,{"$f":"IFERROR(VLOOKUP(A155,Cotações!B:C,2,FALSE),\"\")","v":""},0,0,null,null,0,null,0,0,null,{"$f":"IF(OR(A155=\"\",A155=\"(vazio)\"),0,IFERROR(LOOKUP(2,1/('Ações-Lançamentos'!D:D=A155),'Ações-Lançamentos'!O:O),0))","v":0},null,{"$f":"IF(OR(A155=\"\",A155=\"(vazio)\"),0,IFERROR(LOOKUP(2,1/('Ações-Lançamentos'!D:D=A155),'Ações-Lançamentos'!N:N),0))","v":0},null,null,null,null,null,null,"",""]
[null,".sa",{"$f":"SUMIFS('Ações-Lançamentos'!C:C,'Ações-Lançamentos'!D:D,$A156,'Ações-Lançamentos'!B:B,\"C\")+SUMIFS('Ações-Lançamentos'!C:C,'Ações-Lançamentos'!D:D,$A156,'Ações-Lançamentos'!B:B,\"v\")","v":0},{"$f":"IF(C156=0,0,SUMIFS('Ações-Lançamentos'!K:K,'Ações-Lançamentos'!D:D,$A156,'Ações-Lançamentos'!B:B,\"C\")-SUMIFS('Ações-Lançamentos'!K:K,'Ações-Lançamentos'!D:D,$A156,'Ações-Lançamentos'!B:B,\"v\"))-SUMIFS('Ações-Lançamentos'!K:K,'Ações-Lançamentos'!D:D,$A156,'Ações-Lançamentos'!L:L,\"BONIFICAÇÃO\")","v":0},0,null,{"$f":"IFERROR(VLOOKUP(A156,Cotações!B:C,2,FALSE),\"\")","v":""},0,0,null,null,0,null,0,0,null,{"$f":"IF(OR(A156=\"\",A156=\"(vazio)\"),0,IFERROR(LOOKUP(2,1/('Ações-Lançamentos'!D:D=A156),'Ações-Lançamentos'!O:O),0))","v":0},null,{"$f":"IF(OR(A156=\"\",A156=\"(vazio)\"),0,IFERROR(LOOKUP(2,1/('Ações-Lançamentos'!D:D=A156),'Ações-Lançamentos'!N:N),0))","v":0},null,null,null,null,null,null,"",""]
[null,".sa",{"$f":"SUMIFS('Ações-Lançamentos'!C:C,'Ações-Lançamentos'!D:D,$A157,'Ações-Lançamentos'!B:B,\"C\")+SUMIFS('Ações-Lançamentos'!C:C,'Ações-Lançamentos'!D:D,$A157,'Ações-Lançamentos'!B:B,\"v\")","v":0},{"$f":"IF(C157=0,0,SUMIFS('Ações-Lançamentos'!K:K,'Ações-Lançamentos'!D:D,$A157,'Ações-Lançamentos'!B:B,\"C\")-SUMIFS('Ações-Lançamentos'!K:K,'Ações-Lançamentos'!D:D,$A157,'Ações-Lançamentos'!B:B,\"v\"))-SUMIFS('Ações-Lançamentos'!K:K,'Ações-Lançamentos'!D:D,$A157,'Ações-Lançamentos'!L:L,\"BONIFICAÇÃO\")","v":0},0,null,{"$f":"IFERROR(VLOOKUP(A157,Cotações!B:C,2,FALSE),\"\")","v":""},0,0,null,null,0,null,0,0,null,{"$f":"IF(OR(A157=\"\",A157=\"(vazio)\"),0,IFERROR(LOOKUP(2,1/('Ações-Lançamentos'!D:D=A157),'Ações-Lançamentos'!O:O),0))","v":0},null,{"$f":"IF(OR(A157=\"\",A157=\"(vazio)\"),0,IFERROR(LOOKUP(2,1/('Ações-Lançamentos'!D:D=A157),'Ações-Lançamentos'!N:N),0))","v":0},null,null,null,null,null,null,"",""]
[null,".sa",{"$f":"SUMIFS('Ações-Lançamentos'!C:C,'Ações-Lançamentos'!D:D,$A158,'Ações-Lançamentos'!B:B,\"C\")+SUMIFS('Ações-Lançamentos'!C:C,'Ações-Lançamentos'!D:D,$A158,'Ações-Lançamentos'!B:B,\"v\")","v":0},{"$f":"IF(C158=0,0,SUMIFS('Ações-Lançamentos'!K:K,'Ações-Lançamentos'!D:D,$A158,'Ações-Lançamentos'!B:B,\"C\")-SUMIFS('Ações-Lançamentos'!K:K,'Ações-Lançamentos'!D:D,$A158,'Ações-Lançamentos'!B:B,\"v\"))-SUMIFS('Ações-Lançamentos'!K:K,'Ações-Lançamentos'!D:D,$A158,'Ações-Lançamentos'!L:L,\"BONIFICAÇÃO\")","v":0},0,null,{"$f":"IFERROR(VLOOKUP(A158,Cotações!B:C,2,FALSE),\"\")","v":""},0,0,null,null,0,null,0,0,null,{"$f":"IF(OR(A158=\"\",A158=\"(vazio)\"),0,IFERROR(LOOKUP(2,1/('Ações-Lançamentos'!D:D=A158),'Ações-Lançamentos'!O:O),0))","v":0},null,{"$f":"IF(OR(A158=\"\",A158=\"(vazio)\"),0,IFERROR(LOOKUP(2,1/('Ações-Lançamentos'!D:D=A158),'Ações-Lançamentos'!N:N),0))","v":0},null,null,null,null,null,null,"",""]
[null,".sa",{"$f":"SUMIFS('Ações-Lançamentos'!C:C,'Ações-Lançamentos'!D:D,$A159,'Ações-Lançamentos'!B:B,\"C\")+SUMIFS('Ações-Lançamentos'!C:C,'Ações-Lançamentos'!D:D,$A159,'Ações-Lançamentos'!B:B,\"v\")","v":0},{"$f":"IF(C159=0,0,SUMIFS('Ações-Lançamentos'!K:K,'Ações-Lançamentos'!D:D,$A159,'Ações-Lançamentos'!B:B,\"C\")-SUMIFS('Ações-Lançamentos'!K:K,'Ações-Lançamentos'!D:D,$A159,'Ações-Lançamentos'!B:B,\"v\"))-SUMIFS('Ações-Lançamentos'!K:K,'Ações-Lançamentos'!D:D,$A159,'Ações-Lançamentos'!L:L,\"BONIFICAÇÃO\")","v":0},0,null,{"$f":"IFERROR(VLOOKUP(A159,Cotações!B:C,2,FALSE),\"\")","v":""},0,0,null,null,0,null,0,0,null,{"$f":"IF(OR(A159=\"\",A159=\"(vazio)\"),0,IFERROR(LOOKUP(2,1/('Ações-Lançamentos'!D:D=A159),'Ações-Lançamentos'!O:O),0))","v":0},null,{"$f":"IF(OR(A159=\"\",A159=\"(vazio)\"),0,IFERROR(LOOKUP(2,1/('Ações-Lançamentos'!D:D=A159),'Ações-Lançamentos'!N:N),0))","v":0},null,null,null,null,null,null,"",""]
[null,".sa",{"$f":"SUMIFS('Ações-Lançamentos'!C:C,'Ações-Lançamentos'!D:D,$A160,'Ações-Lançamentos'!B:B,\"C\")+SUMIFS('Ações-Lançamentos'!C:C,'Ações-Lançamentos'!D:D,$A160,'Ações-Lançamentos'!B:B,\"v\")","v":0},{"$f":"IF(C160=0,0,SUMIFS('Ações-Lançamentos'!K:K,'Ações-Lançamentos'!D:D,$A160,'Ações-Lançamentos'!B:B,\"C\")-SUMIFS('Ações-Lançamentos'!K:K,'Ações-Lançamentos'!D:D,$A160,'Ações-Lançamentos'!B:B,\"v\"))-SUMIFS('Ações-Lançamentos'!K:K,'Ações-Lançamentos'!D:D,$A160,'Ações-Lançamentos'!L:L,\"BONIFICAÇÃO\")","v":0},0,null,{"$f":"IFERROR(VLOOKUP(A160,Cotações!B:C,2,FALSE),\"\")","v":""},0,0,null,null,0,null,0,0,null,{"$f":"IF(OR(A160=\"\",A160=\"(vazio)\"),0,IFERROR(LOOKUP(2,1/('Ações-Lançamentos'!D:D=A160),'Ações-Lançamentos'!O:O),0))","v":0},null,{"$f":"IF(OR(A160=\"\",A160=\"(vazio)\"),0,IFERROR(LOOKUP(2,1/('Ações-Lançamentos'!D:D=A160),'Ações-Lançamentos'!N:N),0))","v":0},null,null,null,null,null,null,"",""]
[null,".sa",{"$f":"SUMIFS('Ações-Lançamentos'!C:C,'Ações-Lançamentos'!D:D,$A161,'Ações-Lançamentos'!B:B,\"C\")+SUMIFS('Ações-Lançamentos'!C:C,'Ações-Lançamentos'!D:D,$A161,'Ações-Lançamentos'!B:B,\"v\")","v":0},{"$f":"IF(C161=0,0,SUMIFS('Ações-Lançamentos'!K:K,'Ações-Lançamentos'!D:D,$A161,'Ações-Lançamentos'!B:B,\"C\")-SUMIFS('Ações-Lançamentos'!K:K,'Ações-Lançamentos'!D:D,$A161,'Ações-Lançamentos'!B:B,\"v\"))-SUMIFS('Ações-Lançamentos'!K:K,'Ações-Lançamentos'!D:D,$A161,'Ações-Lançamentos'!L:L,\"BONIFICAÇÃO\")","v":0},0,null,{"$f":"IFERROR(VLOOKUP(A161,Cotações!B:C,2,FALSE),\"\")","v":""},0,0,null,null,0,null,0,0,null,{"$f":"IF(OR(A161=\"\",A161=\"(vazio)\"),0,IFERROR(LOOKUP(2,1/('Ações-Lançamentos'!D:D=A161),'Ações-Lançamentos'!O:O),0))","v":0},null,{"$f":"IF(OR(A161=\"\",A161=\"(vazio)\"),0,IFERROR(LOOKUP(2,1/('Ações-Lançamentos'!D:D=A161),'Ações-Lançamentos'!N:N),0))","v":0},null,null,null,null,null,null,"",""]
[null,".sa",{"$f":"SUMIFS('Ações-Lançamentos'!C:C,'Ações-Lançamentos'!D:D,$A162,'Ações-Lançamentos'!B:B,\"C\")+SUMIFS('Ações-Lançamentos'!C:C,'Ações-Lançamentos'!D:D,$A162,'Ações-Lançamentos'!B:B,\"v\")","v":0},{"$f":"IF(C162=0,0,SUMIFS('Ações-Lançamentos'!K:K,'Ações-Lançamentos'!D:D,$A162,'Ações-Lançamentos'!B:B,\"C\")-SUMIFS('Ações-Lançamentos'!K:K,'Ações-Lançamentos'!D:D,$A162,'Ações-Lançamentos'!B:B,\"v\"))-SUMIFS('Ações-Lançamentos'!K:K,'Ações-Lançamentos'!D:D,$A162,'Ações-Lançamentos'!L:L,\"BONIFICAÇÃO\")","v":0},0,null,{"$f":"IFERROR(VLOOKUP(A162,Cotações!B:C,2,FALSE),\"\")","v":""},0,0,null,null,0,null,0,0,null,{"$f":"IF(OR(A162=\"\",A162=\"(vazio)\"),0,IFERROR(LOOKUP(2,1/('Ações-Lançamentos'!D:D=A162),'Ações-Lançamentos'!O:O),0))","v":0},null,{"$f":"IF(OR(A162=\"\",A162=\"(vazio)\"),0,IFERROR(LOOKUP(2,1/('Ações-Lançamentos'!D:D=A162),'Ações-Lançamentos'!N:N),0))","v":0},null,null,null,null,null,null,"",""]
[null,".sa",{"$f":"SUMIFS('Ações-Lançamentos'!C:C,'Ações-Lançamentos'!D:D,$A163,'Ações-Lançamentos'!B:B,\"C\")+SUMIFS('Ações-Lançamentos'!C:C,'Ações-Lançamentos'!D:D,$A163,'Ações-Lançamentos'!B:B,\"v\")","v":0},{"$f":"IF(C163=0,0,SUMIFS('Ações-Lançamentos'!K:K,'Ações-Lançamentos'!D:D,$A163,'Ações-Lançamentos'!B:B,\"C\")-SUMIFS('Ações-Lançamentos'!K:K,'Ações-Lançamentos'!D:D,$A163,'Ações-Lançamentos'!B:B,\"v\"))-SUMIFS('Ações-Lançamentos'!K:K,'Ações-Lançamentos'!D:D,$A163,'Ações-Lançamentos'!L:L,\"BONIFICAÇÃO\")","v":0},0,null,{"$f":"IFERROR(VLOOKUP(A163,Cotações!B:C,2,FALSE),\"\")","v":""},0,0,null,null,0,null,0,0,null,{"$f":"IF(OR(A163=\"\",A163=\"(vazio)\"),0,IFERROR(LOOKUP(2,1/('Ações-Lançamentos'!D:D=A163),'Ações-Lançamentos'!O:O),0))","v":0},null,{"$f":"IF(OR(A163=\"\",A163=\"(vazio)\"),0,IFERROR(LOOKUP(2,1/('Ações-Lançamentos'!D:D=A163),'Ações-Lançamentos'!N:N),0))","v":0},null,null,null,null,null,null,"",""]
[null,".sa",{"$f":"SUMIFS('Ações-Lançamentos'!C:C,'Ações-Lançamentos'!D:D,$A164,'Ações-Lançamentos'!B:B,\"C\")+SUMIFS('Ações-Lançamentos'!C:C,'Ações-Lançamentos'!D:D,$A164,'Ações-Lançamentos'!B:B,\"v\")","v":0},{"$f":"IF(C164=0,0,SUMIFS('Ações-Lançamentos'!K:K,'Ações-Lançamentos'!D:D,$A164,'Ações-Lançamentos'!B:B,\"C\")-SUMIFS('Ações-Lançamentos'!K:K,'Ações-Lançamentos'!D:D,$A164,'Ações-Lançamentos'!B:B,\"v\"))-SUMIFS('Ações-Lançamentos'!K:K,'Ações-Lançamentos'!D:D,$A164,'Ações-Lançamentos'!L:L,\"BONIFICAÇÃO\")","v":0},0,null,{"$f":"IFERROR(VLOOKUP(A164,Cotações!B:C,2,FALSE),\"\")","v":""},0,0,null,null,0,null,0,0,null,{"$f":"IF(OR(A164=\"\",A164=\"(vazio)\"),0,IFERROR(LOOKUP(2,1/('Ações-Lançamentos'!D:D=A164),'Ações-Lançamentos'!O:O),0))","v":0},null,{"$f":"IF(OR(A164=\"\",A164=\"(vazio)\"),0,IFERROR(LOOKUP(2,1/('Ações-Lançamentos'!D:D=A164),'Ações-Lançamentos'!N:N),0))","v":0},null,null,null,null,null,null,"",""]
[null,".sa",{"$f":"SUMIFS('Ações-Lançamentos'!C:C,'Ações-Lançamentos'!D:D,$A165,'Ações-Lançamentos'!B:B,\"C\")+SUMIFS('Ações-Lançamentos'!C:C,'Ações-Lançamentos'!D:D,$A165,'Ações-Lançamentos'!B:B,\"v\")","v":0},{"$f":"IF(C165=0,0,SUMIFS('Ações-Lançamentos'!K:K,'Ações-Lançamentos'!D:D,$A165,'Ações-Lançamentos'!B:B,\"C\")-SUMIFS('Ações-Lançamentos'!K:K,'Ações-Lançamentos'!D:D,$A165,'Ações-Lançamentos'!B:B,\"v\"))-SUMIFS('Ações-Lançamentos'!K:K,'Ações-Lançamentos'!D:D,$A165,'Ações-Lançamentos'!L:L,\"BONIFICAÇÃO\")","v":0},0,null,{"$f":"IFERROR(VLOOKUP(A165,Cotações!B:C,2,FALSE),\"\")","v":""},0,0,null,null,0,null,0,0,null,{"$f":"IF(OR(A165=\"\",A165=\"(vazio)\"),0,IFERROR(LOOKUP(2,1/('Ações-Lançamentos'!D:D=A165),'Ações-Lançamentos'!O:O),0))","v":0},null,{"$f":"IF(OR(A165=\"\",A165=\"(vazio)\"),0,IFERROR(LOOKUP(2,1/('Ações-Lançamentos'!D:D=A165),'Ações-Lançamentos'!N:N),0))","v":0},null,null,null,null,null,null,"",""]
[null,".sa",{"$f":"SUMIFS('Ações-Lançamentos'!C:C,'Ações-Lançamentos'!D:D,$A166,'Ações-Lançamentos'!B:B,\"C\")+SUMIFS('Ações-Lançamentos'!C:C,'Ações-Lançamentos'!D:D,$A166,'Ações-Lançamentos'!B:B,\"v\")","v":0},{"$f":"IF(C166=0,0,SUMIFS('Ações-Lançamentos'!K:K,'Ações-Lançamentos'!D:D,$A166,'Ações-Lançamentos'!B:B,\"C\")-SUMIFS('Ações-Lançamentos'!K:K,'Ações-Lançamentos'!D:D,$A166,'Ações-Lançamentos'!B:B,\"v\"))-SUMIFS('Ações-Lançamentos'!K:K,'Ações-Lançamentos'!D:D,$A166,'Ações-Lançamentos'!L:L,\"BONIFICAÇÃO\")","v":0},0,null,{"$f":"IFERROR(VLOOKUP(A166,Cotações!B:C,2,FALSE),\"\")","v":""},0,0,null,null,0,null,0,0,null,{"$f":"IF(OR(A166=\"\",A166=\"(vazio)\"),0,IFERROR(LOOKUP(2,1/('Ações-Lançamentos'!D:D=A166),'Ações-Lançamentos'!O:O),0))","v":0},null,{"$f":"IF(OR(A166=\"\",A166=\"(vazio)\"),0,IFERROR(LOOKUP(2,1/('Ações-Lançamentos'!D:D=A166),'Ações-Lançamentos'!N:N),0))","v":0},null,null,null,null,null,null,"",""]
[null,".sa",{"$f":"SUMIFS('Ações-Lançamentos'!C:C,'Ações-Lançamentos'!D:D,$A167,'Ações-Lançamentos'!B:B,\"C\")+SUMIFS('Ações-Lançamentos'!C:C,'Ações-Lançamentos'!D:D,$A167,'Ações-Lançamentos'!B:B,\"v\")","v":0},{"$f":"IF(C167=0,0,SUMIFS('Ações-Lançamentos'!K:K,'Ações-Lançamentos'!D:D,$A167,'Ações-Lançamentos'!B:B,\"C\")-SUMIFS('Ações-Lançamentos'!K:K,'Ações-Lançamentos'!D:D,$A167,'Ações-Lançamentos'!B:B,\"v\"))-SUMIFS('Ações-Lançamentos'!K:K,'Ações-Lançamentos'!D:D,$A167,'Ações-Lançamentos'!L:L,\"BONIFICAÇÃO\")","v":0},0,null,{"$f":"IFERROR(VLOOKUP(A167,Cotações!B:C,2,FALSE),\"\")","v":""},0,0,null,null,0,null,0,0,null,{"$f":"IF(OR(A167=\"\",A167=\"(vazio)\"),0,IFERROR(LOOKUP(2,1/('Ações-Lançamentos'!D:D=A167),'Ações-Lançamentos'!O:O),0))","v":0},null,{"$f":"IF(OR(A167=\"\",A167=\"(vazio)\"),0,IFERROR(LOOKUP(2,1/('Ações-Lançamentos'!D:D=A167),'Ações-Lançamentos'!N:N),0))","v":0},null,null,null,null,null,null,"",""]
[null,".sa",{"$f":"SUMIFS('Ações-Lançamentos'!C:C,'Ações-Lançamentos'!D:D,$A168,'Ações-Lançamentos'!B:B,\"C\")+SUMIFS('Ações-Lançamentos'!C:C,'Ações-Lançamentos'!D:D,$A168,'Ações-Lançamentos'!B:B,\"v\")","v":0},{"$f":"IF(C168=0,0,SUMIFS('Ações-Lançamentos'!K:K,'Ações-Lançamentos'!D:D,$A168,'Ações-Lançamentos'!B:B,\"C\")-SUMIFS('Ações-Lançamentos'!K:K,'Ações-Lançamentos'!D:D,$A168,'Ações-Lançamentos'!B:B,\"v\"))-SUMIFS('Ações-Lançamentos'!K:K,'Ações-Lançamentos'!D:D,$A168,'Ações-Lançamentos'!L:L,\"BONIFICAÇÃO\")","v":0},0,null,{"$f":"IFERROR(VLOOKUP(A168,Cotações!B:C,2,FALSE),\"\")","v":""},0,0,null,null,0,null,0,0,null,{"$f":"IF(OR(A168=\"\",A168=\"(vazio)\"),0,IFERROR(LOOKUP(2,1/('Ações-Lançamentos'!D:D=A168),'Ações-Lançamentos'!O:O),0))","v":0},null,{"$f":"IF(OR(A168=\"\",A168=\"(vazio)\"),0,IFERROR(LOOKUP(2,1/('Ações-Lançamentos'!D:D=A168),'Ações-Lançamentos'!N:N),0))","v":0},null,null,null,null,null,null,"",""]
[null,".sa",{"$f":"SUMIFS('Ações-Lançamentos'!C:C,'Ações-Lançamentos'!D:D,$A169,'Ações-Lançamentos'!B:B,\"C\")+SUMIFS('Ações-Lançamentos'!C:C,'Ações-Lançamentos'!D:D,$A169,'Ações-Lançamentos'!B:B,\"v\")","v":0},{"$f":"IF(C169=0,0,SUMIFS('Ações-Lançamentos'!K:K,'Ações-Lançamentos'!D:D,$A169,'Ações-Lançamentos'!B:B,\"C\")-SUMIFS('Ações-Lançamentos'!K:K,'Ações-Lançamentos'!D:D,$A169,'Ações-Lançamentos'!B:B,\"v\"))-SUMIFS('Ações-Lançamentos'!K:K,'Ações-Lançamentos'!D:D,$A169,'Ações-Lançamentos'!L:L,\"BONIFICAÇÃO\")","v":0},0,null,{"$f":"IFERROR(VLOOKUP(A169,Cotações!B:C,2,FALSE),\"\")","v":""},0,0,null,null,0,null,0,0,null,{"$f":"IF(OR(A169=\"\",A169=\"(vazio)\"),0,IFERROR(LOOKUP(2,1/('Ações-Lançamentos'!D:D=A169),'Ações-Lançamentos'!O:O),0))","v":0},null,{"$f":"IF(OR(A169=\"\",A169=\"(vazio)\"),0,IFERROR(LOOKUP(2,1/('Ações-Lançamentos'!D:D=A169),'Ações-Lançamentos'!N:N),0))","v":0},null,null,null,null,null,null,"",""]
[null,".sa",{"$f":"SUMIFS('Ações-Lançamentos'!C:C,'Ações-Lançamentos'!D:D,$A170,'Ações-Lançamentos'!B:B,\"C\")+SUMIFS('Ações-Lançamentos'!C:C,'Ações-Lançamentos'!D:D,$A170,'Ações-Lançamentos'!B:B,\"v\")","v":0},{"$f":"IF(C170=0,0,SUMIFS('Ações-Lançamentos'!K:K,'Ações-Lançamentos'!D:D,$A170,'Ações-Lançamentos'!B:B,\"C\")-SUMIFS('Ações-Lançamentos'!K:K,'Ações-Lançamentos'!D:D,$A170,'Ações-Lançamentos'!B:B,\"v\"))-SUMIFS('Ações-Lançamentos'!K:K,'Ações-Lançamentos'!D:D,$A170,'Ações-Lançamentos'!L:L,\"BONIFICAÇÃO\")","v":0},0,null,{"$f":"IFERROR(VLOOKUP(A170,Cotações!B:C,2,FALSE),\"\")","v":""},0,0,null,null,0,null,0,0,null,{"$f":"IF(OR(A170=\"\",A170=\"(vazio)\"),0,IFERROR(LOOKUP(2,1/('Ações-Lançamentos'!D:D=A170),'Ações-Lançamentos'!O:O),0))","v":0},null,{"$f":"IF(OR(A170=\"\",A170=\"(vazio)\"),0,IFERROR(LOOKUP(2,1/('Ações-Lançamentos'!D:D=A170),'Ações-Lançamentos'!N:N),0))","v":0},null,null,null,null,null,null,"",""]
[null,".sa",{"$f":"SUMIFS('Ações-Lançamentos'!C:C,'Ações-Lançamentos'!D:D,$A171,'Ações-Lançamentos'!B:B,\"C\")+SUMIFS('Ações-Lançamentos'!C:C,'Ações-Lançamentos'!D:D,$A171,'Ações-Lançamentos'!B:B,\"v\")","v":0},{"$f":"IF(C171=0,0,SUMIFS('Ações-Lançamentos'!K:K,'Ações-Lançamentos'!D:D,$A171,'Ações-Lançamentos'!B:B,\"C\")-SUMIFS('Ações-Lançamentos'!K:K,'Ações-Lançamentos'!D:D,$A171,'Ações-Lançamentos'!B:B,\"v\"))-SUMIFS('Ações-Lançamentos'!K:K,'Ações-Lançamentos'!D:D,$A171,'Ações-Lançamentos'!L:L,\"BONIFICAÇÃO\")","v":0},0,null,{"$f":"IFERROR(VLOOKUP(A171,Cotações!B:C,2,FALSE),\"\")","v":""},0,0,null,null,0,null,0,0,null,{"$f":"IF(OR(A171=\"\",A171=\"(vazio)\"),0,IFERROR(LOOKUP(2,1/('Ações-Lançamentos'!D:D=A171),'Ações-Lançamentos'!O:O),0))","v":0},null,{"$f":"IF(OR(A171=\"\",A171=\"(vazio)\"),0,IFERROR(LOOKUP(2,1/('Ações-Lançamentos'!D:D=A171),'Ações-Lançamentos'!N:N),0))","v":0},null,null,null,null,null,null,"",""]
[null,".sa",{"$f":"SUMIFS('Ações-Lançamentos'!C:C,'Ações-Lançamentos'!D:D,$A172,'Ações-Lançamentos'!B:B,\"C\")+SUMIFS('Ações-Lançamentos'!C:C,'Ações-Lançamentos'!D:D,$A172,'Ações-Lançamentos'!B:B,\"v\")","v":0},{"$f":"IF(C172=0,0,SUMIFS('Ações-Lançamentos'!K:K,'Ações-Lançamentos'!D:D,$A172,'Ações-Lançamentos'!B:B,\"C\")-SUMIFS('Ações-Lançamentos'!K:K,'Ações-Lançamentos'!D:D,$A172,'Ações-Lançamentos'!B:B,\"v\"))-SUMIFS('Ações-Lançamentos'!K:K,'Ações-Lançamentos'!D:D,$A172,'Ações-Lançamentos'!L:L,\"BONIFICAÇÃO\")","v":0},0,null,{"$f":"IFERROR(VLOOKUP(A172,Cotações!B:C,2,FALSE),\"\")","v":""},0,0,null,null,0,null,0,0,null,{"$f":"IF(OR(A172=\"\",A172=\"(vazio)\"),0,IFERROR(LOOKUP(2,1/('Ações-Lançamentos'!D:D=A172),'Ações-Lançamentos'!O:O),0))","v":0},null,{"$f":"IF(OR(A172=\"\",A172=\"(vazio)\"),0,IFERROR(LOOKUP(2,1/('Ações-Lançamentos'!D:D=A172),'Ações-Lançamentos'!N:N),0))","v":0},null,null,null,null,null,null,"",""]
[null,".sa",{"$f":"SUMIFS('Ações-Lançamentos'!C:C,'Ações-Lançamentos'!D:D,$A173,'Ações-Lançamentos'!B:B,\"C\")+SUMIFS('Ações-Lançamentos'!C:C,'Ações-Lançamentos'!D:D,$A173,'Ações-Lançamentos'!B:B,\"v\")","v":0},{"$f":"IF(C173=0,0,SUMIFS('Ações-Lançamentos'!K:K,'Ações-Lançamentos'!D:D,$A173,'Ações-Lançamentos'!B:B,\"C\")-SUMIFS('Ações-Lançamentos'!K:K,'Ações-Lançamentos'!D:D,$A173,'Ações-Lançamentos'!B:B,\"v\"))-SUMIFS('Ações-Lançamentos'!K:K,'Ações-Lançamentos'!D:D,$A173,'Ações-Lançamentos'!L:L,\"BONIFICAÇÃO\")","v":0},0,null,{"$f":"IFERROR(VLOOKUP(A173,Cotações!B:C,2,FALSE),\"\")","v":""},0,0,null,null,0,null,0,0,null,{"$f":"IF(OR(A173=\"\",A173=\"(vazio)\"),0,IFERROR(LOOKUP(2,1/('Ações-Lançamentos'!D:D=A173),'Ações-Lançamentos'!O:O),0))","v":0},null,{"$f":"IF(OR(A173=\"\",A173=\"(vazio)\"),0,IFERROR(LOOKUP(2,1/('Ações-Lançamentos'!D:D=A173),'Ações-Lançamentos'!N:N),0))","v":0},null,null,null,null,null,null,"",""]
[null,".sa",{"$f":"SUMIFS('Ações-Lançamentos'!C:C,'Ações-Lançamentos'!D:D,$A174,'Ações-Lançamentos'!B:B,\"C\")+SUMIFS('Ações-Lançamentos'!C:C,'Ações-Lançamentos'!D:D,$A174,'Ações-Lançamentos'!B:B,\"v\")","v":0},{"$f":"IF(C174=0,0,SUMIFS('Ações-Lançamentos'!K:K,'Ações-Lançamentos'!D:D,$A174,'Ações-Lançamentos'!B:B,\"C\")-SUMIFS('Ações-Lançamentos'!K:K,'Ações-Lançamentos'!D:D,$A174,'Ações-Lançamentos'!B:B,\"v\"))-SUMIFS('Ações-Lançamentos'!K:K,'Ações-Lançamentos'!D:D,$A174,'Ações-Lançamentos'!L:L,\"BONIFICAÇÃO\")","v":0},0,null,{"$f":"IFERROR(VLOOKUP(A174,Cotações!B:C,2,FALSE),\"\")","v":""},0,0,null,null,0,null,0,0,null,{"$f":"IF(OR(A174=\"\",A174=\"(vazio)\"),0,IFERROR(LOOKUP(2,1/('Ações-Lançamentos'!D:D=A174),'Ações-Lançamentos'!O:O),0))","v":0},null,{"$f":"IF(OR(A174=\"\",A174=\"(vazio)\"),0,IFERROR(LOOKUP(2,1/('Ações-Lançamentos'!D:D=A174),'Ações-Lançamentos'!N:N),0))","v":0},null,null,null,null,null,null,"",""]
[null,".sa",{"$f":"SUMIFS('Ações-Lançamentos'!C:C,'Ações-Lançamentos'!D:D,$A175,'Ações-Lançamentos'!B:B,\"C\")+SUMIFS('Ações-Lançamentos'!C:C,'Ações-Lançamentos'!D:D,$A175,'Ações-Lançamentos'!B:B,\"v\")","v":0},{"$f":"IF(C175=0,0,SUMIFS('Ações-Lançamentos'!K:K,'Ações-Lançamentos'!D:D,$A175,'Ações-Lançamentos'!B:B,\"C\")-SUMIFS('Ações-Lançamentos'!K:K,'Ações-Lançamentos'!D:D,$A175,'Ações-Lançamentos'!B:B,\"v\"))-SUMIFS('Ações-Lançamentos'!K:K,'Ações-Lançamentos'!D:D,$A175,'Ações-Lançamentos'!L:L,\"BONIFICAÇÃO\")","v":0},0,null,{"$f":"IFERROR(VLOOKUP(A175,Cotações!B:C,2,FALSE),\"\")","v":""},0,0,null,null,0,null,0,0,null,{"$f":"IF(OR(A175=\"\",A175=\"(vazio)\"),0,IFERROR(LOOKUP(2,1/('Ações-Lançamentos'!D:D=A175),'Ações-Lançamentos'!O:O),0))","v":0},null,{"$f":"IF(OR(A175=\"\",A175=\"(vazio)\"),0,IFERROR(LOOKUP(2,1/('Ações-Lançamentos'!D:D=A175),'Ações-Lançamentos'!N:N),0))","v":0},null,null,null,null,null,null,"",""]
[null,".sa",{"$f":"SUMIFS('Ações-Lançamentos'!C:C,'Ações-Lançamentos'!D:D,$A176,'Ações-Lançamentos'!B:B,\"C\")+SUMIFS('Ações-Lançamentos'!C:C,'Ações-Lançamentos'!D:D,$A176,'Ações-Lançamentos'!B:B,\"v\")","v":0},{"$f":"IF(C176=0,0,SUMIFS('Ações-Lançamentos'!K:K,'Ações-Lançamentos'!D:D,$A176,'Ações-Lançamentos'!B:B,\"C\")-SUMIFS('Ações-Lançamentos'!K:K,'Ações-Lançamentos'!D:D,$A176,'Ações-Lançamentos'!B:B,\"v\"))-SUMIFS('Ações-Lançamentos'!K:K,'Ações-Lançamentos'!D:D,$A176,'Ações-Lançamentos'!L:L,\"BONIFICAÇÃO\")","v":0},0,null,{"$f":"IFERROR(VLOOKUP(A176,Cotações!B:C,2,FALSE),\"\")","v":""},0,0,null,null,0,null,0,0,null,{"$f":"IF(OR(A176=\"\",A176=\"(vazio)\"),0,IFERROR(LOOKUP(2,1/('Ações-Lançamentos'!D:D=A176),'Ações-Lançamentos'!O:O),0))","v":0},null,{"$f":"IF(OR(A176=\"\",A176=\"(vazio)\"),0,IFERROR(LOOKUP(2,1/('Ações-Lançamentos'!D:D=A176),'Ações-Lançamentos'!N:N),0))","v":0},null,null,null,null,null,null,"",""]
[null,".sa",{"$f":"SUMIFS('Ações-Lançamentos'!C:C,'Ações-Lançamentos'!D:D,$A177,'Ações-Lançamentos'!B:B,\"C\")+SUMIFS('Ações-Lançamentos'!C:C,'Ações-Lançamentos'!D:D,$A177,'Ações-Lançamentos'!B:B,\"v\")","v":0},{"$f":"IF(C177=0,0,SUMIFS('Ações-Lançamentos'!K:K,'Ações-Lançamentos'!D:D,$A177,'Ações-Lançamentos'!B:B,\"C\")-SUMIFS('Ações-Lançamentos'!K:K,'Ações-Lançamentos'!D:D,$A177,'Ações-Lançamentos'!B:B,\"v\"))-SUMIFS('Ações-Lançamentos'!K:K,'Ações-Lançamentos'!D:D,$A177,'Ações-Lançamentos'!L:L,\"BONIFICAÇÃO\")","v":0},0,null,{"$f":"IFERROR(VLOOKUP(A177,Cotações!B:C,2,FALSE),\"\")","v":""},0,0,null,null,0,null,0,0,null,{"$f":"IF(OR(A177=\"\",A177=\"(vazio)\"),0,IFERROR(LOOKUP(2,1/('Ações-Lançamentos'!D:D=A177),'Ações-Lançamentos'!O:O),0))","v":0},null,{"$f":"IF(OR(A177=\"\",A177=\"(vazio)\"),0,IFERROR(LOOKUP(2,1/('Ações-Lançamentos'!D:D=A177),'Ações-Lançamentos'!N:N),0))","v":0},null,null,null,null,null,null,"",""]
[null,".sa",{"$f":"SUMIFS('Ações-Lançamentos'!C:C,'Ações-Lançamentos'!D:D,$A178,'Ações-Lançamentos'!B:B,\"C\")+SUMIFS('Ações-Lançamentos'!C:C,'Ações-Lançamentos'!D:D,$A178,'Ações-Lançamentos'!B:B,\"v\")","v":0},{"$f":"IF(C178=0,0,SUMIFS('Ações-Lançamentos'!K:K,'Ações-Lançamentos'!D:D,$A178,'Ações-Lançamentos'!B:B,\"C\")-SUMIFS('Ações-Lançamentos'!K:K,'Ações-Lançamentos'!D:D,$A178,'Ações-Lançamentos'!B:B,\"v\"))-SUMIFS('Ações-Lançamentos'!K:K,'Ações-Lançamentos'!D:D,$A178,'Ações-Lançamentos'!L:L,\"BONIFICAÇÃO\")","v":0},0,null,{"$f":"IFERROR(VLOOKUP(A178,Cotações!B:C,2,FALSE),\"\")","v":""},0,0,null,null,0,null,0,0,null,{"$f":"IF(OR(A178=\"\",A178=\"(vazio)\"),0,IFERROR(LOOKUP(2,1/('Ações-Lançamentos'!D:D=A178),'Ações-Lançamentos'!O:O),0))","v":0},null,{"$f":"IF(OR(A178=\"\",A178=\"(vazio)\"),0,IFERROR(LOOKUP(2,1/('Ações-Lançamentos'!D:D=A178),'Ações-Lançamentos'!N:N),0))","v":0},null,null,null,null,null,null,"",""]
[null,".sa",{"$f":"SUMIFS('Ações-Lançamentos'!C:C,'Ações-Lançamentos'!D:D,$A179,'Ações-Lançamentos'!B:B,\"C\")+SUMIFS('Ações-Lançamentos'!C:C,'Ações-Lançamentos'!D:D,$A179,'Ações-Lançamentos'!B:B,\"v\")","v":0},{"$f":"IF(C179=0,0,SUMIFS('Ações-Lançamentos'!K:K,'Ações-Lançamentos'!D:D,$A179,'Ações-Lançamentos'!B:B,\"C\")-SUMIFS('Ações-Lançamentos'!K:K,'Ações-Lançamentos'!D:D,$A179,'Ações-Lançamentos'!B:B,\"v\"))-SUMIFS('Ações-Lançamentos'!K:K,'Ações-Lançamentos'!D:D,$A179,'Ações-Lançamentos'!L:L,\"BONIFICAÇÃO\")","v":0},0,null,{"$f":"IFERROR(VLOOKUP(A179,Cotações!B:C,2,FALSE),\"\")","v":""},0,0,null,null,0,null,0,0,null,{"$f":"IF(OR(A179=\"\",A179=\"(vazio)\"),0,IFERROR(LOOKUP(2,1/('Ações-Lançamentos'!D:D=A179),'Ações-Lançamentos'!O:O),0))","v":0},null,{"$f":"IF(OR(A179=\"\",A179=\"(vazio)\"),0,IFERROR(LOOKUP(2,1/('Ações-Lançamentos'!D:D=A179),'Ações-Lançamentos'!N:N),0))","v":0},null,null,null,null,null,null,"",""]
[null,".sa",{"$f":"SUMIFS('Ações-Lançamentos'!C:C,'Ações-Lançamentos'!D:D,$A180,'Ações-Lançamentos'!B:B,\"C\")+SUMIFS('Ações-Lançamentos'!C:C,'Ações-Lançamentos'!D:D,$A180,'Ações-Lançamentos'!B:B,\"v\")","v":0},{"$f":"IF(C180=0,0,SUMIFS('Ações-Lançamentos'!K:K,'Ações-Lançamentos'!D:D,$A180,'Ações-Lançamentos'!B:B,\"C\")-SUMIFS('Ações-Lançamentos'!K:K,'Ações-Lançamentos'!D:D,$A180,'Ações-Lançamentos'!B:B,\"v\"))-SUMIFS('Ações-Lançamentos'!K:K,'Ações-Lançamentos'!D:D,$A180,'Ações-Lançamentos'!L:L,\"BONIFICAÇÃO\")","v":0},0,null,{"$f":"IFERROR(VLOOKUP(A180,Cotações!B:C,2,FALSE),\"\")","v":""},0,0,null,null,0,null,0,0,null,{"$f":"IF(OR(A180=\"\",A180=\"(vazio)\"),0,IFERROR(LOOKUP(2,1/('Ações-Lançamentos'!D:D=A180),'Ações-Lançamentos'!O:O),0))","v":0},null,{"$f":"IF(OR(A180=\"\",A180=\"(vazio)\"),0,IFERROR(LOOKUP(2,1/('Ações-Lançamentos'!D:D=A180),'Ações-Lançamentos'!N:N),0))","v":0},null,null,null,null,null,null,"",""]
[null,".sa",{"$f":"SUMIFS('Ações-Lançamentos'!C:C,'Ações-Lançamentos'!D:D,$A181,'Ações-Lançamentos'!B:B,\"C\")+SUMIFS('Ações-Lançamentos'!C:C,'Ações-Lançamentos'!D:D,$A181,'Ações-Lançamentos'!B:B,\"v\")","v":0},{"$f":"IF(C181=0,0,SUMIFS('Ações-Lançamentos'!K:K,'Ações-Lançamentos'!D:D,$A181,'Ações-Lançamentos'!B:B,\"C\")-SUMIFS('Ações-Lançamentos'!K:K,'Ações-Lançamentos'!D:D,$A181,'Ações-Lançamentos'!B:B,\"v\"))-SUMIFS('Ações-Lançamentos'!K:K,'Ações-Lançamentos'!D:D,$A181,'Ações-Lançamentos'!L:L,\"BONIFICAÇÃO\")","v":0},0,null,{"$f":"IFERROR(VLOOKUP(A181,Cotações!B:C,2,FALSE),\"\")","v":""},0,0,null,null,0,null,0,0,null,{"$f":"IF(OR(A181=\"\",A181=\"(vazio)\"),0,IFERROR(LOOKUP(2,1/('Ações-Lançamentos'!D:D=A181),'Ações-Lançamentos'!O:O),0))","v":0},null,{"$f":"IF(OR(A181=\"\",A181=\"(vazio)\"),0,IFERROR(LOOKUP(2,1/('Ações-Lançamentos'!D:D=A181),'Ações-Lançamentos'!N:N),0))","v":0},null,null,null,null,null,null,"",""]
[null,".sa",{"$f":"SUMIFS('Ações-Lançamentos'!C:C,'Ações-Lançamentos'!D:D,$A182,'Ações-Lançamentos'!B:B,\"C\")+SUMIFS('Ações-Lançamentos'!C:C,'Ações-Lançamentos'!D:D,$A182,'Ações-Lançamentos'!B:B,\"v\")","v":0},{"$f":"IF(C182=0,0,SUMIFS('Ações-Lançamentos'!K:K,'Ações-Lançamentos'!D:D,$A182,'Ações-Lançamentos'!B:B,\"C\")-SUMIFS('Ações-Lançamentos'!K:K,'Ações-Lançamentos'!D:D,$A182,'Ações-Lançamentos'!B:B,\"v\"))-SUMIFS('Ações-Lançamentos'!K:K,'Ações-Lançamentos'!D:D,$A182,'Ações-Lançamentos'!L:L,\"BONIFICAÇÃO\")","v":0},0,null,{"$f":"IFERROR(VLOOKUP(A182,Cotações!B:C,2,FALSE),\"\")","v":""},0,0,null,null,0,null,0,0,null,{"$f":"IF(OR(A182=\"\",A182=\"(vazio)\"),0,IFERROR(LOOKUP(2,1/('Ações-Lançamentos'!D:D=A182),'Ações-Lançamentos'!O:O),0))","v":0},null,{"$f":"IF(OR(A182=\"\",A182=\"(vazio)\"),0,IFERROR(LOOKUP(2,1/('Ações-Lançamentos'!D:D=A182),'Ações-Lançamentos'!N:N),0))","v":0},null,null,null,null,null,null,"",""]
[null,".sa",{"$f":"SUMIFS('Ações-Lançamentos'!C:C,'Ações-Lançamentos'!D:D,$A183,'Ações-Lançamentos'!B:B,\"C\")+SUMIFS('Ações-Lançamentos'!C:C,'Ações-Lançamentos'!D:D,$A183,'Ações-Lançamentos'!B:B,\"v\")","v":0},{"$f":"IF(C183=0,0,SUMIFS('Ações-Lançamentos'!K:K,'Ações-Lançamentos'!D:D,$A183,'Ações-Lançamentos'!B:B,\"C\")-SUMIFS('Ações-Lançamentos'!K:K,'Ações-Lançamentos'!D:D,$A183,'Ações-Lançamentos'!B:B,\"v\"))-SUMIFS('Ações-Lançamentos'!K:K,'Ações-Lançamentos'!D:D,$A183,'Ações-Lançamentos'!L:L,\"BONIFICAÇÃO\")","v":0},0,null,{"$f":"IFERROR(VLOOKUP(A183,Cotações!B:C,2,FALSE),\"\")","v":""},0,0,null,null,0,null,0,0,null,{"$f":"IF(OR(A183=\"\",A183=\"(vazio)\"),0,IFERROR(LOOKUP(2,1/('Ações-Lançamentos'!D:D=A183),'Ações-Lançamentos'!O:O),0))","v":0},null,{"$f":"IF(OR(A183=\"\",A183=\"(vazio)\"),0,IFERROR(LOOKUP(2,1/('Ações-Lançamentos'!D:D=A183),'Ações-Lançamentos'!N:N),0))","v":0},null,null,null,null,null,null,"",""]
[null,".sa",{"$f":"SUMIFS('Ações-Lançamentos'!C:C,'Ações-Lançamentos'!D:D,$A184,'Ações-Lançamentos'!B:B,\"C\")+SUMIFS('Ações-Lançamentos'!C:C,'Ações-Lançamentos'!D:D,$A184,'Ações-Lançamentos'!B:B,\"v\")","v":0},{"$f":"IF(C184=0,0,SUMIFS('Ações-Lançamentos'!K:K,'Ações-Lançamentos'!D:D,$A184,'Ações-Lançamentos'!B:B,\"C\")-SUMIFS('Ações-Lançamentos'!K:K,'Ações-Lançamentos'!D:D,$A184,'Ações-Lançamentos'!B:B,\"v\"))-SUMIFS('Ações-Lançamentos'!K:K,'Ações-Lançamentos'!D:D,$A184,'Ações-Lançamentos'!L:L,\"BONIFICAÇÃO\")","v":0},0,null,{"$f":"IFERROR(VLOOKUP(A184,Cotações!B:C,2,FALSE),\"\")","v":""},0,0,null,null,0,null,0,0,null,{"$f":"IF(OR(A184=\"\",A184=\"(vazio)\"),0,IFERROR(LOOKUP(2,1/('Ações-Lançamentos'!D:D=A184),'Ações-Lançamentos'!O:O),0))","v":0},null,{"$f":"IF(OR(A184=\"\",A184=\"(vazio)\"),0,IFERROR(LOOKUP(2,1/('Ações-Lançamentos'!D:D=A184),'Ações-Lançamentos'!N:N),0))","v":0},null,null,null,null,null,null,"",""]
[null,".sa",{"$f":"SUMIFS('Ações-Lançamentos'!C:C,'Ações-Lançamentos'!D:D,$A185,'Ações-Lançamentos'!B:B,\"C\")+SUMIFS('Ações-Lançamentos'!C:C,'Ações-Lançamentos'!D:D,$A185,'Ações-Lançamentos'!B:B,\"v\")","v":0},{"$f":"IF(C185=0,0,SUMIFS('Ações-Lançamentos'!K:K,'Ações-Lançamentos'!D:D,$A185,'Ações-Lançamentos'!B:B,\"C\")-SUMIFS('Ações-Lançamentos'!K:K,'Ações-Lançamentos'!D:D,$A185,'Ações-Lançamentos'!B:B,\"v\"))-SUMIFS('Ações-Lançamentos'!K:K,'Ações-Lançamentos'!D:D,$A185,'Ações-Lançamentos'!L:L,\"BONIFICAÇÃO\")","v":0},0,null,{"$f":"IFERROR(VLOOKUP(A185,Cotações!B:C,2,FALSE),\"\")","v":""},0,0,null,null,0,null,0,0,null,{"$f":"IF(OR(A185=\"\",A185=\"(vazio)\"),0,IFERROR(LOOKUP(2,1/('Ações-Lançamentos'!D:D=A185),'Ações-Lançamentos'!O:O),0))","v":0},null,{"$f":"IF(OR(A185=\"\",A185=\"(vazio)\"),0,IFERROR(LOOKUP(2,1/('Ações-Lançamentos'!D:D=A185),'Ações-Lançamentos'!N:N),0))","v":0},null,null,null,null,null,null,"",""]
[null,".sa",{"$f":"SUMIFS('Ações-Lançamentos'!C:C,'Ações-Lançamentos'!D:D,$A186,'Ações-Lançamentos'!B:B,\"C\")+SUMIFS('Ações-Lançamentos'!C:C,'Ações-Lançamentos'!D:D,$A186,'Ações-Lançamentos'!B:B,\"v\")","v":0},{"$f":"IF(C186=0,0,SUMIFS('Ações-Lançamentos'!K:K,'Ações-Lançamentos'!D:D,$A186,'Ações-Lançamentos'!B:B,\"C\")-SUMIFS('Ações-Lançamentos'!K:K,'Ações-Lançamentos'!D:D,$A186,'Ações-Lançamentos'!B:B,\"v\"))-SUMIFS('Ações-Lançamentos'!K:K,'Ações-Lançamentos'!D:D,$A186,'Ações-Lançamentos'!L:L,\"BONIFICAÇÃO\")","v":0},0,null,{"$f":"IFERROR(VLOOKUP(A186,Cotações!B:C,2,FALSE),\"\")","v":""},0,0,null,null,0,null,0,0,null,{"$f":"IF(OR(A186=\"\",A186=\"(vazio)\"),0,IFERROR(LOOKUP(2,1/('Ações-Lançamentos'!D:D=A186),'Ações-Lançamentos'!O:O),0))","v":0},null,{"$f":"IF(OR(A186=\"\",A186=\"(vazio)\"),0,IFERROR(LOOKUP(2,1/('Ações-Lançamentos'!D:D=A186),'Ações-Lançamentos'!N:N),0))","v":0},null,null,null,null,null,null,"",""]
[null,".sa",{"$f":"SUMIFS('Ações-Lançamentos'!C:C,'Ações-Lançamentos'!D:D,$A187,'Ações-Lançamentos'!B:B,\"C\")+SUMIFS('Ações-Lançamentos'!C:C,'Ações-Lançamentos'!D:D,$A187,'Ações-Lançamentos'!B:B,\"v\")","v":0},{"$f":"IF(C187=0,0,SUMIFS('Ações-Lançamentos'!K:K,'Ações-Lançamentos'!D:D,$A187,'Ações-Lançamentos'!B:B,\"C\")-SUMIFS('Ações-Lançamentos'!K:K,'Ações-Lançamentos'!D:D,$A187,'Ações-Lançamentos'!B:B,\"v\"))-SUMIFS('Ações-Lançamentos'!K:K,'Ações-Lançamentos'!D:D,$A187,'Ações-Lançamentos'!L:L,\"BONIFICAÇÃO\")","v":0},0,null,{"$f":"IFERROR(VLOOKUP(A187,Cotações!B:C,2,FALSE),\"\")","v":""},0,0,null,null,0,null,0,0,null,{"$f":"IF(OR(A187=\"\",A187=\"(vazio)\"),0,IFERROR(LOOKUP(2,1/('Ações-Lançamentos'!D:D=A187),'Ações-Lançamentos'!O:O),0))","v":0},null,{"$f":"IF(OR(A187=\"\",A187=\"(vazio)\"),0,IFERROR(LOOKUP(2,1/('Ações-Lançamentos'!D:D=A187),'Ações-Lançamentos'!N:N),0))","v":0},null,null,null,null,null,null,"",""]
[null,".sa",{"$f":"SUMIFS('Ações-Lançamentos'!C:C,'Ações-Lançamentos'!D:D,$A188,'Ações-Lançamentos'!B:B,\"C\")+SUMIFS('Ações-Lançamentos'!C:C,'Ações-Lançamentos'!D:D,$A188,'Ações-Lançamentos'!B:B,\"v\")","v":0},{"$f":"IF(C188=0,0,SUMIFS('Ações-Lançamentos'!K:K,'Ações-Lançamentos'!D:D,$A188,'Ações-Lançamentos'!B:B,\"C\")-SUMIFS('Ações-Lançamentos'!K:K,'Ações-Lançamentos'!D:D,$A188,'Ações-Lançamentos'!B:B,\"v\"))-SUMIFS('Ações-Lançamentos'!K:K,'Ações-Lançamentos'!D:D,$A188,'Ações-Lançamentos'!L:L,\"BONIFICAÇÃO\")","v":0},0,null,{"$f":"IFERROR(VLOOKUP(A188,Cotações!B:C,2,FALSE),\"\")","v":""},0,0,null,null,0,null,0,0,null,{"$f":"IF(OR(A188=\"\",A188=\"(vazio)\"),0,IFERROR(LOOKUP(2,1/('Ações-Lançamentos'!D:D=A188),'Ações-Lançamentos'!O:O),0))","v":0},null,{"$f":"IF(OR(A188=\"\",A188=\"(vazio)\"),0,IFERROR(LOOKUP(2,1/('Ações-Lançamentos'!D:D=A188),'Ações-Lançamentos'!N:N),0))","v":0},null,null,null,null,null,null,"",""]
[null,".sa",{"$f":"SUMIFS('Ações-Lançamentos'!C:C,'Ações-Lançamentos'!D:D,$A189,'Ações-Lançamentos'!B:B,\"C\")+SUMIFS('Ações-Lançamentos'!C:C,'Ações-Lançamentos'!D:D,$A189,'Ações-Lançamentos'!B:B,\"v\")","v":0},{"$f":"IF(C189=0,0,SUMIFS('Ações-Lançamentos'!K:K,'Ações-Lançamentos'!D:D,$A189,'Ações-Lançamentos'!B:B,\"C\")-SUMIFS('Ações-Lançamentos'!K:K,'Ações-Lançamentos'!D:D,$A189,'Ações-Lançamentos'!B:B,\"v\"))-SUMIFS('Ações-Lançamentos'!K:K,'Ações-Lançamentos'!D:D,$A189,'Ações-Lançamentos'!L:L,\"BONIFICAÇÃO\")","v":0},0,null,{"$f":"IFERROR(VLOOKUP(A189,Cotações!B:C,2,FALSE),\"\")","v":""},0,0,null,null,0,null,0,0,null,{"$f":"IF(OR(A189=\"\",A189=\"(vazio)\"),0,IFERROR(LOOKUP(2,1/('Ações-Lançamentos'!D:D=A189),'Ações-Lançamentos'!O:O),0))","v":0},null,{"$f":"IF(OR(A189=\"\",A189=\"(vazio)\"),0,IFERROR(LOOKUP(2,1/('Ações-Lançamentos'!D:D=A189),'Ações-Lançamentos'!N:N),0))","v":0},null,null,null,null,null,null,"",""]
[null,".sa",{"$f":"SUMIFS('Ações-Lançamentos'!C:C,'Ações-Lançamentos'!D:D,$A190,'Ações-Lançamentos'!B:B,\"C\")+SUMIFS('Ações-Lançamentos'!C:C,'Ações-Lançamentos'!D:D,$A190,'Ações-Lançamentos'!B:B,\"v\")","v":0},{"$f":"IF(C190=0,0,SUMIFS('Ações-Lançamentos'!K:K,'Ações-Lançamentos'!D:D,$A190,'Ações-Lançamentos'!B:B,\"C\")-SUMIFS('Ações-Lançamentos'!K:K,'Ações-Lançamentos'!D:D,$A190,'Ações-Lançamentos'!B:B,\"v\"))-SUMIFS('Ações-Lançamentos'!K:K,'Ações-Lançamentos'!D:D,$A190,'Ações-Lançamentos'!L:L,\"BONIFICAÇÃO\")","v":0},0,null,{"$f":"IFERROR(VLOOKUP(A190,Cotações!B:C,2,FALSE),\"\")","v":""},0,0,null,null,0,null,0,0,null,{"$f":"IF(OR(A190=\"\",A190=\"(vazio)\"),0,IFERROR(LOOKUP(2,1/('Ações-Lançamentos'!D:D=A190),'Ações-Lançamentos'!O:O),0))","v":0},null,{"$f":"IF(OR(A190=\"\",A190=\"(vazio)\"),0,IFERROR(LOOKUP(2,1/('Ações-Lançamentos'!D:D=A190),'Ações-Lançamentos'!N:N),0))","v":0},null,null,null,null,null,null,"",""]
[null,".sa",{"$f":"SUMIFS('Ações-Lançamentos'!C:C,'Ações-Lançamentos'!D:D,$A191,'Ações-Lançamentos'!B:B,\"C\")+SUMIFS('Ações-Lançamentos'!C:C,'Ações-Lançamentos'!D:D,$A191,'Ações-Lançamentos'!B:B,\"v\")","v":0},{"$f":"IF(C191=0,0,SUMIFS('Ações-Lançamentos'!K:K,'Ações-Lançamentos'!D:D,$A191,'Ações-Lançamentos'!B:B,\"C\")-SUMIFS('Ações-Lançamentos'!K:K,'Ações-Lançamentos'!D:D,$A191,'Ações-Lançamentos'!B:B,\"v\"))-SUMIFS('Ações-Lançamentos'!K:K,'Ações-Lançamentos'!D:D,$A191,'Ações-Lançamentos'!L:L,\"BONIFICAÇÃO\")","v":0},0,null,{"$f":"IFERROR(VLOOKUP(A191,Cotações!B:C,2,FALSE),\"\")","v":""},0,0,null,null,0,null,0,0,null,{"$f":"IF(OR(A191=\"\",A191=\"(vazio)\"),0,IFERROR(LOOKUP(2,1/('Ações-Lançamentos'!D:D=A191),'Ações-Lançamentos'!O:O),0))","v":0},null,{"$f":"IF(OR(A191=\"\",A191=\"(vazio)\"),0,IFERROR(LOOKUP(2,1/('Ações-Lançamentos'!D:D=A191),'Ações-Lançamentos'!N:N),0))","v":0},null,null,null,null,null,null,"",""]
[null,".sa",{"$f":"SUMIFS('Ações-Lançamentos'!C:C,'Ações-Lançamentos'!D:D,$A192,'Ações-Lançamentos'!B:B,\"C\")+SUMIFS('Ações-Lançamentos'!C:C,'Ações-Lançamentos'!D:D,$A192,'Ações-Lançamentos'!B:B,\"v\")","v":0},{"$f":"IF(C192=0,0,SUMIFS('Ações-Lançamentos'!K:K,'Ações-Lançamentos'!D:D,$A192,'Ações-Lançamentos'!B:B,\"C\")-SUMIFS('Ações-Lançamentos'!K:K,'Ações-Lançamentos'!D:D,$A192,'Ações-Lançamentos'!B:B,\"v\"))-SUMIFS('Ações-Lançamentos'!K:K,'Ações-Lançamentos'!D:D,$A192,'Ações-Lançamentos'!L:L,\"BONIFICAÇÃO\")","v":0},0,null,{"$f":"IFERROR(VLOOKUP(A192,Cotações!B:C,2,FALSE),\"\")","v":""},0,0,null,null,0,null,0,0,null,{"$f":"IF(OR(A192=\"\",A192=\"(vazio)\"),0,IFERROR(LOOKUP(2,1/('Ações-Lançamentos'!D:D=A192),'Ações-Lançamentos'!O:O),0))","v":0},null,{"$f":"IF(OR(A192=\"\",A192=\"(vazio)\"),0,IFERROR(LOOKUP(2,1/('Ações-Lançamentos'!D:D=A192),'Ações-Lançamentos'!N:N),0))","v":0},null,null,null,null,null,null,"",""]
[null,".sa",{"$f":"SUMIFS('Ações-Lançamentos'!C:C,'Ações-Lançamentos'!D:D,$A193,'Ações-Lançamentos'!B:B,\"C\")+SUMIFS('Ações-Lançamentos'!C:C,'Ações-Lançamentos'!D:D,$A193,'Ações-Lançamentos'!B:B,\"v\")","v":0},{"$f":"IF(C193=0,0,SUMIFS('Ações-Lançamentos'!K:K,'Ações-Lançamentos'!D:D,$A193,'Ações-Lançamentos'!B:B,\"C\")-SUMIFS('Ações-Lançamentos'!K:K,'Ações-Lançamentos'!D:D,$A193,'Ações-Lançamentos'!B:B,\"v\"))-SUMIFS('Ações-Lançamentos'!K:K,'Ações-Lançamentos'!D:D,$A193,'Ações-Lançamentos'!L:L,\"BONIFICAÇÃO\")","v":0},0,null,{"$f":"IFERROR(VLOOKUP(A193,Cotações!B:C,2,FALSE),\"\")","v":""},0,0,null,null,0,null,0,0,null,{"$f":"IF(OR(A193=\"\",A193=\"(vazio)\"),0,IFERROR(LOOKUP(2,1/('Ações-Lançamentos'!D:D=A193),'Ações-Lançamentos'!O:O),0))","v":0},null,{"$f":"IF(OR(A193=\"\",A193=\"(vazio)\"),0,IFERROR(LOOKUP(2,1/('Ações-Lançamentos'!D:D=A193),'Ações-Lançamentos'!N:N),0))","v":0},null,null,null,null,null,null,"",""]
[null,".sa",{"$f":"SUMIFS('Ações-Lançamentos'!C:C,'Ações-Lançamentos'!D:D,$A194,'Ações-Lançamentos'!B:B,\"C\")+SUMIFS('Ações-Lançamentos'!C:C,'Ações-Lançamentos'!D:D,$A194,'Ações-Lançamentos'!B:B,\"v\")","v":0},{"$f":"IF(C194=0,0,SUMIFS('Ações-Lançamentos'!K:K,'Ações-Lançamentos'!D:D,$A194,'Ações-Lançamentos'!B:B,\"C\")-SUMIFS('Ações-Lançamentos'!K:K,'Ações-Lançamentos'!D:D,$A194,'Ações-Lançamentos'!B:B,\"v\"))-SUMIFS('Ações-Lançamentos'!K:K,'Ações-Lançamentos'!D:D,$A194,'Ações-Lançamentos'!L:L,\"BONIFICAÇÃO\")","v":0},0,null,{"$f":"IFERROR(VLOOKUP(A194,Cotações!B:C,2,FALSE),\"\")","v":""},0,0,null,null,0,null,0,0,null,{"$f":"IF(OR(A194=\"\",A194=\"(vazio)\"),0,IFERROR(LOOKUP(2,1/('Ações-Lançamentos'!D:D=A194),'Ações-Lançamentos'!O:O),0))","v":0},null,{"$f":"IF(OR(A194=\"\",A194=\"(vazio)\"),0,IFERROR(LOOKUP(2,1/('Ações-Lançamentos'!D:D=A194),'Ações-Lançamentos'!N:N),0))","v":0},null,null,null,null,null,null,"",""]
[null,".sa",{"$f":"SUMIFS('Ações-Lançamentos'!C:C,'Ações-Lançamentos'!D:D,$A195,'Ações-Lançamentos'!B:B,\"C\")+SUMIFS('Ações-Lançamentos'!C:C,'Ações-Lançamentos'!D:D,$A195,'Ações-Lançamentos'!B:B,\"v\")","v":0},{"$f":"IF(C195=0,0,SUMIFS('Ações-Lançamentos'!K:K,'Ações-Lançamentos'!D:D,$A195,'Ações-Lançamentos'!B:B,\"C\")-SUMIFS('Ações-Lançamentos'!K:K,'Ações-Lançamentos'!D:D,$A195,'Ações-Lançamentos'!B:B,\"v\"))-SUMIFS('Ações-Lançamentos'!K:K,'Ações-Lançamentos'!D:D,$A195,'Ações-Lançamentos'!L:L,\"BONIFICAÇÃO\")","v":0},0,null,{"$f":"IFERROR(VLOOKUP(A195,Cotações!B:C,2,FALSE),\"\")","v":""},0,0,null,null,0,null,0,0,null,{"$f":"IF(OR(A195=\"\",A195=\"(vazio)\"),0,IFERROR(LOOKUP(2,1/('Ações-Lançamentos'!D:D=A195),'Ações-Lançamentos'!O:O),0))","v":0},null,{"$f":"IF(OR(A195=\"\",A195=\"(vazio)\"),0,IFERROR(LOOKUP(2,1/('Ações-Lançamentos'!D:D=A195),'Ações-Lançamentos'!N:N),0))","v":0},null,null,null,null,null,null,"",""]
[null,{"$f":"CONCATENATE(A196,\".sa\")","v":".sa"},{"$f":"SUMIFS('Ações-Lançamentos'!C:C,'Ações-Lançamentos'!D:D,$A196,'Ações-Lançamentos'!B:B,\"C\")+SUMIFS('Ações-Lançamentos'!C:C,'Ações-Lançamentos'!D:D,$A196,'Ações-Lançamentos'!B:B,\"v\")","v":0},{"$f":"IF(C196=0,0,SUMIFS('Ações-Lançamentos'!K:K,'Ações-Lançamentos'!D:D,$A196,'Ações-Lançamentos'!B:B,\"C\")-SUMIFS('Ações-Lançamentos'!K:K,'Ações-Lançamentos'!D:D,$A196,'Ações-Lançamentos'!B:B,\"v\"))-SUMIFS('Ações-Lançamentos'!K:K,'Ações-Lançamentos'!D:D,$A196,'Ações-Lançamentos'!L:L,\"BONIFICAÇÃO\")","v":0},{"$f":"IF($V$9=0,0,D196/$V$9)","v":0},null,{"$f":"IFERROR(VLOOKUP(A196,Cotações!B:C,2,FALSE),\"\")","v":""},{"$f":"IF(C196=\"\",0,IF(G196=\"\",D196,C196*G196))","v":0},{"$f":"IF($V$11=0,0,H196/$V$11)","v":0},null,null,{"$f":"IF(OR(K196=\"\",I196=\"\",E196=\"\"),0,IF($K$2=\"% ATUAL\",K196-I196,K196-E196))","v":0},null,{"$f":"IF(OR(D196=0,G196=\"\"),0,H196-D196)","v":0},{"$f":"IF(OR(D196=0,G196=\"\"),0,N196/D196)","v":0},null,{"$f":"IF(OR(A196=\"\",A196=\"(vazio)\"),0,IFERROR(LOOKUP(2,1/('Ações-Lançamentos'!D:D=A196),'Ações-Lançamentos'!O:O),0))","v":0},null,{"$f":"IF(OR(A196=\"\",A196=\"(vazio)\"),0,IFERROR(LOOKUP(2,1/('Ações-Lançamentos'!D:D=A196),'Ações-Lançamentos'!N:N),0))","v":0},null,null,null,null,null,null,"",""]
[null,".sa",{"$f":"SUMIFS('Ações-Lançamentos'!C:C,'Ações-Lançamentos'!D:D,$A197,'Ações-Lançamentos'!B:B,\"C\")+SUMIFS('Ações-Lançamentos'!C:C,'Ações-Lançamentos'!D:D,$A197,'Ações-Lançamentos'!B:B,\"v\")","v":0},{"$f":"IF(C197=0,0,SUMIFS('Ações-Lançamentos'!K:K,'Ações-Lançamentos'!D:D,$A197,'Ações-Lançamentos'!B:B,\"C\")-SUMIFS('Ações-Lançamentos'!K:K,'Ações-Lançamentos'!D:D,$A197,'Ações-Lançamentos'!B:B,\"v\"))-SUMIFS('Ações-Lançamentos'!K:K,'Ações-Lançamentos'!D:D,$A197,'Ações-Lançamentos'!L:L,\"BONIFICAÇÃO\")","v":0},0,null,{"$f":"IFERROR(VLOOKUP(A197,Cotações!B:C,2,FALSE),\"\")","v":""},0,0,null,null,0,null,0,0,null,{"$f":"IF(OR(A197=\"\",A197=\"(vazio)\"),0,IFERROR(LOOKUP(2,1/('Ações-Lançamentos'!D:D=A197),'Ações-Lançamentos'!O:O),0))","v":0},null,{"$f":"IF(OR(A197=\"\",A197=\"(vazio)\"),0,IFERROR(LOOKUP(2,1/('Ações-Lançamentos'!D:D=A197),'Ações-Lançamentos'!N:N),0))","v":0},null,null,null,null,null,null,"",""]
[null,".sa",{"$f":"SUMIFS('Ações-Lançamentos'!C:C,'Ações-Lançamentos'!D:D,$A198,'Ações-Lançamentos'!B:B,\"C\")+SUMIFS('Ações-Lançamentos'!C:C,'Ações-Lançamentos'!D:D,$A198,'Ações-Lançamentos'!B:B,\"v\")","v":0},{"$f":"IF(C198=0,0,SUMIFS('Ações-Lançamentos'!K:K,'Ações-Lançamentos'!D:D,$A198,'Ações-Lançamentos'!B:B,\"C\")-SUMIFS('Ações-Lançamentos'!K:K,'Ações-Lançamentos'!D:D,$A198,'Ações-Lançamentos'!B:B,\"v\"))-SUMIFS('Ações-Lançamentos'!K:K,'Ações-Lançamentos'!D:D,$A198,'Ações-Lançamentos'!L:L,\"BONIFICAÇÃO\")","v":0},0,null,{"$f":"IFERROR(VLOOKUP(A198,Cotações!B:C,2,FALSE),\"\")","v":""},0,0,null,null,0,null,0,0,null,{"$f":"IF(OR(A198=\"\",A198=\"(vazio)\"),0,IFERROR(LOOKUP(2,1/('Ações-Lançamentos'!D:D=A198),'Ações-Lançamentos'!O:O),0))","v":0},null,{"$f":"IF(OR(A198=\"\",A198=\"(vazio)\"),0,IFERROR(LOOKUP(2,1/('Ações-Lançamentos'!D:D=A198),'Ações-Lançamentos'!N:N),0))","v":0},null,null,null,null,null,null,"",""]
[null,".sa",{"$f":"SUMIFS('Ações-Lançamentos'!C:C,'Ações-Lançamentos'!D:D,$A199,'Ações-Lançamentos'!B:B,\"C\")+SUMIFS('Ações-Lançamentos'!C:C,'Ações-Lançamentos'!D:D,$A199,'Ações-Lançamentos'!B:B,\"v\")","v":0},{"$f":"IF(C199=0,0,SUMIFS('Ações-Lançamentos'!K:K,'Ações-Lançamentos'!D:D,$A199,'Ações-Lançamentos'!B:B,\"C\")-SUMIFS('Ações-Lançamentos'!K:K,'Ações-Lançamentos'!D:D,$A199,'Ações-Lançamentos'!B:B,\"v\"))-SUMIFS('Ações-Lançamentos'!K:K,'Ações-Lançamentos'!D:D,$A199,'Ações-Lançamentos'!L:L,\"BONIFICAÇÃO\")","v":0},0,null,{"$f":"IFERROR(VLOOKUP(A199,Cotações!B:C,2,FALSE),\"\")","v":""},0,0,null,null,0,null,0,0,null,{"$f":"IF(OR(A199=\"\",A199=\"(vazio)\"),0,IFERROR(LOOKUP(2,1/('Ações-Lançamentos'!D:D=A199),'Ações-Lançamentos'!O:O),0))","v":0},null,{"$f":"IF(OR(A199=\"\",A199=\"(vazio)\"),0,IFERROR(LOOKUP(2,1/('Ações-Lançamentos'!D:D=A199),'Ações-Lançamentos'!N:N),0))","v":0},null,null,null,null,null,null,"",""]
[null,".sa",{"$f":"SUMIFS('Ações-Lançamentos'!C:C,'Ações-Lançamentos'!D:D,$A200,'Ações-Lançamentos'!B:B,\"C\")+SUMIFS('Ações-Lançamentos'!C:C,'Ações-Lançamentos'!D:D,$A200,'Ações-Lançamentos'!B:B,\"v\")","v":0},{"$f":"IF(C200=0,0,SUMIFS('Ações-Lançamentos'!K:K,'Ações-Lançamentos'!D:D,$A200,'Ações-Lançamentos'!B:B,\"C\")-SUMIFS('Ações-Lançamentos'!K:K,'Ações-Lançamentos'!D:D,$A200,'Ações-Lançamentos'!B:B,\"v\"))-SUMIFS('Ações-Lançamentos'!K:K,'Ações-Lançamentos'!D:D,$A200,'Ações-Lançamentos'!L:L,\"BONIFICAÇÃO\")","v":0},0,null,{"$f":"IFERROR(VLOOKUP(A200,Cotações!B:C,2,FALSE),\"\")","v":""},0,0,null,null,0,null,0,0,null,{"$f":"IF(OR(A200=\"\",A200=\"(vazio)\"),0,IFERROR(LOOKUP(2,1/('Ações-Lançamentos'!D:D=A200),'Ações-Lançamentos'!O:O),0))","v":0},null,{"$f":"IF(OR(A200=\"\",A200=\"(vazio)\"),0,IFERROR(LOOKUP(2,1/('Ações-Lançamentos'!D:D=A200),'Ações-Lançamentos'!N:N),0))","v":0},null,null,null,null,null,null,"",""]
[null,".sa",{"$f":"SUMIFS('Ações-Lançamentos'!C:C,'Ações-Lançamentos'!D:D,$A201,'Ações-Lançamentos'!B:B,\"C\")+SUMIFS('Ações-Lançamentos'!C:C,'Ações-Lançamentos'!D:D,$A201,'Ações-Lançamentos'!B:B,\"v\")","v":0},{"$f":"IF(C201=0,0,SUMIFS('Ações-Lançamentos'!K:K,'Ações-Lançamentos'!D:D,$A201,'Ações-Lançamentos'!B:B,\"C\")-SUMIFS('Ações-Lançamentos'!K:K,'Ações-Lançamentos'!D:D,$A201,'Ações-Lançamentos'!B:B,\"v\"))-SUMIFS('Ações-Lançamentos'!K:K,'Ações-Lançamentos'!D:D,$A201,'Ações-Lançamentos'!L:L,\"BONIFICAÇÃO\")","v":0},0,null,{"$f":"IFERROR(VLOOKUP(A201,Cotações!B:C,2,FALSE),\"\")","v":""},0,0,null,null,0,null,0,0,null,{"$f":"IF(OR(A201=\"\",A201=\"(vazio)\"),0,IFERROR(LOOKUP(2,1/('Ações-Lançamentos'!D:D=A201),'Ações-Lançamentos'!O:O),0))","v":0},null,{"$f":"IF(OR(A201=\"\",A201=\"(vazio)\"),0,IFERROR(LOOKUP(2,1/('Ações-Lançamentos'!D:D=A201),'Ações-Lançamentos'!N:N),0))","v":0},null,null,null,null,null,null,"",""]
[null,".sa",{"$f":"SUMIFS('Ações-Lançamentos'!C:C,'Ações-Lançamentos'!D:D,$A202,'Ações-Lançamentos'!B:B,\"C\")+SUMIFS('Ações-Lançamentos'!C:C,'Ações-Lançamentos'!D:D,$A202,'Ações-Lançamentos'!B:B,\"v\")","v":0},{"$f":"IF(C202=0,0,SUMIFS('Ações-Lançamentos'!K:K,'Ações-Lançamentos'!D:D,$A202,'Ações-Lançamentos'!B:B,\"C\")-SUMIFS('Ações-Lançamentos'!K:K,'Ações-Lançamentos'!D:D,$A202,'Ações-Lançamentos'!B:B,\"v\"))-SUMIFS('Ações-Lançamentos'!K:K,'Ações-Lançamentos'!D:D,$A202,'Ações-Lançamentos'!L:L,\"BONIFICAÇÃO\")","v":0},0,null,{"$f":"IFERROR(VLOOKUP(A202,Cotações!B:C,2,FALSE),\"\")","v":""},0,0,null,null,0,null,0,0,null,{"$f":"IF(OR(A202=\"\",A202=\"(vazio)\"),0,IFERROR(LOOKUP(2,1/('Ações-Lançamentos'!D:D=A202),'Ações-Lançamentos'!O:O),0))","v":0},null,{"$f":"IF(OR(A202=\"\",A202=\"(vazio)\"),0,IFERROR(LOOKUP(2,1/('Ações-Lançamentos'!D:D=A202),'Ações-Lançamentos'!N:N),0))","v":0},null,null,null,null,null,null,"",""]
[null,".sa",{"$f":"SUMIFS('Ações-Lançamentos'!C:C,'Ações-Lançamentos'!D:D,$A203,'Ações-Lançamentos'!B:B,\"C\")+SUMIFS('Ações-Lançamentos'!C:C,'Ações-Lançamentos'!D:D,$A203,'Ações-Lançamentos'!B:B,\"v\")","v":0},{"$f":"IF(C203=0,0,SUMIFS('Ações-Lançamentos'!K:K,'Ações-Lançamentos'!D:D,$A203,'Ações-Lançamentos'!B:B,\"C\")-SUMIFS('Ações-Lançamentos'!K:K,'Ações-Lançamentos'!D:D,$A203,'Ações-Lançamentos'!B:B,\"v\"))-SUMIFS('Ações-Lançamentos'!K:K,'Ações-Lançamentos'!D:D,$A203,'Ações-Lançamentos'!L:L,\"BONIFICAÇÃO\")","v":0},0,null,{"$f":"IFERROR(VLOOKUP(A203,Cotações!B:C,2,FALSE),\"\")","v":""},0,0,null,null,0,null,0,0,null,{"$f":"IF(OR(A203=\"\",A203=\"(vazio)\"),0,IFERROR(LOOKUP(2,1/('Ações-Lançamentos'!D:D=A203),'Ações-Lançamentos'!O:O),0))","v":0},null,{"$f":"IF(OR(A203=\"\",A203=\"(vazio)\"),0,IFERROR(LOOKUP(2,1/('Ações-Lançamentos'!D:D=A203),'Ações-Lançamentos'!N:N),0))","v":0},null,null,null,null,null,null,"",""]
[null,".sa",{"$f":"SUMIFS('Ações-Lançamentos'!C:C,'Ações-Lançamentos'!D:D,$A204,'Ações-Lançamentos'!B:B,\"C\")+SUMIFS('Ações-Lançamentos'!C:C,'Ações-Lançamentos'!D:D,$A204,'Ações-Lançamentos'!B:B,\"v\")","v":0},{"$f":"IF(C204=0,0,SUMIFS('Ações-Lançamentos'!K:K,'Ações-Lançamentos'!D:D,$A204,'Ações-Lançamentos'!B:B,\"C\")-SUMIFS('Ações-Lançamentos'!K:K,'Ações-Lançamentos'!D:D,$A204,'Ações-Lançamentos'!B:B,\"v\"))-SUMIFS('Ações-Lançamentos'!K:K,'Ações-Lançamentos'!D:D,$A204,'Ações-Lançamentos'!L:L,\"BONIFICAÇÃO\")","v":0},0,null,{"$f":"IFERROR(VLOOKUP(A204,Cotações!B:C,2,FALSE),\"\")","v":""},0,0,null,null,0,null,0,0,null,{"$f":"IF(OR(A204=\"\",A204=\"(vazio)\"),0,IFERROR(LOOKUP(2,1/('Ações-Lançamentos'!D:D=A204),'Ações-Lançamentos'!O:O),0))","v":0},null,{"$f":"IF(OR(A204=\"\",A204=\"(vazio)\"),0,IFERROR(LOOKUP(2,1/('Ações-Lançamentos'!D:D=A204),'Ações-Lançamentos'!N:N),0))","v":0},null,null,null,null,null,null,"",""]
[null,".sa",{"$f":"SUMIFS('Ações-Lançamentos'!C:C,'Ações-Lançamentos'!D:D,$A205,'Ações-Lançamentos'!B:B,\"C\")+SUMIFS('Ações-Lançamentos'!C:C,'Ações-Lançamentos'!D:D,$A205,'Ações-Lançamentos'!B:B,\"v\")","v":0},{"$f":"IF(C205=0,0,SUMIFS('Ações-Lançamentos'!K:K,'Ações-Lançamentos'!D:D,$A205,'Ações-Lançamentos'!B:B,\"C\")-SUMIFS('Ações-Lançamentos'!K:K,'Ações-Lançamentos'!D:D,$A205,'Ações-Lançamentos'!B:B,\"v\"))-SUMIFS('Ações-Lançamentos'!K:K,'Ações-Lançamentos'!D:D,$A205,'Ações-Lançamentos'!L:L,\"BONIFICAÇÃO\")","v":0},0,null,{"$f":"IFERROR(VLOOKUP(A205,Cotações!B:C,2,FALSE),\"\")","v":""},0,0,null,null,0,null,0,0,null,{"$f":"IF(OR(A205=\"\",A205=\"(vazio)\"),0,IFERROR(LOOKUP(2,1/('Ações-Lançamentos'!D:D=A205),'Ações-Lançamentos'!O:O),0))","v":0},null,{"$f":"IF(OR(A205=\"\",A205=\"(vazio)\"),0,IFERROR(LOOKUP(2,1/('Ações-Lançamentos'!D:D=A205),'Ações-Lançamentos'!N:N),0))","v":0},null,null,null,null,null,null,"",""]
[null,".sa",{"$f":"SUMIFS('Ações-Lançamentos'!C:C,'Ações-Lançamentos'!D:D,$A206,'Ações-Lançamentos'!B:B,\"C\")+SUMIFS('Ações-Lançamentos'!C:C,'Ações-Lançamentos'!D:D,$A206,'Ações-Lançamentos'!B:B,\"v\")","v":0},{"$f":"IF(C206=0,0,SUMIFS('Ações-Lançamentos'!K:K,'Ações-Lançamentos'!D:D,$A206,'Ações-Lançamentos'!B:B,\"C\")-SUMIFS('Ações-Lançamentos'!K:K,'Ações-Lançamentos'!D:D,$A206,'Ações-Lançamentos'!B:B,\"v\"))-SUMIFS('Ações-Lançamentos'!K:K,'Ações-Lançamentos'!D:D,$A206,'Ações-Lançamentos'!L:L,\"BONIFICAÇÃO\")","v":0},0,null,{"$f":"IFERROR(VLOOKUP(A206,Cotações!B:C,2,FALSE),\"\")","v":""},0,0,null,null,0,null,0,0,null,{"$f":"IF(OR(A206=\"\",A206=\"(vazio)\"),0,IFERROR(LOOKUP(2,1/('Ações-Lançamentos'!D:D=A206),'Ações-Lançamentos'!O:O),0))","v":0},null,{"$f":"IF(OR(A206=\"\",A206=\"(vazio)\"),0,IFERROR(LOOKUP(2,1/('Ações-Lançamentos'!D:D=A206),'Ações-Lançamentos'!N:N),0))","v":0},null,null,null,null,null,null,{"$f":"IF(K206=\"\",\"\",K206-I206)","v":""},{"$f":"IF(OR($A206=\"TOTAL\",$A206=\"\"),\"\",$A206)","v":""}]
[null,".sa",{"$f":"SUMIFS('Ações-Lançamentos'!C:C,'Ações-Lançamentos'!D:D,$A207,'Ações-Lançamentos'!B:B,\"C\")+SUMIFS('Ações-Lançamentos'!C:C,'Ações-Lançamentos'!D:D,$A207,'Ações-Lançamentos'!B:B,\"v\")","v":0},{"$f":"IF(C207=0,0,SUMIFS('Ações-Lançamentos'!K:K,'Ações-Lançamentos'!D:D,$A207,'Ações-Lançamentos'!B:B,\"C\")-SUMIFS('Ações-Lançamentos'!K:K,'Ações-Lançamentos'!D:D,$A207,'Ações-Lançamentos'!B:B,\"v\"))-SUMIFS('Ações-Lançamentos'!K:K,'Ações-Lançamentos'!D:D,$A207,'Ações-Lançamentos'!L:L,\"BONIFICAÇÃO\")","v":0},0,null,{"$f":"IFERROR(VLOOKUP(A207,Cotações!B:C,2,FALSE),\"\")","v":""},0,0,null,null,0,null,0,0,null,{"$f":"IF(OR(A207=\"\",A207=\"(vazio)\"),0,IFERROR(LOOKUP(2,1/('Ações-Lançamentos'!D:D=A207),'Ações-Lançamentos'!O:O),0))","v":0},null,{"$f":"IF(OR(A207=\"\",A207=\"(vazio)\"),0,IFERROR(LOOKUP(2,1/('Ações-Lançamentos'!D:D=A207),'Ações-Lançamentos'!N:N),0))","v":0},null,null,null,null,null,null,"",""]
[null,".sa",{"$f":"SUMIFS('Ações-Lançamentos'!C:C,'Ações-Lançamentos'!D:D,$A208,'Ações-Lançamentos'!B:B,\"C\")+SUMIFS('Ações-Lançamentos'!C:C,'Ações-Lançamentos'!D:D,$A208,'Ações-Lançamentos'!B:B,\"v\")","v":0},{"$f":"IF(C208=0,0,SUMIFS('Ações-Lançamentos'!K:K,'Ações-Lançamentos'!D:D,$A208,'Ações-Lançamentos'!B:B,\"C\")-SUMIFS('Ações-Lançamentos'!K:K,'Ações-Lançamentos'!D:D,$A208,'Ações-Lançamentos'!B:B,\"v\"))-SUMIFS('Ações-Lançamentos'!K:K,'Ações-Lançamentos'!D:D,$A208,'Ações-Lançamentos'!L:L,\"BONIFICAÇÃO\")","v":0},0,null,{"$f":"IFERROR(VLOOKUP(A208,Cotações!B:C,2,FALSE),\"\")","v":""},0,0,null,null,0,null,0,0,null,{"$f":"IF(OR(A208=\"\",A208=\"(vazio)\"),0,IFERROR(LOOKUP(2,1/('Ações-Lançamentos'!D:D=A208),'Ações-Lançamentos'!O:O),0))","v":0},null,{"$f":"IF(OR(A208=\"\",A208=\"(vazio)\"),0,IFERROR(LOOKUP(2,1/('Ações-Lançamentos'!D:D=A208),'Ações-Lançamentos'!N:N),0))","v":0},null,null,null,null,null,null,"",""]
[null,".sa",{"$f":"SUMIFS('Ações-Lançamentos'!C:C,'Ações-Lançamentos'!D:D,$A209,'Ações-Lançamentos'!B:B,\"C\")+SUMIFS('Ações-Lançamentos'!C:C,'Ações-Lançamentos'!D:D,$A209,'Ações-Lançamentos'!B:B,\"v\")","v":0},{"$f":"IF(C209=0,0,SUMIFS('Ações-Lançamentos'!K:K,'Ações-Lançamentos'!D:D,$A209,'Ações-Lançamentos'!B:B,\"C\")-SUMIFS('Ações-Lançamentos'!K:K,'Ações-Lançamentos'!D:D,$A209,'Ações-Lançamentos'!B:B,\"v\"))-SUMIFS('Ações-Lançamentos'!K:K,'Ações-Lançamentos'!D:D,$A209,'Ações-Lançamentos'!L:L,\"BONIFICAÇÃO\")","v":0},0,null,{"$f":"IFERROR(VLOOKUP(A209,Cotações!B:C,2,FALSE),\"\")","v":""},0,0,null,null,0,null,0,0,null,{"$f":"IF(OR(A209=\"\",A209=\"(vazio)\"),0,IFERROR(LOOKUP(2,1/('Ações-Lançamentos'!D:D=A209),'Ações-Lançamentos'!O:O),0))","v":0},null,{"$f":"IF(OR(A209=\"\",A209=\"(vazio)\"),0,IFERROR(LOOKUP(2,1/('Ações-Lançamentos'!D:D=A209),'Ações-Lançamentos'!N:N),0))","v":0},null,null,null,null,null,null,"",""]
[null,".sa",{"$f":"SUMIFS('Ações-Lançamentos'!C:C,'Ações-Lançamentos'!D:D,$A210,'Ações-Lançamentos'!B:B,\"C\")+SUMIFS('Ações-Lançamentos'!C:C,'Ações-Lançamentos'!D:D,$A210,'Ações-Lançamentos'!B:B,\"v\")","v":0},{"$f":"IF(C210=0,0,SUMIFS('Ações-Lançamentos'!K:K,'Ações-Lançamentos'!D:D,$A210,'Ações-Lançamentos'!B:B,\"C\")-SUMIFS('Ações-Lançamentos'!K:K,'Ações-Lançamentos'!D:D,$A210,'Ações-Lançamentos'!B:B,\"v\"))-SUMIFS('Ações-Lançamentos'!K:K,'Ações-Lançamentos'!D:D,$A210,'Ações-Lançamentos'!L:L,\"BONIFICAÇÃO\")","v":0},0,null,{"$f":"IFERROR(VLOOKUP(A210,Cotações!B:C,2,FALSE),\"\")","v":""},0,0,null,null,0,null,0,0,null,{"$f":"IF(OR(A210=\"\",A210=\"(vazio)\"),0,IFERROR(LOOKUP(2,1/('Ações-Lançamentos'!D:D=A210),'Ações-Lançamentos'!O:O),0))","v":0},null,{"$f":"IF(OR(A210=\"\",A210=\"(vazio)\"),0,IFERROR(LOOKUP(2,1/('Ações-Lançamentos'!D:D=A210),'Ações-Lançamentos'!N:N),0))","v":0},null,null,null,null,null,null,"",""]
[null,".sa",{"$f":"SUMIFS('Ações-Lançamentos'!C:C,'Ações-Lançamentos'!D:D,$A211,'Ações-Lançamentos'!B:B,\"C\")+SUMIFS('Ações-Lançamentos'!C:C,'Ações-Lançamentos'!D:D,$A211,'Ações-Lançamentos'!B:B,\"v\")","v":0},{"$f":"IF(C211=0,0,SUMIFS('Ações-Lançamentos'!K:K,'Ações-Lançamentos'!D:D,$A211,'Ações-Lançamentos'!B:B,\"C\")-SUMIFS('Ações-Lançamentos'!K:K,'Ações-Lançamentos'!D:D,$A211,'Ações-Lançamentos'!B:B,\"v\"))-SUMIFS('Ações-Lançamentos'!K:K,'Ações-Lançamentos'!D:D,$A211,'Ações-Lançamentos'!L:L,\"BONIFICAÇÃO\")","v":0},0,null,{"$f":"IFERROR(VLOOKUP(A211,Cotações!B:C,2,FALSE),\"\")","v":""},0,0,null,null,0,null,0,0,null,{"$f":"IF(OR(A211=\"\",A211=\"(vazio)\"),0,IFERROR(LOOKUP(2,1/('Ações-Lançamentos'!D:D=A211),'Ações-Lançamentos'!O:O),0))","v":0},null,{"$f":"IF(OR(A211=\"\",A211=\"(vazio)\"),0,IFERROR(LOOKUP(2,1/('Ações-Lançamentos'!D:D=A211),'Ações-Lançamentos'!N:N),0))","v":0},null,null,null,null,null,null,"",""]
[null,".sa",{"$f":"SUMIFS('Ações-Lançamentos'!C:C,'Ações-Lançamentos'!D:D,$A212,'Ações-Lançamentos'!B:B,\"C\")+SUMIFS('Ações-Lançamentos'!C:C,'Ações-Lançamentos'!D:D,$A212,'Ações-Lançamentos'!B:B,\"v\")","v":0},{"$f":"IF(C212=0,0,SUMIFS('Ações-Lançamentos'!K:K,'Ações-Lançamentos'!D:D,$A212,'Ações-Lançamentos'!B:B,\"C\")-SUMIFS('Ações-Lançamentos'!K:K,'Ações-Lançamentos'!D:D,$A212,'Ações-Lançamentos'!B:B,\"v\"))-SUMIFS('Ações-Lançamentos'!K:K,'Ações-Lançamentos'!D:D,$A212,'Ações-Lançamentos'!L:L,\"BONIFICAÇÃO\")","v":0},0,null,{"$f":"IFERROR(VLOOKUP(A212,Cotações!B:C,2,FALSE),\"\")","v":""},0,0,null,null,0,null,0,0,null,{"$f":"IF(OR(A212=\"\",A212=\"(vazio)\"),0,IFERROR(LOOKUP(2,1/('Ações-Lançamentos'!D:D=A212),'Ações-Lançamentos'!O:O),0))","v":0},null,{"$f":"IF(OR(A212=\"\",A212=\"(vazio)\"),0,IFERROR(LOOKUP(2,1/('Ações-Lançamentos'!D:D=A212),'Ações-Lançamentos'!N:N),0))","v":0},null,null,null,null,null,null,"",""]
[null,".sa",{"$f":"SUMIFS('Ações-Lançamentos'!C:C,'Ações-Lançamentos'!D:D,$A213,'Ações-Lançamentos'!B:B,\"C\")+SUMIFS('Ações-Lançamentos'!C:C,'Ações-Lançamentos'!D:D,$A213,'Ações-Lançamentos'!B:B,\"v\")","v":0},{"$f":"IF(C213=0,0,SUMIFS('Ações-Lançamentos'!K:K,'Ações-Lançamentos'!D:D,$A213,'Ações-Lançamentos'!B:B,\"C\")-SUMIFS('Ações-Lançamentos'!K:K,'Ações-Lançamentos'!D:D,$A213,'Ações-Lançamentos'!B:B,\"v\"))-SUMIFS('Ações-Lançamentos'!K:K,'Ações-Lançamentos'!D:D,$A213,'Ações-Lançamentos'!L:L,\"BONIFICAÇÃO\")","v":0},0,null,{"$f":"IFERROR(VLOOKUP(A213,Cotações!B:C,2,FALSE),\"\")","v":""},0,0,null,null,0,null,0,0,null,{"$f":"IF(OR(A213=\"\",A213=\"(vazio)\"),0,IFERROR(LOOKUP(2,1/('Ações-Lançamentos'!D:D=A213),'Ações-Lançamentos'!O:O),0))","v":0},null,{"$f":"IF(OR(A213=\"\",A213=\"(vazio)\"),0,IFERROR(LOOKUP(2,1/('Ações-Lançamentos'!D:D=A213),'Ações-Lançamentos'!N:N),0))","v":0},null,null,null,null,null,null,"",""]
[null,".sa",{"$f":"SUMIFS('Ações-Lançamentos'!C:C,'Ações-Lançamentos'!D:D,$A214,'Ações-Lançamentos'!B:B,\"C\")+SUMIFS('Ações-Lançamentos'!C:C,'Ações-Lançamentos'!D:D,$A214,'Ações-Lançamentos'!B:B,\"v\")","v":0},{"$f":"IF(C214=0,0,SUMIFS('Ações-Lançamentos'!K:K,'Ações-Lançamentos'!D:D,$A214,'Ações-Lançamentos'!B:B,\"C\")-SUMIFS('Ações-Lançamentos'!K:K,'Ações-Lançamentos'!D:D,$A214,'Ações-Lançamentos'!B:B,\"v\"))-SUMIFS('Ações-Lançamentos'!K:K,'Ações-Lançamentos'!D:D,$A214,'Ações-Lançamentos'!L:L,\"BONIFICAÇÃO\")","v":0},0,null,{"$f":"IFERROR(VLOOKUP(A214,Cotações!B:C,2,FALSE),\"\")","v":""},0,0,null,null,0,null,0,0,null,{"$f":"IF(OR(A214=\"\",A214=\"(vazio)\"),0,IFERROR(LOOKUP(2,1/('Ações-Lançamentos'!D:D=A214),'Ações-Lançamentos'!O:O),0))","v":0},null,{"$f":"IF(OR(A214=\"\",A214=\"(vazio)\"),0,IFERROR(LOOKUP(2,1/('Ações-Lançamentos'!D:D=A214),'Ações-Lançamentos'!N:N),0))","v":0},null,null,null,null,null,null,"",""]
[null,".sa",{"$f":"SUMIFS('Ações-Lançamentos'!C:C,'Ações-Lançamentos'!D:D,$A215,'Ações-Lançamentos'!B:B,\"C\")+SUMIFS('Ações-Lançamentos'!C:C,'Ações-Lançamentos'!D:D,$A215,'Ações-Lançamentos'!B:B,\"v\")","v":0},{"$f":"IF(C215=0,0,SUMIFS('Ações-Lançamentos'!K:K,'Ações-Lançamentos'!D:D,$A215,'Ações-Lançamentos'!B:B,\"C\")-SUMIFS('Ações-Lançamentos'!K:K,'Ações-Lançamentos'!D:D,$A215,'Ações-Lançamentos'!B:B,\"v\"))-SUMIFS('Ações-Lançamentos'!K:K,'Ações-Lançamentos'!D:D,$A215,'Ações-Lançamentos'!L:L,\"BONIFICAÇÃO\")","v":0},0,null,{"$f":"IFERROR(VLOOKUP(A215,Cotações!B:C,2,FALSE),\"\")","v":""},0,0,null,null,0,null,0,0,null,{"$f":"IF(OR(A215=\"\",A215=\"(vazio)\"),0,IFERROR(LOOKUP(2,1/('Ações-Lançamentos'!D:D=A215),'Ações-Lançamentos'!O:O),0))","v":0},null,{"$f":"IF(OR(A215=\"\",A215=\"(vazio)\"),0,IFERROR(LOOKUP(2,1/('Ações-Lançamentos'!D:D=A215),'Ações-Lançamentos'!N:N),0))","v":0},null,null,null,null,null,null,"",""]
[null,".sa",{"$f":"SUMIFS('Ações-Lançamentos'!C:C,'Ações-Lançamentos'!D:D,$A216,'Ações-Lançamentos'!B:B,\"C\")+SUMIFS('Ações-Lançamentos'!C:C,'Ações-Lançamentos'!D:D,$A216,'Ações-Lançamentos'!B:B,\"v\")","v":0},{"$f":"IF(C216=0,0,SUMIFS('Ações-Lançamentos'!K:K,'Ações-Lançamentos'!D:D,$A216,'Ações-Lançamentos'!B:B,\"C\")-SUMIFS('Ações-Lançamentos'!K:K,'Ações-Lançamentos'!D:D,$A216,'Ações-Lançamentos'!B:B,\"v\"))-SUMIFS('Ações-Lançamentos'!K:K,'Ações-Lançamentos'!D:D,$A216,'Ações-Lançamentos'!L:L,\"BONIFICAÇÃO\")","v":0},0,null,{"$f":"IFERROR(VLOOKUP(A216,Cotações!B:C,2,FALSE),\"\")","v":""},0,0,null,null,0,null,0,0,null,{"$f":"IF(OR(A216=\"\",A216=\"(vazio)\"),0,IFERROR(LOOKUP(2,1/('Ações-Lançamentos'!D:D=A216),'Ações-Lançamentos'!O:O),0))","v":0},null,{"$f":"IF(OR(A216=\"\",A216=\"(vazio)\"),0,IFERROR(LOOKUP(2,1/('Ações-Lançamentos'!D:D=A216),'Ações-Lançamentos'!N:N),0))","v":0},null,null,null,null,null,null,"",""]
[null,".sa",{"$f":"SUMIFS('Ações-Lançamentos'!C:C,'Ações-Lançamentos'!D:D,$A217,'Ações-Lançamentos'!B:B,\"C\")+SUMIFS('Ações-Lançamentos'!C:C,'Ações-Lançamentos'!D:D,$A217,'Ações-Lançamentos'!B:B,\"v\")","v":0},{"$f":"IF(C217=0,0,SUMIFS('Ações-Lançamentos'!K:K,'Ações-Lançamentos'!D:D,$A217,'Ações-Lançamentos'!B:B,\"C\")-SUMIFS('Ações-Lançamentos'!K:K,'Ações-Lançamentos'!D:D,$A217,'Ações-Lançamentos'!B:B,\"v\"))-SUMIFS('Ações-Lançamentos'!K:K,'Ações-Lançamentos'!D:D,$A217,'Ações-Lançamentos'!L:L,\"BONIFICAÇÃO\")","v":0},0,null,{"$f":"IFERROR(VLOOKUP(A217,Cotações!B:C,2,FALSE),\"\")","v":""},0,0,null,null,0,null,0,0,null,{"$f":"IF(OR(A217=\"\",A217=\"(vazio)\"),0,IFERROR(LOOKUP(2,1/('Ações-Lançamentos'!D:D=A217),'Ações-Lançamentos'!O:O),0))","v":0},null,{"$f":"IF(OR(A217=\"\",A217=\"(vazio)\"),0,IFERROR(LOOKUP(2,1/('Ações-Lançamentos'!D:D=A217),'Ações-Lançamentos'!N:N),0))","v":0},null,null,null,null,null,null,"",""]
[null,".sa",{"$f":"SUMIFS('Ações-Lançamentos'!C:C,'Ações-Lançamentos'!D:D,$A218,'Ações-Lançamentos'!B:B,\"C\")+SUMIFS('Ações-Lançamentos'!C:C,'Ações-Lançamentos'!D:D,$A218,'Ações-Lançamentos'!B:B,\"v\")","v":0},{"$f":"IF(C218=0,0,SUMIFS('Ações-Lançamentos'!K:K,'Ações-Lançamentos'!D:D,$A218,'Ações-Lançamentos'!B:B,\"C\")-SUMIFS('Ações-Lançamentos'!K:K,'Ações-Lançamentos'!D:D,$A218,'Ações-Lançamentos'!B:B,\"v\"))-SUMIFS('Ações-Lançamentos'!K:K,'Ações-Lançamentos'!D:D,$A218,'Ações-Lançamentos'!L:L,\"BONIFICAÇÃO\")","v":0},0,null,{"$f":"IFERROR(VLOOKUP(A218,Cotações!B:C,2,FALSE),\"\")","v":""},0,0,null,null,0,null,0,0,null,{"$f":"IF(OR(A218=\"\",A218=\"(vazio)\"),0,IFERROR(LOOKUP(2,1/('Ações-Lançamentos'!D:D=A218),'Ações-Lançamentos'!O:O),0))","v":0},null,{"$f":"IF(OR(A218=\"\",A218=\"(vazio)\"),0,IFERROR(LOOKUP(2,1/('Ações-Lançamentos'!D:D=A218),'Ações-Lançamentos'!N:N),0))","v":0},null,null,null,null,null,null,"",""]
[null,".sa",{"$f":"SUMIFS('Ações-Lançamentos'!C:C,'Ações-Lançamentos'!D:D,$A219,'Ações-Lançamentos'!B:B,\"C\")+SUMIFS('Ações-Lançamentos'!C:C,'Ações-Lançamentos'!D:D,$A219,'Ações-Lançamentos'!B:B,\"v\")","v":0},{"$f":"IF(C219=0,0,SUMIFS('Ações-Lançamentos'!K:K,'Ações-Lançamentos'!D:D,$A219,'Ações-Lançamentos'!B:B,\"C\")-SUMIFS('Ações-Lançamentos'!K:K,'Ações-Lançamentos'!D:D,$A219,'Ações-Lançamentos'!B:B,\"v\"))-SUMIFS('Ações-Lançamentos'!K:K,'Ações-Lançamentos'!D:D,$A219,'Ações-Lançamentos'!L:L,\"BONIFICAÇÃO\")","v":0},0,null,{"$f":"IFERROR(VLOOKUP(A219,Cotações!B:C,2,FALSE),\"\")","v":""},0,0,null,null,0,null,0,0,null,{"$f":"IF(OR(A219=\"\",A219=\"(vazio)\"),0,IFERROR(LOOKUP(2,1/('Ações-Lançamentos'!D:D=A219),'Ações-Lançamentos'!O:O),0))","v":0},null,{"$f":"IF(OR(A219=\"\",A219=\"(vazio)\"),0,IFERROR(LOOKUP(2,1/('Ações-Lançamentos'!D:D=A219),'Ações-Lançamentos'!N:N),0))","v":0},null,null,null,null,null,null,"",""]
[null,".sa",{"$f":"SUMIFS('Ações-Lançamentos'!C:C,'Ações-Lançamentos'!D:D,$A220,'Ações-Lançamentos'!B:B,\"C\")+SUMIFS('Ações-Lançamentos'!C:C,'Ações-Lançamentos'!D:D,$A220,'Ações-Lançamentos'!B:B,\"v\")","v":0},{"$f":"IF(C220=0,0,SUMIFS('Ações-Lançamentos'!K:K,'Ações-Lançamentos'!D:D,$A220,'Ações-Lançamentos'!B:B,\"C\")-SUMIFS('Ações-Lançamentos'!K:K,'Ações-Lançamentos'!D:D,$A220,'Ações-Lançamentos'!B:B,\"v\"))-SUMIFS('Ações-Lançamentos'!K:K,'Ações-Lançamentos'!D:D,$A220,'Ações-Lançamentos'!L:L,\"BONIFICAÇÃO\")","v":0},0,null,{"$f":"IFERROR(VLOOKUP(A220,Cotações!B:C,2,FALSE),\"\")","v":""},0,0,null,null,0,null,0,0,null,{"$f":"IF(OR(A220=\"\",A220=\"(vazio)\"),0,IFERROR(LOOKUP(2,1/('Ações-Lançamentos'!D:D=A220),'Ações-Lançamentos'!O:O),0))","v":0},null,{"$f":"IF(OR(A220=\"\",A220=\"(vazio)\"),0,IFERROR(LOOKUP(2,1/('Ações-Lançamentos'!D:D=A220),'Ações-Lançamentos'!N:N),0))","v":0},null,null,null,null,null,null,"",""]
[null,".sa",{"$f":"SUMIFS('Ações-Lançamentos'!C:C,'Ações-Lançamentos'!D:D,$A221,'Ações-Lançamentos'!B:B,\"C\")+SUMIFS('Ações-Lançamentos'!C:C,'Ações-Lançamentos'!D:D,$A221,'Ações-Lançamentos'!B:B,\"v\")","v":0},{"$f":"IF(C221=0,0,SUMIFS('Ações-Lançamentos'!K:K,'Ações-Lançamentos'!D:D,$A221,'Ações-Lançamentos'!B:B,\"C\")-SUMIFS('Ações-Lançamentos'!K:K,'Ações-Lançamentos'!D:D,$A221,'Ações-Lançamentos'!B:B,\"v\"))-SUMIFS('Ações-Lançamentos'!K:K,'Ações-Lançamentos'!D:D,$A221,'Ações-Lançamentos'!L:L,\"BONIFICAÇÃO\")","v":0},0,null,{"$f":"IFERROR(VLOOKUP(A221,Cotações!B:C,2,FALSE),\"\")","v":""},0,0,null,null,0,null,0,0,null,{"$f":"IF(OR(A221=\"\",A221=\"(vazio)\"),0,IFERROR(LOOKUP(2,1/('Ações-Lançamentos'!D:D=A221),'Ações-Lançamentos'!O:O),0))","v":0},null,{"$f":"IF(OR(A221=\"\",A221=\"(vazio)\"),0,IFERROR(LOOKUP(2,1/('Ações-Lançamentos'!D:D=A221),'Ações-Lançamentos'!N:N),0))","v":0},null,null,null,null,null,null,"",""]
[null,".sa",{"$f":"SUMIFS('Ações-Lançamentos'!C:C,'Ações-Lançamentos'!D:D,$A222,'Ações-Lançamentos'!B:B,\"C\")+SUMIFS('Ações-Lançamentos'!C:C,'Ações-Lançamentos'!D:D,$A222,'Ações-Lançamentos'!B:B,\"v\")","v":0},{"$f":"IF(C222=0,0,SUMIFS('Ações-Lançamentos'!K:K,'Ações-Lançamentos'!D:D,$A222,'Ações-Lançamentos'!B:B,\"C\")-SUMIFS('Ações-Lançamentos'!K:K,'Ações-Lançamentos'!D:D,$A222,'Ações-Lançamentos'!B:B,\"v\"))-SUMIFS('Ações-Lançamentos'!K:K,'Ações-Lançamentos'!D:D,$A222,'Ações-Lançamentos'!L:L,\"BONIFICAÇÃO\")","v":0},0,null,{"$f":"IFERROR(VLOOKUP(A222,Cotações!B:C,2,FALSE),\"\")","v":""},0,0,null,null,0,null,0,0,null,{"$f":"IF(OR(A222=\"\",A222=\"(vazio)\"),0,IFERROR(LOOKUP(2,1/('Ações-Lançamentos'!D:D=A222),'Ações-Lançamentos'!O:O),0))","v":0},null,{"$f":"IF(OR(A222=\"\",A222=\"(vazio)\"),0,IFERROR(LOOKUP(2,1/('Ações-Lançamentos'!D:D=A222),'Ações-Lançamentos'!N:N),0))","v":0},null,null,null,null,null,null,"",""]
[null,".sa",{"$f":"SUMIFS('Ações-Lançamentos'!C:C,'Ações-Lançamentos'!D:D,$A223,'Ações-Lançamentos'!B:B,\"C\")+SUMIFS('Ações-Lançamentos'!C:C,'Ações-Lançamentos'!D:D,$A223,'Ações-Lançamentos'!B:B,\"v\")","v":0},{"$f":"IF(C223=0,0,SUMIFS('Ações-Lançamentos'!K:K,'Ações-Lançamentos'!D:D,$A223,'Ações-Lançamentos'!B:B,\"C\")-SUMIFS('Ações-Lançamentos'!K:K,'Ações-Lançamentos'!D:D,$A223,'Ações-Lançamentos'!B:B,\"v\"))-SUMIFS('Ações-Lançamentos'!K:K,'Ações-Lançamentos'!D:D,$A223,'Ações-Lançamentos'!L:L,\"BONIFICAÇÃO\")","v":0},0,null,{"$f":"IFERROR(VLOOKUP(A223,Cotações!B:C,2,FALSE),\"\")","v":""},0,0,null,null,0,null,0,0,null,{"$f":"IF(OR(A223=\"\",A223=\"(vazio)\"),0,IFERROR(LOOKUP(2,1/('Ações-Lançamentos'!D:D=A223),'Ações-Lançamentos'!O:O),0))","v":0},null,{"$f":"IF(OR(A223=\"\",A223=\"(vazio)\"),0,IFERROR(LOOKUP(2,1/('Ações-Lançamentos'!D:D=A223),'Ações-Lançamentos'!N:N),0))","v":0},null,null,null,null,null,null,"",""]
[null,".sa",{"$f":"SUMIFS('Ações-Lançamentos'!C:C,'Ações-Lançamentos'!D:D,$A224,'Ações-Lançamentos'!B:B,\"C\")+SUMIFS('Ações-Lançamentos'!C:C,'Ações-Lançamentos'!D:D,$A224,'Ações-Lançamentos'!B:B,\"v\")","v":0},{"$f":"IF(C224=0,0,SUMIFS('Ações-Lançamentos'!K:K,'Ações-Lançamentos'!D:D,$A224,'Ações-Lançamentos'!B:B,\"C\")-SUMIFS('Ações-Lançamentos'!K:K,'Ações-Lançamentos'!D:D,$A224,'Ações-Lançamentos'!B:B,\"v\"))-SUMIFS('Ações-Lançamentos'!K:K,'Ações-Lançamentos'!D:D,$A224,'Ações-Lançamentos'!L:L,\"BONIFICAÇÃO\")","v":0},0,null,{"$f":"IFERROR(VLOOKUP(A224,Cotações!B:C,2,FALSE),\"\")","v":""},0,0,null,null,0,null,0,0,null,{"$f":"IF(OR(A224=\"\",A224=\"(vazio)\"),0,IFERROR(LOOKUP(2,1/('Ações-Lançamentos'!D:D=A224),'Ações-Lançamentos'!O:O),0))","v":0},null,{"$f":"IF(OR(A224=\"\",A224=\"(vazio)\"),0,IFERROR(LOOKUP(2,1/('Ações-Lançamentos'!D:D=A224),'Ações-Lançamentos'!N:N),0))","v":0},null,null,null,null,null,null,"",""]
[null,".sa",{"$f":"SUMIFS('Ações-Lançamentos'!C:C,'Ações-Lançamentos'!D:D,$A225,'Ações-Lançamentos'!B:B,\"C\")+SUMIFS('Ações-Lançamentos'!C:C,'Ações-Lançamentos'!D:D,$A225,'Ações-Lançamentos'!B:B,\"v\")","v":0},{"$f":"IF(C225=0,0,SUMIFS('Ações-Lançamentos'!K:K,'Ações-Lançamentos'!D:D,$A225,'Ações-Lançamentos'!B:B,\"C\")-SUMIFS('Ações-Lançamentos'!K:K,'Ações-Lançamentos'!D:D,$A225,'Ações-Lançamentos'!B:B,\"v\"))-SUMIFS('Ações-Lançamentos'!K:K,'Ações-Lançamentos'!D:D,$A225,'Ações-Lançamentos'!L:L,\"BONIFICAÇÃO\")","v":0},0,null,{"$f":"IFERROR(VLOOKUP(A225,Cotações!B:C,2,FALSE),\"\")","v":""},0,0,null,null,0,null,0,0,null,{"$f":"IF(OR(A225=\"\",A225=\"(vazio)\"),0,IFERROR(LOOKUP(2,1/('Ações-Lançamentos'!D:D=A225),'Ações-Lançamentos'!O:O),0))","v":0},null,{"$f":"IF(OR(A225=\"\",A225=\"(vazio)\"),0,IFERROR(LOOKUP(2,1/('Ações-Lançamentos'!D:D=A225),'Ações-Lançamentos'!N:N),0))","v":0},null,null,null,null,null,null,"",""]
[null,".sa",{"$f":"SUMIFS('Ações-Lançamentos'!C:C,'Ações-Lançamentos'!D:D,$A226,'Ações-Lançamentos'!B:B,\"C\")+SUMIFS('Ações-Lançamentos'!C:C,'Ações-Lançamentos'!D:D,$A226,'Ações-Lançamentos'!B:B,\"v\")","v":0},{"$f":"IF(C226=0,0,SUMIFS('Ações-Lançamentos'!K:K,'Ações-Lançamentos'!D:D,$A226,'Ações-Lançamentos'!B:B,\"C\")-SUMIFS('Ações-Lançamentos'!K:K,'Ações-Lançamentos'!D:D,$A226,'Ações-Lançamentos'!B:B,\"v\"))-SUMIFS('Ações-Lançamentos'!K:K,'Ações-Lançamentos'!D:D,$A226,'Ações-Lançamentos'!L:L,\"BONIFICAÇÃO\")","v":0},0,null,{"$f":"IFERROR(VLOOKUP(A226,Cotações!B:C,2,FALSE),\"\")","v":""},0,0,null,null,0,null,0,0,null,{"$f":"IF(OR(A226=\"\",A226=\"(vazio)\"),0,IFERROR(LOOKUP(2,1/('Ações-Lançamentos'!D:D=A226),'Ações-Lançamentos'!O:O),0))","v":0},null,{"$f":"IF(OR(A226=\"\",A226=\"(vazio)\"),0,IFERROR(LOOKUP(2,1/('Ações-Lançamentos'!D:D=A226),'Ações-Lançamentos'!N:N),0))","v":0},null,null,null,null,null,null,"",""]
[null,".sa",{"$f":"SUMIFS('Ações-Lançamentos'!C:C,'Ações-Lançamentos'!D:D,$A227,'Ações-Lançamentos'!B:B,\"C\")+SUMIFS('Ações-Lançamentos'!C:C,'Ações-Lançamentos'!D:D,$A227,'Ações-Lançamentos'!B:B,\"v\")","v":0},{"$f":"IF(C227=0,0,SUMIFS('Ações-Lançamentos'!K:K,'Ações-Lançamentos'!D:D,$A227,'Ações-Lançamentos'!B:B,\"C\")-SUMIFS('Ações-Lançamentos'!K:K,'Ações-Lançamentos'!D:D,$A227,'Ações-Lançamentos'!B:B,\"v\"))-SUMIFS('Ações-Lançamentos'!K:K,'Ações-Lançamentos'!D:D,$A227,'Ações-Lançamentos'!L:L,\"BONIFICAÇÃO\")","v":0},0,null,{"$f":"IFERROR(VLOOKUP(A227,Cotações!B:C,2,FALSE),\"\")","v":""},0,0,null,null,0,null,0,0,null,{"$f":"IF(OR(A227=\"\",A227=\"(vazio)\"),0,IFERROR(LOOKUP(2,1/('Ações-Lançamentos'!D:D=A227),'Ações-Lançamentos'!O:O),0))","v":0},null,{"$f":"IF(OR(A227=\"\",A227=\"(vazio)\"),0,IFERROR(LOOKUP(2,1/('Ações-Lançamentos'!D:D=A227),'Ações-Lançamentos'!N:N),0))","v":0},null,null,null,null,null,null,"",""]
[null,".sa",{"$f":"SUMIFS('Ações-Lançamentos'!C:C,'Ações-Lançamentos'!D:D,$A228,'Ações-Lançamentos'!B:B,\"C\")+SUMIFS('Ações-Lançamentos'!C:C,'Ações-Lançamentos'!D:D,$A228,'Ações-Lançamentos'!B:B,\"v\")","v":0},{"$f":"IF(C228=0,0,SUMIFS('Ações-Lançamentos'!K:K,'Ações-Lançamentos'!D:D,$A228,'Ações-Lançamentos'!B:B,\"C\")-SUMIFS('Ações-Lançamentos'!K:K,'Ações-Lançamentos'!D:D,$A228,'Ações-Lançamentos'!B:B,\"v\"))-SUMIFS('Ações-Lançamentos'!K:K,'Ações-Lançamentos'!D:D,$A228,'Ações-Lançamentos'!L:L,\"BONIFICAÇÃO\")","v":0},0,null,{"$f":"IFERROR(VLOOKUP(A228,Cotações!B:C,2,FALSE),\"\")","v":""},0,0,null,null,0,null,0,0,null,{"$f":"IF(OR(A228=\"\",A228=\"(vazio)\"),0,IFERROR(LOOKUP(2,1/('Ações-Lançamentos'!D:D=A228),'Ações-Lançamentos'!O:O),0))","v":0},null,{"$f":"IF(OR(A228=\"\",A228=\"(vazio)\"),0,IFERROR(LOOKUP(2,1/('Ações-Lançamentos'!D:D=A228),'Ações-Lançamentos'!N:N),0))","v":0},null,null,null,null,null,null,"",""]
[null,".sa",{"$f":"SUMIFS('Ações-Lançamentos'!C:C,'Ações-Lançamentos'!D:D,$A229,'Ações-Lançamentos'!B:B,\"C\")+SUMIFS('Ações-Lançamentos'!C:C,'Ações-Lançamentos'!D:D,$A229,'Ações-Lançamentos'!B:B,\"v\")","v":0},{"$f":"IF(C229=0,0,SUMIFS('Ações-Lançamentos'!K:K,'Ações-Lançamentos'!D:D,$A229,'Ações-Lançamentos'!B:B,\"C\")-SUMIFS('Ações-Lançamentos'!K:K,'Ações-Lançamentos'!D:D,$A229,'Ações-Lançamentos'!B:B,\"v\"))-SUMIFS('Ações-Lançamentos'!K:K,'Ações-Lançamentos'!D:D,$A229,'Ações-Lançamentos'!L:L,\"BONIFICAÇÃO\")","v":0},0,null,{"$f":"IFERROR(VLOOKUP(A229,Cotações!B:C,2,FALSE),\"\")","v":""},0,0,null,null,0,null,0,0,null,{"$f":"IF(OR(A229=\"\",A229=\"(vazio)\"),0,IFERROR(LOOKUP(2,1/('Ações-Lançamentos'!D:D=A229),'Ações-Lançamentos'!O:O),0))","v":0},null,{"$f":"IF(OR(A229=\"\",A229=\"(vazio)\"),0,IFERROR(LOOKUP(2,1/('Ações-Lançamentos'!D:D=A229),'Ações-Lançamentos'!N:N),0))","v":0},null,null,null,null,null,null,"",""]
[null,".sa",{"$f":"SUMIFS('Ações-Lançamentos'!C:C,'Ações-Lançamentos'!D:D,$A230,'Ações-Lançamentos'!B:B,\"C\")+SUMIFS('Ações-Lançamentos'!C:C,'Ações-Lançamentos'!D:D,$A230,'Ações-Lançamentos'!B:B,\"v\")","v":0},{"$f":"IF(C230=0,0,SUMIFS('Ações-Lançamentos'!K:K,'Ações-Lançamentos'!D:D,$A230,'Ações-Lançamentos'!B:B,\"C\")-SUMIFS('Ações-Lançamentos'!K:K,'Ações-Lançamentos'!D:D,$A230,'Ações-Lançamentos'!B:B,\"v\"))-SUMIFS('Ações-Lançamentos'!K:K,'Ações-Lançamentos'!D:D,$A230,'Ações-Lançamentos'!L:L,\"BONIFICAÇÃO\")","v":0},0,null,{"$f":"IFERROR(VLOOKUP(A230,Cotações!B:C,2,FALSE),\"\")","v":""},0,0,null,null,0,null,0,0,null,{"$f":"IF(OR(A230=\"\",A230=\"(vazio)\"),0,IFERROR(LOOKUP(2,1/('Ações-Lançamentos'!D:D=A230),'Ações-Lançamentos'!O:O),0))","v":0},null,{"$f":"IF(OR(A230=\"\",A230=\"(vazio)\"),0,IFERROR(LOOKUP(2,1/('Ações-Lançamentos'!D:D=A230),'Ações-Lançamentos'!N:N),0))","v":0},null,null,null,null,null,null,"",""]
[null,".sa",{"$f":"SUMIFS('Ações-Lançamentos'!C:C,'Ações-Lançamentos'!D:D,$A231,'Ações-Lançamentos'!B:B,\"C\")+SUMIFS('Ações-Lançamentos'!C:C,'Ações-Lançamentos'!D:D,$A231,'Ações-Lançamentos'!B:B,\"v\")","v":0},{"$f":"IF(C231=0,0,SUMIFS('Ações-Lançamentos'!K:K,'Ações-Lançamentos'!D:D,$A231,'Ações-Lançamentos'!B:B,\"C\")-SUMIFS('Ações-Lançamentos'!K:K,'Ações-Lançamentos'!D:D,$A231,'Ações-Lançamentos'!B:B,\"v\"))-SUMIFS('Ações-Lançamentos'!K:K,'Ações-Lançamentos'!D:D,$A231,'Ações-Lançamentos'!L:L,\"BONIFICAÇÃO\")","v":0},0,null,{"$f":"IFERROR(VLOOKUP(A231,Cotações!B:C,2,FALSE),\"\")","v":""},0,0,null,null,0,null,0,0,null,{"$f":"IF(OR(A231=\"\",A231=\"(vazio)\"),0,IFERROR(LOOKUP(2,1/('Ações-Lançamentos'!D:D=A231),'Ações-Lançamentos'!O:O),0))","v":0},null,{"$f":"IF(OR(A231=\"\",A231=\"(vazio)\"),0,IFERROR(LOOKUP(2,1/('Ações-Lançamentos'!D:D=A231),'Ações-Lançamentos'!N:N),0))","v":0},null,null,null,null,null,null,"",""]
[null,".sa",{"$f":"SUMIFS('Ações-Lançamentos'!C:C,'Ações-Lançamentos'!D:D,$A232,'Ações-Lançamentos'!B:B,\"C\")+SUMIFS('Ações-Lançamentos'!C:C,'Ações-Lançamentos'!D:D,$A232,'Ações-Lançamentos'!B:B,\"v\")","v":0},{"$f":"IF(C232=0,0,SUMIFS('Ações-Lançamentos'!K:K,'Ações-Lançamentos'!D:D,$A232,'Ações-Lançamentos'!B:B,\"C\")-SUMIFS('Ações-Lançamentos'!K:K,'Ações-Lançamentos'!D:D,$A232,'Ações-Lançamentos'!B:B,\"v\"))-SUMIFS('Ações-Lançamentos'!K:K,'Ações-Lançamentos'!D:D,$A232,'Ações-Lançamentos'!L:L,\"BONIFICAÇÃO\")","v":0},0,null,{"$f":"IFERROR(VLOOKUP(A232,Cotações!B:C,2,FALSE),\"\")","v":""},0,0,null,null,0,null,0,0,null,{"$f":"IF(OR(A232=\"\",A232=\"(vazio)\"),0,IFERROR(LOOKUP(2,1/('Ações-Lançamentos'!D:D=A232),'Ações-Lançamentos'!O:O),0))","v":0},null,{"$f":"IF(OR(A232=\"\",A232=\"(vazio)\"),0,IFERROR(LOOKUP(2,1/('Ações-Lançamentos'!D:D=A232),'Ações-Lançamentos'!N:N),0))","v":0},null,null,null,null,null,null,"",""]
[null,".sa",{"$f":"SUMIFS('Ações-Lançamentos'!C:C,'Ações-Lançamentos'!D:D,$A233,'Ações-Lançamentos'!B:B,\"C\")+SUMIFS('Ações-Lançamentos'!C:C,'Ações-Lançamentos'!D:D,$A233,'Ações-Lançamentos'!B:B,\"v\")","v":0},{"$f":"IF(C233=0,0,SUMIFS('Ações-Lançamentos'!K:K,'Ações-Lançamentos'!D:D,$A233,'Ações-Lançamentos'!B:B,\"C\")-SUMIFS('Ações-Lançamentos'!K:K,'Ações-Lançamentos'!D:D,$A233,'Ações-Lançamentos'!B:B,\"v\"))-SUMIFS('Ações-Lançamentos'!K:K,'Ações-Lançamentos'!D:D,$A233,'Ações-Lançamentos'!L:L,\"BONIFICAÇÃO\")","v":0},0,null,{"$f":"IFERROR(VLOOKUP(A233,Cotações!B:C,2,FALSE),\"\")","v":""},0,0,null,null,0,null,0,0,null,{"$f":"IF(OR(A233=\"\",A233=\"(vazio)\"),0,IFERROR(LOOKUP(2,1/('Ações-Lançamentos'!D:D=A233),'Ações-Lançamentos'!O:O),0))","v":0},null,{"$f":"IF(OR(A233=\"\",A233=\"(vazio)\"),0,IFERROR(LOOKUP(2,1/('Ações-Lançamentos'!D:D=A233),'Ações-Lançamentos'!N:N),0))","v":0},null,null,null,null,null,null,"",""]
[null,".sa",{"$f":"SUMIFS('Ações-Lançamentos'!C:C,'Ações-Lançamentos'!D:D,$A234,'Ações-Lançamentos'!B:B,\"C\")+SUMIFS('Ações-Lançamentos'!C:C,'Ações-Lançamentos'!D:D,$A234,'Ações-Lançamentos'!B:B,\"v\")","v":0},{"$f":"IF(C234=0,0,SUMIFS('Ações-Lançamentos'!K:K,'Ações-Lançamentos'!D:D,$A234,'Ações-Lançamentos'!B:B,\"C\")-SUMIFS('Ações-Lançamentos'!K:K,'Ações-Lançamentos'!D:D,$A234,'Ações-Lançamentos'!B:B,\"v\"))-SUMIFS('Ações-Lançamentos'!K:K,'Ações-Lançamentos'!D:D,$A234,'Ações-Lançamentos'!L:L,\"BONIFICAÇÃO\")","v":0},0,null,{"$f":"IFERROR(VLOOKUP(A234,Cotações!B:C,2,FALSE),\"\")","v":""},0,0,null,null,0,null,0,0,null,{"$f":"IF(OR(A234=\"\",A234=\"(vazio)\"),0,IFERROR(LOOKUP(2,1/('Ações-Lançamentos'!D:D=A234),'Ações-Lançamentos'!O:O),0))","v":0},null,{"$f":"IF(OR(A234=\"\",A234=\"(vazio)\"),0,IFERROR(LOOKUP(2,1/('Ações-Lançamentos'!D:D=A234),'Ações-Lançamentos'!N:N),0))","v":0},null,null,null,null,null,null,"",""]
[null,".sa",{"$f":"SUMIFS('Ações-Lançamentos'!C:C,'Ações-Lançamentos'!D:D,$A235,'Ações-Lançamentos'!B:B,\"C\")+SUMIFS('Ações-Lançamentos'!C:C,'Ações-Lançamentos'!D:D,$A235,'Ações-Lançamentos'!B:B,\"v\")","v":0},{"$f":"IF(C235=0,0,SUMIFS('Ações-Lançamentos'!K:K,'Ações-Lançamentos'!D:D,$A235,'Ações-Lançamentos'!B:B,\"C\")-SUMIFS('Ações-Lançamentos'!K:K,'Ações-Lançamentos'!D:D,$A235,'Ações-Lançamentos'!B:B,\"v\"))-SUMIFS('Ações-Lançamentos'!K:K,'Ações-Lançamentos'!D:D,$A235,'Ações-Lançamentos'!L:L,\"BONIFICAÇÃO\")","v":0},0,null,{"$f":"IFERROR(VLOOKUP(A235,Cotações!B:C,2,FALSE),\"\")","v":""},0,0,null,null,0,null,0,0,null,{"$f":"IF(OR(A235=\"\",A235=\"(vazio)\"),0,IFERROR(LOOKUP(2,1/('Ações-Lançamentos'!D:D=A235),'Ações-Lançamentos'!O:O),0))","v":0},null,{"$f":"IF(OR(A235=\"\",A235=\"(vazio)\"),0,IFERROR(LOOKUP(2,1/('Ações-Lançamentos'!D:D=A235),'Ações-Lançamentos'!N:N),0))","v":0},null,null,null,null,null,null,"",""]
[null,".sa",{"$f":"SUMIFS('Ações-Lançamentos'!C:C,'Ações-Lançamentos'!D:D,$A236,'Ações-Lançamentos'!B:B,\"C\")+SUMIFS('Ações-Lançamentos'!C:C,'Ações-Lançamentos'!D:D,$A236,'Ações-Lançamentos'!B:B,\"v\")","v":0},{"$f":"IF(C236=0,0,SUMIFS('Ações-Lançamentos'!K:K,'Ações-Lançamentos'!D:D,$A236,'Ações-Lançamentos'!B:B,\"C\")-SUMIFS('Ações-Lançamentos'!K:K,'Ações-Lançamentos'!D:D,$A236,'Ações-Lançamentos'!B:B,\"v\"))-SUMIFS('Ações-Lançamentos'!K:K,'Ações-Lançamentos'!D:D,$A236,'Ações-Lançamentos'!L:L,\"BONIFICAÇÃO\")","v":0},0,null,{"$f":"IFERROR(VLOOKUP(A236,Cotações!B:C,2,FALSE),\"\")","v":""},0,0,null,null,0,null,0,0,null,{"$f":"IF(OR(A236=\"\",A236=\"(vazio)\"),0,IFERROR(LOOKUP(2,1/('Ações-Lançamentos'!D:D=A236),'Ações-Lançamentos'!O:O),0))","v":0},null,{"$f":"IF(OR(A236=\"\",A236=\"(vazio)\"),0,IFERROR(LOOKUP(2,1/('Ações-Lançamentos'!D:D=A236),'Ações-Lançamentos'!N:N),0))","v":0},null,null,null,null,null,null,"",""]
[null,".sa",{"$f":"SUMIFS('Ações-Lançamentos'!C:C,'Ações-Lançamentos'!D:D,$A237,'Ações-Lançamentos'!B:B,\"C\")+SUMIFS('Ações-Lançamentos'!C:C,'Ações-Lançamentos'!D:D,$A237,'Ações-Lançamentos'!B:B,\"v\")","v":0},{"$f":"IF(C237=0,0,SUMIFS('Ações-Lançamentos'!K:K,'Ações-Lançamentos'!D:D,$A237,'Ações-Lançamentos'!B:B,\"C\")-SUMIFS('Ações-Lançamentos'!K:K,'Ações-Lançamentos'!D:D,$A237,'Ações-Lançamentos'!B:B,\"v\"))-SUMIFS('Ações-Lançamentos'!K:K,'Ações-Lançamentos'!D:D,$A237,'Ações-Lançamentos'!L:L,\"BONIFICAÇÃO\")","v":0},0,null,{"$f":"IFERROR(VLOOKUP(A237,Cotações!B:C,2,FALSE),\"\")","v":""},0,0,null,null,0,null,0,0,null,{"$f":"IF(OR(A237=\"\",A237=\"(vazio)\"),0,IFERROR(LOOKUP(2,1/('Ações-Lançamentos'!D:D=A237),'Ações-Lançamentos'!O:O),0))","v":0},null,{"$f":"IF(OR(A237=\"\",A237=\"(vazio)\"),0,IFERROR(LOOKUP(2,1/('Ações-Lançamentos'!D:D=A237),'Ações-Lançamentos'!N:N),0))","v":0},null,null,null,null,null,null,"",""]
[null,".sa",{"$f":"SUMIFS('Ações-Lançamentos'!C:C,'Ações-Lançamentos'!D:D,$A238,'Ações-Lançamentos'!B:B,\"C\")+SUMIFS('Ações-Lançamentos'!C:C,'Ações-Lançamentos'!D:D,$A238,'Ações-Lançamentos'!B:B,\"v\")","v":0},{"$f":"IF(C238=0,0,SUMIFS('Ações-Lançamentos'!K:K,'Ações-Lançamentos'!D:D,$A238,'Ações-Lançamentos'!B:B,\"C\")-SUMIFS('Ações-Lançamentos'!K:K,'Ações-Lançamentos'!D:D,$A238,'Ações-Lançamentos'!B:B,\"v\"))-SUMIFS('Ações-Lançamentos'!K:K,'Ações-Lançamentos'!D:D,$A238,'Ações-Lançamentos'!L:L,\"BONIFICAÇÃO\")","v":0},0,null,{"$f":"IFERROR(VLOOKUP(A238,Cotações!B:C,2,FALSE),\"\")","v":""},0,0,null,null,0,null,0,0,null,{"$f":"IF(OR(A238=\"\",A238=\"(vazio)\"),0,IFERROR(LOOKUP(2,1/('Ações-Lançamentos'!D:D=A238),'Ações-Lançamentos'!O:O),0))","v":0},null,{"$f":"IF(OR(A238=\"\",A238=\"(vazio)\"),0,IFERROR(LOOKUP(2,1/('Ações-Lançamentos'!D:D=A238),'Ações-Lançamentos'!N:N),0))","v":0},null,null,null,null,null,null,"",""]
[null,".sa",{"$f":"SUMIFS('Ações-Lançamentos'!C:C,'Ações-Lançamentos'!D:D,$A239,'Ações-Lançamentos'!B:B,\"C\")+SUMIFS('Ações-Lançamentos'!C:C,'Ações-Lançamentos'!D:D,$A239,'Ações-Lançamentos'!B:B,\"v\")","v":0},{"$f":"IF(C239=0,0,SUMIFS('Ações-Lançamentos'!K:K,'Ações-Lançamentos'!D:D,$A239,'Ações-Lançamentos'!B:B,\"C\")-SUMIFS('Ações-Lançamentos'!K:K,'Ações-Lançamentos'!D:D,$A239,'Ações-Lançamentos'!B:B,\"v\"))-SUMIFS('Ações-Lançamentos'!K:K,'Ações-Lançamentos'!D:D,$A239,'Ações-Lançamentos'!L:L,\"BONIFICAÇÃO\")","v":0},0,null,{"$f":"IFERROR(VLOOKUP(A239,Cotações!B:C,2,FALSE),\"\")","v":""},0,0,null,null,0,null,0,0,null,{"$f":"IF(OR(A239=\"\",A239=\"(vazio)\"),0,IFERROR(LOOKUP(2,1/('Ações-Lançamentos'!D:D=A239),'Ações-Lançamentos'!O:O),0))","v":0},null,{"$f":"IF(OR(A239=\"\",A239=\"(vazio)\"),0,IFERROR(LOOKUP(2,1/('Ações-Lançamentos'!D:D=A239),'Ações-Lançamentos'!N:N),0))","v":0},null,null,null,null,null,null,"",""]
[null,".sa",{"$f":"SUMIFS('Ações-Lançamentos'!C:C,'Ações-Lançamentos'!D:D,$A240,'Ações-Lançamentos'!B:B,\"C\")+SUMIFS('Ações-Lançamentos'!C:C,'Ações-Lançamentos'!D:D,$A240,'Ações-Lançamentos'!B:B,\"v\")","v":0},{"$f":"IF(C240=0,0,SUMIFS('Ações-Lançamentos'!K:K,'Ações-Lançamentos'!D:D,$A240,'Ações-Lançamentos'!B:B,\"C\")-SUMIFS('Ações-Lançamentos'!K:K,'Ações-Lançamentos'!D:D,$A240,'Ações-Lançamentos'!B:B,\"v\"))-SUMIFS('Ações-Lançamentos'!K:K,'Ações-Lançamentos'!D:D,$A240,'Ações-Lançamentos'!L:L,\"BONIFICAÇÃO\")","v":0},0,null,{"$f":"IFERROR(VLOOKUP(A240,Cotações!B:C,2,FALSE),\"\")","v":""},0,0,null,null,0,null,0,0,null,{"$f":"IF(OR(A240=\"\",A240=\"(vazio)\"),0,IFERROR(LOOKUP(2,1/('Ações-Lançamentos'!D:D=A240),'Ações-Lançamentos'!O:O),0))","v":0},null,{"$f":"IF(OR(A240=\"\",A240=\"(vazio)\"),0,IFERROR(LOOKUP(2,1/('Ações-Lançamentos'!D:D=A240),'Ações-Lançamentos'!N:N),0))","v":0},null,null,null,null,null,null,"",""]
[null,".sa",{"$f":"SUMIFS('Ações-Lançamentos'!C:C,'Ações-Lançamentos'!D:D,$A241,'Ações-Lançamentos'!B:B,\"C\")+SUMIFS('Ações-Lançamentos'!C:C,'Ações-Lançamentos'!D:D,$A241,'Ações-Lançamentos'!B:B,\"v\")","v":0},{"$f":"IF(C241=0,0,SUMIFS('Ações-Lançamentos'!K:K,'Ações-Lançamentos'!D:D,$A241,'Ações-Lançamentos'!B:B,\"C\")-SUMIFS('Ações-Lançamentos'!K:K,'Ações-Lançamentos'!D:D,$A241,'Ações-Lançamentos'!B:B,\"v\"))-SUMIFS('Ações-Lançamentos'!K:K,'Ações-Lançamentos'!D:D,$A241,'Ações-Lançamentos'!L:L,\"BONIFICAÇÃO\")","v":0},0,null,{"$f":"IFERROR(VLOOKUP(A241,Cotações!B:C,2,FALSE),\"\")","v":""},0,0,null,null,0,null,0,0,null,{"$f":"IF(OR(A241=\"\",A241=\"(vazio)\"),0,IFERROR(LOOKUP(2,1/('Ações-Lançamentos'!D:D=A241),'Ações-Lançamentos'!O:O),0))","v":0},null,{"$f":"IF(OR(A241=\"\",A241=\"(vazio)\"),0,IFERROR(LOOKUP(2,1/('Ações-Lançamentos'!D:D=A241),'Ações-Lançamentos'!N:N),0))","v":0},null,null,null,null,null,null,"",""]
[null,".sa",{"$f":"SUMIFS('Ações-Lançamentos'!C:C,'Ações-Lançamentos'!D:D,$A242,'Ações-Lançamentos'!B:B,\"C\")+SUMIFS('Ações-Lançamentos'!C:C,'Ações-Lançamentos'!D:D,$A242,'Ações-Lançamentos'!B:B,\"v\")","v":0},{"$f":"IF(C242=0,0,SUMIFS('Ações-Lançamentos'!K:K,'Ações-Lançamentos'!D:D,$A242,'Ações-Lançamentos'!B:B,\"C\")-SUMIFS('Ações-Lançamentos'!K:K,'Ações-Lançamentos'!D:D,$A242,'Ações-Lançamentos'!B:B,\"v\"))-SUMIFS('Ações-Lançamentos'!K:K,'Ações-Lançamentos'!D:D,$A242,'Ações-Lançamentos'!L:L,\"BONIFICAÇÃO\")","v":0},0,null,{"$f":"IFERROR(VLOOKUP(A242,Cotações!B:C,2,FALSE),\"\")","v":""},0,0,null,null,0,null,0,0,null,{"$f":"IF(OR(A242=\"\",A242=\"(vazio)\"),0,IFERROR(LOOKUP(2,1/('Ações-Lançamentos'!D:D=A242),'Ações-Lançamentos'!O:O),0))","v":0},null,{"$f":"IF(OR(A242=\"\",A242=\"(vazio)\"),0,IFERROR(LOOKUP(2,1/('Ações-Lançamentos'!D:D=A242),'Ações-Lançamentos'!N:N),0))","v":0},null,null,null,null,null,null,"",""]
[null,".sa",{"$f":"SUMIFS('Ações-Lançamentos'!C:C,'Ações-Lançamentos'!D:D,$A243,'Ações-Lançamentos'!B:B,\"C\")+SUMIFS('Ações-Lançamentos'!C:C,'Ações-Lançamentos'!D:D,$A243,'Ações-Lançamentos'!B:B,\"v\")","v":0},{"$f":"IF(C243=0,0,SUMIFS('Ações-Lançamentos'!K:K,'Ações-Lançamentos'!D:D,$A243,'Ações-Lançamentos'!B:B,\"C\")-SUMIFS('Ações-Lançamentos'!K:K,'Ações-Lançamentos'!D:D,$A243,'Ações-Lançamentos'!B:B,\"v\"))-SUMIFS('Ações-Lançamentos'!K:K,'Ações-Lançamentos'!D:D,$A243,'Ações-Lançamentos'!L:L,\"BONIFICAÇÃO\")","v":0},0,null,{"$f":"IFERROR(VLOOKUP(A243,Cotações!B:C,2,FALSE),\"\")","v":""},0,0,null,null,0,null,0,0,null,{"$f":"IF(OR(A243=\"\",A243=\"(vazio)\"),0,IFERROR(LOOKUP(2,1/('Ações-Lançamentos'!D:D=A243),'Ações-Lançamentos'!O:O),0))","v":0},null,{"$f":"IF(OR(A243=\"\",A243=\"(vazio)\"),0,IFERROR(LOOKUP(2,1/('Ações-Lançamentos'!D:D=A243),'Ações-Lançamentos'!N:N),0))","v":0},null,null,null,null,null,null,"",""]
[null,".sa",{"$f":"SUMIFS('Ações-Lançamentos'!C:C,'Ações-Lançamentos'!D:D,$A244,'Ações-Lançamentos'!B:B,\"C\")+SUMIFS('Ações-Lançamentos'!C:C,'Ações-Lançamentos'!D:D,$A244,'Ações-Lançamentos'!B:B,\"v\")","v":0},{"$f":"IF(C244=0,0,SUMIFS('Ações-Lançamentos'!K:K,'Ações-Lançamentos'!D:D,$A244,'Ações-Lançamentos'!B:B,\"C\")-SUMIFS('Ações-Lançamentos'!K:K,'Ações-Lançamentos'!D:D,$A244,'Ações-Lançamentos'!B:B,\"v\"))-SUMIFS('Ações-Lançamentos'!K:K,'Ações-Lançamentos'!D:D,$A244,'Ações-Lançamentos'!L:L,\"BONIFICAÇÃO\")","v":0},0,null,{"$f":"IFERROR(VLOOKUP(A244,Cotações!B:C,2,FALSE),\"\")","v":""},0,0,null,null,0,null,0,0,null,{"$f":"IF(OR(A244=\"\",A244=\"(vazio)\"),0,IFERROR(LOOKUP(2,1/('Ações-Lançamentos'!D:D=A244),'Ações-Lançamentos'!O:O),0))","v":0},null,{"$f":"IF(OR(A244=\"\",A244=\"(vazio)\"),0,IFERROR(LOOKUP(2,1/('Ações-Lançamentos'!D:D=A244),'Ações-Lançamentos'!N:N),0))","v":0},null,null,null,null,null,null,"",""]
[null,".sa",{"$f":"SUMIFS('Ações-Lançamentos'!C:C,'Ações-Lançamentos'!D:D,$A245,'Ações-Lançamentos'!B:B,\"C\")+SUMIFS('Ações-Lançamentos'!C:C,'Ações-Lançamentos'!D:D,$A245,'Ações-Lançamentos'!B:B,\"v\")","v":0},{"$f":"IF(C245=0,0,SUMIFS('Ações-Lançamentos'!K:K,'Ações-Lançamentos'!D:D,$A245,'Ações-Lançamentos'!B:B,\"C\")-SUMIFS('Ações-Lançamentos'!K:K,'Ações-Lançamentos'!D:D,$A245,'Ações-Lançamentos'!B:B,\"v\"))-SUMIFS('Ações-Lançamentos'!K:K,'Ações-Lançamentos'!D:D,$A245,'Ações-Lançamentos'!L:L,\"BONIFICAÇÃO\")","v":0},0,null,{"$f":"IFERROR(VLOOKUP(A245,Cotações!B:C,2,FALSE),\"\")","v":""},0,0,null,null,0,null,0,0,null,{"$f":"IF(OR(A245=\"\",A245=\"(vazio)\"),0,IFERROR(LOOKUP(2,1/('Ações-Lançamentos'!D:D=A245),'Ações-Lançamentos'!O:O),0))","v":0},null,{"$f":"IF(OR(A245=\"\",A245=\"(vazio)\"),0,IFERROR(LOOKUP(2,1/('Ações-Lançamentos'!D:D=A245),'Ações-Lançamentos'!N:N),0))","v":0},null,null,null,null,null,null,"",""]
[null,".sa",{"$f":"SUMIFS('Ações-Lançamentos'!C:C,'Ações-Lançamentos'!D:D,$A246,'Ações-Lançamentos'!B:B,\"C\")+SUMIFS('Ações-Lançamentos'!C:C,'Ações-Lançamentos'!D:D,$A246,'Ações-Lançamentos'!B:B,\"v\")","v":0},{"$f":"IF(C246=0,0,SUMIFS('Ações-Lançamentos'!K:K,'Ações-Lançamentos'!D:D,$A246,'Ações-Lançamentos'!B:B,\"C\")-SUMIFS('Ações-Lançamentos'!K:K,'Ações-Lançamentos'!D:D,$A246,'Ações-Lançamentos'!B:B,\"v\"))-SUMIFS('Ações-Lançamentos'!K:K,'Ações-Lançamentos'!D:D,$A246,'Ações-Lançamentos'!L:L,\"BONIFICAÇÃO\")","v":0},0,null,{"$f":"IFERROR(VLOOKUP(A246,Cotações!B:C,2,FALSE),\"\")","v":""},0,0,null,null,0,null,0,0,null,{"$f":"IF(OR(A246=\"\",A246=\"(vazio)\"),0,IFERROR(LOOKUP(2,1/('Ações-Lançamentos'!D:D=A246),'Ações-Lançamentos'!O:O),0))","v":0},null,{"$f":"IF(OR(A246=\"\",A246=\"(vazio)\"),0,IFERROR(LOOKUP(2,1/('Ações-Lançamentos'!D:D=A246),'Ações-Lançamentos'!N:N),0))","v":0},null,null,null,null,null,null,"",""]
[null,".sa",{"$f":"SUMIFS('Ações-Lançamentos'!C:C,'Ações-Lançamentos'!D:D,$A247,'Ações-Lançamentos'!B:B,\"C\")+SUMIFS('Ações-Lançamentos'!C:C,'Ações-Lançamentos'!D:D,$A247,'Ações-Lançamentos'!B:B,\"v\")","v":0},{"$f":"IF(C247=0,0,SUMIFS('Ações-Lançamentos'!K:K,'Ações-Lançamentos'!D:D,$A247,'Ações-Lançamentos'!B:B,\"C\")-SUMIFS('Ações-Lançamentos'!K:K,'Ações-Lançamentos'!D:D,$A247,'Ações-Lançamentos'!B:B,\"v\"))-SUMIFS('Ações-Lançamentos'!K:K,'Ações-Lançamentos'!D:D,$A247,'Ações-Lançamentos'!L:L,\"BONIFICAÇÃO\")","v":0},0,null,{"$f":"IFERROR(VLOOKUP(A247,Cotações!B:C,2,FALSE),\"\")","v":""},0,0,null,null,0,null,0,0,null,{"$f":"IF(OR(A247=\"\",A247=\"(vazio)\"),0,IFERROR(LOOKUP(2,1/('Ações-Lançamentos'!D:D=A247),'Ações-Lançamentos'!O:O),0))","v":0},null,{"$f":"IF(OR(A247=\"\",A247=\"(vazio)\"),0,IFERROR(LOOKUP(2,1/('Ações-Lançamentos'!D:D=A247),'Ações-Lançamentos'!N:N),0))","v":0},null,null,null,null,null,null,"",""]
[null,".sa",{"$f":"SUMIFS('Ações-Lançamentos'!C:C,'Ações-Lançamentos'!D:D,$A248,'Ações-Lançamentos'!B:B,\"C\")+SUMIFS('Ações-Lançamentos'!C:C,'Ações-Lançamentos'!D:D,$A248,'Ações-Lançamentos'!B:B,\"v\")","v":0},{"$f":"IF(C248=0,0,SUMIFS('Ações-Lançamentos'!K:K,'Ações-Lançamentos'!D:D,$A248,'Ações-Lançamentos'!B:B,\"C\")-SUMIFS('Ações-Lançamentos'!K:K,'Ações-Lançamentos'!D:D,$A248,'Ações-Lançamentos'!B:B,\"v\"))-SUMIFS('Ações-Lançamentos'!K:K,'Ações-Lançamentos'!D:D,$A248,'Ações-Lançamentos'!L:L,\"BONIFICAÇÃO\")","v":0},0,null,{"$f":"IFERROR(VLOOKUP(A248,Cotações!B:C,2,FALSE),\"\")","v":""},0,0,null,null,0,null,0,0,null,{"$f":"IF(OR(A248=\"\",A248=\"(vazio)\"),0,IFERROR(LOOKUP(2,1/('Ações-Lançamentos'!D:D=A248),'Ações-Lançamentos'!O:O),0))","v":0},null,{"$f":"IF(OR(A248=\"\",A248=\"(vazio)\"),0,IFERROR(LOOKUP(2,1/('Ações-Lançamentos'!D:D=A248),'Ações-Lançamentos'!N:N),0))","v":0},null,null,null,null,null,null,"",""]
[null,".sa",{"$f":"SUMIFS('Ações-Lançamentos'!C:C,'Ações-Lançamentos'!D:D,$A249,'Ações-Lançamentos'!B:B,\"C\")+SUMIFS('Ações-Lançamentos'!C:C,'Ações-Lançamentos'!D:D,$A249,'Ações-Lançamentos'!B:B,\"v\")","v":0},{"$f":"IF(C249=0,0,SUMIFS('Ações-Lançamentos'!K:K,'Ações-Lançamentos'!D:D,$A249,'Ações-Lançamentos'!B:B,\"C\")-SUMIFS('Ações-Lançamentos'!K:K,'Ações-Lançamentos'!D:D,$A249,'Ações-Lançamentos'!B:B,\"v\"))-SUMIFS('Ações-Lançamentos'!K:K,'Ações-Lançamentos'!D:D,$A249,'Ações-Lançamentos'!L:L,\"BONIFICAÇÃO\")","v":0},0,null,{"$f":"IFERROR(VLOOKUP(A249,Cotações!B:C,2,FALSE),\"\")","v":""},0,0,null,null,0,null,0,0,null,{"$f":"IF(OR(A249=\"\",A249=\"(vazio)\"),0,IFERROR(LOOKUP(2,1/('Ações-Lançamentos'!D:D=A249),'Ações-Lançamentos'!O:O),0))","v":0},null,{"$f":"IF(OR(A249=\"\",A249=\"(vazio)\"),0,IFERROR(LOOKUP(2,1/('Ações-Lançamentos'!D:D=A249),'Ações-Lançamentos'!N:N),0))","v":0},null,null,null,null,null,null,"",""]
[null,".sa",{"$f":"SUMIFS('Ações-Lançamentos'!C:C,'Ações-Lançamentos'!D:D,$A250,'Ações-Lançamentos'!B:B,\"C\")+SUMIFS('Ações-Lançamentos'!C:C,'Ações-Lançamentos'!D:D,$A250,'Ações-Lançamentos'!B:B,\"v\")","v":0},{"$f":"IF(C250=0,0,SUMIFS('Ações-Lançamentos'!K:K,'Ações-Lançamentos'!D:D,$A250,'Ações-Lançamentos'!B:B,\"C\")-SUMIFS('Ações-Lançamentos'!K:K,'Ações-Lançamentos'!D:D,$A250,'Ações-Lançamentos'!B:B,\"v\"))-SUMIFS('Ações-Lançamentos'!K:K,'Ações-Lançamentos'!D:D,$A250,'Ações-Lançamentos'!L:L,\"BONIFICAÇÃO\")","v":0},0,null,{"$f":"IFERROR(VLOOKUP(A250,Cotações!B:C,2,FALSE),\"\")","v":""},0,0,null,null,0,null,0,0,null,{"$f":"IF(OR(A250=\"\",A250=\"(vazio)\"),0,IFERROR(LOOKUP(2,1/('Ações-Lançamentos'!D:D=A250),'Ações-Lançamentos'!O:O),0))","v":0},null,{"$f":"IF(OR(A250=\"\",A250=\"(vazio)\"),0,IFERROR(LOOKUP(2,1/('Ações-Lançamentos'!D:D=A250),'Ações-Lançamentos'!N:N),0))","v":0},null,null,null,null,null,null,"",""]
[null,".sa",{"$f":"SUMIFS('Ações-Lançamentos'!C:C,'Ações-Lançamentos'!D:D,$A251,'Ações-Lançamentos'!B:B,\"C\")+SUMIFS('Ações-Lançamentos'!C:C,'Ações-Lançamentos'!D:D,$A251,'Ações-Lançamentos'!B:B,\"v\")","v":0},{"$f":"IF(C251=0,0,SUMIFS('Ações-Lançamentos'!K:K,'Ações-Lançamentos'!D:D,$A251,'Ações-Lançamentos'!B:B,\"C\")-SUMIFS('Ações-Lançamentos'!K:K,'Ações-Lançamentos'!D:D,$A251,'Ações-Lançamentos'!B:B,\"v\"))-SUMIFS('Ações-Lançamentos'!K:K,'Ações-Lançamentos'!D:D,$A251,'Ações-Lançamentos'!L:L,\"BONIFICAÇÃO\")","v":0},0,null,{"$f":"IFERROR(VLOOKUP(A251,Cotações!B:C,2,FALSE),\"\")","v":""},0,0,null,null,0,null,0,0,null,{"$f":"IF(OR(A251=\"\",A251=\"(vazio)\"),0,IFERROR(LOOKUP(2,1/('Ações-Lançamentos'!D:D=A251),'Ações-Lançamentos'!O:O),0))","v":0},null,{"$f":"IF(OR(A251=\"\",A251=\"(vazio)\"),0,IFERROR(LOOKUP(2,1/('Ações-Lançamentos'!D:D=A251),'Ações-Lançamentos'!N:N),0))","v":0},null,null,null,null,null,null,"",""]
[null,".sa",{"$f":"SUMIFS('Ações-Lançamentos'!C:C,'Ações-Lançamentos'!D:D,$A252,'Ações-Lançamentos'!B:B,\"C\")+SUMIFS('Ações-Lançamentos'!C:C,'Ações-Lançamentos'!D:D,$A252,'Ações-Lançamentos'!B:B,\"v\")","v":0},{"$f":"IF(C252=0,0,SUMIFS('Ações-Lançamentos'!K:K,'Ações-Lançamentos'!D:D,$A252,'Ações-Lançamentos'!B:B,\"C\")-SUMIFS('Ações-Lançamentos'!K:K,'Ações-Lançamentos'!D:D,$A252,'Ações-Lançamentos'!B:B,\"v\"))-SUMIFS('Ações-Lançamentos'!K:K,'Ações-Lançamentos'!D:D,$A252,'Ações-Lançamentos'!L:L,\"BONIFICAÇÃO\")","v":0},0,null,{"$f":"IFERROR(VLOOKUP(A252,Cotações!B:C,2,FALSE),\"\")","v":""},0,0,null,null,0,null,0,0,null,{"$f":"IF(OR(A252=\"\",A252=\"(vazio)\"),0,IFERROR(LOOKUP(2,1/('Ações-Lançamentos'!D:D=A252),'Ações-Lançamentos'!O:O),0))","v":0},null,{"$f":"IF(OR(A252=\"\",A252=\"(vazio)\"),0,IFERROR(LOOKUP(2,1/('Ações-Lançamentos'!D:D=A252),'Ações-Lançamentos'!N:N),0))","v":0},null,null,null,null,null,null,"",""]
[null,".sa",{"$f":"SUMIFS('Ações-Lançamentos'!C:C,'Ações-Lançamentos'!D:D,$A253,'Ações-Lançamentos'!B:B,\"C\")+SUMIFS('Ações-Lançamentos'!C:C,'Ações-Lançamentos'!D:D,$A253,'Ações-Lançamentos'!B:B,\"v\")","v":0},{"$f":"IF(C253=0,0,SUMIFS('Ações-Lançamentos'!K:K,'Ações-Lançamentos'!D:D,$A253,'Ações-Lançamentos'!B:B,\"C\")-SUMIFS('Ações-Lançamentos'!K:K,'Ações-Lançamentos'!D:D,$A253,'Ações-Lançamentos'!B:B,\"v\"))-SUMIFS('Ações-Lançamentos'!K:K,'Ações-Lançamentos'!D:D,$A253,'Ações-Lançamentos'!L:L,\"BONIFICAÇÃO\")","v":0},0,null,{"$f":"IFERROR(VLOOKUP(A253,Cotações!B:C,2,FALSE),\"\")","v":""},0,0,null,null,0,null,0,0,null,{"$f":"IF(OR(A253=\"\",A253=\"(vazio)\"),0,IFERROR(LOOKUP(2,1/('Ações-Lançamentos'!D:D=A253),'Ações-Lançamentos'!O:O),0))","v":0},null,{"$f":"IF(OR(A253=\"\",A253=\"(vazio)\"),0,IFERROR(LOOKUP(2,1/('Ações-Lançamentos'!D:D=A253),'Ações-Lançamentos'!N:N),0))","v":0},null,null,null,null,null,null,"",""]
[null,".sa",{"$f":"SUMIFS('Ações-Lançamentos'!C:C,'Ações-Lançamentos'!D:D,$A254,'Ações-Lançamentos'!B:B,\"C\")+SUMIFS('Ações-Lançamentos'!C:C,'Ações-Lançamentos'!D:D,$A254,'Ações-Lançamentos'!B:B,\"v\")","v":0},{"$f":"IF(C254=0,0,SUMIFS('Ações-Lançamentos'!K:K,'Ações-Lançamentos'!D:D,$A254,'Ações-Lançamentos'!B:B,\"C\")-SUMIFS('Ações-Lançamentos'!K:K,'Ações-Lançamentos'!D:D,$A254,'Ações-Lançamentos'!B:B,\"v\"))-SUMIFS('Ações-Lançamentos'!K:K,'Ações-Lançamentos'!D:D,$A254,'Ações-Lançamentos'!L:L,\"BONIFICAÇÃO\")","v":0},0,null,{"$f":"IFERROR(VLOOKUP(A254,Cotações!B:C,2,FALSE),\"\")","v":""},0,0,null,null,0,null,0,0,null,{"$f":"IF(OR(A254=\"\",A254=\"(vazio)\"),0,IFERROR(LOOKUP(2,1/('Ações-Lançamentos'!D:D=A254),'Ações-Lançamentos'!O:O),0))","v":0},null,{"$f":"IF(OR(A254=\"\",A254=\"(vazio)\"),0,IFERROR(LOOKUP(2,1/('Ações-Lançamentos'!D:D=A254),'Ações-Lançamentos'!N:N),0))","v":0},null,null,null,null,null,null,"",""]
[null,".sa",{"$f":"SUMIFS('Ações-Lançamentos'!C:C,'Ações-Lançamentos'!D:D,$A255,'Ações-Lançamentos'!B:B,\"C\")+SUMIFS('Ações-Lançamentos'!C:C,'Ações-Lançamentos'!D:D,$A255,'Ações-Lançamentos'!B:B,\"v\")","v":0},{"$f":"IF(C255=0,0,SUMIFS('Ações-Lançamentos'!K:K,'Ações-Lançamentos'!D:D,$A255,'Ações-Lançamentos'!B:B,\"C\")-SUMIFS('Ações-Lançamentos'!K:K,'Ações-Lançamentos'!D:D,$A255,'Ações-Lançamentos'!B:B,\"v\"))-SUMIFS('Ações-Lançamentos'!K:K,'Ações-Lançamentos'!D:D,$A255,'Ações-Lançamentos'!L:L,\"BONIFICAÇÃO\")","v":0},0,null,{"$f":"IFERROR(VLOOKUP(A255,Cotações!B:C,2,FALSE),\"\")","v":""},0,0,null,null,0,null,0,0,null,{"$f":"IF(OR(A255=\"\",A255=\"(vazio)\"),0,IFERROR(LOOKUP(2,1/('Ações-Lançamentos'!D:D=A255),'Ações-Lançamentos'!O:O),0))","v":0},null,{"$f":"IF(OR(A255=\"\",A255=\"(vazio)\"),0,IFERROR(LOOKUP(2,1/('Ações-Lançamentos'!D:D=A255),'Ações-Lançamentos'!N:N),0))","v":0},null,null,null,null,null,null,"",""]
[null,".sa",{"$f":"SUMIFS('Ações-Lançamentos'!C:C,'Ações-Lançamentos'!D:D,$A256,'Ações-Lançamentos'!B:B,\"C\")+SUMIFS('Ações-Lançamentos'!C:C,'Ações-Lançamentos'!D:D,$A256,'Ações-Lançamentos'!B:B,\"v\")","v":0},{"$f":"IF(C256=0,0,SUMIFS('Ações-Lançamentos'!K:K,'Ações-Lançamentos'!D:D,$A256,'Ações-Lançamentos'!B:B,\"C\")-SUMIFS('Ações-Lançamentos'!K:K,'Ações-Lançamentos'!D:D,$A256,'Ações-Lançamentos'!B:B,\"v\"))-SUMIFS('Ações-Lançamentos'!K:K,'Ações-Lançamentos'!D:D,$A256,'Ações-Lançamentos'!L:L,\"BONIFICAÇÃO\")","v":0},0,null,{"$f":"IFERROR(VLOOKUP(A256,Cotações!B:C,2,FALSE),\"\")","v":""},0,0,null,null,0,null,0,0,null,{"$f":"IF(OR(A256=\"\",A256=\"(vazio)\"),0,IFERROR(LOOKUP(2,1/('Ações-Lançamentos'!D:D=A256),'Ações-Lançamentos'!O:O),0))","v":0},null,{"$f":"IF(OR(A256=\"\",A256=\"(vazio)\"),0,IFERROR(LOOKUP(2,1/('Ações-Lançamentos'!D:D=A256),'Ações-Lançamentos'!N:N),0))","v":0},null,null,null,null,null,null,"",""]
[null,".sa",{"$f":"SUMIFS('Ações-Lançamentos'!C:C,'Ações-Lançamentos'!D:D,$A257,'Ações-Lançamentos'!B:B,\"C\")+SUMIFS('Ações-Lançamentos'!C:C,'Ações-Lançamentos'!D:D,$A257,'Ações-Lançamentos'!B:B,\"v\")","v":0},{"$f":"IF(C257=0,0,SUMIFS('Ações-Lançamentos'!K:K,'Ações-Lançamentos'!D:D,$A257,'Ações-Lançamentos'!B:B,\"C\")-SUMIFS('Ações-Lançamentos'!K:K,'Ações-Lançamentos'!D:D,$A257,'Ações-Lançamentos'!B:B,\"v\"))-SUMIFS('Ações-Lançamentos'!K:K,'Ações-Lançamentos'!D:D,$A257,'Ações-Lançamentos'!L:L,\"BONIFICAÇÃO\")","v":0},0,null,{"$f":"IFERROR(VLOOKUP(A257,Cotações!B:C,2,FALSE),\"\")","v":""},0,0,null,null,0,null,0,0,null,{"$f":"IF(OR(A257=\"\",A257=\"(vazio)\"),0,IFERROR(LOOKUP(2,1/('Ações-Lançamentos'!D:D=A257),'Ações-Lançamentos'!O:O),0))","v":0},null,{"$f":"IF(OR(A257=\"\",A257=\"(vazio)\"),0,IFERROR(LOOKUP(2,1/('Ações-Lançamentos'!D:D=A257),'Ações-Lançamentos'!N:N),0))","v":0},null,null,null,null,null,null,"",""]
[null,".sa",{"$f":"SUMIFS('Ações-Lançamentos'!C:C,'Ações-Lançamentos'!D:D,$A258,'Ações-Lançamentos'!B:B,\"C\")+SUMIFS('Ações-Lançamentos'!C:C,'Ações-Lançamentos'!D:D,$A258,'Ações-Lançamentos'!B:B,\"v\")","v":0},{"$f":"IF(C258=0,0,SUMIFS('Ações-Lançamentos'!K:K,'Ações-Lançamentos'!D:D,$A258,'Ações-Lançamentos'!B:B,\"C\")-SUMIFS('Ações-Lançamentos'!K:K,'Ações-Lançamentos'!D:D,$A258,'Ações-Lançamentos'!B:B,\"v\"))-SUMIFS('Ações-Lançamentos'!K:K,'Ações-Lançamentos'!D:D,$A258,'Ações-Lançamentos'!L:L,\"BONIFICAÇÃO\")","v":0},0,null,{"$f":"IFERROR(VLOOKUP(A258,Cotações!B:C,2,FALSE),\"\")","v":""},0,0,null,null,0,null,0,0,null,{"$f":"IF(OR(A258=\"\",A258=\"(vazio)\"),0,IFERROR(LOOKUP(2,1/('Ações-Lançamentos'!D:D=A258),'Ações-Lançamentos'!O:O),0))","v":0},null,{"$f":"IF(OR(A258=\"\",A258=\"(vazio)\"),0,IFERROR(LOOKUP(2,1/('Ações-Lançamentos'!D:D=A258),'Ações-Lançamentos'!N:N),0))","v":0},null,null,null,null,null,null,"",""]
[null,".sa",{"$f":"SUMIFS('Ações-Lançamentos'!C:C,'Ações-Lançamentos'!D:D,$A259,'Ações-Lançamentos'!B:B,\"C\")+SUMIFS('Ações-Lançamentos'!C:C,'Ações-Lançamentos'!D:D,$A259,'Ações-Lançamentos'!B:B,\"v\")","v":0},{"$f":"IF(C259=0,0,SUMIFS('Ações-Lançamentos'!K:K,'Ações-Lançamentos'!D:D,$A259,'Ações-Lançamentos'!B:B,\"C\")-SUMIFS('Ações-Lançamentos'!K:K,'Ações-Lançamentos'!D:D,$A259,'Ações-Lançamentos'!B:B,\"v\"))-SUMIFS('Ações-Lançamentos'!K:K,'Ações-Lançamentos'!D:D,$A259,'Ações-Lançamentos'!L:L,\"BONIFICAÇÃO\")","v":0},0,null,{"$f":"IFERROR(VLOOKUP(A259,Cotações!B:C,2,FALSE),\"\")","v":""},0,0,null,null,0,null,0,0,null,{"$f":"IF(OR(A259=\"\",A259=\"(vazio)\"),0,IFERROR(LOOKUP(2,1/('Ações-Lançamentos'!D:D=A259),'Ações-Lançamentos'!O:O),0))","v":0},null,{"$f":"IF(OR(A259=\"\",A259=\"(vazio)\"),0,IFERROR(LOOKUP(2,1/('Ações-Lançamentos'!D:D=A259),'Ações-Lançamentos'!N:N),0))","v":0},null,null,null,null,null,null,"",""]
[null,{"$f":"CONCATENATE(A260,\".sa\")","v":".sa"},{"$f":"SUMIFS('Ações-Lançamentos'!C:C,'Ações-Lançamentos'!D:D,$A260,'Ações-Lançamentos'!B:B,\"C\")+SUMIFS('Ações-Lançamentos'!C:C,'Ações-Lançamentos'!D:D,$A260,'Ações-Lançamentos'!B:B,\"v\")","v":0},{"$f":"IF(C260=0,0,SUMIFS('Ações-Lançamentos'!K:K,'Ações-Lançamentos'!D:D,$A260,'Ações-Lançamentos'!B:B,\"C\")-SUMIFS('Ações-Lançamentos'!K:K,'Ações-Lançamentos'!D:D,$A260,'Ações-Lançamentos'!B:B,\"v\"))-SUMIFS('Ações-Lançamentos'!K:K,'Ações-Lançamentos'!D:D,$A260,'Ações-Lançamentos'!L:L,\"BONIFICAÇÃO\")","v":0},{"$f":"IF($V$9=0,0,D260/$V$9)","v":0},null,{"$f":"IFERROR(VLOOKUP(A260,Cotações!B:C,2,FALSE),\"\")","v":""},{"$f":"IF(C260=\"\",0,IF(G260=\"\",D260,C260*G260))","v":0},{"$f":"IF($V$11=0,0,H260/$V$11)","v":0},null,null,{"$f":"IF(OR(K260=\"\",I260=\"\",E260=\"\"),0,IF($K$2=\"% ATUAL\",K260-I260,K260-E260))","v":0},null,{"$f":"IF(OR(D260=0,G260=\"\"),0,H260-D260)","v":0},{"$f":"IF(OR(D260=0,G260=\"\"),0,N260/D260)","v":0},null,{"$f":"IF(OR(A260=\"\",A260=\"(vazio)\"),0,IFERROR(LOOKUP(2,1/('Ações-Lançamentos'!D:D=A260),'Ações-Lançamentos'!O:O),0))","v":0},null,{"$f":"IF(OR(A260=\"\",A260=\"(vazio)\"),0,IFERROR(LOOKUP(2,1/('Ações-Lançamentos'!D:D=A260),'Ações-Lançamentos'!N:N),0))","v":0},null,null,null,null,null,null,"",""]
[null,".sa",{"$f":"SUMIFS('Ações-Lançamentos'!C:C,'Ações-Lançamentos'!D:D,$A261,'Ações-Lançamentos'!B:B,\"C\")+SUMIFS('Ações-Lançamentos'!C:C,'Ações-Lançamentos'!D:D,$A261,'Ações-Lançamentos'!B:B,\"v\")","v":0},{"$f":"IF(C261=0,0,SUMIFS('Ações-Lançamentos'!K:K,'Ações-Lançamentos'!D:D,$A261,'Ações-Lançamentos'!B:B,\"C\")-SUMIFS('Ações-Lançamentos'!K:K,'Ações-Lançamentos'!D:D,$A261,'Ações-Lançamentos'!B:B,\"v\"))-SUMIFS('Ações-Lançamentos'!K:K,'Ações-Lançamentos'!D:D,$A261,'Ações-Lançamentos'!L:L,\"BONIFICAÇÃO\")","v":0},0,null,{"$f":"IFERROR(VLOOKUP(A261,Cotações!B:C,2,FALSE),\"\")","v":""},0,0,null,null,0,null,0,0,null,{"$f":"IF(OR(A261=\"\",A261=\"(vazio)\"),0,IFERROR(LOOKUP(2,1/('Ações-Lançamentos'!D:D=A261),'Ações-Lançamentos'!O:O),0))","v":0},null,{"$f":"IF(OR(A261=\"\",A261=\"(vazio)\"),0,IFERROR(LOOKUP(2,1/('Ações-Lançamentos'!D:D=A261),'Ações-Lançamentos'!N:N),0))","v":0},null,null,null,null,null,null,"",""]
[null,".sa",{"$f":"SUMIFS('Ações-Lançamentos'!C:C,'Ações-Lançamentos'!D:D,$A262,'Ações-Lançamentos'!B:B,\"C\")+SUMIFS('Ações-Lançamentos'!C:C,'Ações-Lançamentos'!D:D,$A262,'Ações-Lançamentos'!B:B,\"v\")","v":0},{"$f":"IF(C262=0,0,SUMIFS('Ações-Lançamentos'!K:K,'Ações-Lançamentos'!D:D,$A262,'Ações-Lançamentos'!B:B,\"C\")-SUMIFS('Ações-Lançamentos'!K:K,'Ações-Lançamentos'!D:D,$A262,'Ações-Lançamentos'!B:B,\"v\"))-SUMIFS('Ações-Lançamentos'!K:K,'Ações-Lançamentos'!D:D,$A262,'Ações-Lançamentos'!L:L,\"BONIFICAÇÃO\")","v":0},0,null,{"$f":"IFERROR(VLOOKUP(A262,Cotações!B:C,2,FALSE),\"\")","v":""},0,0,null,null,0,null,0,0,null,{"$f":"IF(OR(A262=\"\",A262=\"(vazio)\"),0,IFERROR(LOOKUP(2,1/('Ações-Lançamentos'!D:D=A262),'Ações-Lançamentos'!O:O),0))","v":0},null,{"$f":"IF(OR(A262=\"\",A262=\"(vazio)\"),0,IFERROR(LOOKUP(2,1/('Ações-Lançamentos'!D:D=A262),'Ações-Lançamentos'!N:N),0))","v":0},null,null,null,null,null,null,"",""]
[null,".sa",{"$f":"SUMIFS('Ações-Lançamentos'!C:C,'Ações-Lançamentos'!D:D,$A263,'Ações-Lançamentos'!B:B,\"C\")+SUMIFS('Ações-Lançamentos'!C:C,'Ações-Lançamentos'!D:D,$A263,'Ações-Lançamentos'!B:B,\"v\")","v":0},{"$f":"IF(C263=0,0,SUMIFS('Ações-Lançamentos'!K:K,'Ações-Lançamentos'!D:D,$A263,'Ações-Lançamentos'!B:B,\"C\")-SUMIFS('Ações-Lançamentos'!K:K,'Ações-Lançamentos'!D:D,$A263,'Ações-Lançamentos'!B:B,\"v\"))-SUMIFS('Ações-Lançamentos'!K:K,'Ações-Lançamentos'!D:D,$A263,'Ações-Lançamentos'!L:L,\"BONIFICAÇÃO\")","v":0},0,null,{"$f":"IFERROR(VLOOKUP(A263,Cotações!B:C,2,FALSE),\"\")","v":""},0,0,null,null,0,null,0,0,null,{"$f":"IF(OR(A263=\"\",A263=\"(vazio)\"),0,IFERROR(LOOKUP(2,1/('Ações-Lançamentos'!D:D=A263),'Ações-Lançamentos'!O:O),0))","v":0},null,{"$f":"IF(OR(A263=\"\",A263=\"(vazio)\"),0,IFERROR(LOOKUP(2,1/('Ações-Lançamentos'!D:D=A263),'Ações-Lançamentos'!N:N),0))","v":0},null,null,null,null,null,null,"",""]
[null,".sa",{"$f":"SUMIFS('Ações-Lançamentos'!C:C,'Ações-Lançamentos'!D:D,$A264,'Ações-Lançamentos'!B:B,\"C\")+SUMIFS('Ações-Lançamentos'!C:C,'Ações-Lançamentos'!D:D,$A264,'Ações-Lançamentos'!B:B,\"v\")","v":0},{"$f":"IF(C264=0,0,SUMIFS('Ações-Lançamentos'!K:K,'Ações-Lançamentos'!D:D,$A264,'Ações-Lançamentos'!B:B,\"C\")-SUMIFS('Ações-Lançamentos'!K:K,'Ações-Lançamentos'!D:D,$A264,'Ações-Lançamentos'!B:B,\"v\"))-SUMIFS('Ações-Lançamentos'!K:K,'Ações-Lançamentos'!D:D,$A264,'Ações-Lançamentos'!L:L,\"BONIFICAÇÃO\")","v":0},0,null,{"$f":"IFERROR(VLOOKUP(A264,Cotações!B:C,2,FALSE),\"\")","v":""},0,0,null,null,0,null,0,0,null,{"$f":"IF(OR(A264=\"\",A264=\"(vazio)\"),0,IFERROR(LOOKUP(2,1/('Ações-Lançamentos'!D:D=A264),'Ações-Lançamentos'!O:O),0))","v":0},null,{"$f":"IF(OR(A264=\"\",A264=\"(vazio)\"),0,IFERROR(LOOKUP(2,1/('Ações-Lançamentos'!D:D=A264),'Ações-Lançamentos'!N:N),0))","v":0},null,null,null,null,null,null,"",""]
[null,".sa",{"$f":"SUMIFS('Ações-Lançamentos'!C:C,'Ações-Lançamentos'!D:D,$A265,'Ações-Lançamentos'!B:B,\"C\")+SUMIFS('Ações-Lançamentos'!C:C,'Ações-Lançamentos'!D:D,$A265,'Ações-Lançamentos'!B:B,\"v\")","v":0},{"$f":"IF(C265=0,0,SUMIFS('Ações-Lançamentos'!K:K,'Ações-Lançamentos'!D:D,$A265,'Ações-Lançamentos'!B:B,\"C\")-SUMIFS('Ações-Lançamentos'!K:K,'Ações-Lançamentos'!D:D,$A265,'Ações-Lançamentos'!B:B,\"v\"))-SUMIFS('Ações-Lançamentos'!K:K,'Ações-Lançamentos'!D:D,$A265,'Ações-Lançamentos'!L:L,\"BONIFICAÇÃO\")","v":0},0,null,{"$f":"IFERROR(VLOOKUP(A265,Cotações!B:C,2,FALSE),\"\")","v":""},0,0,null,null,0,null,0,0,null,{"$f":"IF(OR(A265=\"\",A265=\"(vazio)\"),0,IFERROR(LOOKUP(2,1/('Ações-Lançamentos'!D:D=A265),'Ações-Lançamentos'!O:O),0))","v":0},null,{"$f":"IF(OR(A265=\"\",A265=\"(vazio)\"),0,IFERROR(LOOKUP(2,1/('Ações-Lançamentos'!D:D=A265),'Ações-Lançamentos'!N:N),0))","v":0},null,null,null,null,null,null,"",""]
[null,".sa",{"$f":"SUMIFS('Ações-Lançamentos'!C:C,'Ações-Lançamentos'!D:D,$A266,'Ações-Lançamentos'!B:B,\"C\")+SUMIFS('Ações-Lançamentos'!C:C,'Ações-Lançamentos'!D:D,$A266,'Ações-Lançamentos'!B:B,\"v\")","v":0},{"$f":"IF(C266=0,0,SUMIFS('Ações-Lançamentos'!K:K,'Ações-Lançamentos'!D:D,$A266,'Ações-Lançamentos'!B:B,\"C\")-SUMIFS('Ações-Lançamentos'!K:K,'Ações-Lançamentos'!D:D,$A266,'Ações-Lançamentos'!B:B,\"v\"))-SUMIFS('Ações-Lançamentos'!K:K,'Ações-Lançamentos'!D:D,$A266,'Ações-Lançamentos'!L:L,\"BONIFICAÇÃO\")","v":0},0,null,{"$f":"IFERROR(VLOOKUP(A266,Cotações!B:C,2,FALSE),\"\")","v":""},0,0,null,null,0,null,0,0,null,{"$f":"IF(OR(A266=\"\",A266=\"(vazio)\"),0,IFERROR(LOOKUP(2,1/('Ações-Lançamentos'!D:D=A266),'Ações-Lançamentos'!O:O),0))","v":0},null,{"$f":"IF(OR(A266=\"\",A266=\"(vazio)\"),0,IFERROR(LOOKUP(2,1/('Ações-Lançamentos'!D:D=A266),'Ações-Lançamentos'!N:N),0))","v":0},null,null,null,null,null,null,"",""]
[null,".sa",{"$f":"SUMIFS('Ações-Lançamentos'!C:C,'Ações-Lançamentos'!D:D,$A267,'Ações-Lançamentos'!B:B,\"C\")+SUMIFS('Ações-Lançamentos'!C:C,'Ações-Lançamentos'!D:D,$A267,'Ações-Lançamentos'!B:B,\"v\")","v":0},{"$f":"IF(C267=0,0,SUMIFS('Ações-Lançamentos'!K:K,'Ações-Lançamentos'!D:D,$A267,'Ações-Lançamentos'!B:B,\"C\")-SUMIFS('Ações-Lançamentos'!K:K,'Ações-Lançamentos'!D:D,$A267,'Ações-Lançamentos'!B:B,\"v\"))-SUMIFS('Ações-Lançamentos'!K:K,'Ações-Lançamentos'!D:D,$A267,'Ações-Lançamentos'!L:L,\"BONIFICAÇÃO\")","v":0},0,null,{"$f":"IFERROR(VLOOKUP(A267,Cotações!B:C,2,FALSE),\"\")","v":""},0,0,null,null,0,null,0,0,null,{"$f":"IF(OR(A267=\"\",A267=\"(vazio)\"),0,IFERROR(LOOKUP(2,1/('Ações-Lançamentos'!D:D=A267),'Ações-Lançamentos'!O:O),0))","v":0},null,{"$f":"IF(OR(A267=\"\",A267=\"(vazio)\"),0,IFERROR(LOOKUP(2,1/('Ações-Lançamentos'!D:D=A267),'Ações-Lançamentos'!N:N),0))","v":0},null,null,null,null,null,null,"",""]
[null,".sa",{"$f":"SUMIFS('Ações-Lançamentos'!C:C,'Ações-Lançamentos'!D:D,$A268,'Ações-Lançamentos'!B:B,\"C\")+SUMIFS('Ações-Lançamentos'!C:C,'Ações-Lançamentos'!D:D,$A268,'Ações-Lançamentos'!B:B,\"v\")","v":0},{"$f":"IF(C268=0,0,SUMIFS('Ações-Lançamentos'!K:K,'Ações-Lançamentos'!D:D,$A268,'Ações-Lançamentos'!B:B,\"C\")-SUMIFS('Ações-Lançamentos'!K:K,'Ações-Lançamentos'!D:D,$A268,'Ações-Lançamentos'!B:B,\"v\"))-SUMIFS('Ações-Lançamentos'!K:K,'Ações-Lançamentos'!D:D,$A268,'Ações-Lançamentos'!L:L,\"BONIFICAÇÃO\")","v":0},0,null,{"$f":"IFERROR(VLOOKUP(A268,Cotações!B:C,2,FALSE),\"\")","v":""},0,0,null,null,0,null,0,0,null,{"$f":"IF(OR(A268=\"\",A268=\"(vazio)\"),0,IFERROR(LOOKUP(2,1/('Ações-Lançamentos'!D:D=A268),'Ações-Lançamentos'!O:O),0))","v":0},null,{"$f":"IF(OR(A268=\"\",A268=\"(vazio)\"),0,IFERROR(LOOKUP(2,1/('Ações-Lançamentos'!D:D=A268),'Ações-Lançamentos'!N:N),0))","v":0},null,null,null,null,null,null,"",""]
[null,".sa",{"$f":"SUMIFS('Ações-Lançamentos'!C:C,'Ações-Lançamentos'!D:D,$A269,'Ações-Lançamentos'!B:B,\"C\")+SUMIFS('Ações-Lançamentos'!C:C,'Ações-Lançamentos'!D:D,$A269,'Ações-Lançamentos'!B:B,\"v\")","v":0},{"$f":"IF(C269=0,0,SUMIFS('Ações-Lançamentos'!K:K,'Ações-Lançamentos'!D:D,$A269,'Ações-Lançamentos'!B:B,\"C\")-SUMIFS('Ações-Lançamentos'!K:K,'Ações-Lançamentos'!D:D,$A269,'Ações-Lançamentos'!B:B,\"v\"))-SUMIFS('Ações-Lançamentos'!K:K,'Ações-Lançamentos'!D:D,$A269,'Ações-Lançamentos'!L:L,\"BONIFICAÇÃO\")","v":0},0,null,{"$f":"IFERROR(VLOOKUP(A269,Cotações!B:C,2,FALSE),\"\")","v":""},0,0,null,null,0,null,0,0,null,{"$f":"IF(OR(A269=\"\",A269=\"(vazio)\"),0,IFERROR(LOOKUP(2,1/('Ações-Lançamentos'!D:D=A269),'Ações-Lançamentos'!O:O),0))","v":0},null,{"$f":"IF(OR(A269=\"\",A269=\"(vazio)\"),0,IFERROR(LOOKUP(2,1/('Ações-Lançamentos'!D:D=A269),'Ações-Lançamentos'!N:N),0))","v":0},null,null,null,null,null,null,"",""]
[null,".sa",{"$f":"SUMIFS('Ações-Lançamentos'!C:C,'Ações-Lançamentos'!D:D,$A270,'Ações-Lançamentos'!B:B,\"C\")+SUMIFS('Ações-Lançamentos'!C:C,'Ações-Lançamentos'!D:D,$A270,'Ações-Lançamentos'!B:B,\"v\")","v":0},{"$f":"IF(C270=0,0,SUMIFS('Ações-Lançamentos'!K:K,'Ações-Lançamentos'!D:D,$A270,'Ações-Lançamentos'!B:B,\"C\")-SUMIFS('Ações-Lançamentos'!K:K,'Ações-Lançamentos'!D:D,$A270,'Ações-Lançamentos'!B:B,\"v\"))-SUMIFS('Ações-Lançamentos'!K:K,'Ações-Lançamentos'!D:D,$A270,'Ações-Lançamentos'!L:L,\"BONIFICAÇÃO\")","v":0},0,null,{"$f":"IFERROR(VLOOKUP(A270,Cotações!B:C,2,FALSE),\"\")","v":""},0,0,null,null,0,null,0,0,null,{"$f":"IF(OR(A270=\"\",A270=\"(vazio)\"),0,IFERROR(LOOKUP(2,1/('Ações-Lançamentos'!D:D=A270),'Ações-Lançamentos'!O:O),0))","v":0},null,{"$f":"IF(OR(A270=\"\",A270=\"(vazio)\"),0,IFERROR(LOOKUP(2,1/('Ações-Lançamentos'!D:D=A270),'Ações-Lançamentos'!N:N),0))","v":0},null,null,null,null,null,null,{"$f":"IF(K270=\"\",\"\",K270-I270)","v":""},{"$f":"IF(OR($A270=\"TOTAL\",$A270=\"\"),\"\",$A270)","v":""}]
[null,".sa",{"$f":"SUMIFS('Ações-Lançamentos'!C:C,'Ações-Lançamentos'!D:D,$A271,'Ações-Lançamentos'!B:B,\"C\")+SUMIFS('Ações-Lançamentos'!C:C,'Ações-Lançamentos'!D:D,$A271,'Ações-Lançamentos'!B:B,\"v\")","v":0},{"$f":"IF(C271=0,0,SUMIFS('Ações-Lançamentos'!K:K,'Ações-Lançamentos'!D:D,$A271,'Ações-Lançamentos'!B:B,\"C\")-SUMIFS('Ações-Lançamentos'!K:K,'Ações-Lançamentos'!D:D,$A271,'Ações-Lançamentos'!B:B,\"v\"))-SUMIFS('Ações-Lançamentos'!K:K,'Ações-Lançamentos'!D:D,$A271,'Ações-Lançamentos'!L:L,\"BONIFICAÇÃO\")","v":0},0,null,{"$f":"IFERROR(VLOOKUP(A271,Cotações!B:C,2,FALSE),\"\")","v":""},0,0,null,null,0,null,0,0,null,{"$f":"IF(OR(A271=\"\",A271=\"(vazio)\"),0,IFERROR(LOOKUP(2,1/('Ações-Lançamentos'!D:D=A271),'Ações-Lançamentos'!O:O),0))","v":0},null,{"$f":"IF(OR(A271=\"\",A271=\"(vazio)\"),0,IFERROR(LOOKUP(2,1/('Ações-Lançamentos'!D:D=A271),'Ações-Lançamentos'!N:N),0))","v":0},null,null,null,null,null,null,"",""]
[null,".sa",{"$f":"SUMIFS('Ações-Lançamentos'!C:C,'Ações-Lançamentos'!D:D,$A272,'Ações-Lançamentos'!B:B,\"C\")+SUMIFS('Ações-Lançamentos'!C:C,'Ações-Lançamentos'!D:D,$A272,'Ações-Lançamentos'!B:B,\"v\")","v":0},{"$f":"IF(C272=0,0,SUMIFS('Ações-Lançamentos'!K:K,'Ações-Lançamentos'!D:D,$A272,'Ações-Lançamentos'!B:B,\"C\")-SUMIFS('Ações-Lançamentos'!K:K,'Ações-Lançamentos'!D:D,$A272,'Ações-Lançamentos'!B:B,\"v\"))-SUMIFS('Ações-Lançamentos'!K:K,'Ações-Lançamentos'!D:D,$A272,'Ações-Lançamentos'!L:L,\"BONIFICAÇÃO\")","v":0},0,null,{"$f":"IFERROR(VLOOKUP(A272,Cotações!B:C,2,FALSE),\"\")","v":""},0,0,null,null,0,null,0,0,null,{"$f":"IF(OR(A272=\"\",A272=\"(vazio)\"),0,IFERROR(LOOKUP(2,1/('Ações-Lançamentos'!D:D=A272),'Ações-Lançamentos'!O:O),0))","v":0},null,{"$f":"IF(OR(A272=\"\",A272=\"(vazio)\"),0,IFERROR(LOOKUP(2,1/('Ações-Lançamentos'!D:D=A272),'Ações-Lançamentos'!N:N),0))","v":0},null,null,null,null,null,null,"",""]
[null,".sa",{"$f":"SUMIFS('Ações-Lançamentos'!C:C,'Ações-Lançamentos'!D:D,$A273,'Ações-Lançamentos'!B:B,\"C\")+SUMIFS('Ações-Lançamentos'!C:C,'Ações-Lançamentos'!D:D,$A273,'Ações-Lançamentos'!B:B,\"v\")","v":0},{"$f":"IF(C273=0,0,SUMIFS('Ações-Lançamentos'!K:K,'Ações-Lançamentos'!D:D,$A273,'Ações-Lançamentos'!B:B,\"C\")-SUMIFS('Ações-Lançamentos'!K:K,'Ações-Lançamentos'!D:D,$A273,'Ações-Lançamentos'!B:B,\"v\"))-SUMIFS('Ações-Lançamentos'!K:K,'Ações-Lançamentos'!D:D,$A273,'Ações-Lançamentos'!L:L,\"BONIFICAÇÃO\")","v":0},0,null,{"$f":"IFERROR(VLOOKUP(A273,Cotações!B:C,2,FALSE),\"\")","v":""},0,0,null,null,0,null,0,0,null,{"$f":"IF(OR(A273=\"\",A273=\"(vazio)\"),0,IFERROR(LOOKUP(2,1/('Ações-Lançamentos'!D:D=A273),'Ações-Lançamentos'!O:O),0))","v":0},null,{"$f":"IF(OR(A273=\"\",A273=\"(vazio)\"),0,IFERROR(LOOKUP(2,1/('Ações-Lançamentos'!D:D=A273),'Ações-Lançamentos'!N:N),0))","v":0},null,null,null,null,null,null,"",""]
[null,".sa",{"$f":"SUMIFS('Ações-Lançamentos'!C:C,'Ações-Lançamentos'!D:D,$A274,'Ações-Lançamentos'!B:B,\"C\")+SUMIFS('Ações-Lançamentos'!C:C,'Ações-Lançamentos'!D:D,$A274,'Ações-Lançamentos'!B:B,\"v\")","v":0},{"$f":"IF(C274=0,0,SUMIFS('Ações-Lançamentos'!K:K,'Ações-Lançamentos'!D:D,$A274,'Ações-Lançamentos'!B:B,\"C\")-SUMIFS('Ações-Lançamentos'!K:K,'Ações-Lançamentos'!D:D,$A274,'Ações-Lançamentos'!B:B,\"v\"))-SUMIFS('Ações-Lançamentos'!K:K,'Ações-Lançamentos'!D:D,$A274,'Ações-Lançamentos'!L:L,\"BONIFICAÇÃO\")","v":0},0,null,{"$f":"IFERROR(VLOOKUP(A274,Cotações!B:C,2,FALSE),\"\")","v":""},0,0,null,null,0,null,0,0,null,{"$f":"IF(OR(A274=\"\",A274=\"(vazio)\"),0,IFERROR(LOOKUP(2,1/('Ações-Lançamentos'!D:D=A274),'Ações-Lançamentos'!O:O),0))","v":0},null,{"$f":"IF(OR(A274=\"\",A274=\"(vazio)\"),0,IFERROR(LOOKUP(2,1/('Ações-Lançamentos'!D:D=A274),'Ações-Lançamentos'!N:N),0))","v":0},null,null,null,null,null,null,"",""]
[null,".sa",{"$f":"SUMIFS('Ações-Lançamentos'!C:C,'Ações-Lançamentos'!D:D,$A275,'Ações-Lançamentos'!B:B,\"C\")+SUMIFS('Ações-Lançamentos'!C:C,'Ações-Lançamentos'!D:D,$A275,'Ações-Lançamentos'!B:B,\"v\")","v":0},{"$f":"IF(C275=0,0,SUMIFS('Ações-Lançamentos'!K:K,'Ações-Lançamentos'!D:D,$A275,'Ações-Lançamentos'!B:B,\"C\")-SUMIFS('Ações-Lançamentos'!K:K,'Ações-Lançamentos'!D:D,$A275,'Ações-Lançamentos'!B:B,\"v\"))-SUMIFS('Ações-Lançamentos'!K:K,'Ações-Lançamentos'!D:D,$A275,'Ações-Lançamentos'!L:L,\"BONIFICAÇÃO\")","v":0},0,null,{"$f":"IFERROR(VLOOKUP(A275,Cotações!B:C,2,FALSE),\"\")","v":""},0,0,null,null,0,null,0,0,null,{"$f":"IF(OR(A275=\"\",A275=\"(vazio)\"),0,IFERROR(LOOKUP(2,1/('Ações-Lançamentos'!D:D=A275),'Ações-Lançamentos'!O:O),0))","v":0},null,{"$f":"IF(OR(A275=\"\",A275=\"(vazio)\"),0,IFERROR(LOOKUP(2,1/('Ações-Lançamentos'!D:D=A275),'Ações-Lançamentos'!N:N),0))","v":0},null,null,null,null,null,null,"",""]
[null,".sa",{"$f":"SUMIFS('Ações-Lançamentos'!C:C,'Ações-Lançamentos'!D:D,$A276,'Ações-Lançamentos'!B:B,\"C\")+SUMIFS('Ações-Lançamentos'!C:C,'Ações-Lançamentos'!D:D,$A276,'Ações-Lançamentos'!B:B,\"v\")","v":0},{"$f":"IF(C276=0,0,SUMIFS('Ações-Lançamentos'!K:K,'Ações-Lançamentos'!D:D,$A276,'Ações-Lançamentos'!B:B,\"C\")-SUMIFS('Ações-Lançamentos'!K:K,'Ações-Lançamentos'!D:D,$A276,'Ações-Lançamentos'!B:B,\"v\"))-SUMIFS('Ações-Lançamentos'!K:K,'Ações-Lançamentos'!D:D,$A276,'Ações-Lançamentos'!L:L,\"BONIFICAÇÃO\")","v":0},0,null,{"$f":"IFERROR(VLOOKUP(A276,Cotações!B:C,2,FALSE),\"\")","v":""},0,0,null,null,0,null,0,0,null,{"$f":"IF(OR(A276=\"\",A276=\"(vazio)\"),0,IFERROR(LOOKUP(2,1/('Ações-Lançamentos'!D:D=A276),'Ações-Lançamentos'!O:O),0))","v":0},null,{"$f":"IF(OR(A276=\"\",A276=\"(vazio)\"),0,IFERROR(LOOKUP(2,1/('Ações-Lançamentos'!D:D=A276),'Ações-Lançamentos'!N:N),0))","v":0},null,null,null,null,null,null,"",""]
[null,".sa",{"$f":"SUMIFS('Ações-Lançamentos'!C:C,'Ações-Lançamentos'!D:D,$A277,'Ações-Lançamentos'!B:B,\"C\")+SUMIFS('Ações-Lançamentos'!C:C,'Ações-Lançamentos'!D:D,$A277,'Ações-Lançamentos'!B:B,\"v\")","v":0},{"$f":"IF(C277=0,0,SUMIFS('Ações-Lançamentos'!K:K,'Ações-Lançamentos'!D:D,$A277,'Ações-Lançamentos'!B:B,\"C\")-SUMIFS('Ações-Lançamentos'!K:K,'Ações-Lançamentos'!D:D,$A277,'Ações-Lançamentos'!B:B,\"v\"))-SUMIFS('Ações-Lançamentos'!K:K,'Ações-Lançamentos'!D:D,$A277,'Ações-Lançamentos'!L:L,\"BONIFICAÇÃO\")","v":0},0,null,{"$f":"IFERROR(VLOOKUP(A277,Cotações!B:C,2,FALSE),\"\")","v":""},0,0,null,null,0,null,0,0,null,{"$f":"IF(OR(A277=\"\",A277=\"(vazio)\"),0,IFERROR(LOOKUP(2,1/('Ações-Lançamentos'!D:D=A277),'Ações-Lançamentos'!O:O),0))","v":0},null,{"$f":"IF(OR(A277=\"\",A277=\"(vazio)\"),0,IFERROR(LOOKUP(2,1/('Ações-Lançamentos'!D:D=A277),'Ações-Lançamentos'!N:N),0))","v":0},null,null,null,null,null,null,"",""]
[null,".sa",{"$f":"SUMIFS('Ações-Lançamentos'!C:C,'Ações-Lançamentos'!D:D,$A278,'Ações-Lançamentos'!B:B,\"C\")+SUMIFS('Ações-Lançamentos'!C:C,'Ações-Lançamentos'!D:D,$A278,'Ações-Lançamentos'!B:B,\"v\")","v":0},{"$f":"IF(C278=0,0,SUMIFS('Ações-Lançamentos'!K:K,'Ações-Lançamentos'!D:D,$A278,'Ações-Lançamentos'!B:B,\"C\")-SUMIFS('Ações-Lançamentos'!K:K,'Ações-Lançamentos'!D:D,$A278,'Ações-Lançamentos'!B:B,\"v\"))-SUMIFS('Ações-Lançamentos'!K:K,'Ações-Lançamentos'!D:D,$A278,'Ações-Lançamentos'!L:L,\"BONIFICAÇÃO\")","v":0},0,null,{"$f":"IFERROR(VLOOKUP(A278,Cotações!B:C,2,FALSE),\"\")","v":""},0,0,null,null,0,null,0,0,null,{"$f":"IF(OR(A278=\"\",A278=\"(vazio)\"),0,IFERROR(LOOKUP(2,1/('Ações-Lançamentos'!D:D=A278),'Ações-Lançamentos'!O:O),0))","v":0},null,{"$f":"IF(OR(A278=\"\",A278=\"(vazio)\"),0,IFERROR(LOOKUP(2,1/('Ações-Lançamentos'!D:D=A278),'Ações-Lançamentos'!N:N),0))","v":0},null,null,null,null,null,null,"",""]
[null,".sa",{"$f":"SUMIFS('Ações-Lançamentos'!C:C,'Ações-Lançamentos'!D:D,$A279,'Ações-Lançamentos'!B:B,\"C\")+SUMIFS('Ações-Lançamentos'!C:C,'Ações-Lançamentos'!D:D,$A279,'Ações-Lançamentos'!B:B,\"v\")","v":0},{"$f":"IF(C279=0,0,SUMIFS('Ações-Lançamentos'!K:K,'Ações-Lançamentos'!D:D,$A279,'Ações-Lançamentos'!B:B,\"C\")-SUMIFS('Ações-Lançamentos'!K:K,'Ações-Lançamentos'!D:D,$A279,'Ações-Lançamentos'!B:B,\"v\"))-SUMIFS('Ações-Lançamentos'!K:K,'Ações-Lançamentos'!D:D,$A279,'Ações-Lançamentos'!L:L,\"BONIFICAÇÃO\")","v":0},0,null,{"$f":"IFERROR(VLOOKUP(A279,Cotações!B:C,2,FALSE),\"\")","v":""},0,0,null,null,0,null,0,0,null,{"$f":"IF(OR(A279=\"\",A279=\"(vazio)\"),0,IFERROR(LOOKUP(2,1/('Ações-Lançamentos'!D:D=A279),'Ações-Lançamentos'!O:O),0))","v":0},null,{"$f":"IF(OR(A279=\"\",A279=\"(vazio)\"),0,IFERROR(LOOKUP(2,1/('Ações-Lançamentos'!D:D=A279),'Ações-Lançamentos'!N:N),0))","v":0},null,null,null,null,null,null,"",""]
[null,".sa",{"$f":"SUMIFS('Ações-Lançamentos'!C:C,'Ações-Lançamentos'!D:D,$A280,'Ações-Lançamentos'!B:B,\"C\")+SUMIFS('Ações-Lançamentos'!C:C,'Ações-Lançamentos'!D:D,$A280,'Ações-Lançamentos'!B:B,\"v\")","v":0},{"$f":"IF(C280=0,0,SUMIFS('Ações-Lançamentos'!K:K,'Ações-Lançamentos'!D:D,$A280,'Ações-Lançamentos'!B:B,\"C\")-SUMIFS('Ações-Lançamentos'!K:K,'Ações-Lançamentos'!D:D,$A280,'Ações-Lançamentos'!B:B,\"v\"))-SUMIFS('Ações-Lançamentos'!K:K,'Ações-Lançamentos'!D:D,$A280,'Ações-Lançamentos'!L:L,\"BONIFICAÇÃO\")","v":0},0,null,{"$f":"IFERROR(VLOOKUP(A280,Cotações!B:C,2,FALSE),\"\")","v":""},0,0,null,null,0,null,0,0,null,{"$f":"IF(OR(A280=\"\",A280=\"(vazio)\"),0,IFERROR(LOOKUP(2,1/('Ações-Lançamentos'!D:D=A280),'Ações-Lançamentos'!O:O),0))","v":0},null,{"$f":"IF(OR(A280=\"\",A280=\"(vazio)\"),0,IFERROR(LOOKUP(2,1/('Ações-Lançamentos'!D:D=A280),'Ações-Lançamentos'!N:N),0))","v":0},null,null,null,null,null,null,"",""]
[null,".sa",{"$f":"SUMIFS('Ações-Lançamentos'!C:C,'Ações-Lançamentos'!D:D,$A281,'Ações-Lançamentos'!B:B,\"C\")+SUMIFS('Ações-Lançamentos'!C:C,'Ações-Lançamentos'!D:D,$A281,'Ações-Lançamentos'!B:B,\"v\")","v":0},{"$f":"IF(C281=0,0,SUMIFS('Ações-Lançamentos'!K:K,'Ações-Lançamentos'!D:D,$A281,'Ações-Lançamentos'!B:B,\"C\")-SUMIFS('Ações-Lançamentos'!K:K,'Ações-Lançamentos'!D:D,$A281,'Ações-Lançamentos'!B:B,\"v\"))-SUMIFS('Ações-Lançamentos'!K:K,'Ações-Lançamentos'!D:D,$A281,'Ações-Lançamentos'!L:L,\"BONIFICAÇÃO\")","v":0},0,null,{"$f":"IFERROR(VLOOKUP(A281,Cotações!B:C,2,FALSE),\"\")","v":""},0,0,null,null,0,null,0,0,null,{"$f":"IF(OR(A281=\"\",A281=\"(vazio)\"),0,IFERROR(LOOKUP(2,1/('Ações-Lançamentos'!D:D=A281),'Ações-Lançamentos'!O:O),0))","v":0},null,{"$f":"IF(OR(A281=\"\",A281=\"(vazio)\"),0,IFERROR(LOOKUP(2,1/('Ações-Lançamentos'!D:D=A281),'Ações-Lançamentos'!N:N),0))","v":0},null,null,null,null,null,null,"",""]
[null,".sa",{"$f":"SUMIFS('Ações-Lançamentos'!C:C,'Ações-Lançamentos'!D:D,$A282,'Ações-Lançamentos'!B:B,\"C\")+SUMIFS('Ações-Lançamentos'!C:C,'Ações-Lançamentos'!D:D,$A282,'Ações-Lançamentos'!B:B,\"v\")","v":0},{"$f":"IF(C282=0,0,SUMIFS('Ações-Lançamentos'!K:K,'Ações-Lançamentos'!D:D,$A282,'Ações-Lançamentos'!B:B,\"C\")-SUMIFS('Ações-Lançamentos'!K:K,'Ações-Lançamentos'!D:D,$A282,'Ações-Lançamentos'!B:B,\"v\"))-SUMIFS('Ações-Lançamentos'!K:K,'Ações-Lançamentos'!D:D,$A282,'Ações-Lançamentos'!L:L,\"BONIFICAÇÃO\")","v":0},0,null,{"$f":"IFERROR(VLOOKUP(A282,Cotações!B:C,2,FALSE),\"\")","v":""},0,0,null,null,0,null,0,0,null,{"$f":"IF(OR(A282=\"\",A282=\"(vazio)\"),0,IFERROR(LOOKUP(2,1/('Ações-Lançamentos'!D:D=A282),'Ações-Lançamentos'!O:O),0))","v":0},null,{"$f":"IF(OR(A282=\"\",A282=\"(vazio)\"),0,IFERROR(LOOKUP(2,1/('Ações-Lançamentos'!D:D=A282),'Ações-Lançamentos'!N:N),0))","v":0},null,null,null,null,null,null,"",""]
[null,".sa",{"$f":"SUMIFS('Ações-Lançamentos'!C:C,'Ações-Lançamentos'!D:D,$A283,'Ações-Lançamentos'!B:B,\"C\")+SUMIFS('Ações-Lançamentos'!C:C,'Ações-Lançamentos'!D:D,$A283,'Ações-Lançamentos'!B:B,\"v\")","v":0},{"$f":"IF(C283=0,0,SUMIFS('Ações-Lançamentos'!K:K,'Ações-Lançamentos'!D:D,$A283,'Ações-Lançamentos'!B:B,\"C\")-SUMIFS('Ações-Lançamentos'!K:K,'Ações-Lançamentos'!D:D,$A283,'Ações-Lançamentos'!B:B,\"v\"))-SUMIFS('Ações-Lançamentos'!K:K,'Ações-Lançamentos'!D:D,$A283,'Ações-Lançamentos'!L:L,\"BONIFICAÇÃO\")","v":0},0,null,{"$f":"IFERROR(VLOOKUP(A283,Cotações!B:C,2,FALSE),\"\")","v":""},0,0,null,null,0,null,0,0,null,{"$f":"IF(OR(A283=\"\",A283=\"(vazio)\"),0,IFERROR(LOOKUP(2,1/('Ações-Lançamentos'!D:D=A283),'Ações-Lançamentos'!O:O),0))","v":0},null,{"$f":"IF(OR(A283=\"\",A283=\"(vazio)\"),0,IFERROR(LOOKUP(2,1/('Ações-Lançamentos'!D:D=A283),'Ações-Lançamentos'!N:N),0))","v":0},null,null,null,null,null,null,"",""]
[null,".sa",{"$f":"SUMIFS('Ações-Lançamentos'!C:C,'Ações-Lançamentos'!D:D,$A284,'Ações-Lançamentos'!B:B,\"C\")+SUMIFS('Ações-Lançamentos'!C:C,'Ações-Lançamentos'!D:D,$A284,'Ações-Lançamentos'!B:B,\"v\")","v":0},{"$f":"IF(C284=0,0,SUMIFS('Ações-Lançamentos'!K:K,'Ações-Lançamentos'!D:D,$A284,'Ações-Lançamentos'!B:B,\"C\")-SUMIFS('Ações-Lançamentos'!K:K,'Ações-Lançamentos'!D:D,$A284,'Ações-Lançamentos'!B:B,\"v\"))-SUMIFS('Ações-Lançamentos'!K:K,'Ações-Lançamentos'!D:D,$A284,'Ações-Lançamentos'!L:L,\"BONIFICAÇÃO\")","v":0},0,null,{"$f":"IFERROR(VLOOKUP(A284,Cotações!B:C,2,FALSE),\"\")","v":""},0,0,null,null,0,null,0,0,null,{"$f":"IF(OR(A284=\"\",A284=\"(vazio)\"),0,IFERROR(LOOKUP(2,1/('Ações-Lançamentos'!D:D=A284),'Ações-Lançamentos'!O:O),0))","v":0},null,{"$f":"IF(OR(A284=\"\",A284=\"(vazio)\"),0,IFERROR(LOOKUP(2,1/('Ações-Lançamentos'!D:D=A284),'Ações-Lançamentos'!N:N),0))","v":0},null,null,null,null,null,null,"",""]
[null,".sa",{"$f":"SUMIFS('Ações-Lançamentos'!C:C,'Ações-Lançamentos'!D:D,$A285,'Ações-Lançamentos'!B:B,\"C\")+SUMIFS('Ações-Lançamentos'!C:C,'Ações-Lançamentos'!D:D,$A285,'Ações-Lançamentos'!B:B,\"v\")","v":0},{"$f":"IF(C285=0,0,SUMIFS('Ações-Lançamentos'!K:K,'Ações-Lançamentos'!D:D,$A285,'Ações-Lançamentos'!B:B,\"C\")-SUMIFS('Ações-Lançamentos'!K:K,'Ações-Lançamentos'!D:D,$A285,'Ações-Lançamentos'!B:B,\"v\"))-SUMIFS('Ações-Lançamentos'!K:K,'Ações-Lançamentos'!D:D,$A285,'Ações-Lançamentos'!L:L,\"BONIFICAÇÃO\")","v":0},0,null,{"$f":"IFERROR(VLOOKUP(A285,Cotações!B:C,2,FALSE),\"\")","v":""},0,0,null,null,0,null,0,0,null,{"$f":"IF(OR(A285=\"\",A285=\"(vazio)\"),0,IFERROR(LOOKUP(2,1/('Ações-Lançamentos'!D:D=A285),'Ações-Lançamentos'!O:O),0))","v":0},null,{"$f":"IF(OR(A285=\"\",A285=\"(vazio)\"),0,IFERROR(LOOKUP(2,1/('Ações-Lançamentos'!D:D=A285),'Ações-Lançamentos'!N:N),0))","v":0},null,null,null,null,null,null,"",""]
[null,".sa",{"$f":"SUMIFS('Ações-Lançamentos'!C:C,'Ações-Lançamentos'!D:D,$A286,'Ações-Lançamentos'!B:B,\"C\")+SUMIFS('Ações-Lançamentos'!C:C,'Ações-Lançamentos'!D:D,$A286,'Ações-Lançamentos'!B:B,\"v\")","v":0},{"$f":"IF(C286=0,0,SUMIFS('Ações-Lançamentos'!K:K,'Ações-Lançamentos'!D:D,$A286,'Ações-Lançamentos'!B:B,\"C\")-SUMIFS('Ações-Lançamentos'!K:K,'Ações-Lançamentos'!D:D,$A286,'Ações-Lançamentos'!B:B,\"v\"))-SUMIFS('Ações-Lançamentos'!K:K,'Ações-Lançamentos'!D:D,$A286,'Ações-Lançamentos'!L:L,\"BONIFICAÇÃO\")","v":0},0,null,{"$f":"IFERROR(VLOOKUP(A286,Cotações!B:C,2,FALSE),\"\")","v":""},0,0,null,null,0,null,0,0,null,{"$f":"IF(OR(A286=\"\",A286=\"(vazio)\"),0,IFERROR(LOOKUP(2,1/('Ações-Lançamentos'!D:D=A286),'Ações-Lançamentos'!O:O),0))","v":0},null,{"$f":"IF(OR(A286=\"\",A286=\"(vazio)\"),0,IFERROR(LOOKUP(2,1/('Ações-Lançamentos'!D:D=A286),'Ações-Lançamentos'!N:N),0))","v":0},null,null,null,null,null,null,"",""]
[null,".sa",{"$f":"SUMIFS('Ações-Lançamentos'!C:C,'Ações-Lançamentos'!D:D,$A287,'Ações-Lançamentos'!B:B,\"C\")+SUMIFS('Ações-Lançamentos'!C:C,'Ações-Lançamentos'!D:D,$A287,'Ações-Lançamentos'!B:B,\"v\")","v":0},{"$f":"IF(C287=0,0,SUMIFS('Ações-Lançamentos'!K:K,'Ações-Lançamentos'!D:D,$A287,'Ações-Lançamentos'!B:B,\"C\")-SUMIFS('Ações-Lançamentos'!K:K,'Ações-Lançamentos'!D:D,$A287,'Ações-Lançamentos'!B:B,\"v\"))-SUMIFS('Ações-Lançamentos'!K:K,'Ações-Lançamentos'!D:D,$A287,'Ações-Lançamentos'!L:L,\"BONIFICAÇÃO\")","v":0},0,null,{"$f":"IFERROR(VLOOKUP(A287,Cotações!B:C,2,FALSE),\"\")","v":""},0,0,null,null,0,null,0,0,null,{"$f":"IF(OR(A287=\"\",A287=\"(vazio)\"),0,IFERROR(LOOKUP(2,1/('Ações-Lançamentos'!D:D=A287),'Ações-Lançamentos'!O:O),0))","v":0},null,{"$f":"IF(OR(A287=\"\",A287=\"(vazio)\"),0,IFERROR(LOOKUP(2,1/('Ações-Lançamentos'!D:D=A287),'Ações-Lançamentos'!N:N),0))","v":0},null,null,null,null,null,null,"",""]
[null,".sa",{"$f":"SUMIFS('Ações-Lançamentos'!C:C,'Ações-Lançamentos'!D:D,$A288,'Ações-Lançamentos'!B:B,\"C\")+SUMIFS('Ações-Lançamentos'!C:C,'Ações-Lançamentos'!D:D,$A288,'Ações-Lançamentos'!B:B,\"v\")","v":0},{"$f":"IF(C288=0,0,SUMIFS('Ações-Lançamentos'!K:K,'Ações-Lançamentos'!D:D,$A288,'Ações-Lançamentos'!B:B,\"C\")-SUMIFS('Ações-Lançamentos'!K:K,'Ações-Lançamentos'!D:D,$A288,'Ações-Lançamentos'!B:B,\"v\"))-SUMIFS('Ações-Lançamentos'!K:K,'Ações-Lançamentos'!D:D,$A288,'Ações-Lançamentos'!L:L,\"BONIFICAÇÃO\")","v":0},0,null,{"$f":"IFERROR(VLOOKUP(A288,Cotações!B:C,2,FALSE),\"\")","v":""},0,0,null,null,0,null,0,0,null,{"$f":"IF(OR(A288=\"\",A288=\"(vazio)\"),0,IFERROR(LOOKUP(2,1/('Ações-Lançamentos'!D:D=A288),'Ações-Lançamentos'!O:O),0))","v":0},null,{"$f":"IF(OR(A288=\"\",A288=\"(vazio)\"),0,IFERROR(LOOKUP(2,1/('Ações-Lançamentos'!D:D=A288),'Ações-Lançamentos'!N:N),0))","v":0},null,null,null,null,null,null,"",""]
[null,".sa",{"$f":"SUMIFS('Ações-Lançamentos'!C:C,'Ações-Lançamentos'!D:D,$A289,'Ações-Lançamentos'!B:B,\"C\")+SUMIFS('Ações-Lançamentos'!C:C,'Ações-Lançamentos'!D:D,$A289,'Ações-Lançamentos'!B:B,\"v\")","v":0},{"$f":"IF(C289=0,0,SUMIFS('Ações-Lançamentos'!K:K,'Ações-Lançamentos'!D:D,$A289,'Ações-Lançamentos'!B:B,\"C\")-SUMIFS('Ações-Lançamentos'!K:K,'Ações-Lançamentos'!D:D,$A289,'Ações-Lançamentos'!B:B,\"v\"))-SUMIFS('Ações-Lançamentos'!K:K,'Ações-Lançamentos'!D:D,$A289,'Ações-Lançamentos'!L:L,\"BONIFICAÇÃO\")","v":0},0,null,{"$f":"IFERROR(VLOOKUP(A289,Cotações!B:C,2,FALSE),\"\")","v":""},0,0,null,null,0,null,0,0,null,{"$f":"IF(OR(A289=\"\",A289=\"(vazio)\"),0,IFERROR(LOOKUP(2,1/('Ações-Lançamentos'!D:D=A289),'Ações-Lançamentos'!O:O),0))","v":0},null,{"$f":"IF(OR(A289=\"\",A289=\"(vazio)\"),0,IFERROR(LOOKUP(2,1/('Ações-Lançamentos'!D:D=A289),'Ações-Lançamentos'!N:N),0))","v":0},null,null,null,null,null,null,"",""]
[null,".sa",{"$f":"SUMIFS('Ações-Lançamentos'!C:C,'Ações-Lançamentos'!D:D,$A290,'Ações-Lançamentos'!B:B,\"C\")+SUMIFS('Ações-Lançamentos'!C:C,'Ações-Lançamentos'!D:D,$A290,'Ações-Lançamentos'!B:B,\"v\")","v":0},{"$f":"IF(C290=0,0,SUMIFS('Ações-Lançamentos'!K:K,'Ações-Lançamentos'!D:D,$A290,'Ações-Lançamentos'!B:B,\"C\")-SUMIFS('Ações-Lançamentos'!K:K,'Ações-Lançamentos'!D:D,$A290,'Ações-Lançamentos'!B:B,\"v\"))-SUMIFS('Ações-Lançamentos'!K:K,'Ações-Lançamentos'!D:D,$A290,'Ações-Lançamentos'!L:L,\"BONIFICAÇÃO\")","v":0},0,null,{"$f":"IFERROR(VLOOKUP(A290,Cotações!B:C,2,FALSE),\"\")","v":""},0,0,null,null,0,null,0,0,null,{"$f":"IF(OR(A290=\"\",A290=\"(vazio)\"),0,IFERROR(LOOKUP(2,1/('Ações-Lançamentos'!D:D=A290),'Ações-Lançamentos'!O:O),0))","v":0},null,{"$f":"IF(OR(A290=\"\",A290=\"(vazio)\"),0,IFERROR(LOOKUP(2,1/('Ações-Lançamentos'!D:D=A290),'Ações-Lançamentos'!N:N),0))","v":0},null,null,null,null,null,null,"",""]
[null,".sa",{"$f":"SUMIFS('Ações-Lançamentos'!C:C,'Ações-Lançamentos'!D:D,$A291,'Ações-Lançamentos'!B:B,\"C\")+SUMIFS('Ações-Lançamentos'!C:C,'Ações-Lançamentos'!D:D,$A291,'Ações-Lançamentos'!B:B,\"v\")","v":0},{"$f":"IF(C291=0,0,SUMIFS('Ações-Lançamentos'!K:K,'Ações-Lançamentos'!D:D,$A291,'Ações-Lançamentos'!B:B,\"C\")-SUMIFS('Ações-Lançamentos'!K:K,'Ações-Lançamentos'!D:D,$A291,'Ações-Lançamentos'!B:B,\"v\"))-SUMIFS('Ações-Lançamentos'!K:K,'Ações-Lançamentos'!D:D,$A291,'Ações-Lançamentos'!L:L,\"BONIFICAÇÃO\")","v":0},0,null,{"$f":"IFERROR(VLOOKUP(A291,Cotações!B:C,2,FALSE),\"\")","v":""},0,0,null,null,0,null,0,0,null,{"$f":"IF(OR(A291=\"\",A291=\"(vazio)\"),0,IFERROR(LOOKUP(2,1/('Ações-Lançamentos'!D:D=A291),'Ações-Lançamentos'!O:O),0))","v":0},null,{"$f":"IF(OR(A291=\"\",A291=\"(vazio)\"),0,IFERROR(LOOKUP(2,1/('Ações-Lançamentos'!D:D=A291),'Ações-Lançamentos'!N:N),0))","v":0},null,null,null,null,null,null,"",""]
[null,".sa",{"$f":"SUMIFS('Ações-Lançamentos'!C:C,'Ações-Lançamentos'!D:D,$A292,'Ações-Lançamentos'!B:B,\"C\")+SUMIFS('Ações-Lançamentos'!C:C,'Ações-Lançamentos'!D:D,$A292,'Ações-Lançamentos'!B:B,\"v\")","v":0},{"$f":"IF(C292=0,0,SUMIFS('Ações-Lançamentos'!K:K,'Ações-Lançamentos'!D:D,$A292,'Ações-Lançamentos'!B:B,\"C\")-SUMIFS('Ações-Lançamentos'!K:K,'Ações-Lançamentos'!D:D,$A292,'Ações-Lançamentos'!B:B,\"v\"))-SUMIFS('Ações-Lançamentos'!K:K,'Ações-Lançamentos'!D:D,$A292,'Ações-Lançamentos'!L:L,\"BONIFICAÇÃO\")","v":0},0,null,{"$f":"IFERROR(VLOOKUP(A292,Cotações!B:C,2,FALSE),\"\")","v":""},0,0,null,null,0,null,0,0,null,{"$f":"IF(OR(A292=\"\",A292=\"(vazio)\"),0,IFERROR(LOOKUP(2,1/('Ações-Lançamentos'!D:D=A292),'Ações-Lançamentos'!O:O),0))","v":0},null,{"$f":"IF(OR(A292=\"\",A292=\"(vazio)\"),0,IFERROR(LOOKUP(2,1/('Ações-Lançamentos'!D:D=A292),'Ações-Lançamentos'!N:N),0))","v":0},null,null,null,null,null,null,"",""]
[null,".sa",{"$f":"SUMIFS('Ações-Lançamentos'!C:C,'Ações-Lançamentos'!D:D,$A293,'Ações-Lançamentos'!B:B,\"C\")+SUMIFS('Ações-Lançamentos'!C:C,'Ações-Lançamentos'!D:D,$A293,'Ações-Lançamentos'!B:B,\"v\")","v":0},{"$f":"IF(C293=0,0,SUMIFS('Ações-Lançamentos'!K:K,'Ações-Lançamentos'!D:D,$A293,'Ações-Lançamentos'!B:B,\"C\")-SUMIFS('Ações-Lançamentos'!K:K,'Ações-Lançamentos'!D:D,$A293,'Ações-Lançamentos'!B:B,\"v\"))-SUMIFS('Ações-Lançamentos'!K:K,'Ações-Lançamentos'!D:D,$A293,'Ações-Lançamentos'!L:L,\"BONIFICAÇÃO\")","v":0},0,null,{"$f":"IFERROR(VLOOKUP(A293,Cotações!B:C,2,FALSE),\"\")","v":""},0,0,null,null,0,null,0,0,null,{"$f":"IF(OR(A293=\"\",A293=\"(vazio)\"),0,IFERROR(LOOKUP(2,1/('Ações-Lançamentos'!D:D=A293),'Ações-Lançamentos'!O:O),0))","v":0},null,{"$f":"IF(OR(A293=\"\",A293=\"(vazio)\"),0,IFERROR(LOOKUP(2,1/('Ações-Lançamentos'!D:D=A293),'Ações-Lançamentos'!N:N),0))","v":0},null,null,null,null,null,null,"",""]
[null,".sa",{"$f":"SUMIFS('Ações-Lançamentos'!C:C,'Ações-Lançamentos'!D:D,$A294,'Ações-Lançamentos'!B:B,\"C\")+SUMIFS('Ações-Lançamentos'!C:C,'Ações-Lançamentos'!D:D,$A294,'Ações-Lançamentos'!B:B,\"v\")","v":0},{"$f":"IF(C294=0,0,SUMIFS('Ações-Lançamentos'!K:K,'Ações-Lançamentos'!D:D,$A294,'Ações-Lançamentos'!B:B,\"C\")-SUMIFS('Ações-Lançamentos'!K:K,'Ações-Lançamentos'!D:D,$A294,'Ações-Lançamentos'!B:B,\"v\"))-SUMIFS('Ações-Lançamentos'!K:K,'Ações-Lançamentos'!D:D,$A294,'Ações-Lançamentos'!L:L,\"BONIFICAÇÃO\")","v":0},0,null,{"$f":"IFERROR(VLOOKUP(A294,Cotações!B:C,2,FALSE),\"\")","v":""},0,0,null,null,0,null,0,0,null,{"$f":"IF(OR(A294=\"\",A294=\"(vazio)\"),0,IFERROR(LOOKUP(2,1/('Ações-Lançamentos'!D:D=A294),'Ações-Lançamentos'!O:O),0))","v":0},null,{"$f":"IF(OR(A294=\"\",A294=\"(vazio)\"),0,IFERROR(LOOKUP(2,1/('Ações-Lançamentos'!D:D=A294),'Ações-Lançamentos'!N:N),0))","v":0},null,null,null,null,null,null,"",""]
[null,".sa",{"$f":"SUMIFS('Ações-Lançamentos'!C:C,'Ações-Lançamentos'!D:D,$A295,'Ações-Lançamentos'!B:B,\"C\")+SUMIFS('Ações-Lançamentos'!C:C,'Ações-Lançamentos'!D:D,$A295,'Ações-Lançamentos'!B:B,\"v\")","v":0},{"$f":"IF(C295=0,0,SUMIFS('Ações-Lançamentos'!K:K,'Ações-Lançamentos'!D:D,$A295,'Ações-Lançamentos'!B:B,\"C\")-SUMIFS('Ações-Lançamentos'!K:K,'Ações-Lançamentos'!D:D,$A295,'Ações-Lançamentos'!B:B,\"v\"))-SUMIFS('Ações-Lançamentos'!K:K,'Ações-Lançamentos'!D:D,$A295,'Ações-Lançamentos'!L:L,\"BONIFICAÇÃO\")","v":0},0,null,{"$f":"IFERROR(VLOOKUP(A295,Cotações!B:C,2,FALSE),\"\")","v":""},0,0,null,null,0,null,0,0,null,{"$f":"IF(OR(A295=\"\",A295=\"(vazio)\"),0,IFERROR(LOOKUP(2,1/('Ações-Lançamentos'!D:D=A295),'Ações-Lançamentos'!O:O),0))","v":0},null,{"$f":"IF(OR(A295=\"\",A295=\"(vazio)\"),0,IFERROR(LOOKUP(2,1/('Ações-Lançamentos'!D:D=A295),'Ações-Lançamentos'!N:N),0))","v":0},null,null,null,null,null,null,"",""]
[null,".sa",{"$f":"SUMIFS('Ações-Lançamentos'!C:C,'Ações-Lançamentos'!D:D,$A296,'Ações-Lançamentos'!B:B,\"C\")+SUMIFS('Ações-Lançamentos'!C:C,'Ações-Lançamentos'!D:D,$A296,'Ações-Lançamentos'!B:B,\"v\")","v":0},{"$f":"IF(C296=0,0,SUMIFS('Ações-Lançamentos'!K:K,'Ações-Lançamentos'!D:D,$A296,'Ações-Lançamentos'!B:B,\"C\")-SUMIFS('Ações-Lançamentos'!K:K,'Ações-Lançamentos'!D:D,$A296,'Ações-Lançamentos'!B:B,\"v\"))-SUMIFS('Ações-Lançamentos'!K:K,'Ações-Lançamentos'!D:D,$A296,'Ações-Lançamentos'!L:L,\"BONIFICAÇÃO\")","v":0},0,null,{"$f":"IFERROR(VLOOKUP(A296,Cotações!B:C,2,FALSE),\"\")","v":""},0,0,null,null,0,null,0,0,null,{"$f":"IF(OR(A296=\"\",A296=\"(vazio)\"),0,IFERROR(LOOKUP(2,1/('Ações-Lançamentos'!D:D=A296),'Ações-Lançamentos'!O:O),0))","v":0},null,{"$f":"IF(OR(A296=\"\",A296=\"(vazio)\"),0,IFERROR(LOOKUP(2,1/('Ações-Lançamentos'!D:D=A296),'Ações-Lançamentos'!N:N),0))","v":0},null,null,null,null,null,null,"",""]
[null,".sa",{"$f":"SUMIFS('Ações-Lançamentos'!C:C,'Ações-Lançamentos'!D:D,$A297,'Ações-Lançamentos'!B:B,\"C\")+SUMIFS('Ações-Lançamentos'!C:C,'Ações-Lançamentos'!D:D,$A297,'Ações-Lançamentos'!B:B,\"v\")","v":0},{"$f":"IF(C297=0,0,SUMIFS('Ações-Lançamentos'!K:K,'Ações-Lançamentos'!D:D,$A297,'Ações-Lançamentos'!B:B,\"C\")-SUMIFS('Ações-Lançamentos'!K:K,'Ações-Lançamentos'!D:D,$A297,'Ações-Lançamentos'!B:B,\"v\"))-SUMIFS('Ações-Lançamentos'!K:K,'Ações-Lançamentos'!D:D,$A297,'Ações-Lançamentos'!L:L,\"BONIFICAÇÃO\")","v":0},0,null,{"$f":"IFERROR(VLOOKUP(A297,Cotações!B:C,2,FALSE),\"\")","v":""},0,0,null,null,0,null,0,0,null,{"$f":"IF(OR(A297=\"\",A297=\"(vazio)\"),0,IFERROR(LOOKUP(2,1/('Ações-Lançamentos'!D:D=A297),'Ações-Lançamentos'!O:O),0))","v":0},null,{"$f":"IF(OR(A297=\"\",A297=\"(vazio)\"),0,IFERROR(LOOKUP(2,1/('Ações-Lançamentos'!D:D=A297),'Ações-Lançamentos'!N:N),0))","v":0},null,null,null,null,null,null,"",""]
[null,".sa",{"$f":"SUMIFS('Ações-Lançamentos'!C:C,'Ações-Lançamentos'!D:D,$A298,'Ações-Lançamentos'!B:B,\"C\")+SUMIFS('Ações-Lançamentos'!C:C,'Ações-Lançamentos'!D:D,$A298,'Ações-Lançamentos'!B:B,\"v\")","v":0},{"$f":"IF(C298=0,0,SUMIFS('Ações-Lançamentos'!K:K,'Ações-Lançamentos'!D:D,$A298,'Ações-Lançamentos'!B:B,\"C\")-SUMIFS('Ações-Lançamentos'!K:K,'Ações-Lançamentos'!D:D,$A298,'Ações-Lançamentos'!B:B,\"v\"))-SUMIFS('Ações-Lançamentos'!K:K,'Ações-Lançamentos'!D:D,$A298,'Ações-Lançamentos'!L:L,\"BONIFICAÇÃO\")","v":0},0,null,{"$f":"IFERROR(VLOOKUP(A298,Cotações!B:C,2,FALSE),\"\")","v":""},0,0,null,null,0,null,0,0,null,{"$f":"IF(OR(A298=\"\",A298=\"(vazio)\"),0,IFERROR(LOOKUP(2,1/('Ações-Lançamentos'!D:D=A298),'Ações-Lançamentos'!O:O),0))","v":0},null,{"$f":"IF(OR(A298=\"\",A298=\"(vazio)\"),0,IFERROR(LOOKUP(2,1/('Ações-Lançamentos'!D:D=A298),'Ações-Lançamentos'!N:N),0))","v":0},null,null,null,null,null,null,"",""]
[null,".sa",{"$f":"SUMIFS('Ações-Lançamentos'!C:C,'Ações-Lançamentos'!D:D,$A299,'Ações-Lançamentos'!B:B,\"C\")+SUMIFS('Ações-Lançamentos'!C:C,'Ações-Lançamentos'!D:D,$A299,'Ações-Lançamentos'!B:B,\"v\")","v":0},{"$f":"IF(C299=0,0,SUMIFS('Ações-Lançamentos'!K:K,'Ações-Lançamentos'!D:D,$A299,'Ações-Lançamentos'!B:B,\"C\")-SUMIFS('Ações-Lançamentos'!K:K,'Ações-Lançamentos'!D:D,$A299,'Ações-Lançamentos'!B:B,\"v\"))-SUMIFS('Ações-Lançamentos'!K:K,'Ações-Lançamentos'!D:D,$A299,'Ações-Lançamentos'!L:L,\"BONIFICAÇÃO\")","v":0},0,null,{"$f":"IFERROR(VLOOKUP(A299,Cotações!B:C,2,FALSE),\"\")","v":""},0,0,null,null,0,null,0,0,null,{"$f":"IF(OR(A299=\"\",A299=\"(vazio)\"),0,IFERROR(LOOKUP(2,1/('Ações-Lançamentos'!D:D=A299),'Ações-Lançamentos'!O:O),0))","v":0},null,{"$f":"IF(OR(A299=\"\",A299=\"(vazio)\"),0,IFERROR(LOOKUP(2,1/('Ações-Lançamentos'!D:D=A299),'Ações-Lançamentos'!N:N),0))","v":0},null,null,null,null,null,null,"",""]
[null,".sa",{"$f":"SUMIFS('Ações-Lançamentos'!C:C,'Ações-Lançamentos'!D:D,$A300,'Ações-Lançamentos'!B:B,\"C\")+SUMIFS('Ações-Lançamentos'!C:C,'Ações-Lançamentos'!D:D,$A300,'Ações-Lançamentos'!B:B,\"v\")","v":0},{"$f":"IF(C300=0,0,SUMIFS('Ações-Lançamentos'!K:K,'Ações-Lançamentos'!D:D,$A300,'Ações-Lançamentos'!B:B,\"C\")-SUMIFS('Ações-Lançamentos'!K:K,'Ações-Lançamentos'!D:D,$A300,'Ações-Lançamentos'!B:B,\"v\"))-SUMIFS('Ações-Lançamentos'!K:K,'Ações-Lançamentos'!D:D,$A300,'Ações-Lançamentos'!L:L,\"BONIFICAÇÃO\")","v":0},0,null,{"$f":"IFERROR(VLOOKUP(A300,Cotações!B:C,2,FALSE),\"\")","v":""},0,0,null,null,0,null,0,0,null,{"$f":"IF(OR(A300=\"\",A300=\"(vazio)\"),0,IFERROR(LOOKUP(2,1/('Ações-Lançamentos'!D:D=A300),'Ações-Lançamentos'!O:O),0))","v":0},null,{"$f":"IF(OR(A300=\"\",A300=\"(vazio)\"),0,IFERROR(LOOKUP(2,1/('Ações-Lançamentos'!D:D=A300),'Ações-Lançamentos'!N:N),0))","v":0},null,null,null,null,null,null,"",""]
[null,".sa",{"$f":"SUMIFS('Ações-Lançamentos'!C:C,'Ações-Lançamentos'!D:D,$A301,'Ações-Lançamentos'!B:B,\"C\")+SUMIFS('Ações-Lançamentos'!C:C,'Ações-Lançamentos'!D:D,$A301,'Ações-Lançamentos'!B:B,\"v\")","v":0},{"$f":"IF(C301=0,0,SUMIFS('Ações-Lançamentos'!K:K,'Ações-Lançamentos'!D:D,$A301,'Ações-Lançamentos'!B:B,\"C\")-SUMIFS('Ações-Lançamentos'!K:K,'Ações-Lançamentos'!D:D,$A301,'Ações-Lançamentos'!B:B,\"v\"))-SUMIFS('Ações-Lançamentos'!K:K,'Ações-Lançamentos'!D:D,$A301,'Ações-Lançamentos'!L:L,\"BONIFICAÇÃO\")","v":0},0,null,{"$f":"IFERROR(VLOOKUP(A301,Cotações!B:C,2,FALSE),\"\")","v":""},0,0,null,null,0,null,0,0,null,{"$f":"IF(OR(A301=\"\",A301=\"(vazio)\"),0,IFERROR(LOOKUP(2,1/('Ações-Lançamentos'!D:D=A301),'Ações-Lançamentos'!O:O),0))","v":0},null,{"$f":"IF(OR(A301=\"\",A301=\"(vazio)\"),0,IFERROR(LOOKUP(2,1/('Ações-Lançamentos'!D:D=A301),'Ações-Lançamentos'!N:N),0))","v":0},null,null,null,null,null,null,"",""]
[null,".sa",{"$f":"SUMIFS('Ações-Lançamentos'!C:C,'Ações-Lançamentos'!D:D,$A302,'Ações-Lançamentos'!B:B,\"C\")+SUMIFS('Ações-Lançamentos'!C:C,'Ações-Lançamentos'!D:D,$A302,'Ações-Lançamentos'!B:B,\"v\")","v":0},{"$f":"IF(C302=0,0,SUMIFS('Ações-Lançamentos'!K:K,'Ações-Lançamentos'!D:D,$A302,'Ações-Lançamentos'!B:B,\"C\")-SUMIFS('Ações-Lançamentos'!K:K,'Ações-Lançamentos'!D:D,$A302,'Ações-Lançamentos'!B:B,\"v\"))-SUMIFS('Ações-Lançamentos'!K:K,'Ações-Lançamentos'!D:D,$A302,'Ações-Lançamentos'!L:L,\"BONIFICAÇÃO\")","v":0},0,null,{"$f":"IFERROR(VLOOKUP(A302,Cotações!B:C,2,FALSE),\"\")","v":""},0,0,null,null,0,null,0,0,null,{"$f":"IF(OR(A302=\"\",A302=\"(vazio)\"),0,IFERROR(LOOKUP(2,1/('Ações-Lançamentos'!D:D=A302),'Ações-Lançamentos'!O:O),0))","v":0},null,{"$f":"IF(OR(A302=\"\",A302=\"(vazio)\"),0,IFERROR(LOOKUP(2,1/('Ações-Lançamentos'!D:D=A302),'Ações-Lançamentos'!N:N),0))","v":0},null,null,null,null,null,null,"",""]
[null,".sa",{"$f":"SUMIFS('Ações-Lançamentos'!C:C,'Ações-Lançamentos'!D:D,$A303,'Ações-Lançamentos'!B:B,\"C\")+SUMIFS('Ações-Lançamentos'!C:C,'Ações-Lançamentos'!D:D,$A303,'Ações-Lançamentos'!B:B,\"v\")","v":0},{"$f":"IF(C303=0,0,SUMIFS('Ações-Lançamentos'!K:K,'Ações-Lançamentos'!D:D,$A303,'Ações-Lançamentos'!B:B,\"C\")-SUMIFS('Ações-Lançamentos'!K:K,'Ações-Lançamentos'!D:D,$A303,'Ações-Lançamentos'!B:B,\"v\"))-SUMIFS('Ações-Lançamentos'!K:K,'Ações-Lançamentos'!D:D,$A303,'Ações-Lançamentos'!L:L,\"BONIFICAÇÃO\")","v":0},0,null,{"$f":"IFERROR(VLOOKUP(A303,Cotações!B:C,2,FALSE),\"\")","v":""},0,0,null,null,0,null,0,0,null,{"$f":"IF(OR(A303=\"\",A303=\"(vazio)\"),0,IFERROR(LOOKUP(2,1/('Ações-Lançamentos'!D:D=A303),'Ações-Lançamentos'!O:O),0))","v":0},null,{"$f":"IF(OR(A303=\"\",A303=\"(vazio)\"),0,IFERROR(LOOKUP(2,1/('Ações-Lançamentos'!D:D=A303),'Ações-Lançamentos'!N:N),0))","v":0},null,null,null,null,null,null,"",""]
[null,".sa",{"$f":"SUMIFS('Ações-Lançamentos'!C:C,'Ações-Lançamentos'!D:D,$A304,'Ações-Lançamentos'!B:B,\"C\")+SUMIFS('Ações-Lançamentos'!C:C,'Ações-Lançamentos'!D:D,$A304,'Ações-Lançamentos'!B:B,\"v\")","v":0},{"$f":"IF(C304=0,0,SUMIFS('Ações-Lançamentos'!K:K,'Ações-Lançamentos'!D:D,$A304,'Ações-Lançamentos'!B:B,\"C\")-SUMIFS('Ações-Lançamentos'!K:K,'Ações-Lançamentos'!D:D,$A304,'Ações-Lançamentos'!B:B,\"v\"))-SUMIFS('Ações-Lançamentos'!K:K,'Ações-Lançamentos'!D:D,$A304,'Ações-Lançamentos'!L:L,\"BONIFICAÇÃO\")","v":0},0,null,{"$f":"IFERROR(VLOOKUP(A304,Cotações!B:C,2,FALSE),\"\")","v":""},0,0,null,null,0,null,0,0,null,{"$f":"IF(OR(A304=\"\",A304=\"(vazio)\"),0,IFERROR(LOOKUP(2,1/('Ações-Lançamentos'!D:D=A304),'Ações-Lançamentos'!O:O),0))","v":0},null,{"$f":"IF(OR(A304=\"\",A304=\"(vazio)\"),0,IFERROR(LOOKUP(2,1/('Ações-Lançamentos'!D:D=A304),'Ações-Lançamentos'!N:N),0))","v":0},null,null,null,null,null,null,"",""]
[null,".sa",{"$f":"SUMIFS('Ações-Lançamentos'!C:C,'Ações-Lançamentos'!D:D,$A305,'Ações-Lançamentos'!B:B,\"C\")+SUMIFS('Ações-Lançamentos'!C:C,'Ações-Lançamentos'!D:D,$A305,'Ações-Lançamentos'!B:B,\"v\")","v":0},{"$f":"IF(C305=0,0,SUMIFS('Ações-Lançamentos'!K:K,'Ações-Lançamentos'!D:D,$A305,'Ações-Lançamentos'!B:B,\"C\")-SUMIFS('Ações-Lançamentos'!K:K,'Ações-Lançamentos'!D:D,$A305,'Ações-Lançamentos'!B:B,\"v\"))-SUMIFS('Ações-Lançamentos'!K:K,'Ações-Lançamentos'!D:D,$A305,'Ações-Lançamentos'!L:L,\"BONIFICAÇÃO\")","v":0},0,null,{"$f":"IFERROR(VLOOKUP(A305,Cotações!B:C,2,FALSE),\"\")","v":""},0,0,null,null,0,null,0,0,null,{"$f":"IF(OR(A305=\"\",A305=\"(vazio)\"),0,IFERROR(LOOKUP(2,1/('Ações-Lançamentos'!D:D=A305),'Ações-Lançamentos'!O:O),0))","v":0},null,{"$f":"IF(OR(A305=\"\",A305=\"(vazio)\"),0,IFERROR(LOOKUP(2,1/('Ações-Lançamentos'!D:D=A305),'Ações-Lançamentos'!N:N),0))","v":0},null,null,null,null,null,null,"",""]
[null,".sa",{"$f":"SUMIFS('Ações-Lançamentos'!C:C,'Ações-Lançamentos'!D:D,$A306,'Ações-Lançamentos'!B:B,\"C\")+SUMIFS('Ações-Lançamentos'!C:C,'Ações-Lançamentos'!D:D,$A306,'Ações-Lançamentos'!B:B,\"v\")","v":0},{"$f":"IF(C306=0,0,SUMIFS('Ações-Lançamentos'!K:K,'Ações-Lançamentos'!D:D,$A306,'Ações-Lançamentos'!B:B,\"C\")-SUMIFS('Ações-Lançamentos'!K:K,'Ações-Lançamentos'!D:D,$A306,'Ações-Lançamentos'!B:B,\"v\"))-SUMIFS('Ações-Lançamentos'!K:K,'Ações-Lançamentos'!D:D,$A306,'Ações-Lançamentos'!L:L,\"BONIFICAÇÃO\")","v":0},0,null,{"$f":"IFERROR(VLOOKUP(A306,Cotações!B:C,2,FALSE),\"\")","v":""},0,0,null,null,0,null,0,0,null,{"$f":"IF(OR(A306=\"\",A306=\"(vazio)\"),0,IFERROR(LOOKUP(2,1/('Ações-Lançamentos'!D:D=A306),'Ações-Lançamentos'!O:O),0))","v":0},null,{"$f":"IF(OR(A306=\"\",A306=\"(vazio)\"),0,IFERROR(LOOKUP(2,1/('Ações-Lançamentos'!D:D=A306),'Ações-Lançamentos'!N:N),0))","v":0},null,null,null,null,null,null,"",""]
[null,".sa",{"$f":"SUMIFS('Ações-Lançamentos'!C:C,'Ações-Lançamentos'!D:D,$A307,'Ações-Lançamentos'!B:B,\"C\")+SUMIFS('Ações-Lançamentos'!C:C,'Ações-Lançamentos'!D:D,$A307,'Ações-Lançamentos'!B:B,\"v\")","v":0},{"$f":"IF(C307=0,0,SUMIFS('Ações-Lançamentos'!K:K,'Ações-Lançamentos'!D:D,$A307,'Ações-Lançamentos'!B:B,\"C\")-SUMIFS('Ações-Lançamentos'!K:K,'Ações-Lançamentos'!D:D,$A307,'Ações-Lançamentos'!B:B,\"v\"))-SUMIFS('Ações-Lançamentos'!K:K,'Ações-Lançamentos'!D:D,$A307,'Ações-Lançamentos'!L:L,\"BONIFICAÇÃO\")","v":0},0,null,{"$f":"IFERROR(VLOOKUP(A307,Cotações!B:C,2,FALSE),\"\")","v":""},0,0,null,null,0,null,0,0,null,{"$f":"IF(OR(A307=\"\",A307=\"(vazio)\"),0,IFERROR(LOOKUP(2,1/('Ações-Lançamentos'!D:D=A307),'Ações-Lançamentos'!O:O),0))","v":0},null,{"$f":"IF(OR(A307=\"\",A307=\"(vazio)\"),0,IFERROR(LOOKUP(2,1/('Ações-Lançamentos'!D:D=A307),'Ações-Lançamentos'!N:N),0))","v":0},null,null,null,null,null,null,"",""]
[null,".sa",{"$f":"SUMIFS('Ações-Lançamentos'!C:C,'Ações-Lançamentos'!D:D,$A308,'Ações-Lançamentos'!B:B,\"C\")+SUMIFS('Ações-Lançamentos'!C:C,'Ações-Lançamentos'!D:D,$A308,'Ações-Lançamentos'!B:B,\"v\")","v":0},{"$f":"IF(C308=0,0,SUMIFS('Ações-Lançamentos'!K:K,'Ações-Lançamentos'!D:D,$A308,'Ações-Lançamentos'!B:B,\"C\")-SUMIFS('Ações-Lançamentos'!K:K,'Ações-Lançamentos'!D:D,$A308,'Ações-Lançamentos'!B:B,\"v\"))-SUMIFS('Ações-Lançamentos'!K:K,'Ações-Lançamentos'!D:D,$A308,'Ações-Lançamentos'!L:L,\"BONIFICAÇÃO\")","v":0},0,null,{"$f":"IFERROR(VLOOKUP(A308,Cotações!B:C,2,FALSE),\"\")","v":""},0,0,null,null,0,null,0,0,null,{"$f":"IF(OR(A308=\"\",A308=\"(vazio)\"),0,IFERROR(LOOKUP(2,1/('Ações-Lançamentos'!D:D=A308),'Ações-Lançamentos'!O:O),0))","v":0},null,{"$f":"IF(OR(A308=\"\",A308=\"(vazio)\"),0,IFERROR(LOOKUP(2,1/('Ações-Lançamentos'!D:D=A308),'Ações-Lançamentos'!N:N),0))","v":0},null,null,null,null,null,null,"",""]
[null,".sa",{"$f":"SUMIFS('Ações-Lançamentos'!C:C,'Ações-Lançamentos'!D:D,$A309,'Ações-Lançamentos'!B:B,\"C\")+SUMIFS('Ações-Lançamentos'!C:C,'Ações-Lançamentos'!D:D,$A309,'Ações-Lançamentos'!B:B,\"v\")","v":0},{"$f":"IF(C309=0,0,SUMIFS('Ações-Lançamentos'!K:K,'Ações-Lançamentos'!D:D,$A309,'Ações-Lançamentos'!B:B,\"C\")-SUMIFS('Ações-Lançamentos'!K:K,'Ações-Lançamentos'!D:D,$A309,'Ações-Lançamentos'!B:B,\"v\"))-SUMIFS('Ações-Lançamentos'!K:K,'Ações-Lançamentos'!D:D,$A309,'Ações-Lançamentos'!L:L,\"BONIFICAÇÃO\")","v":0},0,null,{"$f":"IFERROR(VLOOKUP(A309,Cotações!B:C,2,FALSE),\"\")","v":""},0,0,null,null,0,null,0,0,null,{"$f":"IF(OR(A309=\"\",A309=\"(vazio)\"),0,IFERROR(LOOKUP(2,1/('Ações-Lançamentos'!D:D=A309),'Ações-Lançamentos'!O:O),0))","v":0},null,{"$f":"IF(OR(A309=\"\",A309=\"(vazio)\"),0,IFERROR(LOOKUP(2,1/('Ações-Lançamentos'!D:D=A309),'Ações-Lançamentos'!N:N),0))","v":0},null,null,null,null,null,null,"",""]
[null,".sa",{"$f":"SUMIFS('Ações-Lançamentos'!C:C,'Ações-Lançamentos'!D:D,$A310,'Ações-Lançamentos'!B:B,\"C\")+SUMIFS('Ações-Lançamentos'!C:C,'Ações-Lançamentos'!D:D,$A310,'Ações-Lançamentos'!B:B,\"v\")","v":0},{"$f":"IF(C310=0,0,SUMIFS('Ações-Lançamentos'!K:K,'Ações-Lançamentos'!D:D,$A310,'Ações-Lançamentos'!B:B,\"C\")-SUMIFS('Ações-Lançamentos'!K:K,'Ações-Lançamentos'!D:D,$A310,'Ações-Lançamentos'!B:B,\"v\"))-SUMIFS('Ações-Lançamentos'!K:K,'Ações-Lançamentos'!D:D,$A310,'Ações-Lançamentos'!L:L,\"BONIFICAÇÃO\")","v":0},0,null,{"$f":"IFERROR(VLOOKUP(A310,Cotações!B:C,2,FALSE),\"\")","v":""},0,0,null,null,0,null,0,0,null,{"$f":"IF(OR(A310=\"\",A310=\"(vazio)\"),0,IFERROR(LOOKUP(2,1/('Ações-Lançamentos'!D:D=A310),'Ações-Lançamentos'!O:O),0))","v":0},null,{"$f":"IF(OR(A310=\"\",A310=\"(vazio)\"),0,IFERROR(LOOKUP(2,1/('Ações-Lançamentos'!D:D=A310),'Ações-Lançamentos'!N:N),0))","v":0},null,null,null,null,null,null,"",""]
[null,".sa",{"$f":"SUMIFS('Ações-Lançamentos'!C:C,'Ações-Lançamentos'!D:D,$A311,'Ações-Lançamentos'!B:B,\"C\")+SUMIFS('Ações-Lançamentos'!C:C,'Ações-Lançamentos'!D:D,$A311,'Ações-Lançamentos'!B:B,\"v\")","v":0},{"$f":"IF(C311=0,0,SUMIFS('Ações-Lançamentos'!K:K,'Ações-Lançamentos'!D:D,$A311,'Ações-Lançamentos'!B:B,\"C\")-SUMIFS('Ações-Lançamentos'!K:K,'Ações-Lançamentos'!D:D,$A311,'Ações-Lançamentos'!B:B,\"v\"))-SUMIFS('Ações-Lançamentos'!K:K,'Ações-Lançamentos'!D:D,$A311,'Ações-Lançamentos'!L:L,\"BONIFICAÇÃO\")","v":0},0,null,{"$f":"IFERROR(VLOOKUP(A311,Cotações!B:C,2,FALSE),\"\")","v":""},0,0,null,null,0,null,0,0,null,{"$f":"IF(OR(A311=\"\",A311=\"(vazio)\"),0,IFERROR(LOOKUP(2,1/('Ações-Lançamentos'!D:D=A311),'Ações-Lançamentos'!O:O),0))","v":0},null,{"$f":"IF(OR(A311=\"\",A311=\"(vazio)\"),0,IFERROR(LOOKUP(2,1/('Ações-Lançamentos'!D:D=A311),'Ações-Lançamentos'!N:N),0))","v":0},null,null,null,null,null,null,"",""]
[null,".sa",{"$f":"SUMIFS('Ações-Lançamentos'!C:C,'Ações-Lançamentos'!D:D,$A312,'Ações-Lançamentos'!B:B,\"C\")+SUMIFS('Ações-Lançamentos'!C:C,'Ações-Lançamentos'!D:D,$A312,'Ações-Lançamentos'!B:B,\"v\")","v":0},{"$f":"IF(C312=0,0,SUMIFS('Ações-Lançamentos'!K:K,'Ações-Lançamentos'!D:D,$A312,'Ações-Lançamentos'!B:B,\"C\")-SUMIFS('Ações-Lançamentos'!K:K,'Ações-Lançamentos'!D:D,$A312,'Ações-Lançamentos'!B:B,\"v\"))-SUMIFS('Ações-Lançamentos'!K:K,'Ações-Lançamentos'!D:D,$A312,'Ações-Lançamentos'!L:L,\"BONIFICAÇÃO\")","v":0},0,null,{"$f":"IFERROR(VLOOKUP(A312,Cotações!B:C,2,FALSE),\"\")","v":""},0,0,null,null,0,null,0,0,null,{"$f":"IF(OR(A312=\"\",A312=\"(vazio)\"),0,IFERROR(LOOKUP(2,1/('Ações-Lançamentos'!D:D=A312),'Ações-Lançamentos'!O:O),0))","v":0},null,{"$f":"IF(OR(A312=\"\",A312=\"(vazio)\"),0,IFERROR(LOOKUP(2,1/('Ações-Lançamentos'!D:D=A312),'Ações-Lançamentos'!N:N),0))","v":0},null,null,null,null,null,null,"",""]
[null,".sa",{"$f":"SUMIFS('Ações-Lançamentos'!C:C,'Ações-Lançamentos'!D:D,$A313,'Ações-Lançamentos'!B:B,\"C\")+SUMIFS('Ações-Lançamentos'!C:C,'Ações-Lançamentos'!D:D,$A313,'Ações-Lançamentos'!B:B,\"v\")","v":0},{"$f":"IF(C313=0,0,SUMIFS('Ações-Lançamentos'!K:K,'Ações-Lançamentos'!D:D,$A313,'Ações-Lançamentos'!B:B,\"C\")-SUMIFS('Ações-Lançamentos'!K:K,'Ações-Lançamentos'!D:D,$A313,'Ações-Lançamentos'!B:B,\"v\"))-SUMIFS('Ações-Lançamentos'!K:K,'Ações-Lançamentos'!D:D,$A313,'Ações-Lançamentos'!L:L,\"BONIFICAÇÃO\")","v":0},0,null,{"$f":"IFERROR(VLOOKUP(A313,Cotações!B:C,2,FALSE),\"\")","v":""},0,0,null,null,0,null,0,0,null,{"$f":"IF(OR(A313=\"\",A313=\"(vazio)\"),0,IFERROR(LOOKUP(2,1/('Ações-Lançamentos'!D:D=A313),'Ações-Lançamentos'!O:O),0))","v":0},null,{"$f":"IF(OR(A313=\"\",A313=\"(vazio)\"),0,IFERROR(LOOKUP(2,1/('Ações-Lançamentos'!D:D=A313),'Ações-Lançamentos'!N:N),0))","v":0},null,null,null,null,null,null,"",""]
[null,".sa",{"$f":"SUMIFS('Ações-Lançamentos'!C:C,'Ações-Lançamentos'!D:D,$A314,'Ações-Lançamentos'!B:B,\"C\")+SUMIFS('Ações-Lançamentos'!C:C,'Ações-Lançamentos'!D:D,$A314,'Ações-Lançamentos'!B:B,\"v\")","v":0},{"$f":"IF(C314=0,0,SUMIFS('Ações-Lançamentos'!K:K,'Ações-Lançamentos'!D:D,$A314,'Ações-Lançamentos'!B:B,\"C\")-SUMIFS('Ações-Lançamentos'!K:K,'Ações-Lançamentos'!D:D,$A314,'Ações-Lançamentos'!B:B,\"v\"))-SUMIFS('Ações-Lançamentos'!K:K,'Ações-Lançamentos'!D:D,$A314,'Ações-Lançamentos'!L:L,\"BONIFICAÇÃO\")","v":0},0,null,{"$f":"IFERROR(VLOOKUP(A314,Cotações!B:C,2,FALSE),\"\")","v":""},0,0,null,null,0,null,0,0,null,{"$f":"IF(OR(A314=\"\",A314=\"(vazio)\"),0,IFERROR(LOOKUP(2,1/('Ações-Lançamentos'!D:D=A314),'Ações-Lançamentos'!O:O),0))","v":0},null,{"$f":"IF(OR(A314=\"\",A314=\"(vazio)\"),0,IFERROR(LOOKUP(2,1/('Ações-Lançamentos'!D:D=A314),'Ações-Lançamentos'!N:N),0))","v":0},null,null,null,null,null,null,"",""]
[null,".sa",{"$f":"SUMIFS('Ações-Lançamentos'!C:C,'Ações-Lançamentos'!D:D,$A315,'Ações-Lançamentos'!B:B,\"C\")+SUMIFS('Ações-Lançamentos'!C:C,'Ações-Lançamentos'!D:D,$A315,'Ações-Lançamentos'!B:B,\"v\")","v":0},{"$f":"IF(C315=0,0,SUMIFS('Ações-Lançamentos'!K:K,'Ações-Lançamentos'!D:D,$A315,'Ações-Lançamentos'!B:B,\"C\")-SUMIFS('Ações-Lançamentos'!K:K,'Ações-Lançamentos'!D:D,$A315,'Ações-Lançamentos'!B:B,\"v\"))-SUMIFS('Ações-Lançamentos'!K:K,'Ações-Lançamentos'!D:D,$A315,'Ações-Lançamentos'!L:L,\"BONIFICAÇÃO\")","v":0},0,null,{"$f":"IFERROR(VLOOKUP(A315,Cotações!B:C,2,FALSE),\"\")","v":""},0,0,null,null,0,null,0,0,null,{"$f":"IF(OR(A315=\"\",A315=\"(vazio)\"),0,IFERROR(LOOKUP(2,1/('Ações-Lançamentos'!D:D=A315),'Ações-Lançamentos'!O:O),0))","v":0},null,{"$f":"IF(OR(A315=\"\",A315=\"(vazio)\"),0,IFERROR(LOOKUP(2,1/('Ações-Lançamentos'!D:D=A315),'Ações-Lançamentos'!N:N),0))","v":0},null,null,null,null,null,null,"",""]
[null,".sa",{"$f":"SUMIFS('Ações-Lançamentos'!C:C,'Ações-Lançamentos'!D:D,$A316,'Ações-Lançamentos'!B:B,\"C\")+SUMIFS('Ações-Lançamentos'!C:C,'Ações-Lançamentos'!D:D,$A316,'Ações-Lançamentos'!B:B,\"v\")","v":0},{"$f":"IF(C316=0,0,SUMIFS('Ações-Lançamentos'!K:K,'Ações-Lançamentos'!D:D,$A316,'Ações-Lançamentos'!B:B,\"C\")-SUMIFS('Ações-Lançamentos'!K:K,'Ações-Lançamentos'!D:D,$A316,'Ações-Lançamentos'!B:B,\"v\"))-SUMIFS('Ações-Lançamentos'!K:K,'Ações-Lançamentos'!D:D,$A316,'Ações-Lançamentos'!L:L,\"BONIFICAÇÃO\")","v":0},0,null,{"$f":"IFERROR(VLOOKUP(A316,Cotações!B:C,2,FALSE),\"\")","v":""},0,0,null,null,0,null,0,0,null,{"$f":"IF(OR(A316=\"\",A316=\"(vazio)\"),0,IFERROR(LOOKUP(2,1/('Ações-Lançamentos'!D:D=A316),'Ações-Lançamentos'!O:O),0))","v":0},null,{"$f":"IF(OR(A316=\"\",A316=\"(vazio)\"),0,IFERROR(LOOKUP(2,1/('Ações-Lançamentos'!D:D=A316),'Ações-Lançamentos'!N:N),0))","v":0},null,null,null,null,null,null,"",""]
[null,".sa",{"$f":"SUMIFS('Ações-Lançamentos'!C:C,'Ações-Lançamentos'!D:D,$A317,'Ações-Lançamentos'!B:B,\"C\")+SUMIFS('Ações-Lançamentos'!C:C,'Ações-Lançamentos'!D:D,$A317,'Ações-Lançamentos'!B:B,\"v\")","v":0},{"$f":"IF(C317=0,0,SUMIFS('Ações-Lançamentos'!K:K,'Ações-Lançamentos'!D:D,$A317,'Ações-Lançamentos'!B:B,\"C\")-SUMIFS('Ações-Lançamentos'!K:K,'Ações-Lançamentos'!D:D,$A317,'Ações-Lançamentos'!B:B,\"v\"))-SUMIFS('Ações-Lançamentos'!K:K,'Ações-Lançamentos'!D:D,$A317,'Ações-Lançamentos'!L:L,\"BONIFICAÇÃO\")","v":0},0,null,{"$f":"IFERROR(VLOOKUP(A317,Cotações!B:C,2,FALSE),\"\")","v":""},0,0,null,null,0,null,0,0,null,{"$f":"IF(OR(A317=\"\",A317=\"(vazio)\"),0,IFERROR(LOOKUP(2,1/('Ações-Lançamentos'!D:D=A317),'Ações-Lançamentos'!O:O),0))","v":0},null,{"$f":"IF(OR(A317=\"\",A317=\"(vazio)\"),0,IFERROR(LOOKUP(2,1/('Ações-Lançamentos'!D:D=A317),'Ações-Lançamentos'!N:N),0))","v":0},null,null,null,null,null,null,"",""]
[null,".sa",{"$f":"SUMIFS('Ações-Lançamentos'!C:C,'Ações-Lançamentos'!D:D,$A318,'Ações-Lançamentos'!B:B,\"C\")+SUMIFS('Ações-Lançamentos'!C:C,'Ações-Lançamentos'!D:D,$A318,'Ações-Lançamentos'!B:B,\"v\")","v":0},{"$f":"IF(C318=0,0,SUMIFS('Ações-Lançamentos'!K:K,'Ações-Lançamentos'!D:D,$A318,'Ações-Lançamentos'!B:B,\"C\")-SUMIFS('Ações-Lançamentos'!K:K,'Ações-Lançamentos'!D:D,$A318,'Ações-Lançamentos'!B:B,\"v\"))-SUMIFS('Ações-Lançamentos'!K:K,'Ações-Lançamentos'!D:D,$A318,'Ações-Lançamentos'!L:L,\"BONIFICAÇÃO\")","v":0},0,null,{"$f":"IFERROR(VLOOKUP(A318,Cotações!B:C,2,FALSE),\"\")","v":""},0,0,null,null,0,null,0,0,null,{"$f":"IF(OR(A318=\"\",A318=\"(vazio)\"),0,IFERROR(LOOKUP(2,1/('Ações-Lançamentos'!D:D=A318),'Ações-Lançamentos'!O:O),0))","v":0},null,{"$f":"IF(OR(A318=\"\",A318=\"(vazio)\"),0,IFERROR(LOOKUP(2,1/('Ações-Lançamentos'!D:D=A318),'Ações-Lançamentos'!N:N),0))","v":0},null,null,null,null,null,null,"",""]
[null,".sa",{"$f":"SUMIFS('Ações-Lançamentos'!C:C,'Ações-Lançamentos'!D:D,$A319,'Ações-Lançamentos'!B:B,\"C\")+SUMIFS('Ações-Lançamentos'!C:C,'Ações-Lançamentos'!D:D,$A319,'Ações-Lançamentos'!B:B,\"v\")","v":0},{"$f":"IF(C319=0,0,SUMIFS('Ações-Lançamentos'!K:K,'Ações-Lançamentos'!D:D,$A319,'Ações-Lançamentos'!B:B,\"C\")-SUMIFS('Ações-Lançamentos'!K:K,'Ações-Lançamentos'!D:D,$A319,'Ações-Lançamentos'!B:B,\"v\"))-SUMIFS('Ações-Lançamentos'!K:K,'Ações-Lançamentos'!D:D,$A319,'Ações-Lançamentos'!L:L,\"BONIFICAÇÃO\")","v":0},0,null,{"$f":"IFERROR(VLOOKUP(A319,Cotações!B:C,2,FALSE),\"\")","v":""},0,0,null,null,0,null,0,0,null,{"$f":"IF(OR(A319=\"\",A319=\"(vazio)\"),0,IFERROR(LOOKUP(2,1/('Ações-Lançamentos'!D:D=A319),'Ações-Lançamentos'!O:O),0))","v":0},null,{"$f":"IF(OR(A319=\"\",A319=\"(vazio)\"),0,IFERROR(LOOKUP(2,1/('Ações-Lançamentos'!D:D=A319),'Ações-Lançamentos'!N:N),0))","v":0},null,null,null,null,null,null,"",""]
[null,".sa",{"$f":"SUMIFS('Ações-Lançamentos'!C:C,'Ações-Lançamentos'!D:D,$A320,'Ações-Lançamentos'!B:B,\"C\")+SUMIFS('Ações-Lançamentos'!C:C,'Ações-Lançamentos'!D:D,$A320,'Ações-Lançamentos'!B:B,\"v\")","v":0},{"$f":"IF(C320=0,0,SUMIFS('Ações-Lançamentos'!K:K,'Ações-Lançamentos'!D:D,$A320,'Ações-Lançamentos'!B:B,\"C\")-SUMIFS('Ações-Lançamentos'!K:K,'Ações-Lançamentos'!D:D,$A320,'Ações-Lançamentos'!B:B,\"v\"))-SUMIFS('Ações-Lançamentos'!K:K,'Ações-Lançamentos'!D:D,$A320,'Ações-Lançamentos'!L:L,\"BONIFICAÇÃO\")","v":0},0,null,{"$f":"IFERROR(VLOOKUP(A320,Cotações!B:C,2,FALSE),\"\")","v":""},0,0,null,null,0,null,0,0,null,{"$f":"IF(OR(A320=\"\",A320=\"(vazio)\"),0,IFERROR(LOOKUP(2,1/('Ações-Lançamentos'!D:D=A320),'Ações-Lançamentos'!O:O),0))","v":0},null,{"$f":"IF(OR(A320=\"\",A320=\"(vazio)\"),0,IFERROR(LOOKUP(2,1/('Ações-Lançamentos'!D:D=A320),'Ações-Lançamentos'!N:N),0))","v":0},null,null,null,null,null,null,"",""]
[null,".sa",{"$f":"SUMIFS('Ações-Lançamentos'!C:C,'Ações-Lançamentos'!D:D,$A321,'Ações-Lançamentos'!B:B,\"C\")+SUMIFS('Ações-Lançamentos'!C:C,'Ações-Lançamentos'!D:D,$A321,'Ações-Lançamentos'!B:B,\"v\")","v":0},{"$f":"IF(C321=0,0,SUMIFS('Ações-Lançamentos'!K:K,'Ações-Lançamentos'!D:D,$A321,'Ações-Lançamentos'!B:B,\"C\")-SUMIFS('Ações-Lançamentos'!K:K,'Ações-Lançamentos'!D:D,$A321,'Ações-Lançamentos'!B:B,\"v\"))-SUMIFS('Ações-Lançamentos'!K:K,'Ações-Lançamentos'!D:D,$A321,'Ações-Lançamentos'!L:L,\"BONIFICAÇÃO\")","v":0},0,null,{"$f":"IFERROR(VLOOKUP(A321,Cotações!B:C,2,FALSE),\"\")","v":""},0,0,null,null,0,null,0,0,null,{"$f":"IF(OR(A321=\"\",A321=\"(vazio)\"),0,IFERROR(LOOKUP(2,1/('Ações-Lançamentos'!D:D=A321),'Ações-Lançamentos'!O:O),0))","v":0},null,{"$f":"IF(OR(A321=\"\",A321=\"(vazio)\"),0,IFERROR(LOOKUP(2,1/('Ações-Lançamentos'!D:D=A321),'Ações-Lançamentos'!N:N),0))","v":0},null,null,null,null,null,null,"",""]
[null,".sa",{"$f":"SUMIFS('Ações-Lançamentos'!C:C,'Ações-Lançamentos'!D:D,$A322,'Ações-Lançamentos'!B:B,\"C\")+SUMIFS('Ações-Lançamentos'!C:C,'Ações-Lançamentos'!D:D,$A322,'Ações-Lançamentos'!B:B,\"v\")","v":0},{"$f":"IF(C322=0,0,SUMIFS('Ações-Lançamentos'!K:K,'Ações-Lançamentos'!D:D,$A322,'Ações-Lançamentos'!B:B,\"C\")-SUMIFS('Ações-Lançamentos'!K:K,'Ações-Lançamentos'!D:D,$A322,'Ações-Lançamentos'!B:B,\"v\"))-SUMIFS('Ações-Lançamentos'!K:K,'Ações-Lançamentos'!D:D,$A322,'Ações-Lançamentos'!L:L,\"BONIFICAÇÃO\")","v":0},0,null,{"$f":"IFERROR(VLOOKUP(A322,Cotações!B:C,2,FALSE),\"\")","v":""},0,0,null,null,0,null,0,0,null,{"$f":"IF(OR(A322=\"\",A322=\"(vazio)\"),0,IFERROR(LOOKUP(2,1/('Ações-Lançamentos'!D:D=A322),'Ações-Lançamentos'!O:O),0))","v":0},null,{"$f":"IF(OR(A322=\"\",A322=\"(vazio)\"),0,IFERROR(LOOKUP(2,1/('Ações-Lançamentos'!D:D=A322),'Ações-Lançamentos'!N:N),0))","v":0},null,null,null,null,null,null,"",""]
[null,".sa",{"$f":"SUMIFS('Ações-Lançamentos'!C:C,'Ações-Lançamentos'!D:D,$A323,'Ações-Lançamentos'!B:B,\"C\")+SUMIFS('Ações-Lançamentos'!C:C,'Ações-Lançamentos'!D:D,$A323,'Ações-Lançamentos'!B:B,\"v\")","v":0},{"$f":"IF(C323=0,0,SUMIFS('Ações-Lançamentos'!K:K,'Ações-Lançamentos'!D:D,$A323,'Ações-Lançamentos'!B:B,\"C\")-SUMIFS('Ações-Lançamentos'!K:K,'Ações-Lançamentos'!D:D,$A323,'Ações-Lançamentos'!B:B,\"v\"))-SUMIFS('Ações-Lançamentos'!K:K,'Ações-Lançamentos'!D:D,$A323,'Ações-Lançamentos'!L:L,\"BONIFICAÇÃO\")","v":0},0,null,{"$f":"IFERROR(VLOOKUP(A323,Cotações!B:C,2,FALSE),\"\")","v":""},0,0,null,null,0,null,0,0,null,{"$f":"IF(OR(A323=\"\",A323=\"(vazio)\"),0,IFERROR(LOOKUP(2,1/('Ações-Lançamentos'!D:D=A323),'Ações-Lançamentos'!O:O),0))","v":0},null,{"$f":"IF(OR(A323=\"\",A323=\"(vazio)\"),0,IFERROR(LOOKUP(2,1/('Ações-Lançamentos'!D:D=A323),'Ações-Lançamentos'!N:N),0))","v":0},null,null,null,null,null,null,"",""]
[null,{"$f":"CONCATENATE(A324,\".sa\")","v":".sa"},{"$f":"SUMIFS('Ações-Lançamentos'!C:C,'Ações-Lançamentos'!D:D,$A324,'Ações-Lançamentos'!B:B,\"C\")+SUMIFS('Ações-Lançamentos'!C:C,'Ações-Lançamentos'!D:D,$A324,'Ações-Lançamentos'!B:B,\"v\")","v":0},{"$f":"IF(C324=0,0,SUMIFS('Ações-Lançamentos'!K:K,'Ações-Lançamentos'!D:D,$A324,'Ações-Lançamentos'!B:B,\"C\")-SUMIFS('Ações-Lançamentos'!K:K,'Ações-Lançamentos'!D:D,$A324,'Ações-Lançamentos'!B:B,\"v\"))-SUMIFS('Ações-Lançamentos'!K:K,'Ações-Lançamentos'!D:D,$A324,'Ações-Lançamentos'!L:L,\"BONIFICAÇÃO\")","v":0},{"$f":"IF($V$9=0,0,D324/$V$9)","v":0},null,{"$f":"IFERROR(VLOOKUP(A324,Cotações!B:C,2,FALSE),\"\")","v":""},{"$f":"IF(C324=\"\",0,IF(G324=\"\",D324,C324*G324))","v":0},{"$f":"IF($V$11=0,0,H324/$V$11)","v":0},null,null,{"$f":"IF(OR(K324=\"\",I324=\"\",E324=\"\"),0,IF($K$2=\"% ATUAL\",K324-I324,K324-E324))","v":0},null,{"$f":"IF(OR(D324=0,G324=\"\"),0,H324-D324)","v":0},{"$f":"IF(OR(D324=0,G324=\"\"),0,N324/D324)","v":0},null,{"$f":"IF(OR(A324=\"\",A324=\"(vazio)\"),0,IFERROR(LOOKUP(2,1/('Ações-Lançamentos'!D:D=A324),'Ações-Lançamentos'!O:O),0))","v":0},null,{"$f":"IF(OR(A324=\"\",A324=\"(vazio)\"),0,IFERROR(LOOKUP(2,1/('Ações-Lançamentos'!D:D=A324),'Ações-Lançamentos'!N:N),0))","v":0},null,null,null,null,null,null,"",""]
[null,".sa",{"$f":"SUMIFS('Ações-Lançamentos'!C:C,'Ações-Lançamentos'!D:D,$A325,'Ações-Lançamentos'!B:B,\"C\")+SUMIFS('Ações-Lançamentos'!C:C,'Ações-Lançamentos'!D:D,$A325,'Ações-Lançamentos'!B:B,\"v\")","v":0},{"$f":"IF(C325=0,0,SUMIFS('Ações-Lançamentos'!K:K,'Ações-Lançamentos'!D:D,$A325,'Ações-Lançamentos'!B:B,\"C\")-SUMIFS('Ações-Lançamentos'!K:K,'Ações-Lançamentos'!D:D,$A325,'Ações-Lançamentos'!B:B,\"v\"))-SUMIFS('Ações-Lançamentos'!K:K,'Ações-Lançamentos'!D:D,$A325,'Ações-Lançamentos'!L:L,\"BONIFICAÇÃO\")","v":0},0,null,{"$f":"IFERROR(VLOOKUP(A325,Cotações!B:C,2,FALSE),\"\")","v":""},0,0,null,null,0,null,0,0,null,{"$f":"IF(OR(A325=\"\",A325=\"(vazio)\"),0,IFERROR(LOOKUP(2,1/('Ações-Lançamentos'!D:D=A325),'Ações-Lançamentos'!O:O),0))","v":0},null,{"$f":"IF(OR(A325=\"\",A325=\"(vazio)\"),0,IFERROR(LOOKUP(2,1/('Ações-Lançamentos'!D:D=A325),'Ações-Lançamentos'!N:N),0))","v":0},null,null,null,null,null,null,"",""]
[null,".sa",{"$f":"SUMIFS('Ações-Lançamentos'!C:C,'Ações-Lançamentos'!D:D,$A326,'Ações-Lançamentos'!B:B,\"C\")+SUMIFS('Ações-Lançamentos'!C:C,'Ações-Lançamentos'!D:D,$A326,'Ações-Lançamentos'!B:B,\"v\")","v":0},{"$f":"IF(C326=0,0,SUMIFS('Ações-Lançamentos'!K:K,'Ações-Lançamentos'!D:D,$A326,'Ações-Lançamentos'!B:B,\"C\")-SUMIFS('Ações-Lançamentos'!K:K,'Ações-Lançamentos'!D:D,$A326,'Ações-Lançamentos'!B:B,\"v\"))-SUMIFS('Ações-Lançamentos'!K:K,'Ações-Lançamentos'!D:D,$A326,'Ações-Lançamentos'!L:L,\"BONIFICAÇÃO\")","v":0},0,null,{"$f":"IFERROR(VLOOKUP(A326,Cotações!B:C,2,FALSE),\"\")","v":""},0,0,null,null,0,null,0,0,null,{"$f":"IF(OR(A326=\"\",A326=\"(vazio)\"),0,IFERROR(LOOKUP(2,1/('Ações-Lançamentos'!D:D=A326),'Ações-Lançamentos'!O:O),0))","v":0},null,{"$f":"IF(OR(A326=\"\",A326=\"(vazio)\"),0,IFERROR(LOOKUP(2,1/('Ações-Lançamentos'!D:D=A326),'Ações-Lançamentos'!N:N),0))","v":0},null,null,null,null,null,null,"",""]
[null,".sa",{"$f":"SUMIFS('Ações-Lançamentos'!C:C,'Ações-Lançamentos'!D:D,$A327,'Ações-Lançamentos'!B:B,\"C\")+SUMIFS('Ações-Lançamentos'!C:C,'Ações-Lançamentos'!D:D,$A327,'Ações-Lançamentos'!B:B,\"v\")","v":0},{"$f":"IF(C327=0,0,SUMIFS('Ações-Lançamentos'!K:K,'Ações-Lançamentos'!D:D,$A327,'Ações-Lançamentos'!B:B,\"C\")-SUMIFS('Ações-Lançamentos'!K:K,'Ações-Lançamentos'!D:D,$A327,'Ações-Lançamentos'!B:B,\"v\"))-SUMIFS('Ações-Lançamentos'!K:K,'Ações-Lançamentos'!D:D,$A327,'Ações-Lançamentos'!L:L,\"BONIFICAÇÃO\")","v":0},0,null,{"$f":"IFERROR(VLOOKUP(A327,Cotações!B:C,2,FALSE),\"\")","v":""},0,0,null,null,0,null,0,0,null,{"$f":"IF(OR(A327=\"\",A327=\"(vazio)\"),0,IFERROR(LOOKUP(2,1/('Ações-Lançamentos'!D:D=A327),'Ações-Lançamentos'!O:O),0))","v":0},null,{"$f":"IF(OR(A327=\"\",A327=\"(vazio)\"),0,IFERROR(LOOKUP(2,1/('Ações-Lançamentos'!D:D=A327),'Ações-Lançamentos'!N:N),0))","v":0},null,null,null,null,null,null,"",""]
[null,".sa",{"$f":"SUMIFS('Ações-Lançamentos'!C:C,'Ações-Lançamentos'!D:D,$A328,'Ações-Lançamentos'!B:B,\"C\")+SUMIFS('Ações-Lançamentos'!C:C,'Ações-Lançamentos'!D:D,$A328,'Ações-Lançamentos'!B:B,\"v\")","v":0},{"$f":"IF(C328=0,0,SUMIFS('Ações-Lançamentos'!K:K,'Ações-Lançamentos'!D:D,$A328,'Ações-Lançamentos'!B:B,\"C\")-SUMIFS('Ações-Lançamentos'!K:K,'Ações-Lançamentos'!D:D,$A328,'Ações-Lançamentos'!B:B,\"v\"))-SUMIFS('Ações-Lançamentos'!K:K,'Ações-Lançamentos'!D:D,$A328,'Ações-Lançamentos'!L:L,\"BONIFICAÇÃO\")","v":0},0,null,{"$f":"IFERROR(VLOOKUP(A328,Cotações!B:C,2,FALSE),\"\")","v":""},0,0,null,null,0,null,0,0,null,{"$f":"IF(OR(A328=\"\",A328=\"(vazio)\"),0,IFERROR(LOOKUP(2,1/('Ações-Lançamentos'!D:D=A328),'Ações-Lançamentos'!O:O),0))","v":0},null,{"$f":"IF(OR(A328=\"\",A328=\"(vazio)\"),0,IFERROR(LOOKUP(2,1/('Ações-Lançamentos'!D:D=A328),'Ações-Lançamentos'!N:N),0))","v":0},null,null,null,null,null,null,"",""]
[null,".sa",{"$f":"SUMIFS('Ações-Lançamentos'!C:C,'Ações-Lançamentos'!D:D,$A329,'Ações-Lançamentos'!B:B,\"C\")+SUMIFS('Ações-Lançamentos'!C:C,'Ações-Lançamentos'!D:D,$A329,'Ações-Lançamentos'!B:B,\"v\")","v":0},{"$f":"IF(C329=0,0,SUMIFS('Ações-Lançamentos'!K:K,'Ações-Lançamentos'!D:D,$A329,'Ações-Lançamentos'!B:B,\"C\")-SUMIFS('Ações-Lançamentos'!K:K,'Ações-Lançamentos'!D:D,$A329,'Ações-Lançamentos'!B:B,\"v\"))-SUMIFS('Ações-Lançamentos'!K:K,'Ações-Lançamentos'!D:D,$A329,'Ações-Lançamentos'!L:L,\"BONIFICAÇÃO\")","v":0},0,null,{"$f":"IFERROR(VLOOKUP(A329,Cotações!B:C,2,FALSE),\"\")","v":""},0,0,null,null,0,null,0,0,null,{"$f":"IF(OR(A329=\"\",A329=\"(vazio)\"),0,IFERROR(LOOKUP(2,1/('Ações-Lançamentos'!D:D=A329),'Ações-Lançamentos'!O:O),0))","v":0},null,{"$f":"IF(OR(A329=\"\",A329=\"(vazio)\"),0,IFERROR(LOOKUP(2,1/('Ações-Lançamentos'!D:D=A329),'Ações-Lançamentos'!N:N),0))","v":0},null,null,null,null,null,null,"",""]
[null,".sa",{"$f":"SUMIFS('Ações-Lançamentos'!C:C,'Ações-Lançamentos'!D:D,$A330,'Ações-Lançamentos'!B:B,\"C\")+SUMIFS('Ações-Lançamentos'!C:C,'Ações-Lançamentos'!D:D,$A330,'Ações-Lançamentos'!B:B,\"v\")","v":0},{"$f":"IF(C330=0,0,SUMIFS('Ações-Lançamentos'!K:K,'Ações-Lançamentos'!D:D,$A330,'Ações-Lançamentos'!B:B,\"C\")-SUMIFS('Ações-Lançamentos'!K:K,'Ações-Lançamentos'!D:D,$A330,'Ações-Lançamentos'!B:B,\"v\"))-SUMIFS('Ações-Lançamentos'!K:K,'Ações-Lançamentos'!D:D,$A330,'Ações-Lançamentos'!L:L,\"BONIFICAÇÃO\")","v":0},0,null,{"$f":"IFERROR(VLOOKUP(A330,Cotações!B:C,2,FALSE),\"\")","v":""},0,0,null,null,0,null,0,0,null,{"$f":"IF(OR(A330=\"\",A330=\"(vazio)\"),0,IFERROR(LOOKUP(2,1/('Ações-Lançamentos'!D:D=A330),'Ações-Lançamentos'!O:O),0))","v":0},null,{"$f":"IF(OR(A330=\"\",A330=\"(vazio)\"),0,IFERROR(LOOKUP(2,1/('Ações-Lançamentos'!D:D=A330),'Ações-Lançamentos'!N:N),0))","v":0},null,null,null,null,null,null,"",""]
[null,".sa",{"$f":"SUMIFS('Ações-Lançamentos'!C:C,'Ações-Lançamentos'!D:D,$A331,'Ações-Lançamentos'!B:B,\"C\")+SUMIFS('Ações-Lançamentos'!C:C,'Ações-Lançamentos'!D:D,$A331,'Ações-Lançamentos'!B:B,\"v\")","v":0},{"$f":"IF(C331=0,0,SUMIFS('Ações-Lançamentos'!K:K,'Ações-Lançamentos'!D:D,$A331,'Ações-Lançamentos'!B:B,\"C\")-SUMIFS('Ações-Lançamentos'!K:K,'Ações-Lançamentos'!D:D,$A331,'Ações-Lançamentos'!B:B,\"v\"))-SUMIFS('Ações-Lançamentos'!K:K,'Ações-Lançamentos'!D:D,$A331,'Ações-Lançamentos'!L:L,\"BONIFICAÇÃO\")","v":0},0,null,{"$f":"IFERROR(VLOOKUP(A331,Cotações!B:C,2,FALSE),\"\")","v":""},0,0,null,null,0,null,0,0,null,{"$f":"IF(OR(A331=\"\",A331=\"(vazio)\"),0,IFERROR(LOOKUP(2,1/('Ações-Lançamentos'!D:D=A331),'Ações-Lançamentos'!O:O),0))","v":0},null,{"$f":"IF(OR(A331=\"\",A331=\"(vazio)\"),0,IFERROR(LOOKUP(2,1/('Ações-Lançamentos'!D:D=A331),'Ações-Lançamentos'!N:N),0))","v":0},null,null,null,null,null,null,"",""]
[null,".sa",{"$f":"SUMIFS('Ações-Lançamentos'!C:C,'Ações-Lançamentos'!D:D,$A332,'Ações-Lançamentos'!B:B,\"C\")+SUMIFS('Ações-Lançamentos'!C:C,'Ações-Lançamentos'!D:D,$A332,'Ações-Lançamentos'!B:B,\"v\")","v":0},{"$f":"IF(C332=0,0,SUMIFS('Ações-Lançamentos'!K:K,'Ações-Lançamentos'!D:D,$A332,'Ações-Lançamentos'!B:B,\"C\")-SUMIFS('Ações-Lançamentos'!K:K,'Ações-Lançamentos'!D:D,$A332,'Ações-Lançamentos'!B:B,\"v\"))-SUMIFS('Ações-Lançamentos'!K:K,'Ações-Lançamentos'!D:D,$A332,'Ações-Lançamentos'!L:L,\"BONIFICAÇÃO\")","v":0},0,null,{"$f":"IFERROR(VLOOKUP(A332,Cotações!B:C,2,FALSE),\"\")","v":""},0,0,null,null,0,null,0,0,null,{"$f":"IF(OR(A332=\"\",A332=\"(vazio)\"),0,IFERROR(LOOKUP(2,1/('Ações-Lançamentos'!D:D=A332),'Ações-Lançamentos'!O:O),0))","v":0},null,{"$f":"IF(OR(A332=\"\",A332=\"(vazio)\"),0,IFERROR(LOOKUP(2,1/('Ações-Lançamentos'!D:D=A332),'Ações-Lançamentos'!N:N),0))","v":0},null,null,null,null,null,null,"",""]
[null,".sa",{"$f":"SUMIFS('Ações-Lançamentos'!C:C,'Ações-Lançamentos'!D:D,$A333,'Ações-Lançamentos'!B:B,\"C\")+SUMIFS('Ações-Lançamentos'!C:C,'Ações-Lançamentos'!D:D,$A333,'Ações-Lançamentos'!B:B,\"v\")","v":0},{"$f":"IF(C333=0,0,SUMIFS('Ações-Lançamentos'!K:K,'Ações-Lançamentos'!D:D,$A333,'Ações-Lançamentos'!B:B,\"C\")-SUMIFS('Ações-Lançamentos'!K:K,'Ações-Lançamentos'!D:D,$A333,'Ações-Lançamentos'!B:B,\"v\"))-SUMIFS('Ações-Lançamentos'!K:K,'Ações-Lançamentos'!D:D,$A333,'Ações-Lançamentos'!L:L,\"BONIFICAÇÃO\")","v":0},0,null,{"$f":"IFERROR(VLOOKUP(A333,Cotações!B:C,2,FALSE),\"\")","v":""},0,0,null,null,0,null,0,0,null,{"$f":"IF(OR(A333=\"\",A333=\"(vazio)\"),0,IFERROR(LOOKUP(2,1/('Ações-Lançamentos'!D:D=A333),'Ações-Lançamentos'!O:O),0))","v":0},null,{"$f":"IF(OR(A333=\"\",A333=\"(vazio)\"),0,IFERROR(LOOKUP(2,1/('Ações-Lançamentos'!D:D=A333),'Ações-Lançamentos'!N:N),0))","v":0},null,null,null,null,null,null,"",""]
[null,".sa",{"$f":"SUMIFS('Ações-Lançamentos'!C:C,'Ações-Lançamentos'!D:D,$A334,'Ações-Lançamentos'!B:B,\"C\")+SUMIFS('Ações-Lançamentos'!C:C,'Ações-Lançamentos'!D:D,$A334,'Ações-Lançamentos'!B:B,\"v\")","v":0},{"$f":"IF(C334=0,0,SUMIFS('Ações-Lançamentos'!K:K,'Ações-Lançamentos'!D:D,$A334,'Ações-Lançamentos'!B:B,\"C\")-SUMIFS('Ações-Lançamentos'!K:K,'Ações-Lançamentos'!D:D,$A334,'Ações-Lançamentos'!B:B,\"v\"))-SUMIFS('Ações-Lançamentos'!K:K,'Ações-Lançamentos'!D:D,$A334,'Ações-Lançamentos'!L:L,\"BONIFICAÇÃO\")","v":0},0,null,{"$f":"IFERROR(VLOOKUP(A334,Cotações!B:C,2,FALSE),\"\")","v":""},0,0,null,null,0,null,0,0,null,{"$f":"IF(OR(A334=\"\",A334=\"(vazio)\"),0,IFERROR(LOOKUP(2,1/('Ações-Lançamentos'!D:D=A334),'Ações-Lançamentos'!O:O),0))","v":0},null,{"$f":"IF(OR(A334=\"\",A334=\"(vazio)\"),0,IFERROR(LOOKUP(2,1/('Ações-Lançamentos'!D:D=A334),'Ações-Lançamentos'!N:N),0))","v":0},null,null,null,null,null,null,{"$f":"IF(K334=\"\",\"\",K334-I334)","v":""},{"$f":"IF(OR($A334=\"TOTAL\",$A334=\"\"),\"\",$A334)","v":""}]
[null,".sa",{"$f":"SUMIFS('Ações-Lançamentos'!C:C,'Ações-Lançamentos'!D:D,$A335,'Ações-Lançamentos'!B:B,\"C\")+SUMIFS('Ações-Lançamentos'!C:C,'Ações-Lançamentos'!D:D,$A335,'Ações-Lançamentos'!B:B,\"v\")","v":0},{"$f":"IF(C335=0,0,SUMIFS('Ações-Lançamentos'!K:K,'Ações-Lançamentos'!D:D,$A335,'Ações-Lançamentos'!B:B,\"C\")-SUMIFS('Ações-Lançamentos'!K:K,'Ações-Lançamentos'!D:D,$A335,'Ações-Lançamentos'!B:B,\"v\"))-SUMIFS('Ações-Lançamentos'!K:K,'Ações-Lançamentos'!D:D,$A335,'Ações-Lançamentos'!L:L,\"BONIFICAÇÃO\")","v":0},0,null,{"$f":"IFERROR(VLOOKUP(A335,Cotações!B:C,2,FALSE),\"\")","v":""},0,0,null,null,0,null,0,0,null,{"$f":"IF(OR(A335=\"\",A335=\"(vazio)\"),0,IFERROR(LOOKUP(2,1/('Ações-Lançamentos'!D:D=A335),'Ações-Lançamentos'!O:O),0))","v":0},null,{"$f":"IF(OR(A335=\"\",A335=\"(vazio)\"),0,IFERROR(LOOKUP(2,1/('Ações-Lançamentos'!D:D=A335),'Ações-Lançamentos'!N:N),0))","v":0},null,null,null,null,null,null,"",""]
[null,".sa",{"$f":"SUMIFS('Ações-Lançamentos'!C:C,'Ações-Lançamentos'!D:D,$A336,'Ações-Lançamentos'!B:B,\"C\")+SUMIFS('Ações-Lançamentos'!C:C,'Ações-Lançamentos'!D:D,$A336,'Ações-Lançamentos'!B:B,\"v\")","v":0},{"$f":"IF(C336=0,0,SUMIFS('Ações-Lançamentos'!K:K,'Ações-Lançamentos'!D:D,$A336,'Ações-Lançamentos'!B:B,\"C\")-SUMIFS('Ações-Lançamentos'!K:K,'Ações-Lançamentos'!D:D,$A336,'Ações-Lançamentos'!B:B,\"v\"))-SUMIFS('Ações-Lançamentos'!K:K,'Ações-Lançamentos'!D:D,$A336,'Ações-Lançamentos'!L:L,\"BONIFICAÇÃO\")","v":0},0,null,{"$f":"IFERROR(VLOOKUP(A336,Cotações!B:C,2,FALSE),\"\")","v":""},0,0,null,null,0,null,0,0,null,{"$f":"IF(OR(A336=\"\",A336=\"(vazio)\"),0,IFERROR(LOOKUP(2,1/('Ações-Lançamentos'!D:D=A336),'Ações-Lançamentos'!O:O),0))","v":0},null,{"$f":"IF(OR(A336=\"\",A336=\"(vazio)\"),0,IFERROR(LOOKUP(2,1/('Ações-Lançamentos'!D:D=A336),'Ações-Lançamentos'!N:N),0))","v":0},null,null,null,null,null,null,"",""]
[null,".sa",{"$f":"SUMIFS('Ações-Lançamentos'!C:C,'Ações-Lançamentos'!D:D,$A337,'Ações-Lançamentos'!B:B,\"C\")+SUMIFS('Ações-Lançamentos'!C:C,'Ações-Lançamentos'!D:D,$A337,'Ações-Lançamentos'!B:B,\"v\")","v":0},{"$f":"IF(C337=0,0,SUMIFS('Ações-Lançamentos'!K:K,'Ações-Lançamentos'!D:D,$A337,'Ações-Lançamentos'!B:B,\"C\")-SUMIFS('Ações-Lançamentos'!K:K,'Ações-Lançamentos'!D:D,$A337,'Ações-Lançamentos'!B:B,\"v\"))-SUMIFS('Ações-Lançamentos'!K:K,'Ações-Lançamentos'!D:D,$A337,'Ações-Lançamentos'!L:L,\"BONIFICAÇÃO\")","v":0},0,null,{"$f":"IFERROR(VLOOKUP(A337,Cotações!B:C,2,FALSE),\"\")","v":""},0,0,null,null,0,null,0,0,null,{"$f":"IF(OR(A337=\"\",A337=\"(vazio)\"),0,IFERROR(LOOKUP(2,1/('Ações-Lançamentos'!D:D=A337),'Ações-Lançamentos'!O:O),0))","v":0},null,{"$f":"IF(OR(A337=\"\",A337=\"(vazio)\"),0,IFERROR(LOOKUP(2,1/('Ações-Lançamentos'!D:D=A337),'Ações-Lançamentos'!N:N),0))","v":0},null,null,null,null,null,null,"",""]
[null,".sa",{"$f":"SUMIFS('Ações-Lançamentos'!C:C,'Ações-Lançamentos'!D:D,$A338,'Ações-Lançamentos'!B:B,\"C\")+SUMIFS('Ações-Lançamentos'!C:C,'Ações-Lançamentos'!D:D,$A338,'Ações-Lançamentos'!B:B,\"v\")","v":0},{"$f":"IF(C338=0,0,SUMIFS('Ações-Lançamentos'!K:K,'Ações-Lançamentos'!D:D,$A338,'Ações-Lançamentos'!B:B,\"C\")-SUMIFS('Ações-Lançamentos'!K:K,'Ações-Lançamentos'!D:D,$A338,'Ações-Lançamentos'!B:B,\"v\"))-SUMIFS('Ações-Lançamentos'!K:K,'Ações-Lançamentos'!D:D,$A338,'Ações-Lançamentos'!L:L,\"BONIFICAÇÃO\")","v":0},0,null,{"$f":"IFERROR(VLOOKUP(A338,Cotações!B:C,2,FALSE),\"\")","v":""},0,0,null,null,0,null,0,0,null,{"$f":"IF(OR(A338=\"\",A338=\"(vazio)\"),0,IFERROR(LOOKUP(2,1/('Ações-Lançamentos'!D:D=A338),'Ações-Lançamentos'!O:O),0))","v":0},null,{"$f":"IF(OR(A338=\"\",A338=\"(vazio)\"),0,IFERROR(LOOKUP(2,1/('Ações-Lançamentos'!D:D=A338),'Ações-Lançamentos'!N:N),0))","v":0},null,null,null,null,null,null,"",""]
[null,".sa",{"$f":"SUMIFS('Ações-Lançamentos'!C:C,'Ações-Lançamentos'!D:D,$A339,'Ações-Lançamentos'!B:B,\"C\")+SUMIFS('Ações-Lançamentos'!C:C,'Ações-Lançamentos'!D:D,$A339,'Ações-Lançamentos'!B:B,\"v\")","v":0},{"$f":"IF(C339=0,0,SUMIFS('Ações-Lançamentos'!K:K,'Ações-Lançamentos'!D:D,$A339,'Ações-Lançamentos'!B:B,\"C\")-SUMIFS('Ações-Lançamentos'!K:K,'Ações-Lançamentos'!D:D,$A339,'Ações-Lançamentos'!B:B,\"v\"))-SUMIFS('Ações-Lançamentos'!K:K,'Ações-Lançamentos'!D:D,$A339,'Ações-Lançamentos'!L:L,\"BONIFICAÇÃO\")","v":0},0,null,{"$f":"IFERROR(VLOOKUP(A339,Cotações!B:C,2,FALSE),\"\")","v":""},0,0,null,null,0,null,0,0,null,{"$f":"IF(OR(A339=\"\",A339=\"(vazio)\"),0,IFERROR(LOOKUP(2,1/('Ações-Lançamentos'!D:D=A339),'Ações-Lançamentos'!O:O),0))","v":0},null,{"$f":"IF(OR(A339=\"\",A339=\"(vazio)\"),0,IFERROR(LOOKUP(2,1/('Ações-Lançamentos'!D:D=A339),'Ações-Lançamentos'!N:N),0))","v":0},null,null,null,null,null,null,"",""]
[null,".sa",{"$f":"SUMIFS('Ações-Lançamentos'!C:C,'Ações-Lançamentos'!D:D,$A340,'Ações-Lançamentos'!B:B,\"C\")+SUMIFS('Ações-Lançamentos'!C:C,'Ações-Lançamentos'!D:D,$A340,'Ações-Lançamentos'!B:B,\"v\")","v":0},{"$f":"IF(C340=0,0,SUMIFS('Ações-Lançamentos'!K:K,'Ações-Lançamentos'!D:D,$A340,'Ações-Lançamentos'!B:B,\"C\")-SUMIFS('Ações-Lançamentos'!K:K,'Ações-Lançamentos'!D:D,$A340,'Ações-Lançamentos'!B:B,\"v\"))-SUMIFS('Ações-Lançamentos'!K:K,'Ações-Lançamentos'!D:D,$A340,'Ações-Lançamentos'!L:L,\"BONIFICAÇÃO\")","v":0},0,null,{"$f":"IFERROR(VLOOKUP(A340,Cotações!B:C,2,FALSE),\"\")","v":""},0,0,null,null,0,null,0,0,null,{"$f":"IF(OR(A340=\"\",A340=\"(vazio)\"),0,IFERROR(LOOKUP(2,1/('Ações-Lançamentos'!D:D=A340),'Ações-Lançamentos'!O:O),0))","v":0},null,{"$f":"IF(OR(A340=\"\",A340=\"(vazio)\"),0,IFERROR(LOOKUP(2,1/('Ações-Lançamentos'!D:D=A340),'Ações-Lançamentos'!N:N),0))","v":0},null,null,null,null,null,null,"",""]
[null,".sa",{"$f":"SUMIFS('Ações-Lançamentos'!C:C,'Ações-Lançamentos'!D:D,$A341,'Ações-Lançamentos'!B:B,\"C\")+SUMIFS('Ações-Lançamentos'!C:C,'Ações-Lançamentos'!D:D,$A341,'Ações-Lançamentos'!B:B,\"v\")","v":0},{"$f":"IF(C341=0,0,SUMIFS('Ações-Lançamentos'!K:K,'Ações-Lançamentos'!D:D,$A341,'Ações-Lançamentos'!B:B,\"C\")-SUMIFS('Ações-Lançamentos'!K:K,'Ações-Lançamentos'!D:D,$A341,'Ações-Lançamentos'!B:B,\"v\"))-SUMIFS('Ações-Lançamentos'!K:K,'Ações-Lançamentos'!D:D,$A341,'Ações-Lançamentos'!L:L,\"BONIFICAÇÃO\")","v":0},0,null,{"$f":"IFERROR(VLOOKUP(A341,Cotações!B:C,2,FALSE),\"\")","v":""},0,0,null,null,0,null,0,0,null,{"$f":"IF(OR(A341=\"\",A341=\"(vazio)\"),0,IFERROR(LOOKUP(2,1/('Ações-Lançamentos'!D:D=A341),'Ações-Lançamentos'!O:O),0))","v":0},null,{"$f":"IF(OR(A341=\"\",A341=\"(vazio)\"),0,IFERROR(LOOKUP(2,1/('Ações-Lançamentos'!D:D=A341),'Ações-Lançamentos'!N:N),0))","v":0},null,null,null,null,null,null,"",""]
[null,".sa",{"$f":"SUMIFS('Ações-Lançamentos'!C:C,'Ações-Lançamentos'!D:D,$A342,'Ações-Lançamentos'!B:B,\"C\")+SUMIFS('Ações-Lançamentos'!C:C,'Ações-Lançamentos'!D:D,$A342,'Ações-Lançamentos'!B:B,\"v\")","v":0},{"$f":"IF(C342=0,0,SUMIFS('Ações-Lançamentos'!K:K,'Ações-Lançamentos'!D:D,$A342,'Ações-Lançamentos'!B:B,\"C\")-SUMIFS('Ações-Lançamentos'!K:K,'Ações-Lançamentos'!D:D,$A342,'Ações-Lançamentos'!B:B,\"v\"))-SUMIFS('Ações-Lançamentos'!K:K,'Ações-Lançamentos'!D:D,$A342,'Ações-Lançamentos'!L:L,\"BONIFICAÇÃO\")","v":0},0,null,{"$f":"IFERROR(VLOOKUP(A342,Cotações!B:C,2,FALSE),\"\")","v":""},0,0,null,null,0,null,0,0,null,{"$f":"IF(OR(A342=\"\",A342=\"(vazio)\"),0,IFERROR(LOOKUP(2,1/('Ações-Lançamentos'!D:D=A342),'Ações-Lançamentos'!O:O),0))","v":0},null,{"$f":"IF(OR(A342=\"\",A342=\"(vazio)\"),0,IFERROR(LOOKUP(2,1/('Ações-Lançamentos'!D:D=A342),'Ações-Lançamentos'!N:N),0))","v":0},null,null,null,null,null,null,"",""]
[null,".sa",{"$f":"SUMIFS('Ações-Lançamentos'!C:C,'Ações-Lançamentos'!D:D,$A343,'Ações-Lançamentos'!B:B,\"C\")+SUMIFS('Ações-Lançamentos'!C:C,'Ações-Lançamentos'!D:D,$A343,'Ações-Lançamentos'!B:B,\"v\")","v":0},{"$f":"IF(C343=0,0,SUMIFS('Ações-Lançamentos'!K:K,'Ações-Lançamentos'!D:D,$A343,'Ações-Lançamentos'!B:B,\"C\")-SUMIFS('Ações-Lançamentos'!K:K,'Ações-Lançamentos'!D:D,$A343,'Ações-Lançamentos'!B:B,\"v\"))-SUMIFS('Ações-Lançamentos'!K:K,'Ações-Lançamentos'!D:D,$A343,'Ações-Lançamentos'!L:L,\"BONIFICAÇÃO\")","v":0},0,null,{"$f":"IFERROR(VLOOKUP(A343,Cotações!B:C,2,FALSE),\"\")","v":""},0,0,null,null,0,null,0,0,null,{"$f":"IF(OR(A343=\"\",A343=\"(vazio)\"),0,IFERROR(LOOKUP(2,1/('Ações-Lançamentos'!D:D=A343),'Ações-Lançamentos'!O:O),0))","v":0},null,{"$f":"IF(OR(A343=\"\",A343=\"(vazio)\"),0,IFERROR(LOOKUP(2,1/('Ações-Lançamentos'!D:D=A343),'Ações-Lançamentos'!N:N),0))","v":0},null,null,null,null,null,null,"",""]
[null,".sa",{"$f":"SUMIFS('Ações-Lançamentos'!C:C,'Ações-Lançamentos'!D:D,$A344,'Ações-Lançamentos'!B:B,\"C\")+SUMIFS('Ações-Lançamentos'!C:C,'Ações-Lançamentos'!D:D,$A344,'Ações-Lançamentos'!B:B,\"v\")","v":0},{"$f":"IF(C344=0,0,SUMIFS('Ações-Lançamentos'!K:K,'Ações-Lançamentos'!D:D,$A344,'Ações-Lançamentos'!B:B,\"C\")-SUMIFS('Ações-Lançamentos'!K:K,'Ações-Lançamentos'!D:D,$A344,'Ações-Lançamentos'!B:B,\"v\"))-SUMIFS('Ações-Lançamentos'!K:K,'Ações-Lançamentos'!D:D,$A344,'Ações-Lançamentos'!L:L,\"BONIFICAÇÃO\")","v":0},0,null,{"$f":"IFERROR(VLOOKUP(A344,Cotações!B:C,2,FALSE),\"\")","v":""},0,0,null,null,0,null,0,0,null,{"$f":"IF(OR(A344=\"\",A344=\"(vazio)\"),0,IFERROR(LOOKUP(2,1/('Ações-Lançamentos'!D:D=A344),'Ações-Lançamentos'!O:O),0))","v":0},null,{"$f":"IF(OR(A344=\"\",A344=\"(vazio)\"),0,IFERROR(LOOKUP(2,1/('Ações-Lançamentos'!D:D=A344),'Ações-Lançamentos'!N:N),0))","v":0},null,null,null,null,null,null,"",""]
[null,".sa",{"$f":"SUMIFS('Ações-Lançamentos'!C:C,'Ações-Lançamentos'!D:D,$A345,'Ações-Lançamentos'!B:B,\"C\")+SUMIFS('Ações-Lançamentos'!C:C,'Ações-Lançamentos'!D:D,$A345,'Ações-Lançamentos'!B:B,\"v\")","v":0},{"$f":"IF(C345=0,0,SUMIFS('Ações-Lançamentos'!K:K,'Ações-Lançamentos'!D:D,$A345,'Ações-Lançamentos'!B:B,\"C\")-SUMIFS('Ações-Lançamentos'!K:K,'Ações-Lançamentos'!D:D,$A345,'Ações-Lançamentos'!B:B,\"v\"))-SUMIFS('Ações-Lançamentos'!K:K,'Ações-Lançamentos'!D:D,$A345,'Ações-Lançamentos'!L:L,\"BONIFICAÇÃO\")","v":0},0,null,{"$f":"IFERROR(VLOOKUP(A345,Cotações!B:C,2,FALSE),\"\")","v":""},0,0,null,null,0,null,0,0,null,{"$f":"IF(OR(A345=\"\",A345=\"(vazio)\"),0,IFERROR(LOOKUP(2,1/('Ações-Lançamentos'!D:D=A345),'Ações-Lançamentos'!O:O),0))","v":0},null,{"$f":"IF(OR(A345=\"\",A345=\"(vazio)\"),0,IFERROR(LOOKUP(2,1/('Ações-Lançamentos'!D:D=A345),'Ações-Lançamentos'!N:N),0))","v":0},null,null,null,null,null,null,"",""]
[null,".sa",{"$f":"SUMIFS('Ações-Lançamentos'!C:C,'Ações-Lançamentos'!D:D,$A346,'Ações-Lançamentos'!B:B,\"C\")+SUMIFS('Ações-Lançamentos'!C:C,'Ações-Lançamentos'!D:D,$A346,'Ações-Lançamentos'!B:B,\"v\")","v":0},{"$f":"IF(C346=0,0,SUMIFS('Ações-Lançamentos'!K:K,'Ações-Lançamentos'!D:D,$A346,'Ações-Lançamentos'!B:B,\"C\")-SUMIFS('Ações-Lançamentos'!K:K,'Ações-Lançamentos'!D:D,$A346,'Ações-Lançamentos'!B:B,\"v\"))-SUMIFS('Ações-Lançamentos'!K:K,'Ações-Lançamentos'!D:D,$A346,'Ações-Lançamentos'!L:L,\"BONIFICAÇÃO\")","v":0},0,null,{"$f":"IFERROR(VLOOKUP(A346,Cotações!B:C,2,FALSE),\"\")","v":""},0,0,null,null,0,null,0,0,null,{"$f":"IF(OR(A346=\"\",A346=\"(vazio)\"),0,IFERROR(LOOKUP(2,1/('Ações-Lançamentos'!D:D=A346),'Ações-Lançamentos'!O:O),0))","v":0},null,{"$f":"IF(OR(A346=\"\",A346=\"(vazio)\"),0,IFERROR(LOOKUP(2,1/('Ações-Lançamentos'!D:D=A346),'Ações-Lançamentos'!N:N),0))","v":0},null,null,null,null,null,null,"",""]
[null,".sa",{"$f":"SUMIFS('Ações-Lançamentos'!C:C,'Ações-Lançamentos'!D:D,$A347,'Ações-Lançamentos'!B:B,\"C\")+SUMIFS('Ações-Lançamentos'!C:C,'Ações-Lançamentos'!D:D,$A347,'Ações-Lançamentos'!B:B,\"v\")","v":0},{"$f":"IF(C347=0,0,SUMIFS('Ações-Lançamentos'!K:K,'Ações-Lançamentos'!D:D,$A347,'Ações-Lançamentos'!B:B,\"C\")-SUMIFS('Ações-Lançamentos'!K:K,'Ações-Lançamentos'!D:D,$A347,'Ações-Lançamentos'!B:B,\"v\"))-SUMIFS('Ações-Lançamentos'!K:K,'Ações-Lançamentos'!D:D,$A347,'Ações-Lançamentos'!L:L,\"BONIFICAÇÃO\")","v":0},0,null,{"$f":"IFERROR(VLOOKUP(A347,Cotações!B:C,2,FALSE),\"\")","v":""},0,0,null,null,0,null,0,0,null,{"$f":"IF(OR(A347=\"\",A347=\"(vazio)\"),0,IFERROR(LOOKUP(2,1/('Ações-Lançamentos'!D:D=A347),'Ações-Lançamentos'!O:O),0))","v":0},null,{"$f":"IF(OR(A347=\"\",A347=\"(vazio)\"),0,IFERROR(LOOKUP(2,1/('Ações-Lançamentos'!D:D=A347),'Ações-Lançamentos'!N:N),0))","v":0},null,null,null,null,null,null,"",""]
[null,".sa",{"$f":"SUMIFS('Ações-Lançamentos'!C:C,'Ações-Lançamentos'!D:D,$A348,'Ações-Lançamentos'!B:B,\"C\")+SUMIFS('Ações-Lançamentos'!C:C,'Ações-Lançamentos'!D:D,$A348,'Ações-Lançamentos'!B:B,\"v\")","v":0},{"$f":"IF(C348=0,0,SUMIFS('Ações-Lançamentos'!K:K,'Ações-Lançamentos'!D:D,$A348,'Ações-Lançamentos'!B:B,\"C\")-SUMIFS('Ações-Lançamentos'!K:K,'Ações-Lançamentos'!D:D,$A348,'Ações-Lançamentos'!B:B,\"v\"))-SUMIFS('Ações-Lançamentos'!K:K,'Ações-Lançamentos'!D:D,$A348,'Ações-Lançamentos'!L:L,\"BONIFICAÇÃO\")","v":0},0,null,{"$f":"IFERROR(VLOOKUP(A348,Cotações!B:C,2,FALSE),\"\")","v":""},0,0,null,null,0,null,0,0,null,{"$f":"IF(OR(A348=\"\",A348=\"(vazio)\"),0,IFERROR(LOOKUP(2,1/('Ações-Lançamentos'!D:D=A348),'Ações-Lançamentos'!O:O),0))","v":0},null,{"$f":"IF(OR(A348=\"\",A348=\"(vazio)\"),0,IFERROR(LOOKUP(2,1/('Ações-Lançamentos'!D:D=A348),'Ações-Lançamentos'!N:N),0))","v":0},null,null,null,null,null,null,"",""]
[null,".sa",{"$f":"SUMIFS('Ações-Lançamentos'!C:C,'Ações-Lançamentos'!D:D,$A349,'Ações-Lançamentos'!B:B,\"C\")+SUMIFS('Ações-Lançamentos'!C:C,'Ações-Lançamentos'!D:D,$A349,'Ações-Lançamentos'!B:B,\"v\")","v":0},{"$f":"IF(C349=0,0,SUMIFS('Ações-Lançamentos'!K:K,'Ações-Lançamentos'!D:D,$A349,'Ações-Lançamentos'!B:B,\"C\")-SUMIFS('Ações-Lançamentos'!K:K,'Ações-Lançamentos'!D:D,$A349,'Ações-Lançamentos'!B:B,\"v\"))-SUMIFS('Ações-Lançamentos'!K:K,'Ações-Lançamentos'!D:D,$A349,'Ações-Lançamentos'!L:L,\"BONIFICAÇÃO\")","v":0},0,null,{"$f":"IFERROR(VLOOKUP(A349,Cotações!B:C,2,FALSE),\"\")","v":""},0,0,null,null,0,null,0,0,null,{"$f":"IF(OR(A349=\"\",A349=\"(vazio)\"),0,IFERROR(LOOKUP(2,1/('Ações-Lançamentos'!D:D=A349),'Ações-Lançamentos'!O:O),0))","v":0},null,{"$f":"IF(OR(A349=\"\",A349=\"(vazio)\"),0,IFERROR(LOOKUP(2,1/('Ações-Lançamentos'!D:D=A349),'Ações-Lançamentos'!N:N),0))","v":0},null,null,null,null,null,null,"",""]
[null,".sa",{"$f":"SUMIFS('Ações-Lançamentos'!C:C,'Ações-Lançamentos'!D:D,$A350,'Ações-Lançamentos'!B:B,\"C\")+SUMIFS('Ações-Lançamentos'!C:C,'Ações-Lançamentos'!D:D,$A350,'Ações-Lançamentos'!B:B,\"v\")","v":0},{"$f":"IF(C350=0,0,SUMIFS('Ações-Lançamentos'!K:K,'Ações-Lançamentos'!D:D,$A350,'Ações-Lançamentos'!B:B,\"C\")-SUMIFS('Ações-Lançamentos'!K:K,'Ações-Lançamentos'!D:D,$A350,'Ações-Lançamentos'!B:B,\"v\"))-SUMIFS('Ações-Lançamentos'!K:K,'Ações-Lançamentos'!D:D,$A350,'Ações-Lançamentos'!L:L,\"BONIFICAÇÃO\")","v":0},0,null,{"$f":"IFERROR(VLOOKUP(A350,Cotações!B:C,2,FALSE),\"\")","v":""},0,0,null,null,0,null,0,0,null,{"$f":"IF(OR(A350=\"\",A350=\"(vazio)\"),0,IFERROR(LOOKUP(2,1/('Ações-Lançamentos'!D:D=A350),'Ações-Lançamentos'!O:O),0))","v":0},null,{"$f":"IF(OR(A350=\"\",A350=\"(vazio)\"),0,IFERROR(LOOKUP(2,1/('Ações-Lançamentos'!D:D=A350),'Ações-Lançamentos'!N:N),0))","v":0},null,null,null,null,null,null,"",""]

{"sheet":"Ações-Recebidos","index":3,"n_rows":1,"n_cols":5,"rows_kept":1,"cut":false,"hidden":false,"merged":[]}
["DATA","TIPO","VALOR","EMPRESA","IRRF"]

{"sheet":"FII-Lançamentos","index":4,"n_rows":1,"n_cols":16,"rows_kept":1,"cut":false,"hidden":false,"merged":[]}
["DATA","C/V","QTD","PAPEL","PRECO","CORRETAGEM","CBLC","EMOLUMENTOS","OUTRAS TAXAS","IRRF","TOTAL","EVENTO","QTD TOTAL","R$ INVESTIDO","PM","PM"]

{"sheet":"FII-Custódia","index":5,"n_rows":697,"n_cols":29,"rows_kept":697,"cut":false,"hidden":false,"merged":[[0,26,0,28],[0,2,0,4],[0,6,0,8],[0,10,0,11],[0,13,0,14],[0,21,0,23],[21,22,21,23],[7,21,7,23],[8,21,8,23],[9,21,9,23],[10,21,10,23],[11,21,11,23],[12,21,12,23],[13,21,13,23],[14,21,14,23],[18,21,18,23],[19,22,19,23],[20,22,20,23]]}
["FII",null,"VALORES APLICADOS",null,null,null,"VALORES ATUAIS",null,null,null,"OBJETIVO",null,null,"RESULTADO",null,null,"PREÇO MÉDIO",null,"VALOR PARA I.R.",null,null,"COMPRAR MAIS",null,null,null,null,"YIELD"]
["PAPEL",null,"QUANTIDADE","R$","%",null,"COTAÇÃO","R$","%",null,"% ATUAL","DIFERENÇA",null,"R$","%",null,"R$",null,"R$",null,null,"PRIORIDADE","FII","DIFERENCIAL",null,null,"ÚLT DIVIDENDO","YIELD PM","YIELD ATUAL"]
["(vazio)",null,{"$f":"SUMIFS('FII-Lançamentos'!C:C,'FII-Lançamentos'!D:D,$A3,'FII-Lançamentos'!B:B,\"C\")+SUMIFS('FII-Lançamentos'!C:C,'FII-Lançamentos'!D:D,$A3,'FII-Lançamentos'!B:B,\"V\")","v":0},{"$f":"IF(C3=0,0,SUMIFS('FII-Lançamentos'!K:K,'FII-Lançamentos'!D:D,$A3,'FII-Lançamentos'!B:B,\"C\")-SUMIFS('FII-Lançamentos'!K:K,'FII-Lançamentos'!D:D,$A3,'FII-Lançamentos'!B:B,\"V\"))","v":0},{"$f":"IF(OR(D3=0,$V$9=0),0,D3/$V$9)","v":0},null,{"$f":"IFERROR(VLOOKUP(A3,Cotações!B:C,2,FALSE),\"\")","v":""},{"$f":"IF(C3=\"\",0,IF(G3=\"\",D3,C3*G3))","v":0},{"$f":"IF(fii_at=0,0,H3/$V$11)","v":0},null,null,{"$f":"IF(OR(K3=\"\",I3=\"\",E3=\"\"),0,IF($K$2=\"% ATUAL\",K3-I3,K3-E3))","v":0},null,{"$f":"IF(OR(D3=0,G3=\"\"),0,H3-D3)","v":0},{"$f":"IF(OR(D3=0,G3=\"\"),0,N3/D3)","v":0},null,{"$f":"IF(OR(A3=\"\",A3=\"(vazio)\"),0,IFERROR(LOOKUP(2,1/('FII-Lançamentos'!D:D=A3),'FII-Lançamentos'!O:O),0))","v":0},null,{"$f":"IF(OR(A3=\"\",A3=\"(vazio)\"),0,(C3*Q3))","v":0},null,null,"1º",{"$f":"INDIRECT(CONCATENATE(\"a\",MATCH(X3,L:L,0)))","v":"(vazio)"},{"$f":"IF(MAX(L$3:L$350)<0,\"\",MAX(L$3:L$350))","v":0},null,null,{"$f":"IF(A3=\"\",\"\",IFERROR(LOOKUP(2,1/('FII-Recebidos'!D:D=A3),'FII-Recebidos'!C:C),\"\"))","v":""},{"$f":"IFERROR(($AA3/$C3/$Q3),\"\")","v":""},{"$f":"IFERROR(($AA3/$C3/$G3),\"\")","v":""}]
[null,null,{"$f":"SUMIFS('FII-Lançamentos'!C:C,'FII-Lançamentos'!D:D,$A4,'FII-Lançamentos'!B:B,\"C\")+SUMIFS('FII-Lançamentos'!C:C,'FII-Lançamentos'!D:D,$A4,'FII-Lançamentos'!B:B,\"V\")","v":0},{"$f":"IF(C4=0,0,SUMIFS('FII-Lançamentos'!K:K,'FII-Lançamentos'!D:D,$A4,'FII-Lançamentos'!B:B,\"C\")-SUMIFS('FII-Lançamentos'!K:K,'FII-Lançamentos'!D:D,$A4,'FII-Lançamentos'!B:B,\"V\"))","v":0},{"$f":"IF(OR(D4=0,$V$9=0),0,D4/$V$9)","v":0},null,{"$f":"IFERROR(VLOOKUP(A4,Cotações!B:C,2,FALSE),\"\")","v":""},{"$f":"IF(C4=\"\",0,IF(G4=\"\",D4,C4*G4))","v":0},{"$f":"IF(fii_at=0,0,H4/$V$11)","v":0},null,null,{"$f":"IF(OR(K4=\"\",I4=\"\",E4=\"\"),0,IF($K$2=\"% ATUAL\",K4-I4,K4-E4))","v":0},null,{"$f":"IF(OR(D4=0,G4=\"\"),0,H4-D4)","v":0},{"$f":"IF(OR(D4=0,G4=\"\"),0,N4/D4)","v":0},null,{"$f":"IF(OR(A4=\"\",A4=\"(vazio)\"),0,IFERROR(LOOKUP(2,1/('FII-Lançamentos'!D:D=A4),'FII-Lançamentos'!O:O),0))","v":0},null,{"$f":"IF(OR(A4=\"\",A4=\"(vazio)\"),0,(C4*Q4))","v":0},null,null,"2º",{"$f":"IF(X4=\"\",\"\",INDIRECT(CONCATENATE(\"a\",MATCH(X4,L:L,0))))","v":""},{"$f":"IF(LARGE(L$3:L$350,2)<=0,\"\",LARGE(L$3:L$350,2))","v":""},null,null,{"$f":"IF(A4=\"\",\"\",IFERROR(LOOKUP(2,1/('FII-Recebidos'!D:D=A4),'FII-Recebidos'!C:C),\"\"))","v":""},{"$f":"IFERROR(($AA4/$C4/$Q4),\"\")","v":""},{"$f":"IFERROR(($AA4/$C4/$G4),\"\")","v":""}]
[null,null,{"$f":"SUMIFS('FII-Lançamentos'!C:C,'FII-Lançamentos'!D:D,$A5,'FII-Lançamentos'!B:B,\"C\")+SUMIFS('FII-Lançamentos'!C:C,'FII-Lançamentos'!D:D,$A5,'FII-Lançamentos'!B:B,\"V\")","v":0},{"$f":"IF(C5=0,0,SUMIFS('FII-Lançamentos'!K:K,'FII-Lançamentos'!D:D,$A5,'FII-Lançamentos'!B:B,\"C\")-SUMIFS('FII-Lançamentos'!K:K,'FII-Lançamentos'!D:D,$A5,'FII-Lançamentos'!B:B,\"V\"))","v":0},0,null,{"$f":"IFERROR(VLOOKUP(A5,Cotações!B:C,2,FALSE),\"\")","v":""},0,0,null,null,0,null,0,0,null,{"$f":"IF(OR(A5=\"\",A5=\"(vazio)\"),0,IFERROR(LOOKUP(2,1/('FII-Lançamentos'!D:D=A5),'FII-Lançamentos'!O:O),0))","v":0},null,0,null,null,"3º",{"$f":"IF(X5=\"\",\"\",INDIRECT(CONCATENATE(\"a\",MATCH(X5,L:L,0))))","v":""},{"$f":"IF(LARGE(L$3:L$350,3)<=0,\"\",LARGE(L$3:L$350,3))","v":""},null,null,{"$f":"IF(A5=\"\",\"\",IFERROR(LOOKUP(2,1/('FII-Recebidos'!D:D=A5),'FII-Recebidos'!C:C),\"\"))","v":""},"",""]
[null,null,{"$f":"SUMIFS('FII-Lançamentos'!C:C,'FII-Lançamentos'!D:D,$A6,'FII-Lançamentos'!B:B,\"C\")+SUMIFS('FII-Lançamentos'!C:C,'FII-Lançamentos'!D:D,$A6,'FII-Lançamentos'!B:B,\"V\")","v":0},{"$f":"IF(C6=0,0,SUMIFS('FII-Lançamentos'!K:K,'FII-Lançamentos'!D:D,$A6,'FII-Lançamentos'!B:B,\"C\")-SUMIFS('FII-Lançamentos'!K:K,'FII-Lançamentos'!D:D,$A6,'FII-Lançamentos'!B:B,\"V\"))","v":0},0,null,{"$f":"IFERROR(VLOOKUP(A6,Cotações!B:C,2,FALSE),\"\")","v":""},0,0,null,null,0,null,0,0,null,{"$f":"IF(OR(A6=\"\",A6=\"(vazio)\"),0,IFERROR(LOOKUP(2,1/('FII-Lançamentos'!D:D=A6),'FII-Lançamentos'!O:O),0))","v":0},null,0,null,null,null,null,null,null,null,{"$f":"IF(A6=\"\",\"\",IFERROR(LOOKUP(2,1/('FII-Recebidos'!D:D=A6),'FII-Recebidos'!C:C),\"\"))","v":""},"",""]
[null,null,{"$f":"SUMIFS('FII-Lançamentos'!C:C,'FII-Lançamentos'!D:D,$A7,'FII-Lançamentos'!B:B,\"C\")+SUMIFS('FII-Lançamentos'!C:C,'FII-Lançamentos'!D:D,$A7,'FII-Lançamentos'!B:B,\"V\")","v":0},{"$f":"IF(C7=0,0,SUMIFS('FII-Lançamentos'!K:K,'FII-Lançamentos'!D:D,$A7,'FII-Lançamentos'!B:B,\"C\")-SUMIFS('FII-Lançamentos'!K:K,'FII-Lançamentos'!D:D,$A7,'FII-Lançamentos'!B:B,\"V\"))","v":0},0,null,{"$f":"IFERROR(VLOOKUP(A7,Cotações!B:C,2,FALSE),\"\")","v":""},0,0,null,null,0,null,0,0,null,{"$f":"IF(OR(A7=\"\",A7=\"(vazio)\"),0,IFERROR(LOOKUP(2,1/('FII-Lançamentos'!D:D=A7),'FII-Lançamentos'!O:O),0))","v":0},null,0,null,null,null,null,null,null,null,{"$f":"IF(A7=\"\",\"\",IFERROR(LOOKUP(2,1/('FII-Recebidos'!D:D=A7),'FII-Recebidos'!C:C),\"\"))","v":""},"",""]
[null,null,{"$f":"SUMIFS('FII-Lançamentos'!C:C,'FII-Lançamentos'!D:D,$A8,'FII-Lançamentos'!B:B,\"C\")+SUMIFS('FII-Lançamentos'!C:C,'FII-Lançamentos'!D:D,$A8,'FII-Lançamentos'!B:B,\"V\")","v":0},{"$f":"IF(C8=0,0,SUMIFS('FII-Lançamentos'!K:K,'FII-Lançamentos'!D:D,$A8,'FII-Lançamentos'!B:B,\"C\")-SUMIFS('FII-Lançamentos'!K:K,'FII-Lançamentos'!D:D,$A8,'FII-Lançamentos'!B:B,\"V\"))","v":0},0,null,{"$f":"IFERROR(VLOOKUP(A8,Cotações!B:C,2,FALSE),\"\")","v":""},0,0,null,null,0,null,0,0,null,{"$f":"IF(OR(A8=\"\",A8=\"(vazio)\"),0,IFERROR(LOOKUP(2,1/('FII-Lançamentos'!D:D=A8),'FII-Lançamentos'!O:O),0))","v":0},null,0,null,null,"TOTAL INVESTIDO",null,null,null,null,{"$f":"IF(A8=\"\",\"\",IFERROR(LOOKUP(2,1/('FII-Recebidos'!D:D=A8),'FII-Recebidos'!C:C),\"\"))","v":""},"",""]
[null,null,{"$f":"SUMIFS('FII-Lançamentos'!C:C,'FII-Lançamentos'!D:D,$A9,'FII-Lançamentos'!B:B,\"C\")+SUMIFS('FII-Lançamentos'!C:C,'FII-Lançamentos'!D:D,$A9,'FII-Lançamentos'!B:B,\"V\")","v":0},{"$f":"IF(C9=0,0,SUMIFS('FII-Lançamentos'!K:K,'FII-Lançamentos'!D:D,$A9,'FII-Lançamentos'!B:B,\"C\")-SUMIFS('FII-Lançamentos'!K:K,'FII-Lançamentos'!D:D,$A9,'FII-Lançamentos'!B:B,\"V\"))","v":0},0,null,{"$f":"IFERROR(VLOOKUP(A9,Cotações!B:C,2,FALSE),\"\")","v":""},0,0,null,null,0,null,0,0,null,{"$f":"IF(OR(A9=\"\",A9=\"(vazio)\"),0,IFERROR(LOOKUP(2,1/('FII-Lançamentos'!D:D=A9),'FII-Lançamentos'!O:O),0))","v":0},null,0,null,null,{"$f":"SUM(D3:D350)","v":0},null,null,null,null,{"$f":"IF(A9=\"\",\"\",IFERROR(LOOKUP(2,1/('FII-Recebidos'!D:D=A9),'FII-Recebidos'!C:C),\"\"))","v":""},"",""]
[null,null,{"$f":"SUMIFS('FII-Lançamentos'!C:C,'FII-Lançamentos'!D:D,$A10,'FII-Lançamentos'!B:B,\"C\")+SUMIFS('FII-Lançamentos'!C:C,'FII-Lançamentos'!D:D,$A10,'FII-Lançamentos'!B:B,\"V\")","v":0},{"$f":"IF(C10=0,0,SUMIFS('FII-Lançamentos'!K:K,'FII-Lançamentos'!D:D,$A10,'FII-Lançamentos'!B:B,\"C\")-SUMIFS('FII-Lançamentos'!K:K,'FII-Lançamentos'!D:D,$A10,'FII-Lançamentos'!B:B,\"V\"))","v":0},0,null,{"$f":"IFERROR(VLOOKUP(A10,Cotações!B:C,2,FALSE),\"\")","v":""},0,0,null,null,0,null,0,0,null,{"$f":"IF(OR(A10=\"\",A10=\"(vazio)\"),0,IFERROR(LOOKUP(2,1/('FII-Lançamentos'!D:D=A10),'FII-Lançamentos'!O:O),0))","v":0},null,0,null,null,"TOTAL ATUAL",null,null,null,null,{"$f":"IF(A10=\"\",\"\",IFERROR(LOOKUP(2,1/('FII-Recebidos'!D:D=A10),'FII-Recebidos'!C:C),\"\"))","v":""},"",""]
[null,null,{"$f":"SUMIFS('FII-Lançamentos'!C:C,'FII-Lançamentos'!D:D,$A11,'FII-Lançamentos'!B:B,\"C\")+SUMIFS('FII-Lançamentos'!C:C,'FII-Lançamentos'!D:D,$A11,'FII-Lançamentos'!B:B,\"V\")","v":0},{"$f":"IF(C11=0,0,SUMIFS('FII-Lançamentos'!K:K,'FII-Lançamentos'!D:D,$A11,'FII-Lançamentos'!B:B,\"C\")-SUMIFS('FII-Lançamentos'!K:K,'FII-Lançamentos'!D:D,$A11,'FII-Lançamentos'!B:B,\"V\"))","v":0},0,null,{"$f":"IFERROR(VLOOKUP(A11,Cotações!B:C,2,FALSE),\"\")","v":""},0,0,null,null,0,null,0,0,null,{"$f":"IF(OR(A11=\"\",A11=\"(vazio)\"),0,IFERROR(LOOKUP(2,1/('FII-Lançamentos'!D:D=A11),'FII-Lançamentos'!O:O),0))","v":0},null,0,null,null,{"$f":"SUM(H3:H350)","v":0},null,null,null,null,{"$f":"IF(A11=\"\",\"\",IFERROR(LOOKUP(2,1/('FII-Recebidos'!D:D=A11),'FII-Recebidos'!C:C),\"\"))","v":""},"",""]
[null,null,{"$f":"SUMIFS('FII-Lançamentos'!C:C,'FII-Lançamentos'!D:D,$A12,'FII-Lançamentos'!B:B,\"C\")+SUMIFS('FII-Lançamentos'!C:C,'FII-Lançamentos'!D:D,$A12,'FII-Lançamentos'!B:B,\"V\")","v":0},{"$f":"IF(C12=0,0,SUMIFS('FII-Lançamentos'!K:K,'FII-Lançamentos'!D:D,$A12,'FII-Lançamentos'!B:B,\"C\")-SUMIFS('FII-Lançamentos'!K:K,'FII-Lançamentos'!D:D,$A12,'FII-Lançamentos'!B:B,\"V\"))","v":0},0,null,{"$f":"IFERROR(VLOOKUP(A12,Cotações!B:C,2,FALSE),\"\")","v":""},0,0,null,null,0,null,0,0,null,{"$f":"IF(OR(A12=\"\",A12=\"(vazio)\"),0,IFERROR(LOOKUP(2,1/('FII-Lançamentos'!D:D=A12),'FII-Lançamentos'!O:O),0))","v":0},null,0,null,null,"RESULTADO EM REAIS",null,null,null,null,{"$f":"IF(A12=\"\",\"\",IFERROR(LOOKUP(2,1/('FII-Recebidos'!D:D=A12),'FII-Recebidos'!C:C),\"\"))","v":""},"",""]
[null,null,{"$f":"SUMIFS('FII-Lançamentos'!C:C,'FII-Lançamentos'!D:D,$A13,'FII-Lançamentos'!B:B,\"C\")+SUMIFS('FII-Lançamentos'!C:C,'FII-Lançamentos'!D:D,$A13,'FII-Lançamentos'!B:B,\"V\")","v":0},{"$f":"IF(C13=0,0,SUMIFS('FII-Lançamentos'!K:K,'FII-Lançamentos'!D:D,$A13,'FII-Lançamentos'!B:B,\"C\")-SUMIFS('FII-Lançamentos'!K:K,'FII-Lançamentos'!D:D,$A13,'FII-Lançamentos'!B:B,\"V\"))","v":0},0,null,{"$f":"IFERROR(VLOOKUP(A13,Cotações!B:C,2,FALSE),\"\")","v":""},0,0,null,null,0,null,0,0,null,{"$f":"IF(OR(A13=\"\",A13=\"(vazio)\"),0,IFERROR(LOOKUP(2,1/('FII-Lançamentos'!D:D=A13),'FII-Lançamentos'!O:O),0))","v":0},null,0,null,null,{"$f":"SUM(N3:N350)","v":0},null,null,null,null,{"$f":"IF(A13=\"\",\"\",IFERROR(LOOKUP(2,1/('FII-Recebidos'!D:D=A13),'FII-Recebidos'!C:C),\"\"))","v":""},"",""]
[null,null,{"$f":"SUMIFS('FII-Lançamentos'!C:C,'FII-Lançamentos'!D:D,$A14,'FII-Lançamentos'!B:B,\"C\")+SUMIFS('FII-Lançamentos'!C:C,'FII-Lançamentos'!D:D,$A14,'FII-Lançamentos'!B:B,\"V\")","v":0},{"$f":"IF(C14=0,0,SUMIFS('FII-Lançamentos'!K:K,'FII-Lançamentos'!D:D,$A14,'FII-Lançamentos'!B:B,\"C\")-SUMIFS('FII-Lançamentos'!K:K,'FII-Lançamentos'!D:D,$A14,'FII-Lançamentos'!B:B,\"V\"))","v":0},0,null,{"$f":"IFERROR(VLOOKUP(A14,Cotações!B:C,2,FALSE),\"\")","v":""},0,0,null,null,0,null,0,0,null,{"$f":"IF(OR(A14=\"\",A14=\"(vazio)\"),0,IFERROR(LOOKUP(2,1/('FII-Lançamentos'!D:D=A14),'FII-Lançamentos'!O:O),0))","v":0},null,0,null,null,"RESULTADO EM PERCENTUAL",null,null,null,null,{"$f":"IF(A14=\"\",\"\",IFERROR(LOOKUP(2,1/('FII-Recebidos'!D:D=A14),'FII-Recebidos'!C:C),\"\"))","v":""},"",""]
[null,null,{"$f":"SUMIFS('FII-Lançamentos'!C:C,'FII-Lançamentos'!D:D,$A15,'FII-Lançamentos'!B:B,\"C\")+SUMIFS('FII-Lançamentos'!C:C,'FII-Lançamentos'!D:D,$A15,'FII-Lançamentos'!B:B,\"V\")","v":0},{"$f":"IF(C15=0,0,SUMIFS('FII-Lançamentos'!K:K,'FII-Lançamentos'!D:D,$A15,'FII-Lançamentos'!B:B,\"C\")-SUMIFS('FII-Lançamentos'!K:K,'FII-Lançamentos'!D:D,$A15,'FII-Lançamentos'!B:B,\"V\"))","v":0},0,null,{"$f":"IFERROR(VLOOKUP(A15,Cotações!B:C,2,FALSE),\"\")","v":""},0,0,null,null,0,null,0,0,null,{"$f":"IF(OR(A15=\"\",A15=\"(vazio)\"),0,IFERROR(LOOKUP(2,1/('FII-Lançamentos'!D:D=A15),'FII-Lançamentos'!O:O),0))","v":0},null,0,null,null,{"$f":"IFERROR((V11/V9)-1,0)","v":0},null,null,null,null,{"$f":"IF(A15=\"\",\"\",IFERROR(LOOKUP(2,1/('FII-Recebidos'!D:D=A15),'FII-Recebidos'!C:C),\"\"))","v":""},"",""]
[null,null,{"$f":"SUMIFS('FII-Lançamentos'!C:C,'FII-Lançamentos'!D:D,$A16,'FII-Lançamentos'!B:B,\"C\")+SUMIFS('FII-Lançamentos'!C:C,'FII-Lançamentos'!D:D,$A16,'FII-Lançamentos'!B:B,\"V\")","v":0},{"$f":"IF(C16=0,0,SUMIFS('FII-Lançamentos'!K:K,'FII-Lançamentos'!D:D,$A16,'FII-Lançamentos'!B:B,\"C\")-SUMIFS('FII-Lançamentos'!K:K,'FII-Lançamentos'!D:D,$A16,'FII-Lançamentos'!B:B,\"V\"))","v":0},0,null,{"$f":"IFERROR(VLOOKUP(A16,Cotações!B:C,2,FALSE),\"\")","v":""},0,0,null,null,0,null,0,0,null,{"$f":"IF(OR(A16=\"\",A16=\"(vazio)\"),0,IFERROR(LOOKUP(2,1/('FII-Lançamentos'!D:D=A16),'FII-Lançamentos'!O:O),0))","v":0},null,0,null,null,null,null,null,null,null,{"$f":"IF(A16=\"\",\"\",IFERROR(LOOKUP(2,1/('FII-Recebidos'!D:D=A16),'FII-Recebidos'!C:C),\"\"))","v":""},"",""]
[null,null,{"$f":"SUMIFS('FII-Lançamentos'!C:C,'FII-Lançamentos'!D:D,$A17,'FII-Lançamentos'!B:B,\"C\")+SUMIFS('FII-Lançamentos'!C:C,'FII-Lançamentos'!D:D,$A17,'FII-Lançamentos'!B:B,\"V\")","v":0},{"$f":"IF(C17=0,0,SUMIFS('FII-Lançamentos'!K:K,'FII-Lançamentos'!D:D,$A17,'FII-Lançamentos'!B:B,\"C\")-SUMIFS('FII-Lançamentos'!K:K,'FII-Lançamentos'!D:D,$A17,'FII-Lançamentos'!B:B,\"V\"))","v":0},0,null,{"$f":"IFERROR(VLOOKUP(A17,Cotações!B:C,2,FALSE),\"\")","v":""},0,0,null,null,0,null,0,0,null,{"$f":"IF(OR(A17=\"\",A17=\"(vazio)\"),0,IFERROR(LOOKUP(2,1/('FII-Lançamentos'!D:D=A17),'FII-Lançamentos'!O:O),0))","v":0},null,0,null,null,null,"% ATUAL",null,null,null,{"$f":"IF(A17=\"\",\"\",IFERROR(LOOKUP(2,1/('FII-Recebidos'!D:D=A17),'FII-Recebidos'!C:C),\"\"))","v":""},"",""]
[null,null,{"$f":"SUMIFS('FII-Lançamentos'!C:C,'FII-Lançamentos'!D:D,$A18,'FII-Lançamentos'!B:B,\"C\")+SUMIFS('FII-Lançamentos'!C:C,'FII-Lançamentos'!D:D,$A18,'FII-Lançamentos'!B:B,\"V\")","v":0},{"$f":"IF(C18=0,0,SUMIFS('FII-Lançamentos'!K:K,'FII-Lançamentos'!D:D,$A18,'FII-Lançamentos'!B:B,\"C\")-SUMIFS('FII-Lançamentos'!K:K,'FII-Lançamentos'!D:D,$A18,'FII-Lançamentos'!B:B,\"V\"))","v":0},0,null,{"$f":"IFERROR(VLOOKUP(A18,Cotações!B:C,2,FALSE),\"\")","v":""},0,0,null,null,0,null,0,0,null,{"$f":"IF(OR(A18=\"\",A18=\"(vazio)\"),0,IFERROR(LOOKUP(2,1/('FII-Lançamentos'!D:D=A18),'FII-Lançamentos'!O:O),0))","v":0},null,0,null,null,null,"% INVESTIDO",null,null,null,{"$f":"IF(A18=\"\",\"\",IFERROR(LOOKUP(2,1/('FII-Recebidos'!D:D=A18),'FII-Recebidos'!C:C),\"\"))","v":""},"",""]
[null,null,{"$f":"SUMIFS('FII-Lançamentos'!C:C,'FII-Lançamentos'!D:D,$A19,'FII-Lançamentos'!B:B,\"C\")+SUMIFS('FII-Lançamentos'!C:C,'FII-Lançamentos'!D:D,$A19,'FII-Lançamentos'!B:B,\"V\")","v":0},{"$f":"IF(C19=0,0,SUMIFS('FII-Lançamentos'!K:K,'FII-Lançamentos'!D:D,$A19,'FII-Lançamentos'!B:B,\"C\")-SUMIFS('FII-Lançamentos'!K:K,'FII-Lançamentos'!D:D,$A19,'FII-Lançamentos'!B:B,\"V\"))","v":0},0,null,{"$f":"IFERROR(VLOOKUP(A19,Cotações!B:C,2,FALSE),\"\")","v":""},0,0,null,null,0,null,0,0,null,{"$f":"IF(OR(A19=\"\",A19=\"(vazio)\"),0,IFERROR(LOOKUP(2,1/('FII-Lançamentos'!D:D=A19),'FII-Lançamentos'!O:O),0))","v":0},null,0,null,null,null,null,null,null,null,{"$f":"IF(A19=\"\",\"\",IFERROR(LOOKUP(2,1/('FII-Recebidos'!D:D=A19),'FII-Recebidos'!C:C),\"\"))","v":""},"",""]
[null,null,{"$f":"SUMIFS('FII-Lançamentos'!C:C,'FII-Lançamentos'!D:D,$A20,'FII-Lançamentos'!B:B,\"C\")+SUMIFS('FII-Lançamentos'!C:C,'FII-Lançamentos'!D:D,$A20,'FII-Lançamentos'!B:B,\"V\")","v":0},{"$f":"IF(C20=0,0,SUMIFS('FII-Lançamentos'!K:K,'FII-Lançamentos'!D:D,$A20,'FII-Lançamentos'!B:B,\"C\")-SUMIFS('FII-Lançamentos'!K:K,'FII-Lançamentos'!D:D,$A20,'FII-Lançamentos'!B:B,\"V\"))","v":0},0,null,{"$f":"IFERROR(VLOOKUP(A20,Cotações!B:C,2,FALSE),\"\")","v":""},0,0,null,null,0,null,0,0,null,{"$f":"IF(OR(A20=\"\",A20=\"(vazio)\"),0,IFERROR(LOOKUP(2,1/('FII-Lançamentos'!D:D=A20),'FII-Lançamentos'!O:O),0))","v":0},null,0,null,null,null,null,null,null,null,{"$f":"IF(A20=\"\",\"\",IFERROR(LOOKUP(2,1/('FII-Recebidos'!D:D=A20),'FII-Recebidos'!C:C),\"\"))","v":""},"",""]
[null,null,{"$f":"SUMIFS('FII-Lançamentos'!C:C,'FII-Lançamentos'!D:D,$A21,'FII-Lançamentos'!B:B,\"C\")+SUMIFS('FII-Lançamentos'!C:C,'FII-Lançamentos'!D:D,$A21,'FII-Lançamentos'!B:B,\"V\")","v":0},{"$f":"IF(C21=0,0,SUMIFS('FII-Lançamentos'!K:K,'FII-Lançamentos'!D:D,$A21,'FII-Lançamentos'!B:B,\"C\")-SUMIFS('FII-Lançamentos'!K:K,'FII-Lançamentos'!D:D,$A21,'FII-Lançamentos'!B:B,\"V\"))","v":0},0,null,{"$f":"IFERROR(VLOOKUP(A21,Cotações!B:C,2,FALSE),\"\")","v":""},0,0,null,null,0,null,0,0,null,{"$f":"IF(OR(A21=\"\",A21=\"(vazio)\"),0,IFERROR(LOOKUP(2,1/('FII-Lançamentos'!D:D=A21),'FII-Lançamentos'!O:O),0))","v":0},null,0,null,null,null,null,null,null,null,{"$f":"IF(A21=\"\",\"\",IFERROR(LOOKUP(2,1/('FII-Recebidos'!D:D=A21),'FII-Recebidos'!C:C),\"\"))","v":""},"",""]
[null,null,{"$f":"SUMIFS('FII-Lançamentos'!C:C,'FII-Lançamentos'!D:D,$A22,'FII-Lançamentos'!B:B,\"C\")+SUMIFS('FII-Lançamentos'!C:C,'FII-Lançamentos'!D:D,$A22,'FII-Lançamentos'!B:B,\"V\")","v":0},{"$f":"IF(C22=0,0,SUMIFS('FII-Lançamentos'!K:K,'FII-Lançamentos'!D:D,$A22,'FII-Lançamentos'!B:B,\"C\")-SUMIFS('FII-Lançamentos'!K:K,'FII-Lançamentos'!D:D,$A22,'FII-Lançamentos'!B:B,\"V\"))","v":0},0,null,{"$f":"IFERROR(VLOOKUP(A22,Cotações!B:C,2,FALSE),\"\")","v":""},0,0,null,null,0,null,0,0,null,{"$f":"IF(OR(A22=\"\",A22=\"(vazio)\"),0,IFERROR(LOOKUP(2,1/('FII-Lançamentos'!D:D=A22),'FII-Lançamentos'!O:O),0))","v":0},null,0,null,null,null,null,null,null,null,{"$f":"IF(A22=\"\",\"\",IFERROR(LOOKUP(2,1/('FII-Recebidos'!D:D=A22),'FII-Recebidos'!C:C),\"\"))","v":""},"",""]
[null,null,{"$f":"SUMIFS('FII-Lançamentos'!C:C,'FII-Lançamentos'!D:D,$A23,'FII-Lançamentos'!B:B,\"C\")+SUMIFS('FII-Lançamentos'!C:C,'FII-Lançamentos'!D:D,$A23,'FII-Lançamentos'!B:B,\"V\")","v":0},{"$f":"IF(C23=0,0,SUMIFS('FII-Lançamentos'!K:K,'FII-Lançamentos'!D:D,$A23,'FII-Lançamentos'!B:B,\"C\")-SUMIFS('FII-Lançamentos'!K:K,'FII-Lançamentos'!D:D,$A23,'FII-Lançamentos'!B:B,\"V\"))","v":0},0,null,{"$f":"IFERROR(VLOOKUP(A23,Cotações!B:C,2,FALSE),\"\")","v":""},0,0,null,null,0,null,0,0,null,{"$f":"IF(OR(A23=\"\",A23=\"(vazio)\"),0,IFERROR(LOOKUP(2,1/('FII-Lançamentos'!D:D=A23),'FII-Lançamentos'!O:O),0))","v":0},null,0,null,null,null,null,null,null,null,{"$f":"IF(A23=\"\",\"\",IFERROR(LOOKUP(2,1/('FII-Recebidos'!D:D=A23),'FII-Recebidos'!C:C),\"\"))","v":""},"",""]
[null,null,{"$f":"SUMIFS('FII-Lançamentos'!C:C,'FII-Lançamentos'!D:D,$A24,'FII-Lançamentos'!B:B,\"C\")+SUMIFS('FII-Lançamentos'!C:C,'FII-Lançamentos'!D:D,$A24,'FII-Lançamentos'!B:B,\"V\")","v":0},{"$f":"IF(C24=0,0,SUMIFS('FII-Lançamentos'!K:K,'FII-Lançamentos'!D:D,$A24,'FII-Lançamentos'!B:B,\"C\")-SUMIFS('FII-Lançamentos'!K:K,'FII-Lançamentos'!D:D,$A24,'FII-Lançamentos'!B:B,\"V\"))","v":0},0,null,{"$f":"IFERROR(VLOOKUP(A24,Cotações!B:C,2,FALSE),\"\")","v":""},0,0,null,null,0,null,0,0,null,{"$f":"IF(OR(A24=\"\",A24=\"(vazio)\"),0,IFERROR(LOOKUP(2,1/('FII-Lançamentos'!D:D=A24),'FII-Lançamentos'!O:O),0))","v":0},null,0,null,null,null,null,null,null,null,{"$f":"IF(A24=\"\",\"\",IFERROR(LOOKUP(2,1/('FII-Recebidos'!D:D=A24),'FII-Recebidos'!C:C),\"\"))","v":""},"",""]
[null,null,{"$f":"SUMIFS('FII-Lançamentos'!C:C,'FII-Lançamentos'!D:D,$A25,'FII-Lançamentos'!B:B,\"C\")+SUMIFS('FII-Lançamentos'!C:C,'FII-Lançamentos'!D:D,$A25,'FII-Lançamentos'!B:B,\"V\")","v":0},{"$f":"IF(C25=0,0,SUMIFS('FII-Lançamentos'!K:K,'FII-Lançamentos'!D:D,$A25,'FII-Lançamentos'!B:B,\"C\")-SUMIFS('FII-Lançamentos'!K:K,'FII-Lançamentos'!D:D,$A25,'FII-Lançamentos'!B:B,\"V\"))","v":0},0,null,{"$f":"IFERROR(VLOOKUP(A25,Cotações!B:C,2,FALSE),\"\")","v":""},0,0,null,null,0,null,0,0,null,{"$f":"IF(OR(A25=\"\",A25=\"(vazio)\"),0,IFERROR(LOOKUP(2,1/('FII-Lançamentos'!D:D=A25),'FII-Lançamentos'!O:O),0))","v":0},null,0,null,null,null,null,null,null,null,{"$f":"IF(A25=\"\",\"\",IFERROR(LOOKUP(2,1/('FII-Recebidos'!D:D=A25),'FII-Recebidos'!C:C),\"\"))","v":""},"",""]
[null,null,{"$f":"SUMIFS('FII-Lançamentos'!C:C,'FII-Lançamentos'!D:D,$A26,'FII-Lançamentos'!B:B,\"C\")+SUMIFS('FII-Lançamentos'!C:C,'FII-Lançamentos'!D:D,$A26,'FII-Lançamentos'!B:B,\"V\")","v":0},{"$f":"IF(C26=0,0,SUMIFS('FII-Lançamentos'!K:K,'FII-Lançamentos'!D:D,$A26,'FII-Lançamentos'!B:B,\"C\")-SUMIFS('FII-Lançamentos'!K:K,'FII-Lançamentos'!D:D,$A26,'FII-Lançamentos'!B:B,\"V\"))","v":0},0,null,{"$f":"IFERROR(VLOOKUP(A26,Cotações!B:C,2,FALSE),\"\")","v":""},0,0,null,null,0,null,0,0,null,{"$f":"IF(OR(A26=\"\",A26=\"(vazio)\"),0,IFERROR(LOOKUP(2,1/('FII-Lançamentos'!D:D=A26),'FII-Lançamentos'!O:O),0))","v":0},null,0,null,null,null,null,null,null,null,{"$f":"IF(A26=\"\",\"\",IFERROR(LOOKUP(2,1/('FII-Recebidos'!D:D=A26),'FII-Recebidos'!C:C),\"\"))","v":""},"",""]
[null,null,{"$f":"SUMIFS('FII-Lançamentos'!C:C,'FII-Lançamentos'!D:D,$A27,'FII-Lançamentos'!B:B,\"C\")+SUMIFS('FII-Lançamentos'!C:C,'FII-Lançamentos'!D:D,$A27,'FII-Lançamentos'!B:B,\"V\")","v":0},{"$f":"IF(C27=0,0,SUMIFS('FII-Lançamentos'!K:K,'FII-Lançamentos'!D:D,$A27,'FII-Lançamentos'!B:B,\"C\")-SUMIFS('FII-Lançamentos'!K:K,'FII-Lançamentos'!D:D,$A27,'FII-Lançamentos'!B:B,\"V\"))","v":0},0,null,{"$f":"IFERROR(VLOOKUP(A27,Cotações!B:C,2,FALSE),\"\")","v":""},0,0,null,null,0,null,0,0,null,{"$f":"IF(OR(A27=\"\",A27=\"(vazio)\"),0,IFERROR(LOOKUP(2,1/('FII-Lançamentos'!D:D=A27),'FII-Lançamentos'!O:O),0))","v":0},null,0,null,null,null,null,null,null,null,{"$f":"IF(A27=\"\",\"\",IFERROR(LOOKUP(2,1/('FII-Recebidos'!D:D=A27),'FII-Recebidos'!C:C),\"\"))","v":""},"",""]
[null,null,{"$f":"SUMIFS('FII-Lançamentos'!C:C,'FII-Lançamentos'!D:D,$A28,'FII-Lançamentos'!B:B,\"C\")+SUMIFS('FII-Lançamentos'!C:C,'FII-Lançamentos'!D:D,$A28,'FII-Lançamentos'!B:B,\"V\")","v":0},{"$f":"IF(C28=0,0,SUMIFS('FII-Lançamentos'!K:K,'FII-Lançamentos'!D:D,$A28,'FII-Lançamentos'!B:B,\"C\")-SUMIFS('FII-Lançamentos'!K:K,'FII-Lançamentos'!D:D,$A28,'FII-Lançamentos'!B:B,\"V\"))","v":0},0,null,{"$f":"IFERROR(VLOOKUP(A28,Cotações!B:C,2,FALSE),\"\")","v":""},0,0,null,null,0,null,0,0,null,{"$f":"IF(OR(A28=\"\",A28=\"(vazio)\"),0,IFERROR(LOOKUP(2,1/('FII-Lançamentos'!D:D=A28),'FII-Lançamentos'!O:O),0))","v":0},null,0,null,null,null,null,null,null,null,{"$f":"IF(A28=\"\",\"\",IFERROR(LOOKUP(2,1/('FII-Recebidos'!D:D=A28),'FII-Recebidos'!C:C),\"\"))","v":""},"",""]
[null,null,{"$f":"SUMIFS('FII-Lançamentos'!C:C,'FII-Lançamentos'!D:D,$A29,'FII-Lançamentos'!B:B,\"C\")+SUMIFS('FII-Lançamentos'!C:C,'FII-Lançamentos'!D:D,$A29,'FII-Lançamentos'!B:B,\"V\")","v":0},{"$f":"IF(C29=0,0,SUMIFS('FII-Lançamentos'!K:K,'FII-Lançamentos'!D:D,$A29,'FII-Lançamentos'!B:B,\"C\")-SUMIFS('FII-Lançamentos'!K:K,'FII-Lançamentos'!D:D,$A29,'FII-Lançamentos'!B:B,\"V\"))","v":0},0,null,{"$f":"IFERROR(VLOOKUP(A29,Cotações!B:C,2,FALSE),\"\")","v":""},0,0,null,null,0,null,0,0,null,{"$f":"IF(OR(A29=\"\",A29=\"(vazio)\"),0,IFERROR(LOOKUP(2,1/('FII-Lançamentos'!D:D=A29),'FII-Lançamentos'!O:O),0))","v":0},null,0,null,null,null,null,null,null,null,{"$f":"IF(A29=\"\",\"\",IFERROR(LOOKUP(2,1/('FII-Recebidos'!D:D=A29),'FII-Recebidos'!C:C),\"\"))","v":""},"",""]
[null,null,{"$f":"SUMIFS('FII-Lançamentos'!C:C,'FII-Lançamentos'!D:D,$A30,'FII-Lançamentos'!B:B,\"C\")+SUMIFS('FII-Lançamentos'!C:C,'FII-Lançamentos'!D:D,$A30,'FII-Lançamentos'!B:B,\"V\")","v":0},{"$f":"IF(C30=0,0,SUMIFS('FII-Lançamentos'!K:K,'FII-Lançamentos'!D:D,$A30,'FII-Lançamentos'!B:B,\"C\")-SUMIFS('FII-Lançamentos'!K:K,'FII-Lançamentos'!D:D,$A30,'FII-Lançamentos'!B:B,\"V\"))","v":0},0,null,{"$f":"IFERROR(VLOOKUP(A30,Cotações!B:C,2,FALSE),\"\")","v":""},0,0,null,null,0,null,0,0,null,{"$f":"IF(OR(A30=\"\",A30=\"(vazio)\"),0,IFERROR(LOOKUP(2,1/('FII-Lançamentos'!D:D=A30),'FII-Lançamentos'!O:O),0))","v":0},null,0,null,null,null,null,null,null,{"$f":"IF(K30=\"\",\"\",K30-I30)","v":""},{"$f":"IF(A30=\"\",\"\",IFERROR(LOOKUP(2,1/('FII-Recebidos'!D:D=A30),'FII-Recebidos'!C:C),\"\"))","v":""},"",""]
[null,null,{"$f":"SUMIFS('FII-Lançamentos'!C:C,'FII-Lançamentos'!D:D,$A31,'FII-Lançamentos'!B:B,\"C\")+SUMIFS('FII-Lançamentos'!C:C,'FII-Lançamentos'!D:D,$A31,'FII-Lançamentos'!B:B,\"V\")","v":0},{"$f":"IF(C31=0,0,SUMIFS('FII-Lançamentos'!K:K,'FII-Lançamentos'!D:D,$A31,'FII-Lançamentos'!B:B,\"C\")-SUMIFS('FII-Lançamentos'!K:K,'FII-Lançamentos'!D:D,$A31,'FII-Lançamentos'!B:B,\"V\"))","v":0},0,null,{"$f":"IFERROR(VLOOKUP(A31,Cotações!B:C,2,FALSE),\"\")","v":""},0,0,null,null,0,null,0,0,null,{"$f":"IF(OR(A31=\"\",A31=\"(vazio)\"),0,IFERROR(LOOKUP(2,1/('FII-Lançamentos'!D:D=A31),'FII-Lançamentos'!O:O),0))","v":0},null,0,null,null,null,null,null,null,"",{"$f":"IF(A31=\"\",\"\",IFERROR(LOOKUP(2,1/('FII-Recebidos'!D:D=A31),'FII-Recebidos'!C:C),\"\"))","v":""},"",""]
[null,null,{"$f":"SUMIFS('FII-Lançamentos'!C:C,'FII-Lançamentos'!D:D,$A32,'FII-Lançamentos'!B:B,\"C\")+SUMIFS('FII-Lançamentos'!C:C,'FII-Lançamentos'!D:D,$A32,'FII-Lançamentos'!B:B,\"V\")","v":0},{"$f":"IF(C32=0,0,SUMIFS('FII-Lançamentos'!K:K,'FII-Lançamentos'!D:D,$A32,'FII-Lançamentos'!B:B,\"C\")-SUMIFS('FII-Lançamentos'!K:K,'FII-Lançamentos'!D:D,$A32,'FII-Lançamentos'!B:B,\"V\"))","v":0},0,null,{"$f":"IFERROR(VLOOKUP(A32,Cotações!B:C,2,FALSE),\"\")","v":""},0,0,null,null,0,null,0,0,null,{"$f":"IF(OR(A32=\"\",A32=\"(vazio)\"),0,IFERROR(LOOKUP(2,1/('FII-Lançamentos'!D:D=A32),'FII-Lançamentos'!O:O),0))","v":0},null,0,null,null,null,null,null,null,"",{"$f":"IF(A32=\"\",\"\",IFERROR(LOOKUP(2,1/('FII-Recebidos'!D:D=A32),'FII-Recebidos'!C:C),\"\"))","v":""},"",""]
[null,null,{"$f":"SUMIFS('FII-Lançamentos'!C:C,'FII-Lançamentos'!D:D,$A33,'FII-Lançamentos'!B:B,\"C\")+SUMIFS('FII-Lançamentos'!C:C,'FII-Lançamentos'!D:D,$A33,'FII-Lançamentos'!B:B,\"V\")","v":0},{"$f":"IF(C33=0,0,SUMIFS('FII-Lançamentos'!K:K,'FII-Lançamentos'!D:D,$A33,'FII-Lançamentos'!B:B,\"C\")-SUMIFS('FII-Lançamentos'!K:K,'FII-Lançamentos'!D:D,$A33,'FII-Lançamentos'!B:B,\"V\"))","v":0},0,null,{"$f":"IFERROR(VLOOKUP(A33,Cotações!B:C,2,FALSE),\"\")","v":""},0,0,null,null,0,null,0,0,null,{"$f":"IF(OR(A33=\"\",A33=\"(vazio)\"),0,IFERROR(LOOKUP(2,1/('FII-Lançamentos'!D:D=A33),'FII-Lançamentos'!O:O),0))","v":0},null,0,null,null,null,null,null,null,"",{"$f":"IF(A33=\"\",\"\",IFERROR(LOOKUP(2,1/('FII-Recebidos'!D:D=A33),'FII-Recebidos'!C:C),\"\"))","v":""},"",""]
[null,null,{"$f":"SUMIFS('FII-Lançamentos'!C:C,'FII-Lançamentos'!D:D,$A34,'FII-Lançamentos'!B:B,\"C\")+SUMIFS('FII-Lançamentos'!C:C,'FII-Lançamentos'!D:D,$A34,'FII-Lançamentos'!B:B,\"V\")","v":0},{"$f":"IF(C34=0,0,SUMIFS('FII-Lançamentos'!K:K,'FII-Lançamentos'!D:D,$A34,'FII-Lançamentos'!B:B,\"C\")-SUMIFS('FII-Lançamentos'!K:K,'FII-Lançamentos'!D:D,$A34,'FII-Lançamentos'!B:B,\"V\"))","v":0},0,null,{"$f":"IFERROR(VLOOKUP(A34,Cotações!B:C,2,FALSE),\"\")","v":""},0,0,null,null,0,null,0,0,null,{"$f":"IF(OR(A34=\"\",A34=\"(vazio)\"),0,IFERROR(LOOKUP(2,1/('FII-Lançamentos'!D:D=A34),'FII-Lançamentos'!O:O),0))","v":0},null,0,null,null,null,null,null,null,"",{"$f":"IF(A34=\"\",\"\",IFERROR(LOOKUP(2,1/('FII-Recebidos'!D:D=A34),'FII-Recebidos'!C:C),\"\"))","v":""},"",""]
[null,null,{"$f":"SUMIFS('FII-Lançamentos'!C:C,'FII-Lançamentos'!D:D,$A35,'FII-Lançamentos'!B:B,\"C\")+SUMIFS('FII-Lançamentos'!C:C,'FII-Lançamentos'!D:D,$A35,'FII-Lançamentos'!B:B,\"V\")","v":0},{"$f":"IF(C35=0,0,SUMIFS('FII-Lançamentos'!K:K,'FII-Lançamentos'!D:D,$A35,'FII-Lançamentos'!B:B,\"C\")-SUMIFS('FII-Lançamentos'!K:K,'FII-Lançamentos'!D:D,$A35,'FII-Lançamentos'!B:B,\"V\"))","v":0},0,null,{"$f":"IFERROR(VLOOKUP(A35,Cotações!B:C,2,FALSE),\"\")","v":""},0,0,null,null,0,null,0,0,null,{"$f":"IF(OR(A35=\"\",A35=\"(vazio)\"),0,IFERROR(LOOKUP(2,1/('FII-Lançamentos'!D:D=A35),'FII-Lançamentos'!O:O),0))","v":0},null,0,null,null,null,null,null,null,"",{"$f":"IF(A35=\"\",\"\",IFERROR(LOOKUP(2,1/('FII-Recebidos'!D:D=A35),'FII-Recebidos'!C:C),\"\"))","v":""},"",""]
[null,null,{"$f":"SUMIFS('FII-Lançamentos'!C:C,'FII-Lançamentos'!D:D,$A36,'FII-Lançamentos'!B:B,\"C\")+SUMIFS('FII-Lançamentos'!C:C,'FII-Lançamentos'!D:D,$A36,'FII-Lançamentos'!B:B,\"V\")","v":0},{"$f":"IF(C36=0,0,SUMIFS('FII-Lançamentos'!K:K,'FII-Lançamentos'!D:D,$A36,'FII-Lançamentos'!B:B,\"C\")-SUMIFS('FII-Lançamentos'!K:K,'FII-Lançamentos'!D:D,$A36,'FII-Lançamentos'!B:B,\"V\"))","v":0},0,null,{"$f":"IFERROR(VLOOKUP(A36,Cotações!B:C,2,FALSE),\"\")","v":""},0,0,null,null,0,null,0,0,null,{"$f":"IF(OR(A36=\"\",A36=\"(vazio)\"),0,IFERROR(LOOKUP(2,1/('FII-Lançamentos'!D:D=A36),'FII-Lançamentos'!O:O),0))","v":0},null,0,null,null,null,null,null,null,"",{"$f":"IF(A36=\"\",\"\",IFERROR(LOOKUP(2,1/('FII-Recebidos'!D:D=A36),'FII-Recebidos'!C:C),\"\"))","v":""},"",""]
[null,null,{"$f":"SUMIFS('FII-Lançamentos'!C:C,'FII-Lançamentos'!D:D,$A37,'FII-Lançamentos'!B:B,\"C\")+SUMIFS('FII-Lançamentos'!C:C,'FII-Lançamentos'!D:D,$A37,'FII-Lançamentos'!B:B,\"V\")","v":0},{"$f":"IF(C37=0,0,SUMIFS('FII-Lançamentos'!K:K,'FII-Lançamentos'!D:D,$A37,'FII-Lançamentos'!B:B,\"C\")-SUMIFS('FII-Lançamentos'!K:K,'FII-Lançamentos'!D:D,$A37,'FII-Lançamentos'!B:B,\"V\"))","v":0},0,null,{"$f":"IFERROR(VLOOKUP(A37,Cotações!B:C,2,FALSE),\"\")","v":""},0,0,null,null,0,null,0,0,null,{"$f":"IF(OR(A37=\"\",A37=\"(vazio)\"),0,IFERROR(LOOKUP(2,1/('FII-Lançamentos'!D:D=A37),'FII-Lançamentos'!O:O),0))","v":0},null,0,null,null,null,null,null,null,"",{"$f":"IF(A37=\"\",\"\",IFERROR(LOOKUP(2,1/('FII-Recebidos'!D:D=A37),'FII-Recebidos'!C:C),\"\"))","v":""},"",""]
[null,null,{"$f":"SUMIFS('FII-Lançamentos'!C:C,'FII-Lançamentos'!D:D,$A38,'FII-Lançamentos'!B:B,\"C\")+SUMIFS('FII-Lançamentos'!C:C,'FII-Lançamentos'!D:D,$A38,'FII-Lançamentos'!B:B,\"V\")","v":0},{"$f":"IF(C38=0,0,SUMIFS('FII-Lançamentos'!K:K,'FII-Lançamentos'!D:D,$A38,'FII-Lançamentos'!B:B,\"C\")-SUMIFS('FII-Lançamentos'!K:K,'FII-Lançamentos'!D:D,$A38,'FII-Lançamentos'!B:B,\"V\"))","v":0},0,null,{"$f":"IFERROR(VLOOKUP(A38,Cotações!B:C,2,FALSE),\"\")","v":""},0,0,null,null,0,null,0,0,null,{"$f":"IF(OR(A38=\"\",A38=\"(vazio)\"),0,IFERROR(LOOKUP(2,1/('FII-Lançamentos'!D:D=A38),'FII-Lançamentos'!O:O),0))","v":0},null,0,null,null,null,null,null,null,"",{"$f":"IF(A38=\"\",\"\",IFERROR(LOOKUP(2,1/('FII-Recebidos'!D:D=A38),'FII-Recebidos'!C:C),\"\"))","v":""},"",""]
[null,null,{"$f":"SUMIFS('FII-Lançamentos'!C:C,'FII-Lançamentos'!D:D,$A39,'FII-Lançamentos'!B:B,\"C\")+SUMIFS('FII-Lançamentos'!C:C,'FII-Lançamentos'!D:D,$A39,'FII-Lançamentos'!B:B,\"V\")","v":0},{"$f":"IF(C39=0,0,SUMIFS('FII-Lançamentos'!K:K,'FII-Lançamentos'!D:D,$A39,'FII-Lançamentos'!B:B,\"C\")-SUMIFS('FII-Lançamentos'!K:K,'FII-Lançamentos'!D:D,$A39,'FII-Lançamentos'!B:B,\"V\"))","v":0},0,null,{"$f":"IFERROR(VLOOKUP(A39,Cotações!B:C,2,FALSE),\"\")","v":""},0,0,null,null,0,null,0,0,null,{"$f":"IF(OR(A39=\"\",A39=\"(vazio)\"),0,IFERROR(LOOKUP(2,1/('FII-Lançamentos'!D:D=A39),'FII-Lançamentos'!O:O),0))","v":0},null,0,null,null,null,null,null,null,"",{"$f":"IF(A39=\"\",\"\",IFERROR(LOOKUP(2,1/('FII-Recebidos'!D:D=A39),'FII-Recebidos'!C:C),\"\"))","v":""},"",""]
[null,null,{"$f":"SUMIFS('FII-Lançamentos'!C:C,'FII-Lançamentos'!D:D,$A40,'FII-Lançamentos'!B:B,\"C\")+SUMIFS('FII-Lançamentos'!C:C,'FII-Lançamentos'!D:D,$A40,'FII-Lançamentos'!B:B,\"V\")","v":0},{"$f":"IF(C40=0,0,SUMIFS('FII-Lançamentos'!K:K,'FII-Lançamentos'!D:D,$A40,'FII-Lançamentos'!B:B,\"C\")-SUMIFS('FII-Lançamentos'!K:K,'FII-Lançamentos'!D:D,$A40,'FII-Lançamentos'!B:B,\"V\"))","v":0},0,null,{"$f":"IFERROR(VLOOKUP(A40,Cotações!B:C,2,FALSE),\"\")","v":""},0,0,null,null,0,null,0,0,null,{"$f":"IF(OR(A40=\"\",A40=\"(vazio)\"),0,IFERROR(LOOKUP(2,1/('FII-Lançamentos'!D:D=A40),'FII-Lançamentos'!O:O),0))","v":0},null,0,null,null,null,null,null,null,"",{"$f":"IF(A40=\"\",\"\",IFERROR(LOOKUP(2,1/('FII-Recebidos'!D:D=A40),'FII-Recebidos'!C:C),\"\"))","v":""},"",""]
[null,null,{"$f":"SUMIFS('FII-Lançamentos'!C:C,'FII-Lançamentos'!D:D,$A41,'FII-Lançamentos'!B:B,\"C\")+SUMIFS('FII-Lançamentos'!C:C,'FII-Lançamentos'!D:D,$A41,'FII-Lançamentos'!B:B,\"V\")","v":0},{"$f":"IF(C41=0,0,SUMIFS('FII-Lançamentos'!K:K,'FII-Lançamentos'!D:D,$A41,'FII-Lançamentos'!B:B,\"C\")-SUMIFS('FII-Lançamentos'!K:K,'FII-Lançamentos'!D:D,$A41,'FII-Lançamentos'!B:B,\"V\"))","v":0},0,null,{"$f":"IFERROR(VLOOKUP(A41,Cotações!B:C,2,FALSE),\"\")","v":""},0,0,null,null,0,null,0,0,null,{"$f":"IF(OR(A41=\"\",A41=\"(vazio)\"),0,IFERROR(LOOKUP(2,1/('FII-Lançamentos'!D:D=A41),'FII-Lançamentos'!O:O),0))","v":0},null,0,null,null,null,null,null,null,"",{"$f":"IF(A41=\"\",\"\",IFERROR(LOOKUP(2,1/('FII-Recebidos'!D:D=A41),'FII-Recebidos'!C:C),\"\"))","v":""},"",""]
[null,null,{"$f":"SUMIFS('FII-Lançamentos'!C:C,'FII-Lançamentos'!D:D,$A42,'FII-Lançamentos'!B:B,\"C\")+SUMIFS('FII-Lançamentos'!C:C,'FII-Lançamentos'!D:D,$A42,'FII-Lançamentos'!B:B,\"V\")","v":0},{"$f":"IF(C42=0,0,SUMIFS('FII-Lançamentos'!K:K,'FII-Lançamentos'!D:D,$A42,'FII-Lançamentos'!B:B,\"C\")-SUMIFS('FII-Lançamentos'!K:K,'FII-Lançamentos'!D:D,$A42,'FII-Lançamentos'!B:B,\"V\"))","v":0},0,null,{"$f":"IFERROR(VLOOKUP(A42,Cotações!B:C,2,FALSE),\"\")","v":""},0,0,null,null,0,null,0,0,null,{"$f":"IF(OR(A42=\"\",A42=\"(vazio)\"),0,IFERROR(LOOKUP(2,1/('FII-Lançamentos'!D:D=A42),'FII-Lançamentos'!O:O),0))","v":0},null,0,null,null,null,null,null,null,"",{"$f":"IF(A42=\"\",\"\",IFERROR(LOOKUP(2,1/('FII-Recebidos'!D:D=A42),'FII-Recebidos'!C:C),\"\"))","v":""},"",""]
[null,null,{"$f":"SUMIFS('FII-Lançamentos'!C:C,'FII-Lançamentos'!D:D,$A43,'FII-Lançamentos'!B:B,\"C\")+SUMIFS('FII-Lançamentos'!C:C,'FII-Lançamentos'!D:D,$A43,'FII-Lançamentos'!B:B,\"V\")","v":0},{"$f":"IF(C43=0,0,SUMIFS('FII-Lançamentos'!K:K,'FII-Lançamentos'!D:D,$A43,'FII-Lançamentos'!B:B,\"C\")-SUMIFS('FII-Lançamentos'!K:K,'FII-Lançamentos'!D:D,$A43,'FII-Lançamentos'!B:B,\"V\"))","v":0},0,null,{"$f":"IFERROR(VLOOKUP(A43,Cotações!B:C,2,FALSE),\"\")","v":""},0,0,null,null,0,null,0,0,null,{"$f":"IF(OR(A43=\"\",A43=\"(vazio)\"),0,IFERROR(LOOKUP(2,1/('FII-Lançamentos'!D:D=A43),'FII-Lançamentos'!O:O),0))","v":0},null,0,null,null,null,null,null,null,"",{"$f":"IF(A43=\"\",\"\",IFERROR(LOOKUP(2,1/('FII-Recebidos'!D:D=A43),'FII-Recebidos'!C:C),\"\"))","v":""},"",""]
[null,null,{"$f":"SUMIFS('FII-Lançamentos'!C:C,'FII-Lançamentos'!D:D,$A44,'FII-Lançamentos'!B:B,\"C\")+SUMIFS('FII-Lançamentos'!C:C,'FII-Lançamentos'!D:D,$A44,'FII-Lançamentos'!B:B,\"V\")","v":0},{"$f":"IF(C44=0,0,SUMIFS('FII-Lançamentos'!K:K,'FII-Lançamentos'!D:D,$A44,'FII-Lançamentos'!B:B,\"C\")-SUMIFS('FII-Lançamentos'!K:K,'FII-Lançamentos'!D:D,$A44,'FII-Lançamentos'!B:B,\"V\"))","v":0},0,null,{"$f":"IFERROR(VLOOKUP(A44,Cotações!B:C,2,FALSE),\"\")","v":""},0,0,null,null,0,null,0,0,null,{"$f":"IF(OR(A44=\"\",A44=\"(vazio)\"),0,IFERROR(LOOKUP(2,1/('FII-Lançamentos'!D:D=A44),'FII-Lançamentos'!O:O),0))","v":0},null,0,null,null,null,null,null,null,"",{"$f":"IF(A44=\"\",\"\",IFERROR(LOOKUP(2,1/('FII-Recebidos'!D:D=A44),'FII-Recebidos'!C:C),\"\"))","v":""},"",""]
[null,null,{"$f":"SUMIFS('FII-Lançamentos'!C:C,'FII-Lançamentos'!D:D,$A45,'FII-Lançamentos'!B:B,\"C\")+SUMIFS('FII-Lançamentos'!C:C,'FII-Lançamentos'!D:D,$A45,'FII-Lançamentos'!B:B,\"V\")","v":0},{"$f":"IF(C45=0,0,SUMIFS('FII-Lançamentos'!K:K,'FII-Lançamentos'!D:D,$A45,'FII-Lançamentos'!B:B,\"C\")-SUMIFS('FII-Lançamentos'!K:K,'FII-Lançamentos'!D:D,$A45,'FII-Lançamentos'!B:B,\"V\"))","v":0},0,null,{"$f":"IFERROR(VLOOKUP(A45,Cotações!B:C,2,FALSE),\"\")","v":""},0,0,null,null,0,null,0,0,null,{"$f":"IF(OR(A45=\"\",A45=\"(vazio)\"),0,IFERROR(LOOKUP(2,1/('FII-Lançamentos'!D:D=A45),'FII-Lançamentos'!O:O),0))","v":0},null,0,null,null,null,null,null,null,"",{"$f":"IF(A45=\"\",\"\",IFERROR(LOOKUP(2,1/('FII-Recebidos'!D:D=A45),'FII-Recebidos'!C:C),\"\"))","v":""},"",""]
[null,null,{"$f":"SUMIFS('FII-Lançamentos'!C:C,'FII-Lançamentos'!D:D,$A46,'FII-Lançamentos'!B:B,\"C\")+SUMIFS('FII-Lançamentos'!C:C,'FII-Lançamentos'!D:D,$A46,'FII-Lançamentos'!B:B,\"V\")","v":0},{"$f":"IF(C46=0,0,SUMIFS('FII-Lançamentos'!K:K,'FII-Lançamentos'!D:D,$A46,'FII-Lançamentos'!B:B,\"C\")-SUMIFS('FII-Lançamentos'!K:K,'FII-Lançamentos'!D:D,$A46,'FII-Lançamentos'!B:B,\"V\"))","v":0},0,null,{"$f":"IFERROR(VLOOKUP(A46,Cotações!B:C,2,FALSE),\"\")","v":""},0,0,null,null,0,null,0,0,null,{"$f":"IF(OR(A46=\"\",A46=\"(vazio)\"),0,IFERROR(LOOKUP(2,1/('FII-Lançamentos'!D:D=A46),'FII-Lançamentos'!O:O),0))","v":0},null,0,null,null,null,null,null,null,"",{"$f":"IF(A46=\"\",\"\",IFERROR(LOOKUP(2,1/('FII-Recebidos'!D:D=A46),'FII-Recebidos'!C:C),\"\"))","v":""},"",""]
[null,null,{"$f":"SUMIFS('FII-Lançamentos'!C:C,'FII-Lançamentos'!D:D,$A47,'FII-Lançamentos'!B:B,\"C\")+SUMIFS('FII-Lançamentos'!C:C,'FII-Lançamentos'!D:D,$A47,'FII-Lançamentos'!B:B,\"V\")","v":0},{"$f":"IF(C47=0,0,SUMIFS('FII-Lançamentos'!K:K,'FII-Lançamentos'!D:D,$A47,'FII-Lançamentos'!B:B,\"C\")-SUMIFS('FII-Lançamentos'!K:K,'FII-Lançamentos'!D:D,$A47,'FII-Lançamentos'!B:B,\"V\"))","v":0},0,null,{"$f":"IFERROR(VLOOKUP(A47,Cotações!B:C,2,FALSE),\"\")","v":""},0,0,null,null,0,null,0,0,null,{"$f":"IF(OR(A47=\"\",A47=\"(vazio)\"),0,IFERROR(LOOKUP(2,1/('FII-Lançamentos'!D:D=A47),'FII-Lançamentos'!O:O),0))","v":0},null,0,null,null,null,null,null,null,"",{"$f":"IF(A47=\"\",\"\",IFERROR(LOOKUP(2,1/('FII-Recebidos'!D:D=A47),'FII-Recebidos'!C:C),\"\"))","v":""},"",""]
[null,null,{"$f":"SUMIFS('FII-Lançamentos'!C:C,'FII-Lançamentos'!D:D,$A48,'FII-Lançamentos'!B:B,\"C\")+SUMIFS('FII-Lançamentos'!C:C,'FII-Lançamentos'!D:D,$A48,'FII-Lançamentos'!B:B,\"V\")","v":0},{"$f":"IF(C48=0,0,SUMIFS('FII-Lançamentos'!K:K,'FII-Lançamentos'!D:D,$A48,'FII-Lançamentos'!B:B,\"C\")-SUMIFS('FII-Lançamentos'!K:K,'FII-Lançamentos'!D:D,$A48,'FII-Lançamentos'!B:B,\"V\"))","v":0},0,null,{"$f":"IFERROR(VLOOKUP(A48,Cotações!B:C,2,FALSE),\"\")","v":""},0,0,null,null,0,null,0,0,null,{"$f":"IF(OR(A48=\"\",A48=\"(vazio)\"),0,IFERROR(LOOKUP(2,1/('FII-Lançamentos'!D:D=A48),'FII-Lançamentos'!O:O),0))","v":0},null,0,null,null,null,null,null,null,"",{"$f":"IF(A48=\"\",\"\",IFERROR(LOOKUP(2,1/('FII-Recebidos'!D:D=A48),'FII-Recebidos'!C:C),\"\"))","v":""},"",""]
[null,null,{"$f":"SUMIFS('FII-Lançamentos'!C:C,'FII-Lançamentos'!D:D,$A49,'FII-Lançamentos'!B:B,\"C\")+SUMIFS('FII-Lançamentos'!C:C,'FII-Lançamentos'!D:D,$A49,'FII-Lançamentos'!B:B,\"V\")","v":0},{"$f":"IF(C49=0,0,SUMIFS('FII-Lançamentos'!K:K,'FII-Lançamentos'!D:D,$A49,'FII-Lançamentos'!B:B,\"C\")-SUMIFS('FII-Lançamentos'!K:K,'FII-Lançamentos'!D:D,$A49,'FII-Lançamentos'!B:B,\"V\"))","v":0},0,null,{"$f":"IFERROR(VLOOKUP(A49,Cotações!B:C,2,FALSE),\"\")","v":""},0,0,null,null,0,null,0,0,null,{"$f":"IF(OR(A49=\"\",A49=\"(vazio)\"),0,IFERROR(LOOKUP(2,1/('FII-Lançamentos'!D:D=A49),'FII-Lançamentos'!O:O),0))","v":0},null,0,null,null,null,null,null,null,"",{"$f":"IF(A49=\"\",\"\",IFERROR(LOOKUP(2,1/('FII-Recebidos'!D:D=A49),'FII-Recebidos'!C:C),\"\"))","v":""},"",""]
[null,null,{"$f":"SUMIFS('FII-Lançamentos'!C:C,'FII-Lançamentos'!D:D,$A50,'FII-Lançamentos'!B:B,\"C\")+SUMIFS('FII-Lançamentos'!C:C,'FII-Lançamentos'!D:D,$A50,'FII-Lançamentos'!B:B,\"V\")","v":0},{"$f":"IF(C50=0,0,SUMIFS('FII-Lançamentos'!K:K,'FII-Lançamentos'!D:D,$A50,'FII-Lançamentos'!B:B,\"C\")-SUMIFS('FII-Lançamentos'!K:K,'FII-Lançamentos'!D:D,$A50,'FII-Lançamentos'!B:B,\"V\"))","v":0},0,null,{"$f":"IFERROR(VLOOKUP(A50,Cotações!B:C,2,FALSE),\"\")","v":""},0,0,null,null,0,null,0,0,null,{"$f":"IF(OR(A50=\"\",A50=\"(vazio)\"),0,IFERROR(LOOKUP(2,1/('FII-Lançamentos'!D:D=A50),'FII-Lançamentos'!O:O),0))","v":0},null,0,null,null,null,null,null,null,"",{"$f":"IF(A50=\"\",\"\",IFERROR(LOOKUP(2,1/('FII-Recebidos'!D:D=A50),'FII-Recebidos'!C:C),\"\"))","v":""},"",""]
[null,null,{"$f":"SUMIFS('FII-Lançamentos'!C:C,'FII-Lançamentos'!D:D,$A51,'FII-Lançamentos'!B:B,\"C\")+SUMIFS('FII-Lançamentos'!C:C,'FII-Lançamentos'!D:D,$A51,'FII-Lançamentos'!B:B,\"V\")","v":0},{"$f":"IF(C51=0,0,SUMIFS('FII-Lançamentos'!K:K,'FII-Lançamentos'!D:D,$A51,'FII-Lançamentos'!B:B,\"C\")-SUMIFS('FII-Lançamentos'!K:K,'FII-Lançamentos'!D:D,$A51,'FII-Lançamentos'!B:B,\"V\"))","v":0},0,null,{"$f":"IFERROR(VLOOKUP(A51,Cotações!B:C,2,FALSE),\"\")","v":""},0,0,null,null,0,null,0,0,null,{"$f":"IF(OR(A51=\"\",A51=\"(vazio)\"),0,IFERROR(LOOKUP(2,1/('FII-Lançamentos'!D:D=A51),'FII-Lançamentos'!O:O),0))","v":0},null,0,null,null,null,null,null,null,"",{"$f":"IF(A51=\"\",\"\",IFERROR(LOOKUP(2,1/('FII-Recebidos'!D:D=A51),'FII-Recebidos'!C:C),\"\"))","v":""},"",""]
[null,null,{"$f":"SUMIFS('FII-Lançamentos'!C:C,'FII-Lançamentos'!D:D,$A52,'FII-Lançamentos'!B:B,\"C\")+SUMIFS('FII-Lançamentos'!C:C,'FII-Lançamentos'!D:D,$A52,'FII-Lançamentos'!B:B,\"V\")","v":0},{"$f":"IF(C52=0,0,SUMIFS('FII-Lançamentos'!K:K,'FII-Lançamentos'!D:D,$A52,'FII-Lançamentos'!B:B,\"C\")-SUMIFS('FII-Lançamentos'!K:K,'FII-Lançamentos'!D:D,$A52,'FII-Lançamentos'!B:B,\"V\"))","v":0},0,null,{"$f":"IFERROR(VLOOKUP(A52,Cotações!B:C,2,FALSE),\"\")","v":""},0,0,null,null,0,null,0,0,null,{"$f":"IF(OR(A52=\"\",A52=\"(vazio)\"),0,IFERROR(LOOKUP(2,1/('FII-Lançamentos'!D:D=A52),'FII-Lançamentos'!O:O),0))","v":0},null,0,null,null,null,null,null,null,"",{"$f":"IF(A52=\"\",\"\",IFERROR(LOOKUP(2,1/('FII-Recebidos'!D:D=A52),'FII-Recebidos'!C:C),\"\"))","v":""},"",""]
[null,null,{"$f":"SUMIFS('FII-Lançamentos'!C:C,'FII-Lançamentos'!D:D,$A53,'FII-Lançamentos'!B:B,\"C\")+SUMIFS('FII-Lançamentos'!C:C,'FII-Lançamentos'!D:D,$A53,'FII-Lançamentos'!B:B,\"V\")","v":0},{"$f":"IF(C53=0,0,SUMIFS('FII-Lançamentos'!K:K,'FII-Lançamentos'!D:D,$A53,'FII-Lançamentos'!B:B,\"C\")-SUMIFS('FII-Lançamentos'!K:K,'FII-Lançamentos'!D:D,$A53,'FII-Lançamentos'!B:B,\"V\"))","v":0},0,null,{"$f":"IFERROR(VLOOKUP(A53,Cotações!B:C,2,FALSE),\"\")","v":""},0,0,null,null,0,null,0,0,null,{"$f":"IF(OR(A53=\"\",A53=\"(vazio)\"),0,IFERROR(LOOKUP(2,1/('FII-Lançamentos'!D:D=A53),'FII-Lançamentos'!O:O),0))","v":0},null,0,null,null,null,null,null,null,"",{"$f":"IF(A53=\"\",\"\",IFERROR(LOOKUP(2,1/('FII-Recebidos'!D:D=A53),'FII-Recebidos'!C:C),\"\"))","v":""},"",""]
[null,null,{"$f":"SUMIFS('FII-Lançamentos'!C:C,'FII-Lançamentos'!D:D,$A54,'FII-Lançamentos'!B:B,\"C\")+SUMIFS('FII-Lançamentos'!C:C,'FII-Lançamentos'!D:D,$A54,'FII-Lançamentos'!B:B,\"V\")","v":0},{"$f":"IF(C54=0,0,SUMIFS('FII-Lançamentos'!K:K,'FII-Lançamentos'!D:D,$A54,'FII-Lançamentos'!B:B,\"C\")-SUMIFS('FII-Lançamentos'!K:K,'FII-Lançamentos'!D:D,$A54,'FII-Lançamentos'!B:B,\"V\"))","v":0},0,null,{"$f":"IFERROR(VLOOKUP(A54,Cotações!B:C,2,FALSE),\"\")","v":""},0,0,null,null,0,null,0,0,null,{"$f":"IF(OR(A54=\"\",A54=\"(vazio)\"),0,IFERROR(LOOKUP(2,1/('FII-Lançamentos'!D:D=A54),'FII-Lançamentos'!O:O),0))","v":0},null,0,null,null,null,null,null,null,"",{"$f":"IF(A54=\"\",\"\",IFERROR(LOOKUP(2,1/('FII-Recebidos'!D:D=A54),'FII-Recebidos'!C:C),\"\"))","v":""},"",""]
[null,null,{"$f":"SUMIFS('FII-Lançamentos'!C:C,'FII-Lançamentos'!D:D,$A55,'FII-Lançamentos'!B:B,\"C\")+SUMIFS('FII-Lançamentos'!C:C,'FII-Lançamentos'!D:D,$A55,'FII-Lançamentos'!B:B,\"V\")","v":0},{"$f":"IF(C55=0,0,SUMIFS('FII-Lançamentos'!K:K,'FII-Lançamentos'!D:D,$A55,'FII-Lançamentos'!B:B,\"C\")-SUMIFS('FII-Lançamentos'!K:K,'FII-Lançamentos'!D:D,$A55,'FII-Lançamentos'!B:B,\"V\"))","v":0},0,null,{"$f":"IFERROR(VLOOKUP(A55,Cotações!B:C,2,FALSE),\"\")","v":""},0,0,null,null,0,null,0,0,null,{"$f":"IF(OR(A55=\"\",A55=\"(vazio)\"),0,IFERROR(LOOKUP(2,1/('FII-Lançamentos'!D:D=A55),'FII-Lançamentos'!O:O),0))","v":0},null,0,null,null,null,null,null,null,"",{"$f":"IF(A55=\"\",\"\",IFERROR(LOOKUP(2,1/('FII-Recebidos'!D:D=A55),'FII-Recebidos'!C:C),\"\"))","v":""},"",""]
[null,null,{"$f":"SUMIFS('FII-Lançamentos'!C:C,'FII-Lançamentos'!D:D,$A56,'FII-Lançamentos'!B:B,\"C\")+SUMIFS('FII-Lançamentos'!C:C,'FII-Lançamentos'!D:D,$A56,'FII-Lançamentos'!B:B,\"V\")","v":0},{"$f":"IF(C56=0,0,SUMIFS('FII-Lançamentos'!K:K,'FII-Lançamentos'!D:D,$A56,'FII-Lançamentos'!B:B,\"C\")-SUMIFS('FII-Lançamentos'!K:K,'FII-Lançamentos'!D:D,$A56,'FII-Lançamentos'!B:B,\"V\"))","v":0},0,null,{"$f":"IFERROR(VLOOKUP(A56,Cotações!B:C,2,FALSE),\"\")","v":""},0,0,null,null,0,null,0,0,null,{"$f":"IF(OR(A56=\"\",A56=\"(vazio)\"),0,IFERROR(LOOKUP(2,1/('FII-Lançamentos'!D:D=A56),'FII-Lançamentos'!O:O),0))","v":0},null,0,null,null,null,null,null,null,"",{"$f":"IF(A56=\"\",\"\",IFERROR(LOOKUP(2,1/('FII-Recebidos'!D:D=A56),'FII-Recebidos'!C:C),\"\"))","v":""},"",""]
[null,null,{"$f":"SUMIFS('FII-Lançamentos'!C:C,'FII-Lançamentos'!D:D,$A57,'FII-Lançamentos'!B:B,\"C\")+SUMIFS('FII-Lançamentos'!C:C,'FII-Lançamentos'!D:D,$A57,'FII-Lançamentos'!B:B,\"V\")","v":0},{"$f":"IF(C57=0,0,SUMIFS('FII-Lançamentos'!K:K,'FII-Lançamentos'!D:D,$A57,'FII-Lançamentos'!B:B,\"C\")-SUMIFS('FII-Lançamentos'!K:K,'FII-Lançamentos'!D:D,$A57,'FII-Lançamentos'!B:B,\"V\"))","v":0},0,null,{"$f":"IFERROR(VLOOKUP(A57,Cotações!B:C,2,FALSE),\"\")","v":""},0,0,null,null,0,null,0,0,null,{"$f":"IF(OR(A57=\"\",A57=\"(vazio)\"),0,IFERROR(LOOKUP(2,1/('FII-Lançamentos'!D:D=A57),'FII-Lançamentos'!O:O),0))","v":0},null,0,null,null,null,null,null,null,"",{"$f":"IF(A57=\"\",\"\",IFERROR(LOOKUP(2,1/('FII-Recebidos'!D:D=A57),'FII-Recebidos'!C:C),\"\"))","v":""},"",""]
[null,null,{"$f":"SUMIFS('FII-Lançamentos'!C:C,'FII-Lançamentos'!D:D,$A58,'FII-Lançamentos'!B:B,\"C\")+SUMIFS('FII-Lançamentos'!C:C,'FII-Lançamentos'!D:D,$A58,'FII-Lançamentos'!B:B,\"V\")","v":0},{"$f":"IF(C58=0,0,SUMIFS('FII-Lançamentos'!K:K,'FII-Lançamentos'!D:D,$A58,'FII-Lançamentos'!B:B,\"C\")-SUMIFS('FII-Lançamentos'!K:K,'FII-Lançamentos'!D:D,$A58,'FII-Lançamentos'!B:B,\"V\"))","v":0},0,null,{"$f":"IFERROR(VLOOKUP(A58,Cotações!B:C,2,FALSE),\"\")","v":""},0,0,null,null,0,null,0,0,null,{"$f":"IF(OR(A58=\"\",A58=\"(vazio)\"),0,IFERROR(LOOKUP(2,1/('FII-Lançamentos'!D:D=A58),'FII-Lançamentos'!O:O),0))","v":0},null,0,null,null,null,null,null,null,"",{"$f":"IF(A58=\"\",\"\",IFERROR(LOOKUP(2,1/('FII-Recebidos'!D:D=A58),'FII-Recebidos'!C:C),\"\"))","v":""},"",""]
[null,null,{"$f":"SUMIFS('FII-Lançamentos'!C:C,'FII-Lançamentos'!D:D,$A59,'FII-Lançamentos'!B:B,\"C\")+SUMIFS('FII-Lançamentos'!C:C,'FII-Lançamentos'!D:D,$A59,'FII-Lançamentos'!B:B,\"V\")","v":0},{"$f":"IF(C59=0,0,SUMIFS('FII-Lançamentos'!K:K,'FII-Lançamentos'!D:D,$A59,'FII-Lançamentos'!B:B,\"C\")-SUMIFS('FII-Lançamentos'!K:K,'FII-Lançamentos'!D:D,$A59,'FII-Lançamentos'!B:B,\"V\"))","v":0},0,null,{"$f":"IFERROR(VLOOKUP(A59,Cotações!B:C,2,FALSE),\"\")","v":""},0,0,null,null,0,null,0,0,null,{"$f":"IF(OR(A59=\"\",A59=\"(vazio)\"),0,IFERROR(LOOKUP(2,1/('FII-Lançamentos'!D:D=A59),'FII-Lançamentos'!O:O),0))","v":0},null,0,null,null,null,null,null,null,"",{"$f":"IF(A59=\"\",\"\",IFERROR(LOOKUP(2,1/('FII-Recebidos'!D:D=A59),'FII-Recebidos'!C:C),\"\"))","v":""},"",""]
[null,null,{"$f":"SUMIFS('FII-Lançamentos'!C:C,'FII-Lançamentos'!D:D,$A60,'FII-Lançamentos'!B:B,\"C\")+SUMIFS('FII-Lançamentos'!C:C,'FII-Lançamentos'!D:D,$A60,'FII-Lançamentos'!B:B,\"V\")","v":0},{"$f":"IF(C60=0,0,SUMIFS('FII-Lançamentos'!K:K,'FII-Lançamentos'!D:D,$A60,'FII-Lançamentos'!B:B,\"C\")-SUMIFS('FII-Lançamentos'!K:K,'FII-Lançamentos'!D:D,$A60,'FII-Lançamentos'!B:B,\"V\"))","v":0},0,null,{"$f":"IFERROR(VLOOKUP(A60,Cotações!B:C,2,FALSE),\"\")","v":""},0,0,null,null,0,null,0,0,null,{"$f":"IF(OR(A60=\"\",A60=\"(vazio)\"),0,IFERROR(LOOKUP(2,1/('FII-Lançamentos'!D:D=A60),'FII-Lançamentos'!O:O),0))","v":0},null,0,null,null,null,null,null,null,"",{"$f":"IF(A60=\"\",\"\",IFERROR(LOOKUP(2,1/('FII-Recebidos'!D:D=A60),'FII-Recebidos'!C:C),\"\"))","v":""},"",""]
[null,null,{"$f":"SUMIFS('FII-Lançamentos'!C:C,'FII-Lançamentos'!D:D,$A61,'FII-Lançamentos'!B:B,\"C\")+SUMIFS('FII-Lançamentos'!C:C,'FII-Lançamentos'!D:D,$A61,'FII-Lançamentos'!B:B,\"V\")","v":0},{"$f":"IF(C61=0,0,SUMIFS('FII-Lançamentos'!K:K,'FII-Lançamentos'!D:D,$A61,'FII-Lançamentos'!B:B,\"C\")-SUMIFS('FII-Lançamentos'!K:K,'FII-Lançamentos'!D:D,$A61,'FII-Lançamentos'!B:B,\"V\"))","v":0},0,null,{"$f":"IFERROR(VLOOKUP(A61,Cotações!B:C,2,FALSE),\"\")","v":""},0,0,null,null,0,null,0,0,null,{"$f":"IF(OR(A61=\"\",A61=\"(vazio)\"),0,IFERROR(LOOKUP(2,1/('FII-Lançamentos'!D:D=A61),'FII-Lançamentos'!O:O),0))","v":0},null,0,null,null,null,null,null,null,"",{"$f":"IF(A61=\"\",\"\",IFERROR(LOOKUP(2,1/('FII-Recebidos'!D:D=A61),'FII-Recebidos'!C:C),\"\"))","v":""},"",""]
[null,null,{"$f":"SUMIFS('FII-Lançamentos'!C:C,'FII-Lançamentos'!D:D,$A62,'FII-Lançamentos'!B:B,\"C\")+SUMIFS('FII-Lançamentos'!C:C,'FII-Lançamentos'!D:D,$A62,'FII-Lançamentos'!B:B,\"V\")","v":0},{"$f":"IF(C62=0,0,SUMIFS('FII-Lançamentos'!K:K,'FII-Lançamentos'!D:D,$A62,'FII-Lançamentos'!B:B,\"C\")-SUMIFS('FII-Lançamentos'!K:K,'FII-Lançamentos'!D:D,$A62,'FII-Lançamentos'!B:B,\"V\"))","v":0},0,null,{"$f":"IFERROR(VLOOKUP(A62,Cotações!B:C,2,FALSE),\"\")","v":""},0,0,null,null,0,null,0,0,null,{"$f":"IF(OR(A62=\"\",A62=\"(vazio)\"),0,IFERROR(LOOKUP(2,1/('FII-Lançamentos'!D:D=A62),'FII-Lançamentos'!O:O),0))","v":0},null,0,null,null,null,null,null,null,"",{"$f":"IF(A62=\"\",\"\",IFERROR(LOOKUP(2,1/('FII-Recebidos'!D:D=A62),'FII-Recebidos'!C:C),\"\"))","v":""},"",""]
[null,null,{"$f":"SUMIFS('FII-Lançamentos'!C:C,'FII-Lançamentos'!D:D,$A63,'FII-Lançamentos'!B:B,\"C\")+SUMIFS('FII-Lançamentos'!C:C,'FII-Lançamentos'!D:D,$A63,'FII-Lançamentos'!B:B,\"V\")","v":0},{"$f":"IF(C63=0,0,SUMIFS('FII-Lançamentos'!K:K,'FII-Lançamentos'!D:D,$A63,'FII-Lançamentos'!B:B,\"C\")-SUMIFS('FII-Lançamentos'!K:K,'FII-Lançamentos'!D:D,$A63,'FII-Lançamentos'!B:B,\"V\"))","v":0},0,null,{"$f":"IFERROR(VLOOKUP(A63,Cotações!B:C,2,FALSE),\"\")","v":""},0,0,null,null,0,null,0,0,null,{"$f":"IF(OR(A63=\"\",A63=\"(vazio)\"),0,IFERROR(LOOKUP(2,1/('FII-Lançamentos'!D:D=A63),'FII-Lançamentos'!O:O),0))","v":0},null,0,null,null,null,null,null,null,"",{"$f":"IF(A63=\"\",\"\",IFERROR(LOOKUP(2,1/('FII-Recebidos'!D:D=A63),'FII-Recebidos'!C:C),\"\"))","v":""},"",""]
[null,null,{"$f":"SUMIFS('FII-Lançamentos'!C:C,'FII-Lançamentos'!D:D,$A64,'FII-Lançamentos'!B:B,\"C\")+SUMIFS('FII-Lançamentos'!C:C,'FII-Lançamentos'!D:D,$A64,'FII-Lançamentos'!B:B,\"V\")","v":0},{"$f":"IF(C64=0,0,SUMIFS('FII-Lançamentos'!K:K,'FII-Lançamentos'!D:D,$A64,'FII-Lançamentos'!B:B,\"C\")-SUMIFS('FII-Lançamentos'!K:K,'FII-Lançamentos'!D:D,$A64,'FII-Lançamentos'!B:B,\"V\"))","v":0},0,null,{"$f":"IFERROR(VLOOKUP(A64,Cotações!B:C,2,FALSE),\"\")","v":""},0,0,null,null,0,null,0,0,null,{"$f":"IF(OR(A64=\"\",A64=\"(vazio)\"),0,IFERROR(LOOKUP(2,1/('FII-Lançamentos'!D:D=A64),'FII-Lançamentos'!O:O),0))","v":0},null,0,null,null,null,null,null,null,"",{"$f":"IF(A64=\"\",\"\",IFERROR(LOOKUP(2,1/('FII-Recebidos'!D:D=A64),'FII-Recebidos'!C:C),\"\"))","v":""},"",""]
[null,null,{"$f":"SUMIFS('FII-Lançamentos'!C:C,'FII-Lançamentos'!D:D,$A65,'FII-Lançamentos'!B:B,\"C\")+SUMIFS('FII-Lançamentos'!C:C,'FII-Lançamentos'!D:D,$A65,'FII-Lançamentos'!B:B,\"V\")","v":0},{"$f":"IF(C65=0,0,SUMIFS('FII-Lançamentos'!K:K,'FII-Lançamentos'!D:D,$A65,'FII-Lançamentos'!B:B,\"C\")-SUMIFS('FII-Lançamentos'!K:K,'FII-Lançamentos'!D:D,$A65,'FII-Lançamentos'!B:B,\"V\"))","v":0},0,null,{"$f":"IFERROR(VLOOKUP(A65,Cotações!B:C,2,FALSE),\"\")","v":""},0,0,null,null,0,null,0,0,null,{"$f":"IF(OR(A65=\"\",A65=\"(vazio)\"),0,IFERROR(LOOKUP(2,1/('FII-Lançamentos'!D:D=A65),'FII-Lançamentos'!O:O),0))","v":0},null,0,null,null,null,null,null,null,"",{"$f":"IF(A65=\"\",\"\",IFERROR(LOOKUP(2,1/('FII-Recebidos'!D:D=A65),'FII-Recebidos'!C:C),\"\"))","v":""},"",""]
[null,null,{"$f":"SUMIFS('FII-Lançamentos'!C:C,'FII-Lançamentos'!D:D,$A66,'FII-Lançamentos'!B:B,\"C\")+SUMIFS('FII-Lançamentos'!C:C,'FII-Lançamentos'!D:D,$A66,'FII-Lançamentos'!B:B,\"V\")","v":0},{"$f":"IF(C66=0,0,SUMIFS('FII-Lançamentos'!K:K,'FII-Lançamentos'!D:D,$A66,'FII-Lançamentos'!B:B,\"C\")-SUMIFS('FII-Lançamentos'!K:K,'FII-Lançamentos'!D:D,$A66,'FII-Lançamentos'!B:B,\"V\"))","v":0},0,null,{"$f":"IFERROR(VLOOKUP(A66,Cotações!B:C,2,FALSE),\"\")","v":""},0,0,null,null,0,null,0,0,null,{"$f":"IF(OR(A66=\"\",A66=\"(vazio)\"),0,IFERROR(LOOKUP(2,1/('FII-Lançamentos'!D:D=A66),'FII-Lançamentos'!O:O),0))","v":0},null,0,null,null,null,null,null,null,"",{"$f":"IF(A66=\"\",\"\",IFERROR(LOOKUP(2,1/('FII-Recebidos'!D:D=A66),'FII-Recebidos'!C:C),\"\"))","v":""},"",""]
[null,null,{"$f":"SUMIFS('FII-Lançamentos'!C:C,'FII-Lançamentos'!D:D,$A67,'FII-Lançamentos'!B:B,\"C\")+SUMIFS('FII-Lançamentos'!C:C,'FII-Lançamentos'!D:D,$A67,'FII-Lançamentos'!B:B,\"V\")","v":0},{"$f":"IF(C67=0,0,SUMIFS('FII-Lançamentos'!K:K,'FII-Lançamentos'!D:D,$A67,'FII-Lançamentos'!B:B,\"C\")-SUMIFS('FII-Lançamentos'!K:K,'FII-Lançamentos'!D:D,$A67,'FII-Lançamentos'!B:B,\"V\"))","v":0},0,null,{"$f":"IFERROR(VLOOKUP(A67,Cotações!B:C,2,FALSE),\"\")","v":""},0,0,null,null,0,null,0,0,null,{"$f":"IF(OR(A67=\"\",A67=\"(vazio)\"),0,IFERROR(LOOKUP(2,1/('FII-Lançamentos'!D:D=A67),'FII-Lançamentos'!O:O),0))","v":0},null,0,null,null,null,null,null,null,"",{"$f":"IF(A67=\"\",\"\",IFERROR(LOOKUP(2,1/('FII-Recebidos'!D:D=A67),'FII-Recebidos'!C:C),\"\"))","v":""},"",""]
[null,null,{"$f":"SUMIFS('FII-Lançamentos'!C:C,'FII-Lançamentos'!D:D,$A68,'FII-Lançamentos'!B:B,\"C\")+SUMIFS('FII-Lançamentos'!C:C,'FII-Lançamentos'!D:D,$A68,'FII-Lançamentos'!B:B,\"V\")","v":0},{"$f":"IF(C68=0,0,SUMIFS('FII-Lançamentos'!K:K,'FII-Lançamentos'!D:D,$A68,'FII-Lançamentos'!B:B,\"C\")-SUMIFS('FII-Lançamentos'!K:K,'FII-Lançamentos'!D:D,$A68,'FII-Lançamentos'!B:B,\"V\"))","v":0},{"$f":"IF(OR(D68=0,$V$9=0),0,D68/$V$9)","v":0},null,{"$f":"IFERROR(VLOOKUP(A68,Cotações!B:C,2,FALSE),\"\")","v":""},{"$f":"IF(C68=\"\",0,IF(G68=\"\",D68,C68*G68))","v":0},{"$f":"IF(fii_at=0,0,H68/$V$11)","v":0},null,null,{"$f":"IF(OR(K68=\"\",I68=\"\",E68=\"\"),0,IF($K$2=\"% ATUAL\",K68-I68,K68-E68))","v":0},null,{"$f":"IF(OR(D68=0,G68=\"\"),0,H68-D68)","v":0},{"$f":"IF(OR(D68=0,G68=\"\"),0,N68/D68)","v":0},null,{"$f":"IF(OR(A68=\"\",A68=\"(vazio)\"),0,IFERROR(LOOKUP(2,1/('FII-Lançamentos'!D:D=A68),'FII-Lançamentos'!O:O),0))","v":0},null,{"$f":"IF(OR(A68=\"\",A68=\"(vazio)\"),0,(C68*Q68))","v":0},null,null,null,null,null,null,"",{"$f":"IF(A68=\"\",\"\",IFERROR(LOOKUP(2,1/('FII-Recebidos'!D:D=A68),'FII-Recebidos'!C:C),\"\"))","v":""},{"$f":"IFERROR(($AA68/$C68/$Q68),\"\")","v":""},{"$f":"IFERROR(($AA68/$C68/$G68),\"\")","v":""}]
[null,null,{"$f":"SUMIFS('FII-Lançamentos'!C:C,'FII-Lançamentos'!D:D,$A69,'FII-Lançamentos'!B:B,\"C\")+SUMIFS('FII-Lançamentos'!C:C,'FII-Lançamentos'!D:D,$A69,'FII-Lançamentos'!B:B,\"V\")","v":0},{"$f":"IF(C69=0,0,SUMIFS('FII-Lançamentos'!K:K,'FII-Lançamentos'!D:D,$A69,'FII-Lançamentos'!B:B,\"C\")-SUMIFS('FII-Lançamentos'!K:K,'FII-Lançamentos'!D:D,$A69,'FII-Lançamentos'!B:B,\"V\"))","v":0},0,null,{"$f":"IFERROR(VLOOKUP(A69,Cotações!B:C,2,FALSE),\"\")","v":""},0,0,null,null,0,null,0,0,null,{"$f":"IF(OR(A69=\"\",A69=\"(vazio)\"),0,IFERROR(LOOKUP(2,1/('FII-Lançamentos'!D:D=A69),'FII-Lançamentos'!O:O),0))","v":0},null,0,null,null,null,null,null,null,"",{"$f":"IF(A69=\"\",\"\",IFERROR(LOOKUP(2,1/('FII-Recebidos'!D:D=A69),'FII-Recebidos'!C:C),\"\"))","v":""},"",""]
[null,null,{"$f":"SUMIFS('FII-Lançamentos'!C:C,'FII-Lançamentos'!D:D,$A70,'FII-Lançamentos'!B:B,\"C\")+SUMIFS('FII-Lançamentos'!C:C,'FII-Lançamentos'!D:D,$A70,'FII-Lançamentos'!B:B,\"V\")","v":0},{"$f":"IF(C70=0,0,SUMIFS('FII-Lançamentos'!K:K,'FII-Lançamentos'!D:D,$A70,'FII-Lançamentos'!B:B,\"C\")-SUMIFS('FII-Lançamentos'!K:K,'FII-Lançamentos'!D:D,$A70,'FII-Lançamentos'!B:B,\"V\"))","v":0},0,null,{"$f":"IFERROR(VLOOKUP(A70,Cotações!B:C,2,FALSE),\"\")","v":""},0,0,null,null,0,null,0,0,null,{"$f":"IF(OR(A70=\"\",A70=\"(vazio)\"),0,IFERROR(LOOKUP(2,1/('FII-Lançamentos'!D:D=A70),'FII-Lançamentos'!O:O),0))","v":0},null,0,null,null,null,null,null,null,"",{"$f":"IF(A70=\"\",\"\",IFERROR(LOOKUP(2,1/('FII-Recebidos'!D:D=A70),'FII-Recebidos'!C:C),\"\"))","v":""},"",""]
[null,null,{"$f":"SUMIFS('FII-Lançamentos'!C:C,'FII-Lançamentos'!D:D,$A71,'FII-Lançamentos'!B:B,\"C\")+SUMIFS('FII-Lançamentos'!C:C,'FII-Lançamentos'!D:D,$A71,'FII-Lançamentos'!B:B,\"V\")","v":0},{"$f":"IF(C71=0,0,SUMIFS('FII-Lançamentos'!K:K,'FII-Lançamentos'!D:D,$A71,'FII-Lançamentos'!B:B,\"C\")-SUMIFS('FII-Lançamentos'!K:K,'FII-Lançamentos'!D:D,$A71,'FII-Lançamentos'!B:B,\"V\"))","v":0},0,null,{"$f":"IFERROR(VLOOKUP(A71,Cotações!B:C,2,FALSE),\"\")","v":""},0,0,null,null,0,null,0,0,null,{"$f":"IF(OR(A71=\"\",A71=\"(vazio)\"),0,IFERROR(LOOKUP(2,1/('FII-Lançamentos'!D:D=A71),'FII-Lançamentos'!O:O),0))","v":0},null,0,null,null,null,null,null,null,"",{"$f":"IF(A71=\"\",\"\",IFERROR(LOOKUP(2,1/('FII-Recebidos'!D:D=A71),'FII-Recebidos'!C:C),\"\"))","v":""},"",""]
[null,null,{"$f":"SUMIFS('FII-Lançamentos'!C:C,'FII-Lançamentos'!D:D,$A72,'FII-Lançamentos'!B:B,\"C\")+SUMIFS('FII-Lançamentos'!C:C,'FII-Lançamentos'!D:D,$A72,'FII-Lançamentos'!B:B,\"V\")","v":0},{"$f":"IF(C72=0,0,SUMIFS('FII-Lançamentos'!K:K,'FII-Lançamentos'!D:D,$A72,'FII-Lançamentos'!B:B,\"C\")-SUMIFS('FII-Lançamentos'!K:K,'FII-Lançamentos'!D:D,$A72,'FII-Lançamentos'!B:B,\"V\"))","v":0},0,null,{"$f":"IFERROR(VLOOKUP(A72,Cotações!B:C,2,FALSE),\"\")","v":""},0,0,null,null,0,null,0,0,null,{"$f":"IF(OR(A72=\"\",A72=\"(vazio)\"),0,IFERROR(LOOKUP(2,1/('FII-Lançamentos'!D:D=A72),'FII-Lançamentos'!O:O),0))","v":0},null,0,null,null,null,null,null,null,"",{"$f":"IF(A72=\"\",\"\",IFERROR(LOOKUP(2,1/('FII-Recebidos'!D:D=A72),'FII-Recebidos'!C:C),\"\"))","v":""},"",""]
[null,null,{"$f":"SUMIFS('FII-Lançamentos'!C:C,'FII-Lançamentos'!D:D,$A73,'FII-Lançamentos'!B:B,\"C\")+SUMIFS('FII-Lançamentos'!C:C,'FII-Lançamentos'!D:D,$A73,'FII-Lançamentos'!B:B,\"V\")","v":0},{"$f":"IF(C73=0,0,SUMIFS('FII-Lançamentos'!K:K,'FII-Lançamentos'!D:D,$A73,'FII-Lançamentos'!B:B,\"C\")-SUMIFS('FII-Lançamentos'!K:K,'FII-Lançamentos'!D:D,$A73,'FII-Lançamentos'!B:B,\"V\"))","v":0},0,null,{"$f":"IFERROR(VLOOKUP(A73,Cotações!B:C,2,FALSE),\"\")","v":""},0,0,null,null,0,null,0,0,null,{"$f":"IF(OR(A73=\"\",A73=\"(vazio)\"),0,IFERROR(LOOKUP(2,1/('FII-Lançamentos'!D:D=A73),'FII-Lançamentos'!O:O),0))","v":0},null,0,null,null,null,null,null,null,"",{"$f":"IF(A73=\"\",\"\",IFERROR(LOOKUP(2,1/('FII-Recebidos'!D:D=A73),'FII-Recebidos'!C:C),\"\"))","v":""},"",""]
[null,null,{"$f":"SUMIFS('FII-Lançamentos'!C:C,'FII-Lançamentos'!D:D,$A74,'FII-Lançamentos'!B:B,\"C\")+SUMIFS('FII-Lançamentos'!C:C,'FII-Lançamentos'!D:D,$A74,'FII-Lançamentos'!B:B,\"V\")","v":0},{"$f":"IF(C74=0,0,SUMIFS('FII-Lançamentos'!K:K,'FII-Lançamentos'!D:D,$A74,'FII-Lançamentos'!B:B,\"C\")-SUMIFS('FII-Lançamentos'!K:K,'FII-Lançamentos'!D:D,$A74,'FII-Lançamentos'!B:B,\"V\"))","v":0},0,null,{"$f":"IFERROR(VLOOKUP(A74,Cotações!B:C,2,FALSE),\"\")","v":""},0,0,null,null,0,null,0,0,null,{"$f":"IF(OR(A74=\"\",A74=\"(vazio)\"),0,IFERROR(LOOKUP(2,1/('FII-Lançamentos'!D:D=A74),'FII-Lançamentos'!O:O),0))","v":0},null,0,null,null,null,null,null,null,"",{"$f":"IF(A74=\"\",\"\",IFERROR(LOOKUP(2,1/('FII-Recebidos'!D:D=A74),'FII-Recebidos'!C:C),\"\"))","v":""},"",""]
[null,null,{"$f":"SUMIFS('FII-Lançamentos'!C:C,'FII-Lançamentos'!D:D,$A75,'FII-Lançamentos'!B:B,\"C\")+SUMIFS('FII-Lançamentos'!C:C,'FII-Lançamentos'!D:D,$A75,'FII-Lançamentos'!B:B,\"V\")","v":0},{"$f":"IF(C75=0,0,SUMIFS('FII-Lançamentos'!K:K,'FII-Lançamentos'!D:D,$A75,'FII-Lançamentos'!B:B,\"C\")-SUMIFS('FII-Lançamentos'!K:K,'FII-Lançamentos'!D:D,$A75,'FII-Lançamentos'!B:B,\"V\"))","v":0},0,null,{"$f":"IFERROR(VLOOKUP(A75,Cotações!B:C,2,FALSE),\"\")","v":""},0,0,null,null,0,null,0,0,null,{"$f":"IF(OR(A75=\"\",A75=\"(vazio)\"),0,IFERROR(LOOKUP(2,1/('FII-Lançamentos'!D:D=A75),'FII-Lançamentos'!O:O),0))","v":0},null,0,null,null,null,null,null,null,"",{"$f":"IF(A75=\"\",\"\",IFERROR(LOOKUP(2,1/('FII-Recebidos'!D:D=A75),'FII-Recebidos'!C:C),\"\"))","v":""},"",""]
[null,null,{"$f":"SUMIFS('FII-Lançamentos'!C:C,'FII-Lançamentos'!D:D,$A76,'FII-Lançamentos'!B:B,\"C\")+SUMIFS('FII-Lançamentos'!C:C,'FII-Lançamentos'!D:D,$A76,'FII-Lançamentos'!B:B,\"V\")","v":0},{"$f":"IF(C76=0,0,SUMIFS('FII-Lançamentos'!K:K,'FII-Lançamentos'!D:D,$A76,'FII-Lançamentos'!B:B,\"C\")-SUMIFS('FII-Lançamentos'!K:K,'FII-Lançamentos'!D:D,$A76,'FII-Lançamentos'!B:B,\"V\"))","v":0},0,null,{"$f":"IFERROR(VLOOKUP(A76,Cotações!B:C,2,FALSE),\"\")","v":""},0,0,null,null,0,null,0,0,null,{"$f":"IF(OR(A76=\"\",A76=\"(vazio)\"),0,IFERROR(LOOKUP(2,1/('FII-Lançamentos'!D:D=A76),'FII-Lançamentos'!O:O),0))","v":0},null,0,null,null,null,null,null,null,"",{"$f":"IF(A76=\"\",\"\",IFERROR(LOOKUP(2,1/('FII-Recebidos'!D:D=A76),'FII-Recebidos'!C:C),\"\"))","v":""},"",""]
[null,null,{"$f":"SUMIFS('FII-Lançamentos'!C:C,'FII-Lançamentos'!D:D,$A77,'FII-Lançamentos'!B:B,\"C\")+SUMIFS('FII-Lançamentos'!C:C,'FII-Lançamentos'!D:D,$A77,'FII-Lançamentos'!B:B,\"V\")","v":0},{"$f":"IF(C77=0,0,SUMIFS('FII-Lançamentos'!K:K,'FII-Lançamentos'!D:D,$A77,'FII-Lançamentos'!B:B,\"C\")-SUMIFS('FII-Lançamentos'!K:K,'FII-Lançamentos'!D:D,$A77,'FII-Lançamentos'!B:B,\"V\"))","v":0},0,null,{"$f":"IFERROR(VLOOKUP(A77,Cotações!B:C,2,FALSE),\"\")","v":""},0,0,null,null,0,null,0,0,null,{"$f":"IF(OR(A77=\"\",A77=\"(vazio)\"),0,IFERROR(LOOKUP(2,1/('FII-Lançamentos'!D:D=A77),'FII-Lançamentos'!O:O),0))","v":0},null,0,null,null,null,null,null,null,"",{"$f":"IF(A77=\"\",\"\",IFERROR(LOOKUP(2,1/('FII-Recebidos'!D:D=A77),'FII-Recebidos'!C:C),\"\"))","v":""},"",""]
[null,null,{"$f":"SUMIFS('FII-Lançamentos'!C:C,'FII-Lançamentos'!D:D,$A78,'FII-Lançamentos'!B:B,\"C\")+SUMIFS('FII-Lançamentos'!C:C,'FII-Lançamentos'!D:D,$A78,'FII-Lançamentos'!B:B,\"V\")","v":0},{"$f":"IF(C78=0,0,SUMIFS('FII-Lançamentos'!K:K,'FII-Lançamentos'!D:D,$A78,'FII-Lançamentos'!B:B,\"C\")-SUMIFS('FII-Lançamentos'!K:K,'FII-Lançamentos'!D:D,$A78,'FII-Lançamentos'!B:B,\"V\"))","v":0},0,null,{"$f":"IFERROR(VLOOKUP(A78,Cotações!B:C,2,FALSE),\"\")","v":""},0,0,null,null,0,null,0,0,null,{"$f":"IF(OR(A78=\"\",A78=\"(vazio)\"),0,IFERROR(LOOKUP(2,1/('FII-Lançamentos'!D:D=A78),'FII-Lançamentos'!O:O),0))","v":0},null,0,null,null,null,null,null,null,"",{"$f":"IF(A78=\"\",\"\",IFERROR(LOOKUP(2,1/('FII-Recebidos'!D:D=A78),'FII-Recebidos'!C:C),\"\"))","v":""},"",""]
[null,null,{"$f":"SUMIFS('FII-Lançamentos'!C:C,'FII-Lançamentos'!D:D,$A79,'FII-Lançamentos'!B:B,\"C\")+SUMIFS('FII-Lançamentos'!C:C,'FII-Lançamentos'!D:D,$A79,'FII-Lançamentos'!B:B,\"V\")","v":0},{"$f":"IF(C79=0,0,SUMIFS('FII-Lançamentos'!K:K,'FII-Lançamentos'!D:D,$A79,'FII-Lançamentos'!B:B,\"C\")-SUMIFS('FII-Lançamentos'!K:K,'FII-Lançamentos'!D:D,$A79,'FII-Lançamentos'!B:B,\"V\"))","v":0},0,null,{"$f":"IFERROR(VLOOKUP(A79,Cotações!B:C,2,FALSE),\"\")","v":""},0,0,null,null,0,null,0,0,null,{"$f":"IF(OR(A79=\"\",A79=\"(vazio)\"),0,IFERROR(LOOKUP(2,1/('FII-Lançamentos'!D:D=A79),'FII-Lançamentos'!O:O),0))","v":0},null,0,null,null,null,null,null,null,"",{"$f":"IF(A79=\"\",\"\",IFERROR(LOOKUP(2,1/('FII-Recebidos'!D:D=A79),'FII-Recebidos'!C:C),\"\"))","v":""},"",""]
[null,null,{"$f":"SUMIFS('FII-Lançamentos'!C:C,'FII-Lançamentos'!D:D,$A80,'FII-Lançamentos'!B:B,\"C\")+SUMIFS('FII-Lançamentos'!C:C,'FII-Lançamentos'!D:D,$A80,'FII-Lançamentos'!B:B,\"V\")","v":0},{"$f":"IF(C80=0,0,SUMIFS('FII-Lançamentos'!K:K,'FII-Lançamentos'!D:D,$A80,'FII-Lançamentos'!B:B,\"C\")-SUMIFS('FII-Lançamentos'!K:K,'FII-Lançamentos'!D:D,$A80,'FII-Lançamentos'!B:B,\"V\"))","v":0},0,null,{"$f":"IFERROR(VLOOKUP(A80,Cotações!B:C,2,FALSE),\"\")","v":""},0,0,null,null,0,null,0,0,null,{"$f":"IF(OR(A80=\"\",A80=\"(vazio)\"),0,IFERROR(LOOKUP(2,1/('FII-Lançamentos'!D:D=A80),'FII-Lançamentos'!O:O),0))","v":0},null,0,null,null,null,null,null,null,"",{"$f":"IF(A80=\"\",\"\",IFERROR(LOOKUP(2,1/('FII-Recebidos'!D:D=A80),'FII-Recebidos'!C:C),\"\"))","v":""},"",""]
[null,null,{"$f":"SUMIFS('FII-Lançamentos'!C:C,'FII-Lançamentos'!D:D,$A81,'FII-Lançamentos'!B:B,\"C\")+SUMIFS('FII-Lançamentos'!C:C,'FII-Lançamentos'!D:D,$A81,'FII-Lançamentos'!B:B,\"V\")","v":0},{"$f":"IF(C81=0,0,SUMIFS('FII-Lançamentos'!K:K,'FII-Lançamentos'!D:D,$A81,'FII-Lançamentos'!B:B,\"C\")-SUMIFS('FII-Lançamentos'!K:K,'FII-Lançamentos'!D:D,$A81,'FII-Lançamentos'!B:B,\"V\"))","v":0},0,null,{"$f":"IFERROR(VLOOKUP(A81,Cotações!B:C,2,FALSE),\"\")","v":""},0,0,null,null,0,null,0,0,null,{"$f":"IF(OR(A81=\"\",A81=\"(vazio)\"),0,IFERROR(LOOKUP(2,1/('FII-Lançamentos'!D:D=A81),'FII-Lançamentos'!O:O),0))","v":0},null,0,null,null,null,null,null,null,"",{"$f":"IF(A81=\"\",\"\",IFERROR(LOOKUP(2,1/('FII-Recebidos'!D:D=A81),'FII-Recebidos'!C:C),\"\"))","v":""},"",""]
[null,null,{"$f":"SUMIFS('FII-Lançamentos'!C:C,'FII-Lançamentos'!D:D,$A82,'FII-Lançamentos'!B:B,\"C\")+SUMIFS('FII-Lançamentos'!C:C,'FII-Lançamentos'!D:D,$A82,'FII-Lançamentos'!B:B,\"V\")","v":0},{"$f":"IF(C82=0,0,SUMIFS('FII-Lançamentos'!K:K,'FII-Lançamentos'!D:D,$A82,'FII-Lançamentos'!B:B,\"C\")-SUMIFS('FII-Lançamentos'!K:K,'FII-Lançamentos'!D:D,$A82,'FII-Lançamentos'!B:B,\"V\"))","v":0},0,null,{"$f":"IFERROR(VLOOKUP(A82,Cotações!B:C,2,FALSE),\"\")","v":""},0,0,null,null,0,null,0,0,null,{"$f":"IF(OR(A82=\"\",A82=\"(vazio)\"),0,IFERROR(LOOKUP(2,1/('FII-Lançamentos'!D:D=A82),'FII-Lançamentos'!O:O),0))","v":0},null,0,null,null,null,null,null,null,"",{"$f":"IF(A82=\"\",\"\",IFERROR(LOOKUP(2,1/('FII-Recebidos'!D:D=A82),'FII-Recebidos'!C:C),\"\"))","v":""},"",""]
[null,null,{"$f":"SUMIFS('FII-Lançamentos'!C:C,'FII-Lançamentos'!D:D,$A83,'FII-Lançamentos'!B:B,\"C\")+SUMIFS('FII-Lançamentos'!C:C,'FII-Lançamentos'!D:D,$A83,'FII-Lançamentos'!B:B,\"V\")","v":0},{"$f":"IF(C83=0,0,SUMIFS('FII-Lançamentos'!K:K,'FII-Lançamentos'!D:D,$A83,'FII-Lançamentos'!B:B,\"C\")-SUMIFS('FII-Lançamentos'!K:K,'FII-Lançamentos'!D:D,$A83,'FII-Lançamentos'!B:B,\"V\"))","v":0},0,null,{"$f":"IFERROR(VLOOKUP(A83,Cotações!B:C,2,FALSE),\"\")","v":""},0,0,null,null,0,null,0,0,null,{"$f":"IF(OR(A83=\"\",A83=\"(vazio)\"),0,IFERROR(LOOKUP(2,1/('FII-Lançamentos'!D:D=A83),'FII-Lançamentos'!O:O),0))","v":0},null,0,null,null,null,null,null,null,"",{"$f":"IF(A83=\"\",\"\",IFERROR(LOOKUP(2,1/('FII-Recebidos'!D:D=A83),'FII-Recebidos'!C:C),\"\"))","v":""},"",""]
[null,null,{"$f":"SUMIFS('FII-Lançamentos'!C:C,'FII-Lançamentos'!D:D,$A84,'FII-Lançamentos'!B:B,\"C\")+SUMIFS('FII-Lançamentos'!C:C,'FII-Lançamentos'!D:D,$A84,'FII-Lançamentos'!B:B,\"V\")","v":0},{"$f":"IF(C84=0,0,SUMIFS('FII-Lançamentos'!K:K,'FII-Lançamentos'!D:D,$A84,'FII-Lançamentos'!B:B,\"C\")-SUMIFS('FII-Lançamentos'!K:K,'FII-Lançamentos'!D:D,$A84,'FII-Lançamentos'!B:B,\"V\"))","v":0},0,null,{"$f":"IFERROR(VLOOKUP(A84,Cotações!B:C,2,FALSE),\"\")","v":""},0,0,null,null,0,null,0,0,null,{"$f":"IF(OR(A84=\"\",A84=\"(vazio)\"),0,IFERROR(LOOKUP(2,1/('FII-Lançamentos'!D:D=A84),'FII-Lançamentos'!O:O),0))","v":0},null,0,null,null,null,null,null,null,"",{"$f":"IF(A84=\"\",\"\",IFERROR(LOOKUP(2,1/('FII-Recebidos'!D:D=A84),'FII-Recebidos'!C:C),\"\"))","v":""},"",""]
[null,null,{"$f":"SUMIFS('FII-Lançamentos'!C:C,'FII-Lançamentos'!D:D,$A85,'FII-Lançamentos'!B:B,\"C\")+SUMIFS('FII-Lançamentos'!C:C,'FII-Lançamentos'!D:D,$A85,'FII-Lançamentos'!B:B,\"V\")","v":0},{"$f":"IF(C85=0,0,SUMIFS('FII-Lançamentos'!K:K,'FII-Lançamentos'!D:D,$A85,'FII-Lançamentos'!B:B,\"C\")-SUMIFS('FII-Lançamentos'!K:K,'FII-Lançamentos'!D:D,$A85,'FII-Lançamentos'!B:B,\"V\"))","v":0},0,null,{"$f":"IFERROR(VLOOKUP(A85,Cotações!B:C,2,FALSE),\"\")","v":""},0,0,null,null,0,null,0,0,null,{"$f":"IF(OR(A85=\"\",A85=\"(vazio)\"),0,IFERROR(LOOKUP(2,1/('FII-Lançamentos'!D:D=A85),'FII-Lançamentos'!O:O),0))","v":0},null,0,null,null,null,null,null,null,"",{"$f":"IF(A85=\"\",\"\",IFERROR(LOOKUP(2,1/('FII-Recebidos'!D:D=A85),'FII-Recebidos'!C:C),\"\"))","v":""},"",""]
[null,null,{"$f":"SUMIFS('FII-Lançamentos'!C:C,'FII-Lançamentos'!D:D,$A86,'FII-Lançamentos'!B:B,\"C\")+SUMIFS('FII-Lançamentos'!C:C,'FII-Lançamentos'!D:D,$A86,'FII-Lançamentos'!B:B,\"V\")","v":0},{"$f":"IF(C86=0,0,SUMIFS('FII-Lançamentos'!K:K,'FII-Lançamentos'!D:D,$A86,'FII-Lançamentos'!B:B,\"C\")-SUMIFS('FII-Lançamentos'!K:K,'FII-Lançamentos'!D:D,$A86,'FII-Lançamentos'!B:B,\"V\"))","v":0},0,null,{"$f":"IFERROR(VLOOKUP(A86,Cotações!B:C,2,FALSE),\"\")","v":""},0,0,null,null,0,null,0,0,null,{"$f":"IF(OR(A86=\"\",A86=\"(vazio)\"),0,IFERROR(LOOKUP(2,1/('FII-Lançamentos'!D:D=A86),'FII-Lançamentos'!O:O),0))","v":0},null,0,null,null,null,null,null,null,"",{"$f":"IF(A86=\"\",\"\",IFERROR(LOOKUP(2,1/('FII-Recebidos'!D:D=A86),'FII-Recebidos'!C:C),\"\"))","v":""},"",""]
[null,null,{"$f":"SUMIFS('FII-Lançamentos'!C:C,'FII-Lançamentos'!D:D,$A87,'FII-Lançamentos'!B:B,\"C\")+SUMIFS('FII-Lançamentos'!C:C,'FII-Lançamentos'!D:D,$A87,'FII-Lançamentos'!B:B,\"V\")","v":0},{"$f":"IF(C87=0,0,SUMIFS('FII-Lançamentos'!K:K,'FII-Lançamentos'!D:D,$A87,'FII-Lançamentos'!B:B,\"C\")-SUMIFS('FII-Lançamentos'!K:K,'FII-Lançamentos'!D:D,$A87,'FII-Lançamentos'!B:B,\"V\"))","v":0},0,null,{"$f":"IFERROR(VLOOKUP(A87,Cotações!B:C,2,FALSE),\"\")","v":""},0,0,null,null,0,null,0,0,null,{"$f":"IF(OR(A87=\"\",A87=\"(vazio)\"),0,IFERROR(LOOKUP(2,1/('FII-Lançamentos'!D:D=A87),'FII-Lançamentos'!O:O),0))","v":0},null,0,null,null,null,null,null,null,"",{"$f":"IF(A87=\"\",\"\",IFERROR(LOOKUP(2,1/('FII-Recebidos'!D:D=A87),'FII-Recebidos'!C:C),\"\"))","v":""},"",""]
[null,null,{"$f":"SUMIFS('FII-Lançamentos'!C:C,'FII-Lançamentos'!D:D,$A88,'FII-Lançamentos'!B:B,\"C\")+SUMIFS('FII-Lançamentos'!C:C,'FII-Lançamentos'!D:D,$A88,'FII-Lançamentos'!B:B,\"V\")","v":0},{"$f":"IF(C88=0,0,SUMIFS('FII-Lançamentos'!K:K,'FII-Lançamentos'!D:D,$A88,'FII-Lançamentos'!B:B,\"C\")-SUMIFS('FII-Lançamentos'!K:K,'FII-Lançamentos'!D:D,$A88,'FII-Lançamentos'!B:B,\"V\"))","v":0},0,null,{"$f":"IFERROR(VLOOKUP(A88,Cotações!B:C,2,FALSE),\"\")","v":""},0,0,null,null,0,null,0,0,null,{"$f":"IF(OR(A88=\"\",A88=\"(vazio)\"),0,IFERROR(LOOKUP(2,1/('FII-Lançamentos'!D:D=A88),'FII-Lançamentos'!O:O),0))","v":0},null,0,null,null,null,null,null,null,"",{"$f":"IF(A88=\"\",\"\",IFERROR(LOOKUP(2,1/('FII-Recebidos'!D:D=A88),'FII-Recebidos'!C:C),\"\"))","v":""},"",""]
[null,null,{"$f":"SUMIFS('FII-Lançamentos'!C:C,'FII-Lançamentos'!D:D,$A89,'FII-Lançamentos'!B:B,\"C\")+SUMIFS('FII-Lançamentos'!C:C,'FII-Lançamentos'!D:D,$A89,'FII-Lançamentos'!B:B,\"V\")","v":0},{"$f":"IF(C89=0,0,SUMIFS('FII-Lançamentos'!K:K,'FII-Lançamentos'!D:D,$A89,'FII-Lançamentos'!B:B,\"C\")-SUMIFS('FII-Lançamentos'!K:K,'FII-Lançamentos'!D:D,$A89,'FII-Lançamentos'!B:B,\"V\"))","v":0},0,null,{"$f":"IFERROR(VLOOKUP(A89,Cotações!B:C,2,FALSE),\"\")","v":""},0,0,null,null,0,null,0,0,null,{"$f":"IF(OR(A89=\"\",A89=\"(vazio)\"),0,IFERROR(LOOKUP(2,1/('FII-Lançamentos'!D:D=A89),'FII-Lançamentos'!O:O),0))","v":0},null,0,null,null,null,null,null,null,"",{"$f":"IF(A89=\"\",\"\",IFERROR(LOOKUP(2,1/('FII-Recebidos'!D:D=A89),'FII-Recebidos'!C:C),\"\"))","v":""},"",""]
[null,null,{"$f":"SUMIFS('FII-Lançamentos'!C:C,'FII-Lançamentos'!D:D,$A90,'FII-Lançamentos'!B:B,\"C\")+SUMIFS('FII-Lançamentos'!C:C,'FII-Lançamentos'!D:D,$A90,'FII-Lançamentos'!B:B,\"V\")","v":0},{"$f":"IF(C90=0,0,SUMIFS('FII-Lançamentos'!K:K,'FII-Lançamentos'!D:D,$A90,'FII-Lançamentos'!B:B,\"C\")-SUMIFS('FII-Lançamentos'!K:K,'FII-Lançamentos'!D:D,$A90,'FII-Lançamentos'!B:B,\"V\"))","v":0},0,null,{"$f":"IFERROR(VLOOKUP(A90,Cotações!B:C,2,FALSE),\"\")","v":""},0,0,null,null,0,null,0,0,null,{"$f":"IF(OR(A90=\"\",A90=\"(vazio)\"),0,IFERROR(LOOKUP(2,1/('FII-Lançamentos'!D:D=A90),'FII-Lançamentos'!O:O),0))","v":0},null,0,null,null,null,null,null,null,"",{"$f":"IF(A90=\"\",\"\",IFERROR(LOOKUP(2,1/('FII-Recebidos'!D:D=A90),'FII-Recebidos'!C:C),\"\"))","v":""},"",""]
[null,null,{"$f":"SUMIFS('FII-Lançamentos'!C:C,'FII-Lançamentos'!D:D,$A91,'FII-Lançamentos'!B:B,\"C\")+SUMIFS('FII-Lançamentos'!C:C,'FII-Lançamentos'!D:D,$A91,'FII-Lançamentos'!B:B,\"V\")","v":0},{"$f":"IF(C91=0,0,SUMIFS('FII-Lançamentos'!K:K,'FII-Lançamentos'!D:D,$A91,'FII-Lançamentos'!B:B,\"C\")-SUMIFS('FII-Lançamentos'!K:K,'FII-Lançamentos'!D:D,$A91,'FII-Lançamentos'!B:B,\"V\"))","v":0},0,null,{"$f":"IFERROR(VLOOKUP(A91,Cotações!B:C,2,FALSE),\"\")","v":""},0,0,null,null,0,null,0,0,null,{"$f":"IF(OR(A91=\"\",A91=\"(vazio)\"),0,IFERROR(LOOKUP(2,1/('FII-Lançamentos'!D:D=A91),'FII-Lançamentos'!O:O),0))","v":0},null,0,null,null,null,null,null,null,"",{"$f":"IF(A91=\"\",\"\",IFERROR(LOOKUP(2,1/('FII-Recebidos'!D:D=A91),'FII-Recebidos'!C:C),\"\"))","v":""},"",""]
[null,null,{"$f":"SUMIFS('FII-Lançamentos'!C:C,'FII-Lançamentos'!D:D,$A92,'FII-Lançamentos'!B:B,\"C\")+SUMIFS('FII-Lançamentos'!C:C,'FII-Lançamentos'!D:D,$A92,'FII-Lançamentos'!B:B,\"V\")","v":0},{"$f":"IF(C92=0,0,SUMIFS('FII-Lançamentos'!K:K,'FII-Lançamentos'!D:D,$A92,'FII-Lançamentos'!B:B,\"C\")-SUMIFS('FII-Lançamentos'!K:K,'FII-Lançamentos'!D:D,$A92,'FII-Lançamentos'!B:B,\"V\"))","v":0},0,null,{"$f":"IFERROR(VLOOKUP(A92,Cotações!B:C,2,FALSE),\"\")","v":""},0,0,null,null,0,null,0,0,null,{"$f":"IF(OR(A92=\"\",A92=\"(vazio)\"),0,IFERROR(LOOKUP(2,1/('FII-Lançamentos'!D:D=A92),'FII-Lançamentos'!O:O),0))","v":0},null,0,null,null,null,null,null,null,"",{"$f":"IF(A92=\"\",\"\",IFERROR(LOOKUP(2,1/('FII-Recebidos'!D:D=A92),'FII-Recebidos'!C:C),\"\"))","v":""},"",""]
[null,null,{"$f":"SUMIFS('FII-Lançamentos'!C:C,'FII-Lançamentos'!D:D,$A93,'FII-Lançamentos'!B:B,\"C\")+SUMIFS('FII-Lançamentos'!C:C,'FII-Lançamentos'!D:D,$A93,'FII-Lançamentos'!B:B,\"V\")","v":0},{"$f":"IF(C93=0,0,SUMIFS('FII-Lançamentos'!K:K,'FII-Lançamentos'!D:D,$A93,'FII-Lançamentos'!B:B,\"C\")-SUMIFS('FII-Lançamentos'!K:K,'FII-Lançamentos'!D:D,$A93,'FII-Lançamentos'!B:B,\"V\"))","v":0},0,null,{"$f":"IFERROR(VLOOKUP(A93,Cotações!B:C,2,FALSE),\"\")","v":""},0,0,null,null,0,null,0,0,null,{"$f":"IF(OR(A93=\"\",A93=\"(vazio)\"),0,IFERROR(LOOKUP(2,1/('FII-Lançamentos'!D:D=A93),'FII-Lançamentos'!O:O),0))","v":0},null,0,null,null,null,null,null,null,"",{"$f":"IF(A93=\"\",\"\",IFERROR(LOOKUP(2,1/('FII-Recebidos'!D:D=A93),'FII-Recebidos'!C:C),\"\"))","v":""},"",""]
[null,null,{"$f":"SUMIFS('FII-Lançamentos'!C:C,'FII-Lançamentos'!D:D,$A94,'FII-Lançamentos'!B:B,\"C\")+SUMIFS('FII-Lançamentos'!C:C,'FII-Lançamentos'!D:D,$A94,'FII-Lançamentos'!B:B,\"V\")","v":0},{"$f":"IF(C94=0,0,SUMIFS('FII-Lançamentos'!K:K,'FII-Lançamentos'!D:D,$A94,'FII-Lançamentos'!B:B,\"C\")-SUMIFS('FII-Lançamentos'!K:K,'FII-Lançamentos'!D:D,$A94,'FII-Lançamentos'!B:B,\"V\"))","v":0},0,null,{"$f":"IFERROR(VLOOKUP(A94,Cotações!B:C,2,FALSE),\"\")","v":""},0,0,null,null,0,null,0,0,null,{"$f":"IF(OR(A94=\"\",A94=\"(vazio)\"),0,IFERROR(LOOKUP(2,1/('FII-Lançamentos'!D:D=A94),'FII-Lançamentos'!O:O),0))","v":0},null,0,null,null,null,null,null,null,{"$f":"IF(K94=\"\",\"\",K94-I94)","v":""},{"$f":"IF(A94=\"\",\"\",IFERROR(LOOKUP(2,1/('FII-Recebidos'!D:D=A94),'FII-Recebidos'!C:C),\"\"))","v":""},"",""]
[null,null,{"$f":"SUMIFS('FII-Lançamentos'!C:C,'FII-Lançamentos'!D:D,$A95,'FII-Lançamentos'!B:B,\"C\")+SUMIFS('FII-Lançamentos'!C:C,'FII-Lançamentos'!D:D,$A95,'FII-Lançamentos'!B:B,\"V\")","v":0},{"$f":"IF(C95=0,0,SUMIFS('FII-Lançamentos'!K:K,'FII-Lançamentos'!D:D,$A95,'FII-Lançamentos'!B:B,\"C\")-SUMIFS('FII-Lançamentos'!K:K,'FII-Lançamentos'!D:D,$A95,'FII-Lançamentos'!B:B,\"V\"))","v":0},0,null,{"$f":"IFERROR(VLOOKUP(A95,Cotações!B:C,2,FALSE),\"\")","v":""},0,0,null,null,0,null,0,0,null,{"$f":"IF(OR(A95=\"\",A95=\"(vazio)\"),0,IFERROR(LOOKUP(2,1/('FII-Lançamentos'!D:D=A95),'FII-Lançamentos'!O:O),0))","v":0},null,0,null,null,null,null,null,null,"",{"$f":"IF(A95=\"\",\"\",IFERROR(LOOKUP(2,1/('FII-Recebidos'!D:D=A95),'FII-Recebidos'!C:C),\"\"))","v":""},"",""]
[null,null,{"$f":"SUMIFS('FII-Lançamentos'!C:C,'FII-Lançamentos'!D:D,$A96,'FII-Lançamentos'!B:B,\"C\")+SUMIFS('FII-Lançamentos'!C:C,'FII-Lançamentos'!D:D,$A96,'FII-Lançamentos'!B:B,\"V\")","v":0},{"$f":"IF(C96=0,0,SUMIFS('FII-Lançamentos'!K:K,'FII-Lançamentos'!D:D,$A96,'FII-Lançamentos'!B:B,\"C\")-SUMIFS('FII-Lançamentos'!K:K,'FII-Lançamentos'!D:D,$A96,'FII-Lançamentos'!B:B,\"V\"))","v":0},0,null,{"$f":"IFERROR(VLOOKUP(A96,Cotações!B:C,2,FALSE),\"\")","v":""},0,0,null,null,0,null,0,0,null,{"$f":"IF(OR(A96=\"\",A96=\"(vazio)\"),0,IFERROR(LOOKUP(2,1/('FII-Lançamentos'!D:D=A96),'FII-Lançamentos'!O:O),0))","v":0},null,0,null,null,null,null,null,null,"",{"$f":"IF(A96=\"\",\"\",IFERROR(LOOKUP(2,1/('FII-Recebidos'!D:D=A96),'FII-Recebidos'!C:C),\"\"))","v":""},"",""]
[null,null,{"$f":"SUMIFS('FII-Lançamentos'!C:C,'FII-Lançamentos'!D:D,$A97,'FII-Lançamentos'!B:B,\"C\")+SUMIFS('FII-Lançamentos'!C:C,'FII-Lançamentos'!D:D,$A97,'FII-Lançamentos'!B:B,\"V\")","v":0},{"$f":"IF(C97=0,0,SUMIFS('FII-Lançamentos'!K:K,'FII-Lançamentos'!D:D,$A97,'FII-Lançamentos'!B:B,\"C\")-SUMIFS('FII-Lançamentos'!K:K,'FII-Lançamentos'!D:D,$A97,'FII-Lançamentos'!B:B,\"V\"))","v":0},0,null,{"$f":"IFERROR(VLOOKUP(A97,Cotações!B:C,2,FALSE),\"\")","v":""},0,0,null,null,0,null,0,0,null,{"$f":"IF(OR(A97=\"\",A97=\"(vazio)\"),0,IFERROR(LOOKUP(2,1/('FII-Lançamentos'!D:D=A97),'FII-Lançamentos'!O:O),0))","v":0},null,0,null,null,null,null,null,null,"",{"$f":"IF(A97=\"\",\"\",IFERROR(LOOKUP(2,1/('FII-Recebidos'!D:D=A97),'FII-Recebidos'!C:C),\"\"))","v":""},"",""]
[null,null,{"$f":"SUMIFS('FII-Lançamentos'!C:C,'FII-Lançamentos'!D:D,$A98,'FII-Lançamentos'!B:B,\"C\")+SUMIFS('FII-Lançamentos'!C:C,'FII-Lançamentos'!D:D,$A98,'FII-Lançamentos'!B:B,\"V\")","v":0},{"$f":"IF(C98=0,0,SUMIFS('FII-Lançamentos'!K:K,'FII-Lançamentos'!D:D,$A98,'FII-Lançamentos'!B:B,\"C\")-SUMIFS('FII-Lançamentos'!K:K,'FII-Lançamentos'!D:D,$A98,'FII-Lançamentos'!B:B,\"V\"))","v":0},0,null,{"$f":"IFERROR(VLOOKUP(A98,Cotações!B:C,2,FALSE),\"\")","v":""},0,0,null,null,0,null,0,0,null,{"$f":"IF(OR(A98=\"\",A98=\"(vazio)\"),0,IFERROR(LOOKUP(2,1/('FII-Lançamentos'!D:D=A98),'FII-Lançamentos'!O:O),0))","v":0},null,0,null,null,null,null,null,null,"",{"$f":"IF(A98=\"\",\"\",IFERROR(LOOKUP(2,1/('FII-Recebidos'!D:D=A98),'FII-Recebidos'!C:C),\"\"))","v":""},"",""]
[null,null,{"$f":"SUMIFS('FII-Lançamentos'!C:C,'FII-Lançamentos'!D:D,$A99,'FII-Lançamentos'!B:B,\"C\")+SUMIFS('FII-Lançamentos'!C:C,'FII-Lançamentos'!D:D,$A99,'FII-Lançamentos'!B:B,\"V\")","v":0},{"$f":"IF(C99=0,0,SUMIFS('FII-Lançamentos'!K:K,'FII-Lançamentos'!D:D,$A99,'FII-Lançamentos'!B:B,\"C\")-SUMIFS('FII-Lançamentos'!K:K,'FII-Lançamentos'!D:D,$A99,'FII-Lançamentos'!B:B,\"V\"))","v":0},0,null,{"$f":"IFERROR(VLOOKUP(A99,Cotações!B:C,2,FALSE),\"\")","v":""},0,0,null,null,0,null,0,0,null,{"$f":"IF(OR(A99=\"\",A99=\"(vazio)\"),0,IFERROR(LOOKUP(2,1/('FII-Lançamentos'!D:D=A99),'FII-Lançamentos'!O:O),0))","v":0},null,0,null,null,null,null,null,null,"",{"$f":"IF(A99=\"\",\"\",IFERROR(LOOKUP(2,1/('FII-Recebidos'!D:D=A99),'FII-Recebidos'!C:C),\"\"))","v":""},"",""]
[null,null,{"$f":"SUMIFS('FII-Lançamentos'!C:C,'FII-Lançamentos'!D:D,$A100,'FII-Lançamentos'!B:B,\"C\")+SUMIFS('FII-Lançamentos'!C:C,'FII-Lançamentos'!D:D,$A100,'FII-Lançamentos'!B:B,\"V\")","v":0},{"$f":"IF(C100=0,0,SUMIFS('FII-Lançamentos'!K:K,'FII-Lançamentos'!D:D,$A100,'FII-Lançamentos'!B:B,\"C\")-SUMIFS('FII-Lançamentos'!K:K,'FII-Lançamentos'!D:D,$A100,'FII-Lançamentos'!B:B,\"V\"))","v":0},0,null,{"$f":"IFERROR(VLOOKUP(A100,Cotações!B:C,2,FALSE),\"\")","v":""},0,0,null,null,0,null,0,0,null,{"$f":"IF(OR(A100=\"\",A100=\"(vazio)\"),0,IFERROR(LOOKUP(2,1/('FII-Lançamentos'!D:D=A100),'FII-Lançamentos'!O:O),0))","v":0},null,0,null,null,null,null,null,null,"",{"$f":"IF(A100=\"\",\"\",IFERROR(LOOKUP(2,1/('FII-Recebidos'!D:D=A100),'FII-Recebidos'!C:C),\"\"))","v":""},"",""]
[null,null,{"$f":"SUMIFS('FII-Lançamentos'!C:C,'FII-Lançamentos'!D:D,$A101,'FII-Lançamentos'!B:B,\"C\")+SUMIFS('FII-Lançamentos'!C:C,'FII-Lançamentos'!D:D,$A101,'FII-Lançamentos'!B:B,\"V\")","v":0},{"$f":"IF(C101=0,0,SUMIFS('FII-Lançamentos'!K:K,'FII-Lançamentos'!D:D,$A101,'FII-Lançamentos'!B:B,\"C\")-SUMIFS('FII-Lançamentos'!K:K,'FII-Lançamentos'!D:D,$A101,'FII-Lançamentos'!B:B,\"V\"))","v":0},0,null,{"$f":"IFERROR(VLOOKUP(A101,Cotações!B:C,2,FALSE),\"\")","v":""},0,0,null,null,0,null,0,0,null,{"$f":"IF(OR(A101=\"\",A101=\"(vazio)\"),0,IFERROR(LOOKUP(2,1/('FII-Lançamentos'!D:D=A101),'FII-Lançamentos'!O:O),0))","v":0},null,0,null,null,null,null,null,null,"",{"$f":"IF(A101=\"\",\"\",IFERROR(LOOKUP(2,1/('FII-Recebidos'!D:D=A101),'FII-Recebidos'!C:C),\"\"))","v":""},"",""]
[null,null,{"$f":"SUMIFS('FII-Lançamentos'!C:C,'FII-Lançamentos'!D:D,$A102,'FII-Lançamentos'!B:B,\"C\")+SUMIFS('FII-Lançamentos'!C:C,'FII-Lançamentos'!D:D,$A102,'FII-Lançamentos'!B:B,\"V\")","v":0},{"$f":"IF(C102=0,0,SUMIFS('FII-Lançamentos'!K:K,'FII-Lançamentos'!D:D,$A102,'FII-Lançamentos'!B:B,\"C\")-SUMIFS('FII-Lançamentos'!K:K,'FII-Lançamentos'!D:D,$A102,'FII-Lançamentos'!B:B,\"V\"))","v":0},0,null,{"$f":"IFERROR(VLOOKUP(A102,Cotações!B:C,2,FALSE),\"\")","v":""},0,0,null,null,0,null,0,0,null,{"$f":"IF(OR(A102=\"\",A102=\"(vazio)\"),0,IFERROR(LOOKUP(2,1/('FII-Lançamentos'!D:D=A102),'FII-Lançamentos'!O:O),0))","v":0},null,0,null,null,null,null,null,null,"",{"$f":"IF(A102=\"\",\"\",IFERROR(LOOKUP(2,1/('FII-Recebidos'!D:D=A102),'FII-Recebidos'!C:C),\"\"))","v":""},"",""]
[null,null,{"$f":"SUMIFS('FII-Lançamentos'!C:C,'FII-Lançamentos'!D:D,$A103,'FII-Lançamentos'!B:B,\"C\")+SUMIFS('FII-Lançamentos'!C:C,'FII-Lançamentos'!D:D,$A103,'FII-Lançamentos'!B:B,\"V\")","v":0},{"$f":"IF(C103=0,0,SUMIFS('FII-Lançamentos'!K:K,'FII-Lançamentos'!D:D,$A103,'FII-Lançamentos'!B:B,\"C\")-SUMIFS('FII-Lançamentos'!K:K,'FII-Lançamentos'!D:D,$A103,'FII-Lançamentos'!B:B,\"V\"))","v":0},0,null,{"$f":"IFERROR(VLOOKUP(A103,Cotações!B:C,2,FALSE),\"\")","v":""},0,0,null,null,0,null,0,0,null,{"$f":"IF(OR(A103=\"\",A103=\"(vazio)\"),0,IFERROR(LOOKUP(2,1/('FII-Lançamentos'!D:D=A103),'FII-Lançamentos'!O:O),0))","v":0},null,0,null,null,null,null,null,null,"",{"$f":"IF(A103=\"\",\"\",IFERROR(LOOKUP(2,1/('FII-Recebidos'!D:D=A103),'FII-Recebidos'!C:C),\"\"))","v":""},"",""]
[null,null,{"$f":"SUMIFS('FII-Lançamentos'!C:C,'FII-Lançamentos'!D:D,$A104,'FII-Lançamentos'!B:B,\"C\")+SUMIFS('FII-Lançamentos'!C:C,'FII-Lançamentos'!D:D,$A104,'FII-Lançamentos'!B:B,\"V\")","v":0},{"$f":"IF(C104=0,0,SUMIFS('FII-Lançamentos'!K:K,'FII-Lançamentos'!D:D,$A104,'FII-Lançamentos'!B:B,\"C\")-SUMIFS('FII-Lançamentos'!K:K,'FII-Lançamentos'!D:D,$A104,'FII-Lançamentos'!B:B,\"V\"))","v":0},0,null,{"$f":"IFERROR(VLOOKUP(A104,Cotações!B:C,2,FALSE),\"\")","v":""},0,0,null,null,0,null,0,0,null,{"$f":"IF(OR(A104=\"\",A104=\"(vazio)\"),0,IFERROR(LOOKUP(2,1/('FII-Lançamentos'!D:D=A104),'FII-Lançamentos'!O:O),0))","v":0},null,0,null,null,null,null,null,null,"",{"$f":"IF(A104=\"\",\"\",IFERROR(LOOKUP(2,1/('FII-Recebidos'!D:D=A104),'FII-Recebidos'!C:C),\"\"))","v":""},"",""]
[null,null,{"$f":"SUMIFS('FII-Lançamentos'!C:C,'FII-Lançamentos'!D:D,$A105,'FII-Lançamentos'!B:B,\"C\")+SUMIFS('FII-Lançamentos'!C:C,'FII-Lançamentos'!D:D,$A105,'FII-Lançamentos'!B:B,\"V\")","v":0},{"$f":"IF(C105=0,0,SUMIFS('FII-Lançamentos'!K:K,'FII-Lançamentos'!D:D,$A105,'FII-Lançamentos'!B:B,\"C\")-SUMIFS('FII-Lançamentos'!K:K,'FII-Lançamentos'!D:D,$A105,'FII-Lançamentos'!B:B,\"V\"))","v":0},0,null,{"$f":"IFERROR(VLOOKUP(A105,Cotações!B:C,2,FALSE),\"\")","v":""},0,0,null,null,0,null,0,0,null,{"$f":"IF(OR(A105=\"\",A105=\"(vazio)\"),0,IFERROR(LOOKUP(2,1/('FII-Lançamentos'!D:D=A105),'FII-Lançamentos'!O:O),0))","v":0},null,0,null,null,null,null,null,null,"",{"$f":"IF(A105=\"\",\"\",IFERROR(LOOKUP(2,1/('FII-Recebidos'!D:D=A105),'FII-Recebidos'!C:C),\"\"))","v":""},"",""]
[null,null,{"$f":"SUMIFS('FII-Lançamentos'!C:C,'FII-Lançamentos'!D:D,$A106,'FII-Lançamentos'!B:B,\"C\")+SUMIFS('FII-Lançamentos'!C:C,'FII-Lançamentos'!D:D,$A106,'FII-Lançamentos'!B:B,\"V\")","v":0},{"$f":"IF(C106=0,0,SUMIFS('FII-Lançamentos'!K:K,'FII-Lançamentos'!D:D,$A106,'FII-Lançamentos'!B:B,\"C\")-SUMIFS('FII-Lançamentos'!K:K,'FII-Lançamentos'!D:D,$A106,'FII-Lançamentos'!B:B,\"V\"))","v":0},0,null,{"$f":"IFERROR(VLOOKUP(A106,Cotações!B:C,2,FALSE),\"\")","v":""},0,0,null,null,0,null,0,0,null,{"$f":"IF(OR(A106=\"\",A106=\"(vazio)\"),0,IFERROR(LOOKUP(2,1/('FII-Lançamentos'!D:D=A106),'FII-Lançamentos'!O:O),0))","v":0},null,0,null,null,null,null,null,null,"",{"$f":"IF(A106=\"\",\"\",IFERROR(LOOKUP(2,1/('FII-Recebidos'!D:D=A106),'FII-Recebidos'!C:C),\"\"))","v":""},"",""]
[null,null,{"$f":"SUMIFS('FII-Lançamentos'!C:C,'FII-Lançamentos'!D:D,$A107,'FII-Lançamentos'!B:B,\"C\")+SUMIFS('FII-Lançamentos'!C:C,'FII-Lançamentos'!D:D,$A107,'FII-Lançamentos'!B:B,\"V\")","v":0},{"$f":"IF(C107=0,0,SUMIFS('FII-Lançamentos'!K:K,'FII-Lançamentos'!D:D,$A107,'FII-Lançamentos'!B:B,\"C\")-SUMIFS('FII-Lançamentos'!K:K,'FII-Lançamentos'!D:D,$A107,'FII-Lançamentos'!B:B,\"V\"))","v":0},0,null,{"$f":"IFERROR(VLOOKUP(A107,Cotações!B:C,2,FALSE),\"\")","v":""},0,0,null,null,0,null,0,0,null,{"$f":"IF(OR(A107=\"\",A107=\"(vazio)\"),0,IFERROR(LOOKUP(2,1/('FII-Lançamentos'!D:D=A107),'FII-Lançamentos'!O:O),0))","v":0},null,0,null,null,null,null,null,null,"",{"$f":"IF(A107=\"\",\"\",IFERROR(LOOKUP(2,1/('FII-Recebidos'!D:D=A107),'FII-Recebidos'!C:C),\"\"))","v":""},"",""]
[null,null,{"$f":"SUMIFS('FII-Lançamentos'!C:C,'FII-Lançamentos'!D:D,$A108,'FII-Lançamentos'!B:B,\"C\")+SUMIFS('FII-Lançamentos'!C:C,'FII-Lançamentos'!D:D,$A108,'FII-Lançamentos'!B:B,\"V\")","v":0},{"$f":"IF(C108=0,0,SUMIFS('FII-Lançamentos'!K:K,'FII-Lançamentos'!D:D,$A108,'FII-Lançamentos'!B:B,\"C\")-SUMIFS('FII-Lançamentos'!K:K,'FII-Lançamentos'!D:D,$A108,'FII-Lançamentos'!B:B,\"V\"))","v":0},0,null,{"$f":"IFERROR(VLOOKUP(A108,Cotações!B:C,2,FALSE),\"\")","v":""},0,0,null,null,0,null,0,0,null,{"$f":"IF(OR(A108=\"\",A108=\"(vazio)\"),0,IFERROR(LOOKUP(2,1/('FII-Lançamentos'!D:D=A108),'FII-Lançamentos'!O:O),0))","v":0},null,0,null,null,null,null,null,null,"",{"$f":"IF(A108=\"\",\"\",IFERROR(LOOKUP(2,1/('FII-Recebidos'!D:D=A108),'FII-Recebidos'!C:C),\"\"))","v":""},"",""]
[null,null,{"$f":"SUMIFS('FII-Lançamentos'!C:C,'FII-Lançamentos'!D:D,$A109,'FII-Lançamentos'!B:B,\"C\")+SUMIFS('FII-Lançamentos'!C:C,'FII-Lançamentos'!D:D,$A109,'FII-Lançamentos'!B:B,\"V\")","v":0},{"$f":"IF(C109=0,0,SUMIFS('FII-Lançamentos'!K:K,'FII-Lançamentos'!D:D,$A109,'FII-Lançamentos'!B:B,\"C\")-SUMIFS('FII-Lançamentos'!K:K,'FII-Lançamentos'!D:D,$A109,'FII-Lançamentos'!B:B,\"V\"))","v":0},0,null,{"$f":"IFERROR(VLOOKUP(A109,Cotações!B:C,2,FALSE),\"\")","v":""},0,0,null,null,0,null,0,0,null,{"$f":"IF(OR(A109=\"\",A109=\"(vazio)\"),0,IFERROR(LOOKUP(2,1/('FII-Lançamentos'!D:D=A109),'FII-Lançamentos'!O:O),0))","v":0},null,0,null,null,null,null,null,null,"",{"$f":"IF(A109=\"\",\"\",IFERROR(LOOKUP(2,1/('FII-Recebidos'!D:D=A109),'FII-Recebidos'!C:C),\"\"))","v":""},"",""]
[null,null,{"$f":"SUMIFS('FII-Lançamentos'!C:C,'FII-Lançamentos'!D:D,$A110,'FII-Lançamentos'!B:B,\"C\")+SUMIFS('FII-Lançamentos'!C:C,'FII-Lançamentos'!D:D,$A110,'FII-Lançamentos'!B:B,\"V\")","v":0},{"$f":"IF(C110=0,0,SUMIFS('FII-Lançamentos'!K:K,'FII-Lançamentos'!D:D,$A110,'FII-Lançamentos'!B:B,\"C\")-SUMIFS('FII-Lançamentos'!K:K,'FII-Lançamentos'!D:D,$A110,'FII-Lançamentos'!B:B,\"V\"))","v":0},0,null,{"$f":"IFERROR(VLOOKUP(A110,Cotações!B:C,2,FALSE),\"\")","v":""},0,0,null,null,0,null,0,0,null,{"$f":"IF(OR(A110=\"\",A110=\"(vazio)\"),0,IFERROR(LOOKUP(2,1/('FII-Lançamentos'!D:D=A110),'FII-Lançamentos'!O:O),0))","v":0},null,0,null,null,null,null,null,null,"",{"$f":"IF(A110=\"\",\"\",IFERROR(LOOKUP(2,1/('FII-Recebidos'!D:D=A110),'FII-Recebidos'!C:C),\"\"))","v":""},"",""]
[null,null,{"$f":"SUMIFS('FII-Lançamentos'!C:C,'FII-Lançamentos'!D:D,$A111,'FII-Lançamentos'!B:B,\"C\")+SUMIFS('FII-Lançamentos'!C:C,'FII-Lançamentos'!D:D,$A111,'FII-Lançamentos'!B:B,\"V\")","v":0},{"$f":"IF(C111=0,0,SUMIFS('FII-Lançamentos'!K:K,'FII-Lançamentos'!D:D,$A111,'FII-Lançamentos'!B:B,\"C\")-SUMIFS('FII-Lançamentos'!K:K,'FII-Lançamentos'!D:D,$A111,'FII-Lançamentos'!B:B,\"V\"))","v":0},0,null,{"$f":"IFERROR(VLOOKUP(A111,Cotações!B:C,2,FALSE),\"\")","v":""},0,0,null,null,0,null,0,0,null,{"$f":"IF(OR(A111=\"\",A111=\"(vazio)\"),0,IFERROR(LOOKUP(2,1/('FII-Lançamentos'!D:D=A111),'FII-Lançamentos'!O:O),0))","v":0},null,0,null,null,null,null,null,null,"",{"$f":"IF(A111=\"\",\"\",IFERROR(LOOKUP(2,1/('FII-Recebidos'!D:D=A111),'FII-Recebidos'!C:C),\"\"))","v":""},"",""]
[null,null,{"$f":"SUMIFS('FII-Lançamentos'!C:C,'FII-Lançamentos'!D:D,$A112,'FII-Lançamentos'!B:B,\"C\")+SUMIFS('FII-Lançamentos'!C:C,'FII-Lançamentos'!D:D,$A112,'FII-Lançamentos'!B:B,\"V\")","v":0},{"$f":"IF(C112=0,0,SUMIFS('FII-Lançamentos'!K:K,'FII-Lançamentos'!D:D,$A112,'FII-Lançamentos'!B:B,\"C\")-SUMIFS('FII-Lançamentos'!K:K,'FII-Lançamentos'!D:D,$A112,'FII-Lançamentos'!B:B,\"V\"))","v":0},0,null,{"$f":"IFERROR(VLOOKUP(A112,Cotações!B:C,2,FALSE),\"\")","v":""},0,0,null,null,0,null,0,0,null,{"$f":"IF(OR(A112=\"\",A112=\"(vazio)\"),0,IFERROR(LOOKUP(2,1/('FII-Lançamentos'!D:D=A112),'FII-Lançamentos'!O:O),0))","v":0},null,0,null,null,null,null,null,null,"",{"$f":"IF(A112=\"\",\"\",IFERROR(LOOKUP(2,1/('FII-Recebidos'!D:D=A112),'FII-Recebidos'!C:C),\"\"))","v":""},"",""]
[null,null,{"$f":"SUMIFS('FII-Lançamentos'!C:C,'FII-Lançamentos'!D:D,$A113,'FII-Lançamentos'!B:B,\"C\")+SUMIFS('FII-Lançamentos'!C:C,'FII-Lançamentos'!D:D,$A113,'FII-Lançamentos'!B:B,\"V\")","v":0},{"$f":"IF(C113=0,0,SUMIFS('FII-Lançamentos'!K:K,'FII-Lançamentos'!D:D,$A113,'FII-Lançamentos'!B:B,\"C\")-SUMIFS('FII-Lançamentos'!K:K,'FII-Lançamentos'!D:D,$A113,'FII-Lançamentos'!B:B,\"V\"))","v":0},0,null,{"$f":"IFERROR(VLOOKUP(A113,Cotações!B:C,2,FALSE),\"\")","v":""},0,0,null,null,0,null,0,0,null,{"$f":"IF(OR(A113=\"\",A113=\"(vazio)\"),0,IFERROR(LOOKUP(2,1/('FII-Lançamentos'!D:D=A113),'FII-Lançamentos'!O:O),0))","v":0},null,0,null,null,null,null,null,null,"",{"$f":"IF(A113=\"\",\"\",IFERROR(LOOKUP(2,1/('FII-Recebidos'!D:D=A113),'FII-Recebidos'!C:C),\"\"))","v":""},"",""]
[null,null,{"$f":"SUMIFS('FII-Lançamentos'!C:C,'FII-Lançamentos'!D:D,$A114,'FII-Lançamentos'!B:B,\"C\")+SUMIFS('FII-Lançamentos'!C:C,'FII-Lançamentos'!D:D,$A114,'FII-Lançamentos'!B:B,\"V\")","v":0},{"$f":"IF(C114=0,0,SUMIFS('FII-Lançamentos'!K:K,'FII-Lançamentos'!D:D,$A114,'FII-Lançamentos'!B:B,\"C\")-SUMIFS('FII-Lançamentos'!K:K,'FII-Lançamentos'!D:D,$A114,'FII-Lançamentos'!B:B,\"V\"))","v":0},0,null,{"$f":"IFERROR(VLOOKUP(A114,Cotações!B:C,2,FALSE),\"\")","v":""},0,0,null,null,0,null,0,0,null,{"$f":"IF(OR(A114=\"\",A114=\"(vazio)\"),0,IFERROR(LOOKUP(2,1/('FII-Lançamentos'!D:D=A114),'FII-Lançamentos'!O:O),0))","v":0},null,0,null,null,null,null,null,null,"",{"$f":"IF(A114=\"\",\"\",IFERROR(LOOKUP(2,1/('FII-Recebidos'!D:D=A114),'FII-Recebidos'!C:C),\"\"))","v":""},"",""]
[null,null,{"$f":"SUMIFS('FII-Lançamentos'!C:C,'FII-Lançamentos'!D:D,$A115,'FII-Lançamentos'!B:B,\"C\")+SUMIFS('FII-Lançamentos'!C:C,'FII-Lançamentos'!D:D,$A115,'FII-Lançamentos'!B:B,\"V\")","v":0},{"$f":"IF(C115=0,0,SUMIFS('FII-Lançamentos'!K:K,'FII-Lançamentos'!D:D,$A115,'FII-Lançamentos'!B:B,\"C\")-SUMIFS('FII-Lançamentos'!K:K,'FII-Lançamentos'!D:D,$A115,'FII-Lançamentos'!B:B,\"V\"))","v":0},0,null,{"$f":"IFERROR(VLOOKUP(A115,Cotações!B:C,2,FALSE),\"\")","v":""},0,0,null,null,0,null,0,0,null,{"$f":"IF(OR(A115=\"\",A115=\"(vazio)\"),0,IFERROR(LOOKUP(2,1/('FII-Lançamentos'!D:D=A115),'FII-Lançamentos'!O:O),0))","v":0},null,0,null,null,null,null,null,null,"",{"$f":"IF(A115=\"\",\"\",IFERROR(LOOKUP(2,1/('FII-Recebidos'!D:D=A115),'FII-Recebidos'!C:C),\"\"))","v":""},"",""]
[null,null,{"$f":"SUMIFS('FII-Lançamentos'!C:C,'FII-Lançamentos'!D:D,$A116,'FII-Lançamentos'!B:B,\"C\")+SUMIFS('FII-Lançamentos'!C:C,'FII-Lançamentos'!D:D,$A116,'FII-Lançamentos'!B:B,\"V\")","v":0},{"$f":"IF(C116=0,0,SUMIFS('FII-Lançamentos'!K:K,'FII-Lançamentos'!D:D,$A116,'FII-Lançamentos'!B:B,\"C\")-SUMIFS('FII-Lançamentos'!K:K,'FII-Lançamentos'!D:D,$A116,'FII-Lançamentos'!B:B,\"V\"))","v":0},0,null,{"$f":"IFERROR(VLOOKUP(A116,Cotações!B:C,2,FALSE),\"\")","v":""},0,0,null,null,0,null,0,0,null,{"$f":"IF(OR(A116=\"\",A116=\"(vazio)\"),0,IFERROR(LOOKUP(2,1/('FII-Lançamentos'!D:D=A116),'FII-Lançamentos'!O:O),0))","v":0},null,0,null,null,null,null,null,null,"",{"$f":"IF(A116=\"\",\"\",IFERROR(LOOKUP(2,1/('FII-Recebidos'!D:D=A116),'FII-Recebidos'!C:C),\"\"))","v":""},"",""]
[null,null,{"$f":"SUMIFS('FII-Lançamentos'!C:C,'FII-Lançamentos'!D:D,$A117,'FII-Lançamentos'!B:B,\"C\")+SUMIFS('FII-Lançamentos'!C:C,'FII-Lançamentos'!D:D,$A117,'FII-Lançamentos'!B:B,\"V\")","v":0},{"$f":"IF(C117=0,0,SUMIFS('FII-Lançamentos'!K:K,'FII-Lançamentos'!D:D,$A117,'FII-Lançamentos'!B:B,\"C\")-SUMIFS('FII-Lançamentos'!K:K,'FII-Lançamentos'!D:D,$A117,'FII-Lançamentos'!B:B,\"V\"))","v":0},0,null,{"$f":"IFERROR(VLOOKUP(A117,Cotações!B:C,2,FALSE),\"\")","v":""},0,0,null,null,0,null,0,0,null,{"$f":"IF(OR(A117=\"\",A117=\"(vazio)\"),0,IFERROR(LOOKUP(2,1/('FII-Lançamentos'!D:D=A117),'FII-Lançamentos'!O:O),0))","v":0},null,0,null,null,null,null,null,null,"",{"$f":"IF(A117=\"\",\"\",IFERROR(LOOKUP(2,1/('FII-Recebidos'!D:D=A117),'FII-Recebidos'!C:C),\"\"))","v":""},"",""]
[null,null,{"$f":"SUMIFS('FII-Lançamentos'!C:C,'FII-Lançamentos'!D:D,$A118,'FII-Lançamentos'!B:B,\"C\")+SUMIFS('FII-Lançamentos'!C:C,'FII-Lançamentos'!D:D,$A118,'FII-Lançamentos'!B:B,\"V\")","v":0},{"$f":"IF(C118=0,0,SUMIFS('FII-Lançamentos'!K:K,'FII-Lançamentos'!D:D,$A118,'FII-Lançamentos'!B:B,\"C\")-SUMIFS('FII-Lançamentos'!K:K,'FII-Lançamentos'!D:D,$A118,'FII-Lançamentos'!B:B,\"V\"))","v":0},0,null,{"$f":"IFERROR(VLOOKUP(A118,Cotações!B:C,2,FALSE),\"\")","v":""},0,0,null,null,0,null,0,0,null,{"$f":"IF(OR(A118=\"\",A118=\"(vazio)\"),0,IFERROR(LOOKUP(2,1/('FII-Lançamentos'!D:D=A118),'FII-Lançamentos'!O:O),0))","v":0},null,0,null,null,null,null,null,null,"",{"$f":"IF(A118=\"\",\"\",IFERROR(LOOKUP(2,1/('FII-Recebidos'!D:D=A118),'FII-Recebidos'!C:C),\"\"))","v":""},"",""]
[null,null,{"$f":"SUMIFS('FII-Lançamentos'!C:C,'FII-Lançamentos'!D:D,$A119,'FII-Lançamentos'!B:B,\"C\")+SUMIFS('FII-Lançamentos'!C:C,'FII-Lançamentos'!D:D,$A119,'FII-Lançamentos'!B:B,\"V\")","v":0},{"$f":"IF(C119=0,0,SUMIFS('FII-Lançamentos'!K:K,'FII-Lançamentos'!D:D,$A119,'FII-Lançamentos'!B:B,\"C\")-SUMIFS('FII-Lançamentos'!K:K,'FII-Lançamentos'!D:D,$A119,'FII-Lançamentos'!B:B,\"V\"))","v":0},0,null,{"$f":"IFERROR(VLOOKUP(A119,Cotações!B:C,2,FALSE),\"\")","v":""},0,0,null,null,0,null,0,0,null,{"$f":"IF(OR(A119=\"\",A119=\"(vazio)\"),0,IFERROR(LOOKUP(2,1/('FII-Lançamentos'!D:D=A119),'FII-Lançamentos'!O:O),0))","v":0},null,0,null,null,null,null,null,null,"",{"$f":"IF(A119=\"\",\"\",IFERROR(LOOKUP(2,1/('FII-Recebidos'!D:D=A119),'FII-Recebidos'!C:C),\"\"))","v":""},"",""]
[null,null,{"$f":"SUMIFS('FII-Lançamentos'!C:C,'FII-Lançamentos'!D:D,$A120,'FII-Lançamentos'!B:B,\"C\")+SUMIFS('FII-Lançamentos'!C:C,'FII-Lançamentos'!D:D,$A120,'FII-Lançamentos'!B:B,\"V\")","v":0},{"$f":"IF(C120=0,0,SUMIFS('FII-Lançamentos'!K:K,'FII-Lançamentos'!D:D,$A120,'FII-Lançamentos'!B:B,\"C\")-SUMIFS('FII-Lançamentos'!K:K,'FII-Lançamentos'!D:D,$A120,'FII-Lançamentos'!B:B,\"V\"))","v":0},0,null,{"$f":"IFERROR(VLOOKUP(A120,Cotações!B:C,2,FALSE),\"\")","v":""},0,0,null,null,0,null,0,0,null,{"$f":"IF(OR(A120=\"\",A120=\"(vazio)\"),0,IFERROR(LOOKUP(2,1/('FII-Lançamentos'!D:D=A120),'FII-Lançamentos'!O:O),0))","v":0},null,0,null,null,null,null,null,null,"",{"$f":"IF(A120=\"\",\"\",IFERROR(LOOKUP(2,1/('FII-Recebidos'!D:D=A120),'FII-Recebidos'!C:C),\"\"))","v":""},"",""]
[null,null,{"$f":"SUMIFS('FII-Lançamentos'!C:C,'FII-Lançamentos'!D:D,$A121,'FII-Lançamentos'!B:B,\"C\")+SUMIFS('FII-Lançamentos'!C:C,'FII-Lançamentos'!D:D,$A121,'FII-Lançamentos'!B:B,\"V\")","v":0},{"$f":"IF(C121=0,0,SUMIFS('FII-Lançamentos'!K:K,'FII-Lançamentos'!D:D,$A121,'FII-Lançamentos'!B:B,\"C\")-SUMIFS('FII-Lançamentos'!K:K,'FII-Lançamentos'!D:D,$A121,'FII-Lançamentos'!B:B,\"V\"))","v":0},0,null,{"$f":"IFERROR(VLOOKUP(A121,Cotações!B:C,2,FALSE),\"\")","v":""},0,0,null,null,0,null,0,0,null,{"$f":"IF(OR(A121=\"\",A121=\"(vazio)\"),0,IFERROR(LOOKUP(2,1/('FII-Lançamentos'!D:D=A121),'FII-Lançamentos'!O:O),0))","v":0},null,0,null,null,null,null,null,null,"",{"$f":"IF(A121=\"\",\"\",IFERROR(LOOKUP(2,1/('FII-Recebidos'!D:D=A121),'FII-Recebidos'!C:C),\"\"))","v":""},"",""]
[null,null,{"$f":"SUMIFS('FII-Lançamentos'!C:C,'FII-Lançamentos'!D:D,$A122,'FII-Lançamentos'!B:B,\"C\")+SUMIFS('FII-Lançamentos'!C:C,'FII-Lançamentos'!D:D,$A122,'FII-Lançamentos'!B:B,\"V\")","v":0},{"$f":"IF(C122=0,0,SUMIFS('FII-Lançamentos'!K:K,'FII-Lançamentos'!D:D,$A122,'FII-Lançamentos'!B:B,\"C\")-SUMIFS('FII-Lançamentos'!K:K,'FII-Lançamentos'!D:D,$A122,'FII-Lançamentos'!B:B,\"V\"))","v":0},0,null,{"$f":"IFERROR(VLOOKUP(A122,Cotações!B:C,2,FALSE),\"\")","v":""},0,0,null,null,0,null,0,0,null,{"$f":"IF(OR(A122=\"\",A122=\"(vazio)\"),0,IFERROR(LOOKUP(2,1/('FII-Lançamentos'!D:D=A122),'FII-Lançamentos'!O:O),0))","v":0},null,0,null,null,null,null,null,null,"",{"$f":"IF(A122=\"\",\"\",IFERROR(LOOKUP(2,1/('FII-Recebidos'!D:D=A122),'FII-Recebidos'!C:C),\"\"))","v":""},"",""]
[null,null,{"$f":"SUMIFS('FII-Lançamentos'!C:C,'FII-Lançamentos'!D:D,$A123,'FII-Lançamentos'!B:B,\"C\")+SUMIFS('FII-Lançamentos'!C:C,'FII-Lançamentos'!D:D,$A123,'FII-Lançamentos'!B:B,\"V\")","v":0},{"$f":"IF(C123=0,0,SUMIFS('FII-Lançamentos'!K:K,'FII-Lançamentos'!D:D,$A123,'FII-Lançamentos'!B:B,\"C\")-SUMIFS('FII-Lançamentos'!K:K,'FII-Lançamentos'!D:D,$A123,'FII-Lançamentos'!B:B,\"V\"))","v":0},0,null,{"$f":"IFERROR(VLOOKUP(A123,Cotações!B:C,2,FALSE),\"\")","v":""},0,0,null,null,0,null,0,0,null,{"$f":"IF(OR(A123=\"\",A123=\"(vazio)\"),0,IFERROR(LOOKUP(2,1/('FII-Lançamentos'!D:D=A123),'FII-Lançamentos'!O:O),0))","v":0},null,0,null,null,null,null,null,null,"",{"$f":"IF(A123=\"\",\"\",IFERROR(LOOKUP(2,1/('FII-Recebidos'!D:D=A123),'FII-Recebidos'!C:C),\"\"))","v":""},"",""]
[null,null,{"$f":"SUMIFS('FII-Lançamentos'!C:C,'FII-Lançamentos'!D:D,$A124,'FII-Lançamentos'!B:B,\"C\")+SUMIFS('FII-Lançamentos'!C:C,'FII-Lançamentos'!D:D,$A124,'FII-Lançamentos'!B:B,\"V\")","v":0},{"$f":"IF(C124=0,0,SUMIFS('FII-Lançamentos'!K:K,'FII-Lançamentos'!D:D,$A124,'FII-Lançamentos'!B:B,\"C\")-SUMIFS('FII-Lançamentos'!K:K,'FII-Lançamentos'!D:D,$A124,'FII-Lançamentos'!B:B,\"V\"))","v":0},0,null,{"$f":"IFERROR(VLOOKUP(A124,Cotações!B:C,2,FALSE),\"\")","v":""},0,0,null,null,0,null,0,0,null,{"$f":"IF(OR(A124=\"\",A124=\"(vazio)\"),0,IFERROR(LOOKUP(2,1/('FII-Lançamentos'!D:D=A124),'FII-Lançamentos'!O:O),0))","v":0},null,0,null,null,null,null,null,null,"",{"$f":"IF(A124=\"\",\"\",IFERROR(LOOKUP(2,1/('FII-Recebidos'!D:D=A124),'FII-Recebidos'!C:C),\"\"))","v":""},"",""]
[null,null,{"$f":"SUMIFS('FII-Lançamentos'!C:C,'FII-Lançamentos'!D:D,$A125,'FII-Lançamentos'!B:B,\"C\")+SUMIFS('FII-Lançamentos'!C:C,'FII-Lançamentos'!D:D,$A125,'FII-Lançamentos'!B:B,\"V\")","v":0},{"$f":"IF(C125=0,0,SUMIFS('FII-Lançamentos'!K:K,'FII-Lançamentos'!D:D,$A125,'FII-Lançamentos'!B:B,\"C\")-SUMIFS('FII-Lançamentos'!K:K,'FII-Lançamentos'!D:D,$A125,'FII-Lançamentos'!B:B,\"V\"))","v":0},0,null,{"$f":"IFERROR(VLOOKUP(A125,Cotações!B:C,2,FALSE),\"\")","v":""},0,0,null,null,0,null,0,0,null,{"$f":"IF(OR(A125=\"\",A125=\"(vazio)\"),0,IFERROR(LOOKUP(2,1/('FII-Lançamentos'!D:D=A125),'FII-Lançamentos'!O:O),0))","v":0},null,0,null,null,null,null,null,null,"",{"$f":"IF(A125=\"\",\"\",IFERROR(LOOKUP(2,1/('FII-Recebidos'!D:D=A125),'FII-Recebidos'!C:C),\"\"))","v":""},"",""]
[null,null,{"$f":"SUMIFS('FII-Lançamentos'!C:C,'FII-Lançamentos'!D:D,$A126,'FII-Lançamentos'!B:B,\"C\")+SUMIFS('FII-Lançamentos'!C:C,'FII-Lançamentos'!D:D,$A126,'FII-Lançamentos'!B:B,\"V\")","v":0},{"$f":"IF(C126=0,0,SUMIFS('FII-Lançamentos'!K:K,'FII-Lançamentos'!D:D,$A126,'FII-Lançamentos'!B:B,\"C\")-SUMIFS('FII-Lançamentos'!K:K,'FII-Lançamentos'!D:D,$A126,'FII-Lançamentos'!B:B,\"V\"))","v":0},0,null,{"$f":"IFERROR(VLOOKUP(A126,Cotações!B:C,2,FALSE),\"\")","v":""},0,0,null,null,0,null,0,0,null,{"$f":"IF(OR(A126=\"\",A126=\"(vazio)\"),0,IFERROR(LOOKUP(2,1/('FII-Lançamentos'!D:D=A126),'FII-Lançamentos'!O:O),0))","v":0},null,0,null,null,null,null,null,null,"",{"$f":"IF(A126=\"\",\"\",IFERROR(LOOKUP(2,1/('FII-Recebidos'!D:D=A126),'FII-Recebidos'!C:C),\"\"))","v":""},"",""]
[null,null,{"$f":"SUMIFS('FII-Lançamentos'!C:C,'FII-Lançamentos'!D:D,$A127,'FII-Lançamentos'!B:B,\"C\")+SUMIFS('FII-Lançamentos'!C:C,'FII-Lançamentos'!D:D,$A127,'FII-Lançamentos'!B:B,\"V\")","v":0},{"$f":"IF(C127=0,0,SUMIFS('FII-Lançamentos'!K:K,'FII-Lançamentos'!D:D,$A127,'FII-Lançamentos'!B:B,\"C\")-SUMIFS('FII-Lançamentos'!K:K,'FII-Lançamentos'!D:D,$A127,'FII-Lançamentos'!B:B,\"V\"))","v":0},0,null,{"$f":"IFERROR(VLOOKUP(A127,Cotações!B:C,2,FALSE),\"\")","v":""},0,0,null,null,0,null,0,0,null,{"$f":"IF(OR(A127=\"\",A127=\"(vazio)\"),0,IFERROR(LOOKUP(2,1/('FII-Lançamentos'!D:D=A127),'FII-Lançamentos'!O:O),0))","v":0},null,0,null,null,null,null,null,null,"",{"$f":"IF(A127=\"\",\"\",IFERROR(LOOKUP(2,1/('FII-Recebidos'!D:D=A127),'FII-Recebidos'!C:C),\"\"))","v":""},"",""]
[null,null,{"$f":"SUMIFS('FII-Lançamentos'!C:C,'FII-Lançamentos'!D:D,$A128,'FII-Lançamentos'!B:B,\"C\")+SUMIFS('FII-Lançamentos'!C:C,'FII-Lançamentos'!D:D,$A128,'FII-Lançamentos'!B:B,\"V\")","v":0},{"$f":"IF(C128=0,0,SUMIFS('FII-Lançamentos'!K:K,'FII-Lançamentos'!D:D,$A128,'FII-Lançamentos'!B:B,\"C\")-SUMIFS('FII-Lançamentos'!K:K,'FII-Lançamentos'!D:D,$A128,'FII-Lançamentos'!B:B,\"V\"))","v":0},0,null,{"$f":"IFERROR(VLOOKUP(A128,Cotações!B:C,2,FALSE),\"\")","v":""},0,0,null,null,0,null,0,0,null,{"$f":"IF(OR(A128=\"\",A128=\"(vazio)\"),0,IFERROR(LOOKUP(2,1/('FII-Lançamentos'!D:D=A128),'FII-Lançamentos'!O:O),0))","v":0},null,0,null,null,null,null,null,null,"",{"$f":"IF(A128=\"\",\"\",IFERROR(LOOKUP(2,1/('FII-Recebidos'!D:D=A128),'FII-Recebidos'!C:C),\"\"))","v":""},"",""]
[null,null,{"$f":"SUMIFS('FII-Lançamentos'!C:C,'FII-Lançamentos'!D:D,$A129,'FII-Lançamentos'!B:B,\"C\")+SUMIFS('FII-Lançamentos'!C:C,'FII-Lançamentos'!D:D,$A129,'FII-Lançamentos'!B:B,\"V\")","v":0},{"$f":"IF(C129=0,0,SUMIFS('FII-Lançamentos'!K:K,'FII-Lançamentos'!D:D,$A129,'FII-Lançamentos'!B:B,\"C\")-SUMIFS('FII-Lançamentos'!K:K,'FII-Lançamentos'!D:D,$A129,'FII-Lançamentos'!B:B,\"V\"))","v":0},0,null,{"$f":"IFERROR(VLOOKUP(A129,Cotações!B:C,2,FALSE),\"\")","v":""},0,0,null,null,0,null,0,0,null,{"$f":"IF(OR(A129=\"\",A129=\"(vazio)\"),0,IFERROR(LOOKUP(2,1/('FII-Lançamentos'!D:D=A129),'FII-Lançamentos'!O:O),0))","v":0},null,0,null,null,null,null,null,null,"",{"$f":"IF(A129=\"\",\"\",IFERROR(LOOKUP(2,1/('FII-Recebidos'!D:D=A129),'FII-Recebidos'!C:C),\"\"))","v":""},"",""]
[null,null,{"$f":"SUMIFS('FII-Lançamentos'!C:C,'FII-Lançamentos'!D:D,$A130,'FII-Lançamentos'!B:B,\"C\")+SUMIFS('FII-Lançamentos'!C:C,'FII-Lançamentos'!D:D,$A130,'FII-Lançamentos'!B:B,\"V\")","v":0},{"$f":"IF(C130=0,0,SUMIFS('FII-Lançamentos'!K:K,'FII-Lançamentos'!D:D,$A130,'FII-Lançamentos'!B:B,\"C\")-SUMIFS('FII-Lançamentos'!K:K,'FII-Lançamentos'!D:D,$A130,'FII-Lançamentos'!B:B,\"V\"))","v":0},0,null,{"$f":"IFERROR(VLOOKUP(A130,Cotações!B:C,2,FALSE),\"\")","v":""},0,0,null,null,0,null,0,0,null,{"$f":"IF(OR(A130=\"\",A130=\"(vazio)\"),0,IFERROR(LOOKUP(2,1/('FII-Lançamentos'!D:D=A130),'FII-Lançamentos'!O:O),0))","v":0},null,0,null,null,null,null,null,null,"",{"$f":"IF(A130=\"\",\"\",IFERROR(LOOKUP(2,1/('FII-Recebidos'!D:D=A130),'FII-Recebidos'!C:C),\"\"))","v":""},"",""]
[null,null,{"$f":"SUMIFS('FII-Lançamentos'!C:C,'FII-Lançamentos'!D:D,$A131,'FII-Lançamentos'!B:B,\"C\")+SUMIFS('FII-Lançamentos'!C:C,'FII-Lançamentos'!D:D,$A131,'FII-Lançamentos'!B:B,\"V\")","v":0},{"$f":"IF(C131=0,0,SUMIFS('FII-Lançamentos'!K:K,'FII-Lançamentos'!D:D,$A131,'FII-Lançamentos'!B:B,\"C\")-SUMIFS('FII-Lançamentos'!K:K,'FII-Lançamentos'!D:D,$A131,'FII-Lançamentos'!B:B,\"V\"))","v":0},0,null,{"$f":"IFERROR(VLOOKUP(A131,Cotações!B:C,2,FALSE),\"\")","v":""},0,0,null,null,0,null,0,0,null,{"$f":"IF(OR(A131=\"\",A131=\"(vazio)\"),0,IFERROR(LOOKUP(2,1/('FII-Lançamentos'!D:D=A131),'FII-Lançamentos'!O:O),0))","v":0},null,0,null,null,null,null,null,null,"",{"$f":"IF(A131=\"\",\"\",IFERROR(LOOKUP(2,1/('FII-Recebidos'!D:D=A131),'FII-Recebidos'!C:C),\"\"))","v":""},"",""]
[null,null,{"$f":"SUMIFS('FII-Lançamentos'!C:C,'FII-Lançamentos'!D:D,$A132,'FII-Lançamentos'!B:B,\"C\")+SUMIFS('FII-Lançamentos'!C:C,'FII-Lançamentos'!D:D,$A132,'FII-Lançamentos'!B:B,\"V\")","v":0},{"$f":"IF(C132=0,0,SUMIFS('FII-Lançamentos'!K:K,'FII-Lançamentos'!D:D,$A132,'FII-Lançamentos'!B:B,\"C\")-SUMIFS('FII-Lançamentos'!K:K,'FII-Lançamentos'!D:D,$A132,'FII-Lançamentos'!B:B,\"V\"))","v":0},{"$f":"IF(OR(D132=0,$V$9=0),0,D132/$V$9)","v":0},null,{"$f":"IFERROR(VLOOKUP(A132,Cotações!B:C,2,FALSE),\"\")","v":""},{"$f":"IF(C132=\"\",0,IF(G132=\"\",D132,C132*G132))","v":0},{"$f":"IF(fii_at=0,0,H132/$V$11)","v":0},null,null,{"$f":"IF(OR(K132=\"\",I132=\"\",E132=\"\"),0,IF($K$2=\"% ATUAL\",K132-I132,K132-E132))","v":0},null,{"$f":"IF(OR(D132=0,G132=\"\"),0,H132-D132)","v":0},{"$f":"IF(OR(D132=0,G132=\"\"),0,N132/D132)","v":0},null,{"$f":"IF(OR(A132=\"\",A132=\"(vazio)\"),0,IFERROR(LOOKUP(2,1/('FII-Lançamentos'!D:D=A132),'FII-Lançamentos'!O:O),0))","v":0},null,{"$f":"IF(OR(A132=\"\",A132=\"(vazio)\"),0,(C132*Q132))","v":0},null,null,null,null,null,null,"",{"$f":"IF(A132=\"\",\"\",IFERROR(LOOKUP(2,1/('FII-Recebidos'!D:D=A132),'FII-Recebidos'!C:C),\"\"))","v":""},{"$f":"IFERROR(($AA132/$C132/$Q132),\"\")","v":""},{"$f":"IFERROR(($AA132/$C132/$G132),\"\")","v":""}]
[null,null,{"$f":"SUMIFS('FII-Lançamentos'!C:C,'FII-Lançamentos'!D:D,$A133,'FII-Lançamentos'!B:B,\"C\")+SUMIFS('FII-Lançamentos'!C:C,'FII-Lançamentos'!D:D,$A133,'FII-Lançamentos'!B:B,\"V\")","v":0},{"$f":"IF(C133=0,0,SUMIFS('FII-Lançamentos'!K:K,'FII-Lançamentos'!D:D,$A133,'FII-Lançamentos'!B:B,\"C\")-SUMIFS('FII-Lançamentos'!K:K,'FII-Lançamentos'!D:D,$A133,'FII-Lançamentos'!B:B,\"V\"))","v":0},0,null,{"$f":"IFERROR(VLOOKUP(A133,Cotações!B:C,2,FALSE),\"\")","v":""},0,0,null,null,0,null,0,0,null,{"$f":"IF(OR(A133=\"\",A133=\"(vazio)\"),0,IFERROR(LOOKUP(2,1/('FII-Lançamentos'!D:D=A133),'FII-Lançamentos'!O:O),0))","v":0},null,0,null,null,null,null,null,null,"",{"$f":"IF(A133=\"\",\"\",IFERROR(LOOKUP(2,1/('FII-Recebidos'!D:D=A133),'FII-Recebidos'!C:C),\"\"))","v":""},"",""]
[null,null,{"$f":"SUMIFS('FII-Lançamentos'!C:C,'FII-Lançamentos'!D:D,$A134,'FII-Lançamentos'!B:B,\"C\")+SUMIFS('FII-Lançamentos'!C:C,'FII-Lançamentos'!D:D,$A134,'FII-Lançamentos'!B:B,\"V\")","v":0},{"$f":"IF(C134=0,0,SUMIFS('FII-Lançamentos'!K:K,'FII-Lançamentos'!D:D,$A134,'FII-Lançamentos'!B:B,\"C\")-SUMIFS('FII-Lançamentos'!K:K,'FII-Lançamentos'!D:D,$A134,'FII-Lançamentos'!B:B,\"V\"))","v":0},0,null,{"$f":"IFERROR(VLOOKUP(A134,Cotações!B:C,2,FALSE),\"\")","v":""},0,0,null,null,0,null,0,0,null,{"$f":"IF(OR(A134=\"\",A134=\"(vazio)\"),0,IFERROR(LOOKUP(2,1/('FII-Lançamentos'!D:D=A134),'FII-Lançamentos'!O:O),0))","v":0},null,0,null,null,null,null,null,null,"",{"$f":"IF(A134=\"\",\"\",IFERROR(LOOKUP(2,1/('FII-Recebidos'!D:D=A134),'FII-Recebidos'!C:C),\"\"))","v":""},"",""]
[null,null,{"$f":"SUMIFS('FII-Lançamentos'!C:C,'FII-Lançamentos'!D:D,$A135,'FII-Lançamentos'!B:B,\"C\")+SUMIFS('FII-Lançamentos'!C:C,'FII-Lançamentos'!D:D,$A135,'FII-Lançamentos'!B:B,\"V\")","v":0},{"$f":"IF(C135=0,0,SUMIFS('FII-Lançamentos'!K:K,'FII-Lançamentos'!D:D,$A135,'FII-Lançamentos'!B:B,\"C\")-SUMIFS('FII-Lançamentos'!K:K,'FII-Lançamentos'!D:D,$A135,'FII-Lançamentos'!B:B,\"V\"))","v":0},0,null,{"$f":"IFERROR(VLOOKUP(A135,Cotações!B:C,2,FALSE),\"\")","v":""},0,0,null,null,0,null,0,0,null,{"$f":"IF(OR(A135=\"\",A135=\"(vazio)\"),0,IFERROR(LOOKUP(2,1/('FII-Lançamentos'!D:D=A135),'FII-Lançamentos'!O:O),0))","v":0},null,0,null,null,null,null,null,null,"",{"$f":"IF(A135=\"\",\"\",IFERROR(LOOKUP(2,1/('FII-Recebidos'!D:D=A135),'FII-Recebidos'!C:C),\"\"))","v":""},"",""]
[null,null,{"$f":"SUMIFS('FII-Lançamentos'!C:C,'FII-Lançamentos'!D:D,$A136,'FII-Lançamentos'!B:B,\"C\")+SUMIFS('FII-Lançamentos'!C:C,'FII-Lançamentos'!D:D,$A136,'FII-Lançamentos'!B:B,\"V\")","v":0},{"$f":"IF(C136=0,0,SUMIFS('FII-Lançamentos'!K:K,'FII-Lançamentos'!D:D,$A136,'FII-Lançamentos'!B:B,\"C\")-SUMIFS('FII-Lançamentos'!K:K,'FII-Lançamentos'!D:D,$A136,'FII-Lançamentos'!B:B,\"V\"))","v":0},0,null,{"$f":"IFERROR(VLOOKUP(A136,Cotações!B:C,2,FALSE),\"\")","v":""},0,0,null,null,0,null,0,0,null,{"$f":"IF(OR(A136=\"\",A136=\"(vazio)\"),0,IFERROR(LOOKUP(2,1/('FII-Lançamentos'!D:D=A136),'FII-Lançamentos'!O:O),0))","v":0},null,0,null,null,null,null,null,null,"",{"$f":"IF(A136=\"\",\"\",IFERROR(LOOKUP(2,1/('FII-Recebidos'!D:D=A136),'FII-Recebidos'!C:C),\"\"))","v":""},"",""]
[null,null,{"$f":"SUMIFS('FII-Lançamentos'!C:C,'FII-Lançamentos'!D:D,$A137,'FII-Lançamentos'!B:B,\"C\")+SUMIFS('FII-Lançamentos'!C:C,'FII-Lançamentos'!D:D,$A137,'FII-Lançamentos'!B:B,\"V\")","v":0},{"$f":"IF(C137=0,0,SUMIFS('FII-Lançamentos'!K:K,'FII-Lançamentos'!D:D,$A137,'FII-Lançamentos'!B:B,\"C\")-SUMIFS('FII-Lançamentos'!K:K,'FII-Lançamentos'!D:D,$A137,'FII-Lançamentos'!B:B,\"V\"))","v":0},0,null,{"$f":"IFERROR(VLOOKUP(A137,Cotações!B:C,2,FALSE),\"\")","v":""},0,0,null,null,0,null,0,0,null,{"$f":"IF(OR(A137=\"\",A137=\"(vazio)\"),0,IFERROR(LOOKUP(2,1/('FII-Lançamentos'!D:D=A137),'FII-Lançamentos'!O:O),0))","v":0},null,0,null,null,null,null,null,null,"",{"$f":"IF(A137=\"\",\"\",IFERROR(LOOKUP(2,1/('FII-Recebidos'!D:D=A137),'FII-Recebidos'!C:C),\"\"))","v":""},"",""]
[null,null,{"$f":"SUMIFS('FII-Lançamentos'!C:C,'FII-Lançamentos'!D:D,$A138,'FII-Lançamentos'!B:B,\"C\")+SUMIFS('FII-Lançamentos'!C:C,'FII-Lançamentos'!D:D,$A138,'FII-Lançamentos'!B:B,\"V\")","v":0},{"$f":"IF(C138=0,0,SUMIFS('FII-Lançamentos'!K:K,'FII-Lançamentos'!D:D,$A138,'FII-Lançamentos'!B:B,\"C\")-SUMIFS('FII-Lançamentos'!K:K,'FII-Lançamentos'!D:D,$A138,'FII-Lançamentos'!B:B,\"V\"))","v":0},0,null,{"$f":"IFERROR(VLOOKUP(A138,Cotações!B:C,2,FALSE),\"\")","v":""},0,0,null,null,0,null,0,0,null,{"$f":"IF(OR(A138=\"\",A138=\"(vazio)\"),0,IFERROR(LOOKUP(2,1/('FII-Lançamentos'!D:D=A138),'FII-Lançamentos'!O:O),0))","v":0},null,0,null,null,null,null,null,null,"",{"$f":"IF(A138=\"\",\"\",IFERROR(LOOKUP(2,1/('FII-Recebidos'!D:D=A138),'FII-Recebidos'!C:C),\"\"))","v":""},"",""]
[null,null,{"$f":"SUMIFS('FII-Lançamentos'!C:C,'FII-Lançamentos'!D:D,$A139,'FII-Lançamentos'!B:B,\"C\")+SUMIFS('FII-Lançamentos'!C:C,'FII-Lançamentos'!D:D,$A139,'FII-Lançamentos'!B:B,\"V\")","v":0},{"$f":"IF(C139=0,0,SUMIFS('FII-Lançamentos'!K:K,'FII-Lançamentos'!D:D,$A139,'FII-Lançamentos'!B:B,\"C\")-SUMIFS('FII-Lançamentos'!K:K,'FII-Lançamentos'!D:D,$A139,'FII-Lançamentos'!B:B,\"V\"))","v":0},0,null,{"$f":"IFERROR(VLOOKUP(A139,Cotações!B:C,2,FALSE),\"\")","v":""},0,0,null,null,0,null,0,0,null,{"$f":"IF(OR(A139=\"\",A139=\"(vazio)\"),0,IFERROR(LOOKUP(2,1/('FII-Lançamentos'!D:D=A139),'FII-Lançamentos'!O:O),0))","v":0},null,0,null,null,null,null,null,null,"",{"$f":"IF(A139=\"\",\"\",IFERROR(LOOKUP(2,1/('FII-Recebidos'!D:D=A139),'FII-Recebidos'!C:C),\"\"))","v":""},"",""]
[null,null,{"$f":"SUMIFS('FII-Lançamentos'!C:C,'FII-Lançamentos'!D:D,$A140,'FII-Lançamentos'!B:B,\"C\")+SUMIFS('FII-Lançamentos'!C:C,'FII-Lançamentos'!D:D,$A140,'FII-Lançamentos'!B:B,\"V\")","v":0},{"$f":"IF(C140=0,0,SUMIFS('FII-Lançamentos'!K:K,'FII-Lançamentos'!D:D,$A140,'FII-Lançamentos'!B:B,\"C\")-SUMIFS('FII-Lançamentos'!K:K,'FII-Lançamentos'!D:D,$A140,'FII-Lançamentos'!B:B,\"V\"))","v":0},0,null,{"$f":"IFERROR(VLOOKUP(A140,Cotações!B:C,2,FALSE),\"\")","v":""},0,0,null,null,0,null,0,0,null,{"$f":"IF(OR(A140=\"\",A140=\"(vazio)\"),0,IFERROR(LOOKUP(2,1/('FII-Lançamentos'!D:D=A140),'FII-Lançamentos'!O:O),0))","v":0},null,0,null,null,null,null,null,null,"",{"$f":"IF(A140=\"\",\"\",IFERROR(LOOKUP(2,1/('FII-Recebidos'!D:D=A140),'FII-Recebidos'!C:C),\"\"))","v":""},"",""]
[null,null,{"$f":"SUMIFS('FII-Lançamentos'!C:C,'FII-Lançamentos'!D:D,$A141,'FII-Lançamentos'!B:B,\"C\")+SUMIFS('FII-Lançamentos'!C:C,'FII-Lançamentos'!D:D,$A141,'FII-Lançamentos'!B:B,\"V\")","v":0},{"$f":"IF(C141=0,0,SUMIFS('FII-Lançamentos'!K:K,'FII-Lançamentos'!D:D,$A141,'FII-Lançamentos'!B:B,\"C\")-SUMIFS('FII-Lançamentos'!K:K,'FII-Lançamentos'!D:D,$A141,'FII-Lançamentos'!B:B,\"V\"))","v":0},0,null,{"$f":"IFERROR(VLOOKUP(A141,Cotações!B:C,2,FALSE),\"\")","v":""},0,0,null,null,0,null,0,0,null,{"$f":"IF(OR(A141=\"\",A141=\"(vazio)\"),0,IFERROR(LOOKUP(2,1/('FII-Lançamentos'!D:D=A141),'FII-Lançamentos'!O:O),0))","v":0},null,0,null,null,null,null,null,null,"",{"$f":"IF(A141=\"\",\"\",IFERROR(LOOKUP(2,1/('FII-Recebidos'!D:D=A141),'FII-Recebidos'!C:C),\"\"))","v":""},"",""]
[null,null,{"$f":"SUMIFS('FII-Lançamentos'!C:C,'FII-Lançamentos'!D:D,$A142,'FII-Lançamentos'!B:B,\"C\")+SUMIFS('FII-Lançamentos'!C:C,'FII-Lançamentos'!D:D,$A142,'FII-Lançamentos'!B:B,\"V\")","v":0},{"$f":"IF(C142=0,0,SUMIFS('FII-Lançamentos'!K:K,'FII-Lançamentos'!D:D,$A142,'FII-Lançamentos'!B:B,\"C\")-SUMIFS('FII-Lançamentos'!K:K,'FII-Lançamentos'!D:D,$A142,'FII-Lançamentos'!B:B,\"V\"))","v":0},0,null,{"$f":"IFERROR(VLOOKUP(A142,Cotações!B:C,2,FALSE),\"\")","v":""},0,0,null,null,0,null,0,0,null,{"$f":"IF(OR(A142=\"\",A142=\"(vazio)\"),0,IFERROR(LOOKUP(2,1/('FII-Lançamentos'!D:D=A142),'FII-Lançamentos'!O:O),0))","v":0},null,0,null,null,null,null,null,null,"",{"$f":"IF(A142=\"\",\"\",IFERROR(LOOKUP(2,1/('FII-Recebidos'!D:D=A142),'FII-Recebidos'!C:C),\"\"))","v":""},"",""]
[null,null,{"$f":"SUMIFS('FII-Lançamentos'!C:C,'FII-Lançamentos'!D:D,$A143,'FII-Lançamentos'!B:B,\"C\")+SUMIFS('FII-Lançamentos'!C:C,'FII-Lançamentos'!D:D,$A143,'FII-Lançamentos'!B:B,\"V\")","v":0},{"$f":"IF(C143=0,0,SUMIFS('FII-Lançamentos'!K:K,'FII-Lançamentos'!D:D,$A143,'FII-Lançamentos'!B:B,\"C\")-SUMIFS('FII-Lançamentos'!K:K,'FII-Lançamentos'!D:D,$A143,'FII-Lançamentos'!B:B,\"V\"))","v":0},0,null,{"$f":"IFERROR(VLOOKUP(A143,Cotações!B:C,2,FALSE),\"\")","v":""},0,0,null,null,0,null,0,0,null,{"$f":"IF(OR(A143=\"\",A143=\"(vazio)\"),0,IFERROR(LOOKUP(2,1/('FII-Lançamentos'!D:D=A143),'FII-Lançamentos'!O:O),0))","v":0},null,0,null,null,null,null,null,null,"",{"$f":"IF(A143=\"\",\"\",IFERROR(LOOKUP(2,1/('FII-Recebidos'!D:D=A143),'FII-Recebidos'!C:C),\"\"))","v":""},"",""]
[null,null,{"$f":"SUMIFS('FII-Lançamentos'!C:C,'FII-Lançamentos'!D:D,$A144,'FII-Lançamentos'!B:B,\"C\")+SUMIFS('FII-Lançamentos'!C:C,'FII-Lançamentos'!D:D,$A144,'FII-Lançamentos'!B:B,\"V\")","v":0},{"$f":"IF(C144=0,0,SUMIFS('FII-Lançamentos'!K:K,'FII-Lançamentos'!D:D,$A144,'FII-Lançamentos'!B:B,\"C\")-SUMIFS('FII-Lançamentos'!K:K,'FII-Lançamentos'!D:D,$A144,'FII-Lançamentos'!B:B,\"V\"))","v":0},0,null,{"$f":"IFERROR(VLOOKUP(A144,Cotações!B:C,2,FALSE),\"\")","v":""},0,0,null,null,0,null,0,0,null,{"$f":"IF(OR(A144=\"\",A144=\"(vazio)\"),0,IFERROR(LOOKUP(2,1/('FII-Lançamentos'!D:D=A144),'FII-Lançamentos'!O:O),0))","v":0},null,0,null,null,null,null,null,null,"",{"$f":"IF(A144=\"\",\"\",IFERROR(LOOKUP(2,1/('FII-Recebidos'!D:D=A144),'FII-Recebidos'!C:C),\"\"))","v":""},"",""]
[null,null,{"$f":"SUMIFS('FII-Lançamentos'!C:C,'FII-Lançamentos'!D:D,$A145,'FII-Lançamentos'!B:B,\"C\")+SUMIFS('FII-Lançamentos'!C:C,'FII-Lançamentos'!D:D,$A145,'FII-Lançamentos'!B:B,\"V\")","v":0},{"$f":"IF(C145=0,0,SUMIFS('FII-Lançamentos'!K:K,'FII-Lançamentos'!D:D,$A145,'FII-Lançamentos'!B:B,\"C\")-SUMIFS('FII-Lançamentos'!K:K,'FII-Lançamentos'!D:D,$A145,'FII-Lançamentos'!B:B,\"V\"))","v":0},0,null,{"$f":"IFERROR(VLOOKUP(A145,Cotações!B:C,2,FALSE),\"\")","v":""},0,0,null,null,0,null,0,0,null,{"$f":"IF(OR(A145=\"\",A145=\"(vazio)\"),0,IFERROR(LOOKUP(2,1/('FII-Lançamentos'!D:D=A145),'FII-Lançamentos'!O:O),0))","v":0},null,0,null,null,null,null,null,null,"",{"$f":"IF(A145=\"\",\"\",IFERROR(LOOKUP(2,1/('FII-Recebidos'!D:D=A145),'FII-Recebidos'!C:C),\"\"))","v":""},"",""]
[null,null,{"$f":"SUMIFS('FII-Lançamentos'!C:C,'FII-Lançamentos'!D:D,$A146,'FII-Lançamentos'!B:B,\"C\")+SUMIFS('FII-Lançamentos'!C:C,'FII-Lançamentos'!D:D,$A146,'FII-Lançamentos'!B:B,\"V\")","v":0},{"$f":"IF(C146=0,0,SUMIFS('FII-Lançamentos'!K:K,'FII-Lançamentos'!D:D,$A146,'FII-Lançamentos'!B:B,\"C\")-SUMIFS('FII-Lançamentos'!K:K,'FII-Lançamentos'!D:D,$A146,'FII-Lançamentos'!B:B,\"V\"))","v":0},0,null,{"$f":"IFERROR(VLOOKUP(A146,Cotações!B:C,2,FALSE),\"\")","v":""},0,0,null,null,0,null,0,0,null,{"$f":"IF(OR(A146=\"\",A146=\"(vazio)\"),0,IFERROR(LOOKUP(2,1/('FII-Lançamentos'!D:D=A146),'FII-Lançamentos'!O:O),0))","v":0},null,0,null,null,null,null,null,null,"",{"$f":"IF(A146=\"\",\"\",IFERROR(LOOKUP(2,1/('FII-Recebidos'!D:D=A146),'FII-Recebidos'!C:C),\"\"))","v":""},"",""]
[null,null,{"$f":"SUMIFS('FII-Lançamentos'!C:C,'FII-Lançamentos'!D:D,$A147,'FII-Lançamentos'!B:B,\"C\")+SUMIFS('FII-Lançamentos'!C:C,'FII-Lançamentos'!D:D,$A147,'FII-Lançamentos'!B:B,\"V\")","v":0},{"$f":"IF(C147=0,0,SUMIFS('FII-Lançamentos'!K:K,'FII-Lançamentos'!D:D,$A147,'FII-Lançamentos'!B:B,\"C\")-SUMIFS('FII-Lançamentos'!K:K,'FII-Lançamentos'!D:D,$A147,'FII-Lançamentos'!B:B,\"V\"))","v":0},0,null,{"$f":"IFERROR(VLOOKUP(A147,Cotações!B:C,2,FALSE),\"\")","v":""},0,0,null,null,0,null,0,0,null,{"$f":"IF(OR(A147=\"\",A147=\"(vazio)\"),0,IFERROR(LOOKUP(2,1/('FII-Lançamentos'!D:D=A147),'FII-Lançamentos'!O:O),0))","v":0},null,0,null,null,null,null,null,null,"",{"$f":"IF(A147=\"\",\"\",IFERROR(LOOKUP(2,1/('FII-Recebidos'!D:D=A147),'FII-Recebidos'!C:C),\"\"))","v":""},"",""]
[null,null,{"$f":"SUMIFS('FII-Lançamentos'!C:C,'FII-Lançamentos'!D:D,$A148,'FII-Lançamentos'!B:B,\"C\")+SUMIFS('FII-Lançamentos'!C:C,'FII-Lançamentos'!D:D,$A148,'FII-Lançamentos'!B:B,\"V\")","v":0},{"$f":"IF(C148=0,0,SUMIFS('FII-Lançamentos'!K:K,'FII-Lançamentos'!D:D,$A148,'FII-Lançamentos'!B:B,\"C\")-SUMIFS('FII-Lançamentos'!K:K,'FII-Lançamentos'!D:D,$A148,'FII-Lançamentos'!B:B,\"V\"))","v":0},0,null,{"$f":"IFERROR(VLOOKUP(A148,Cotações!B:C,2,FALSE),\"\")","v":""},0,0,null,null,0,null,0,0,null,{"$f":"IF(OR(A148=\"\",A148=\"(vazio)\"),0,IFERROR(LOOKUP(2,1/('FII-Lançamentos'!D:D=A148),'FII-Lançamentos'!O:O),0))","v":0},null,0,null,null,null,null,null,null,"",{"$f":"IF(A148=\"\",\"\",IFERROR(LOOKUP(2,1/('FII-Recebidos'!D:D=A148),'FII-Recebidos'!C:C),\"\"))","v":""},"",""]
[null,null,{"$f":"SUMIFS('FII-Lançamentos'!C:C,'FII-Lançamentos'!D:D,$A149,'FII-Lançamentos'!B:B,\"C\")+SUMIFS('FII-Lançamentos'!C:C,'FII-Lançamentos'!D:D,$A149,'FII-Lançamentos'!B:B,\"V\")","v":0},{"$f":"IF(C149=0,0,SUMIFS('FII-Lançamentos'!K:K,'FII-Lançamentos'!D:D,$A149,'FII-Lançamentos'!B:B,\"C\")-SUMIFS('FII-Lançamentos'!K:K,'FII-Lançamentos'!D:D,$A149,'FII-Lançamentos'!B:B,\"V\"))","v":0},0,null,{"$f":"IFERROR(VLOOKUP(A149,Cotações!B:C,2,FALSE),\"\")","v":""},0,0,null,null,0,null,0,0,null,{"$f":"IF(OR(A149=\"\",A149=\"(vazio)\"),0,IFERROR(LOOKUP(2,1/('FII-Lançamentos'!D:D=A149),'FII-Lançamentos'!O:O),0))","v":0},null,0,null,null,null,null,null,null,"",{"$f":"IF(A149=\"\",\"\",IFERROR(LOOKUP(2,1/('FII-Recebidos'!D:D=A149),'FII-Recebidos'!C:C),\"\"))","v":""},"",""]
[null,null,{"$f":"SUMIFS('FII-Lançamentos'!C:C,'FII-Lançamentos'!D:D,$A150,'FII-Lançamentos'!B:B,\"C\")+SUMIFS('FII-Lançamentos'!C:C,'FII-Lançamentos'!D:D,$A150,'FII-Lançamentos'!B:B,\"V\")","v":0},{"$f":"IF(C150=0,0,SUMIFS('FII-Lançamentos'!K:K,'FII-Lançamentos'!D:D,$A150,'FII-Lançamentos'!B:B,\"C\")-SUMIFS('FII-Lançamentos'!K:K,'FII-Lançamentos'!D:D,$A150,'FII-Lançamentos'!B:B,\"V\"))","v":0},0,null,{"$f":"IFERROR(VLOOKUP(A150,Cotações!B:C,2,FALSE),\"\")","v":""},0,0,null,null,0,null,0,0,null,{"$f":"IF(OR(A150=\"\",A150=\"(vazio)\"),0,IFERROR(LOOKUP(2,1/('FII-Lançamentos'!D:D=A150),'FII-Lançamentos'!O:O),0))","v":0},null,0,null,null,null,null,null,null,"",{"$f":"IF(A150=\"\",\"\",IFERROR(LOOKUP(2,1/('FII-Recebidos'!D:D=A150),'FII-Recebidos'!C:C),\"\"))","v":""},"",""]
[null,null,{"$f":"SUMIFS('FII-Lançamentos'!C:C,'FII-Lançamentos'!D:D,$A151,'FII-Lançamentos'!B:B,\"C\")+SUMIFS('FII-Lançamentos'!C:C,'FII-Lançamentos'!D:D,$A151,'FII-Lançamentos'!B:B,\"V\")","v":0},{"$f":"IF(C151=0,0,SUMIFS('FII-Lançamentos'!K:K,'FII-Lançamentos'!D:D,$A151,'FII-Lançamentos'!B:B,\"C\")-SUMIFS('FII-Lançamentos'!K:K,'FII-Lançamentos'!D:D,$A151,'FII-Lançamentos'!B:B,\"V\"))","v":0},0,null,{"$f":"IFERROR(VLOOKUP(A151,Cotações!B:C,2,FALSE),\"\")","v":""},0,0,null,null,0,null,0,0,null,{"$f":"IF(OR(A151=\"\",A151=\"(vazio)\"),0,IFERROR(LOOKUP(2,1/('FII-Lançamentos'!D:D=A151),'FII-Lançamentos'!O:O),0))","v":0},null,0,null,null,null,null,null,null,"",{"$f":"IF(A151=\"\",\"\",IFERROR(LOOKUP(2,1/('FII-Recebidos'!D:D=A151),'FII-Recebidos'!C:C),\"\"))","v":""},"",""]
[null,null,{"$f":"SUMIFS('FII-Lançamentos'!C:C,'FII-Lançamentos'!D:D,$A152,'FII-Lançamentos'!B:B,\"C\")+SUMIFS('FII-Lançamentos'!C:C,'FII-Lançamentos'!D:D,$A152,'FII-Lançamentos'!B:B,\"V\")","v":0},{"$f":"IF(C152=0,0,SUMIFS('FII-Lançamentos'!K:K,'FII-Lançamentos'!D:D,$A152,'FII-Lançamentos'!B:B,\"C\")-SUMIFS('FII-Lançamentos'!K:K,'FII-Lançamentos'!D:D,$A152,'FII-Lançamentos'!B:B,\"V\"))","v":0},0,null,{"$f":"IFERROR(VLOOKUP(A152,Cotações!B:C,2,FALSE),\"\")","v":""},0,0,null,null,0,null,0,0,null,{"$f":"IF(OR(A152=\"\",A152=\"(vazio)\"),0,IFERROR(LOOKUP(2,1/('FII-Lançamentos'!D:D=A152),'FII-Lançamentos'!O:O),0))","v":0},null,0,null,null,null,null,null,null,"",{"$f":"IF(A152=\"\",\"\",IFERROR(LOOKUP(2,1/('FII-Recebidos'!D:D=A152),'FII-Recebidos'!C:C),\"\"))","v":""},"",""]
[null,null,{"$f":"SUMIFS('FII-Lançamentos'!C:C,'FII-Lançamentos'!D:D,$A153,'FII-Lançamentos'!B:B,\"C\")+SUMIFS('FII-Lançamentos'!C:C,'FII-Lançamentos'!D:D,$A153,'FII-Lançamentos'!B:B,\"V\")","v":0},{"$f":"IF(C153=0,0,SUMIFS('FII-Lançamentos'!K:K,'FII-Lançamentos'!D:D,$A153,'FII-Lançamentos'!B:B,\"C\")-SUMIFS('FII-Lançamentos'!K:K,'FII-Lançamentos'!D:D,$A153,'FII-Lançamentos'!B:B,\"V\"))","v":0},0,null,{"$f":"IFERROR(VLOOKUP(A153,Cotações!B:C,2,FALSE),\"\")","v":""},0,0,null,null,0,null,0,0,null,{"$f":"IF(OR(A153=\"\",A153=\"(vazio)\"),0,IFERROR(LOOKUP(2,1/('FII-Lançamentos'!D:D=A153),'FII-Lançamentos'!O:O),0))","v":0},null,0,null,null,null,null,null,null,"",{"$f":"IF(A153=\"\",\"\",IFERROR(LOOKUP(2,1/('FII-Recebidos'!D:D=A153),'FII-Recebidos'!C:C),\"\"))","v":""},"",""]
[null,null,{"$f":"SUMIFS('FII-Lançamentos'!C:C,'FII-Lançamentos'!D:D,$A154,'FII-Lançamentos'!B:B,\"C\")+SUMIFS('FII-Lançamentos'!C:C,'FII-Lançamentos'!D:D,$A154,'FII-Lançamentos'!B:B,\"V\")","v":0},{"$f":"IF(C154=0,0,SUMIFS('FII-Lançamentos'!K:K,'FII-Lançamentos'!D:D,$A154,'FII-Lançamentos'!B:B,\"C\")-SUMIFS('FII-Lançamentos'!K:K,'FII-Lançamentos'!D:D,$A154,'FII-Lançamentos'!B:B,\"V\"))","v":0},0,null,{"$f":"IFERROR(VLOOKUP(A154,Cotações!B:C,2,FALSE),\"\")","v":""},0,0,null,null,0,null,0,0,null,{"$f":"IF(OR(A154=\"\",A154=\"(vazio)\"),0,IFERROR(LOOKUP(2,1/('FII-Lançamentos'!D:D=A154),'FII-Lançamentos'!O:O),0))","v":0},null,0,null,null,null,null,null,null,"",{"$f":"IF(A154=\"\",\"\",IFERROR(LOOKUP(2,1/('FII-Recebidos'!D:D=A154),'FII-Recebidos'!C:C),\"\"))","v":""},"",""]
[null,null,{"$f":"SUMIFS('FII-Lançamentos'!C:C,'FII-Lançamentos'!D:D,$A155,'FII-Lançamentos'!B:B,\"C\")+SUMIFS('FII-Lançamentos'!C:C,'FII-Lançamentos'!D:D,$A155,'FII-Lançamentos'!B:B,\"V\")","v":0},{"$f":"IF(C155=0,0,SUMIFS('FII-Lançamentos'!K:K,'FII-Lançamentos'!D:D,$A155,'FII-Lançamentos'!B:B,\"C\")-SUMIFS('FII-Lançamentos'!K:K,'FII-Lançamentos'!D:D,$A155,'FII-Lançamentos'!B:B,\"V\"))","v":0},0,null,{"$f":"IFERROR(VLOOKUP(A155,Cotações!B:C,2,FALSE),\"\")","v":""},0,0,null,null,0,null,0,0,null,{"$f":"IF(OR(A155=\"\",A155=\"(vazio)\"),0,IFERROR(LOOKUP(2,1/('FII-Lançamentos'!D:D=A155),'FII-Lançamentos'!O:O),0))","v":0},null,0,null,null,null,null,null,null,"",{"$f":"IF(A155=\"\",\"\",IFERROR(LOOKUP(2,1/('FII-Recebidos'!D:D=A155),'FII-Recebidos'!C:C),\"\"))","v":""},"",""]
[null,null,{"$f":"SUMIFS('FII-Lançamentos'!C:C,'FII-Lançamentos'!D:D,$A156,'FII-Lançamentos'!B:B,\"C\")+SUMIFS('FII-Lançamentos'!C:C,'FII-Lançamentos'!D:D,$A156,'FII-Lançamentos'!B:B,\"V\")","v":0},{"$f":"IF(C156=0,0,SUMIFS('FII-Lançamentos'!K:K,'FII-Lançamentos'!D:D,$A156,'FII-Lançamentos'!B:B,\"C\")-SUMIFS('FII-Lançamentos'!K:K,'FII-Lançamentos'!D:D,$A156,'FII-Lançamentos'!B:B,\"V\"))","v":0},0,null,{"$f":"IFERROR(VLOOKUP(A156,Cotações!B:C,2,FALSE),\"\")","v":""},0,0,null,null,0,null,0,0,null,{"$f":"IF(OR(A156=\"\",A156=\"(vazio)\"),0,IFERROR(LOOKUP(2,1/('FII-Lançamentos'!D:D=A156),'FII-Lançamentos'!O:O),0))","v":0},null,0,null,null,null,null,null,null,"",{"$f":"IF(A156=\"\",\"\",IFERROR(LOOKUP(2,1/('FII-Recebidos'!D:D=A156),'FII-Recebidos'!C:C),\"\"))","v":""},"",""]
[null,null,{"$f":"SUMIFS('FII-Lançamentos'!C:C,'FII-Lançamentos'!D:D,$A157,'FII-Lançamentos'!B:B,\"C\")+SUMIFS('FII-Lançamentos'!C:C,'FII-Lançamentos'!D:D,$A157,'FII-Lançamentos'!B:B,\"V\")","v":0},{"$f":"IF(C157=0,0,SUMIFS('FII-Lançamentos'!K:K,'FII-Lançamentos'!D:D,$A157,'FII-Lançamentos'!B:B,\"C\")-SUMIFS('FII-Lançamentos'!K:K,'FII-Lançamentos'!D:D,$A157,'FII-Lançamentos'!B:B,\"V\"))","v":0},0,null,{"$f":"IFERROR(VLOOKUP(A157,Cotações!B:C,2,FALSE),\"\")","v":""},0,0,null,null,0,null,0,0,null,{"$f":"IF(OR(A157=\"\",A157=\"(vazio)\"),0,IFERROR(LOOKUP(2,1/('FII-Lançamentos'!D:D=A157),'FII-Lançamentos'!O:O),0))","v":0},null,0,null,null,null,null,null,null,"",{"$f":"IF(A157=\"\",\"\",IFERROR(LOOKUP(2,1/('FII-Recebidos'!D:D=A157),'FII-Recebidos'!C:C),\"\"))","v":""},"",""]
[null,null,{"$f":"SUMIFS('FII-Lançamentos'!C:C,'FII-Lançamentos'!D:D,$A158,'FII-Lançamentos'!B:B,\"C\")+SUMIFS('FII-Lançamentos'!C:C,'FII-Lançamentos'!D:D,$A158,'FII-Lançamentos'!B:B,\"V\")","v":0},{"$f":"IF(C158=0,0,SUMIFS('FII-Lançamentos'!K:K,'FII-Lançamentos'!D:D,$A158,'FII-Lançamentos'!B:B,\"C\")-SUMIFS('FII-Lançamentos'!K:K,'FII-Lançamentos'!D:D,$A158,'FII-Lançamentos'!B:B,\"V\"))","v":0},0,null,{"$f":"IFERROR(VLOOKUP(A158,Cotações!B:C,2,FALSE),\"\")","v":""},0,0,null,null,0,null,0,0,null,{"$f":"IF(OR(A158=\"\",A158=\"(vazio)\"),0,IFERROR(LOOKUP(2,1/('FII-Lançamentos'!D:D=A158),'FII-Lançamentos'!O:O),0))","v":0},null,0,null,null,null,null,null,null,{"$f":"IF(K158=\"\",\"\",K158-I158)","v":""},{"$f":"IF(A158=\"\",\"\",IFERROR(LOOKUP(2,1/('FII-Recebidos'!D:D=A158),'FII-Recebidos'!C:C),\"\"))","v":""},"",""]
[null,null,{"$f":"SUMIFS('FII-Lançamentos'!C:C,'FII-Lançamentos'!D:D,$A159,'FII-Lançamentos'!B:B,\"C\")+SUMIFS('FII-Lançamentos'!C:C,'FII-Lançamentos'!D:D,$A159,'FII-Lançamentos'!B:B,\"V\")","v":0},{"$f":"IF(C159=0,0,SUMIFS('FII-Lançamentos'!K:K,'FII-Lançamentos'!D:D,$A159,'FII-Lançamentos'!B:B,\"C\")-SUMIFS('FII-Lançamentos'!K:K,'FII-Lançamentos'!D:D,$A159,'FII-Lançamentos'!B:B,\"V\"))","v":0},0,null,{"$f":"IFERROR(VLOOKUP(A159,Cotações!B:C,2,FALSE),\"\")","v":""},0,0,null,null,0,null,0,0,null,{"$f":"IF(OR(A159=\"\",A159=\"(vazio)\"),0,IFERROR(LOOKUP(2,1/('FII-Lançamentos'!D:D=A159),'FII-Lançamentos'!O:O),0))","v":0},null,0,null,null,null,null,null,null,"",{"$f":"IF(A159=\"\",\"\",IFERROR(LOOKUP(2,1/('FII-Recebidos'!D:D=A159),'FII-Recebidos'!C:C),\"\"))","v":""},"",""]
[null,null,{"$f":"SUMIFS('FII-Lançamentos'!C:C,'FII-Lançamentos'!D:D,$A160,'FII-Lançamentos'!B:B,\"C\")+SUMIFS('FII-Lançamentos'!C:C,'FII-Lançamentos'!D:D,$A160,'FII-Lançamentos'!B:B,\"V\")","v":0},{"$f":"IF(C160=0,0,SUMIFS('FII-Lançamentos'!K:K,'FII-Lançamentos'!D:D,$A160,'FII-Lançamentos'!B:B,\"C\")-SUMIFS('FII-Lançamentos'!K:K,'FII-Lançamentos'!D:D,$A160,'FII-Lançamentos'!B:B,\"V\"))","v":0},0,null,{"$f":"IFERROR(VLOOKUP(A160,Cotações!B:C,2,FALSE),\"\")","v":""},0,0,null,null,0,null,0,0,null,{"$f":"IF(OR(A160=\"\",A160=\"(vazio)\"),0,IFERROR(LOOKUP(2,1/('FII-Lançamentos'!D:D=A160),'FII-Lançamentos'!O:O),0))","v":0},null,0,null,null,null,null,null,null,"",{"$f":"IF(A160=\"\",\"\",IFERROR(LOOKUP(2,1/('FII-Recebidos'!D:D=A160),'FII-Recebidos'!C:C),\"\"))","v":""},"",""]
[null,null,{"$f":"SUMIFS('FII-Lançamentos'!C:C,'FII-Lançamentos'!D:D,$A161,'FII-Lançamentos'!B:B,\"C\")+SUMIFS('FII-Lançamentos'!C:C,'FII-Lançamentos'!D:D,$A161,'FII-Lançamentos'!B:B,\"V\")","v":0},{"$f":"IF(C161=0,0,SUMIFS('FII-Lançamentos'!K:K,'FII-Lançamentos'!D:D,$A161,'FII-Lançamentos'!B:B,\"C\")-SUMIFS('FII-Lançamentos'!K:K,'FII-Lançamentos'!D:D,$A161,'FII-Lançamentos'!B:B,\"V\"))","v":0},0,null,{"$f":"IFERROR(VLOOKUP(A161,Cotações!B:C,2,FALSE),\"\")","v":""},0,0,null,null,0,null,0,0,null,{"$f":"IF(OR(A161=\"\",A161=\"(vazio)\"),0,IFERROR(LOOKUP(2,1/('FII-Lançamentos'!D:D=A161),'FII-Lançamentos'!O:O),0))","v":0},null,0,null,null,null,null,null,null,"",{"$f":"IF(A161=\"\",\"\",IFERROR(LOOKUP(2,1/('FII-Recebidos'!D:D=A161),'FII-Recebidos'!C:C),\"\"))","v":""},"",""]
[null,null,{"$f":"SUMIFS('FII-Lançamentos'!C:C,'FII-Lançamentos'!D:D,$A162,'FII-Lançamentos'!B:B,\"C\")+SUMIFS('FII-Lançamentos'!C:C,'FII-Lançamentos'!D:D,$A162,'FII-Lançamentos'!B:B,\"V\")","v":0},{"$f":"IF(C162=0,0,SUMIFS('FII-Lançamentos'!K:K,'FII-Lançamentos'!D:D,$A162,'FII-Lançamentos'!B:B,\"C\")-SUMIFS('FII-Lançamentos'!K:K,'FII-Lançamentos'!D:D,$A162,'FII-Lançamentos'!B:B,\"V\"))","v":0},0,null,{"$f":"IFERROR(VLOOKUP(A162,Cotações!B:C,2,FALSE),\"\")","v":""},0,0,null,null,0,null,0,0,null,{"$f":"IF(OR(A162=\"\",A162=\"(vazio)\"),0,IFERROR(LOOKUP(2,1/('FII-Lançamentos'!D:D=A162),'FII-Lançamentos'!O:O),0))","v":0},null,0,null,null,null,null,null,null,"",{"$f":"IF(A162=\"\",\"\",IFERROR(LOOKUP(2,1/('FII-Recebidos'!D:D=A162),'FII-Recebidos'!C:C),\"\"))","v":""},"",""]
[null,null,{"$f":"SUMIFS('FII-Lançamentos'!C:C,'FII-Lançamentos'!D:D,$A163,'FII-Lançamentos'!B:B,\"C\")+SUMIFS('FII-Lançamentos'!C:C,'FII-Lançamentos'!D:D,$A163,'FII-Lançamentos'!B:B,\"V\")","v":0},{"$f":"IF(C163=0,0,SUMIFS('FII-Lançamentos'!K:K,'FII-Lançamentos'!D:D,$A163,'FII-Lançamentos'!B:B,\"C\")-SUMIFS('FII-Lançamentos'!K:K,'FII-Lançamentos'!D:D,$A163,'FII-Lançamentos'!B:B,\"V\"))","v":0},0,null,{"$f":"IFERROR(VLOOKUP(A163,Cotações!B:C,2,FALSE),\"\")","v":""},0,0,null,null,0,null,0,0,null,{"$f":"IF(OR(A163=\"\",A163=\"(vazio)\"),0,IFERROR(LOOKUP(2,1/('FII-Lançamentos'!D:D=A163),'FII-Lançamentos'!O:O),0))","v":0},null,0,null,null,null,null,null,null,"",{"$f":"IF(A163=\"\",\"\",IFERROR(LOOKUP(2,1/('FII-Recebidos'!D:D=A163),'FII-Recebidos'!C:C),\"\"))","v":""},"",""]
[null,null,{"$f":"SUMIFS('FII-Lançamentos'!C:C,'FII-Lançamentos'!D:D,$A164,'FII-Lançamentos'!B:B,\"C\")+SUMIFS('FII-Lançamentos'!C:C,'FII-Lançamentos'!D:D,$A164,'FII-Lançamentos'!B:B,\"V\")","v":0},{"$f":"IF(C164=0,0,SUMIFS('FII-Lançamentos'!K:K,'FII-Lançamentos'!D:D,$A164,'FII-Lançamentos'!B:B,\"C\")-SUMIFS('FII-Lançamentos'!K:K,'FII-Lançamentos'!D:D,$A164,'FII-Lançamentos'!B:B,\"V\"))","v":0},0,null,{"$f":"IFERROR(VLOOKUP(A164,Cotações!B:C,2,FALSE),\"\")","v":""},0,0,null,null,0,null,0,0,null,{"$f":"IF(OR(A164=\"\",A164=\"(vazio)\"),0,IFERROR(LOOKUP(2,1/('FII-Lançamentos'!D:D=A164),'FII-Lançamentos'!O:O),0))","v":0},null,0,null,null,null,null,null,null,"",{"$f":"IF(A164=\"\",\"\",IFERROR(LOOKUP(2,1/('FII-Recebidos'!D:D=A164),'FII-Recebidos'!C:C),\"\"))","v":""},"",""]
[null,null,{"$f":"SUMIFS('FII-Lançamentos'!C:C,'FII-Lançamentos'!D:D,$A165,'FII-Lançamentos'!B:B,\"C\")+SUMIFS('FII-Lançamentos'!C:C,'FII-Lançamentos'!D:D,$A165,'FII-Lançamentos'!B:B,\"V\")","v":0},{"$f":"IF(C165=0,0,SUMIFS('FII-Lançamentos'!K:K,'FII-Lançamentos'!D:D,$A165,'FII-Lançamentos'!B:B,\"C\")-SUMIFS('FII-Lançamentos'!K:K,'FII-Lançamentos'!D:D,$A165,'FII-Lançamentos'!B:B,\"V\"))","v":0},0,null,{"$f":"IFERROR(VLOOKUP(A165,Cotações!B:C,2,FALSE),\"\")","v":""},0,0,null,null,0,null,0,0,null,{"$f":"IF(OR(A165=\"\",A165=\"(vazio)\"),0,IFERROR(LOOKUP(2,1/('FII-Lançamentos'!D:D=A165),'FII-Lançamentos'!O:O),0))","v":0},null,0,null,null,null,null,null,null,"",{"$f":"IF(A165=\"\",\"\",IFERROR(LOOKUP(2,1/('FII-Recebidos'!D:D=A165),'FII-Recebidos'!C:C),\"\"))","v":""},"",""]
[null,null,{"$f":"SUMIFS('FII-Lançamentos'!C:C,'FII-Lançamentos'!D:D,$A166,'FII-Lançamentos'!B:B,\"C\")+SUMIFS('FII-Lançamentos'!C:C,'FII-Lançamentos'!D:D,$A166,'FII-Lançamentos'!B:B,\"V\")","v":0},{"$f":"IF(C166=0,0,SUMIFS('FII-Lançamentos'!K:K,'FII-Lançamentos'!D:D,$A166,'FII-Lançamentos'!B:B,\"C\")-SUMIFS('FII-Lançamentos'!K:K,'FII-Lançamentos'!D:D,$A166,'FII-Lançamentos'!B:B,\"V\"))","v":0},0,null,{"$f":"IFERROR(VLOOKUP(A166,Cotações!B:C,2,FALSE),\"\")","v":""},0,0,null,null,0,null,0,0,null,{"$f":"IF(OR(A166=\"\",A166=\"(vazio)\"),0,IFERROR(LOOKUP(2,1/('FII-Lançamentos'!D:D=A166),'FII-Lançamentos'!O:O),0))","v":0},null,0,null,null,null,null,null,null,"",{"$f":"IF(A166=\"\",\"\",IFERROR(LOOKUP(2,1/('FII-Recebidos'!D:D=A166),'FII-Recebidos'!C:C),\"\"))","v":""},"",""]
[null,null,{"$f":"SUMIFS('FII-Lançamentos'!C:C,'FII-Lançamentos'!D:D,$A167,'FII-Lançamentos'!B:B,\"C\")+SUMIFS('FII-Lançamentos'!C:C,'FII-Lançamentos'!D:D,$A167,'FII-Lançamentos'!B:B,\"V\")","v":0},{"$f":"IF(C167=0,0,SUMIFS('FII-Lançamentos'!K:K,'FII-Lançamentos'!D:D,$A167,'FII-Lançamentos'!B:B,\"C\")-SUMIFS('FII-Lançamentos'!K:K,'FII-Lançamentos'!D:D,$A167,'FII-Lançamentos'!B:B,\"V\"))","v":0},0,null,{"$f":"IFERROR(VLOOKUP(A167,Cotações!B:C,2,FALSE),\"\")","v":""},0,0,null,null,0,null,0,0,null,{"$f":"IF(OR(A167=\"\",A167=\"(vazio)\"),0,IFERROR(LOOKUP(2,1/('FII-Lançamentos'!D:D=A167),'FII-Lançamentos'!O:O),0))","v":0},null,0,null,null,null,null,null,null,"",{"$f":"IF(A167=\"\",\"\",IFERROR(LOOKUP(2,1/('FII-Recebidos'!D:D=A167),'FII-Recebidos'!C:C),\"\"))","v":""},"",""]
[null,null,{"$f":"SUMIFS('FII-Lançamentos'!C:C,'FII-Lançamentos'!D:D,$A168,'FII-Lançamentos'!B:B,\"C\")+SUMIFS('FII-Lançamentos'!C:C,'FII-Lançamentos'!D:D,$A168,'FII-Lançamentos'!B:B,\"V\")","v":0},{"$f":"IF(C168=0,0,SUMIFS('FII-Lançamentos'!K:K,'FII-Lançamentos'!D:D,$A168,'FII-Lançamentos'!B:B,\"C\")-SUMIFS('FII-Lançamentos'!K:K,'FII-Lançamentos'!D:D,$A168,'FII-Lançamentos'!B:B,\"V\"))","v":0},0,null,{"$f":"IFERROR(VLOOKUP(A168,Cotações!B:C,2,FALSE),\"\")","v":""},0,0,null,null,0,null,0,0,null,{"$f":"IF(OR(A168=\"\",A168=\"(vazio)\"),0,IFERROR(LOOKUP(2,1/('FII-Lançamentos'!D:D=A168),'FII-Lançamentos'!O:O),0))","v":0},null,0,null,null,null,null,null,null,"",{"$f":"IF(A168=\"\",\"\",IFERROR(LOOKUP(2,1/('FII-Recebidos'!D:D=A168),'FII-Recebidos'!C:C),\"\"))","v":""},"",""]
[null,null,{"$f":"SUMIFS('FII-Lançamentos'!C:C,'FII-Lançamentos'!D:D,$A169,'FII-Lançamentos'!B:B,\"C\")+SUMIFS('FII-Lançamentos'!C:C,'FII-Lançamentos'!D:D,$A169,'FII-Lançamentos'!B:B,\"V\")","v":0},{"$f":"IF(C169=0,0,SUMIFS('FII-Lançamentos'!K:K,'FII-Lançamentos'!D:D,$A169,'FII-Lançamentos'!B:B,\"C\")-SUMIFS('FII-Lançamentos'!K:K,'FII-Lançamentos'!D:D,$A169,'FII-Lançamentos'!B:B,\"V\"))","v":0},0,null,{"$f":"IFERROR(VLOOKUP(A169,Cotações!B:C,2,FALSE),\"\")","v":""},0,0,null,null,0,null,0,0,null,{"$f":"IF(OR(A169=\"\",A169=\"(vazio)\"),0,IFERROR(LOOKUP(2,1/('FII-Lançamentos'!D:D=A169),'FII-Lançamentos'!O:O),0))","v":0},null,0,null,null,null,null,null,null,"",{"$f":"IF(A169=\"\",\"\",IFERROR(LOOKUP(2,1/('FII-Recebidos'!D:D=A169),'FII-Recebidos'!C:C),\"\"))","v":""},"",""]
[null,null,{"$f":"SUMIFS('FII-Lançamentos'!C:C,'FII-Lançamentos'!D:D,$A170,'FII-Lançamentos'!B:B,\"C\")+SUMIFS('FII-Lançamentos'!C:C,'FII-Lançamentos'!D:D,$A170,'FII-Lançamentos'!B:B,\"V\")","v":0},{"$f":"IF(C170=0,0,SUMIFS('FII-Lançamentos'!K:K,'FII-Lançamentos'!D:D,$A170,'FII-Lançamentos'!B:B,\"C\")-SUMIFS('FII-Lançamentos'!K:K,'FII-Lançamentos'!D:D,$A170,'FII-Lançamentos'!B:B,\"V\"))","v":0},0,null,{"$f":"IFERROR(VLOOKUP(A170,Cotações!B:C,2,FALSE),\"\")","v":""},0,0,null,null,0,null,0,0,null,{"$f":"IF(OR(A170=\"\",A170=\"(vazio)\"),0,IFERROR(LOOKUP(2,1/('FII-Lançamentos'!D:D=A170),'FII-Lançamentos'!O:O),0))","v":0},null,0,null,null,null,null,null,null,"",{"$f":"IF(A170=\"\",\"\",IFERROR(LOOKUP(2,1/('FII-Recebidos'!D:D=A170),'FII-Recebidos'!C:C),\"\"))","v":""},"",""]
[null,null,{"$f":"SUMIFS('FII-Lançamentos'!C:C,'FII-Lançamentos'!D:D,$A171,'FII-Lançamentos'!B:B,\"C\")+SUMIFS('FII-Lançamentos'!C:C,'FII-Lançamentos'!D:D,$A171,'FII-Lançamentos'!B:B,\"V\")","v":0},{"$f":"IF(C171=0,0,SUMIFS('FII-Lançamentos'!K:K,'FII-Lançamentos'!D:D,$A171,'FII-Lançamentos'!B:B,\"C\")-SUMIFS('FII-Lançamentos'!K:K,'FII-Lançamentos'!D:D,$A171,'FII-Lançamentos'!B:B,\"V\"))","v":0},0,null,{"$f":"IFERROR(VLOOKUP(A171,Cotações!B:C,2,FALSE),\"\")","v":""},0,0,null,null,0,null,0,0,null,{"$f":"IF(OR(A171=\"\",A171=\"(vazio)\"),0,IFERROR(LOOKUP(2,1/('FII-Lançamentos'!D:D=A171),'FII-Lançamentos'!O:O),0))","v":0},null,0,null,null,null,null,null,null,"",{"$f":"IF(A171=\"\",\"\",IFERROR(LOOKUP(2,1/('FII-Recebidos'!D:D=A171),'FII-Recebidos'!C:C),\"\"))","v":""},"",""]
[null,null,{"$f":"SUMIFS('FII-Lançamentos'!C:C,'FII-Lançamentos'!D:D,$A172,'FII-Lançamentos'!B:B,\"C\")+SUMIFS('FII-Lançamentos'!C:C,'FII-Lançamentos'!D:D,$A172,'FII-Lançamentos'!B:B,\"V\")","v":0},{"$f":"IF(C172=0,0,SUMIFS('FII-Lançamentos'!K:K,'FII-Lançamentos'!D:D,$A172,'FII-Lançamentos'!B:B,\"C\")-SUMIFS('FII-Lançamentos'!K:K,'FII-Lançamentos'!D:D,$A172,'FII-Lançamentos'!B:B,\"V\"))","v":0},0,null,{"$f":"IFERROR(VLOOKUP(A172,Cotações!B:C,2,FALSE),\"\")","v":""},0,0,null,null,0,null,0,0,null,{"$f":"IF(OR(A172=\"\",A172=\"(vazio)\"),0,IFERROR(LOOKUP(2,1/('FII-Lançamentos'!D:D=A172),'FII-Lançamentos'!O:O),0))","v":0},null,0,null,null,null,null,null,null,"",{"$f":"IF(A172=\"\",\"\",IFERROR(LOOKUP(2,1/('FII-Recebidos'!D:D=A172),'FII-Recebidos'!C:C),\"\"))","v":""},"",""]
[null,null,{"$f":"SUMIFS('FII-Lançamentos'!C:C,'FII-Lançamentos'!D:D,$A173,'FII-Lançamentos'!B:B,\"C\")+SUMIFS('FII-Lançamentos'!C:C,'FII-Lançamentos'!D:D,$A173,'FII-Lançamentos'!B:B,\"V\")","v":0},{"$f":"IF(C173=0,0,SUMIFS('FII-Lançamentos'!K:K,'FII-Lançamentos'!D:D,$A173,'FII-Lançamentos'!B:B,\"C\")-SUMIFS('FII-Lançamentos'!K:K,'FII-Lançamentos'!D:D,$A173,'FII-Lançamentos'!B:B,\"V\"))","v":0},0,null,{"$f":"IFERROR(VLOOKUP(A173,Cotações!B:C,2,FALSE),\"\")","v":""},0,0,null,null,0,null,0,0,null,{"$f":"IF(OR(A173=\"\",A173=\"(vazio)\"),0,IFERROR(LOOKUP(2,1/('FII-Lançamentos'!D:D=A173),'FII-Lançamentos'!O:O),0))","v":0},null,0,null,null,null,null,null,null,"",{"$f":"IF(A173=\"\",\"\",IFERROR(LOOKUP(2,1/('FII-Recebidos'!D:D=A173),'FII-Recebidos'!C:C),\"\"))","v":""},"",""]
[null,null,{"$f":"SUMIFS('FII-Lançamentos'!C:C,'FII-Lançamentos'!D:D,$A174,'FII-Lançamentos'!B:B,\"C\")+SUMIFS('FII-Lançamentos'!C:C,'FII-Lançamentos'!D:D,$A174,'FII-Lançamentos'!B:B,\"V\")","v":0},{"$f":"IF(C174=0,0,SUMIFS('FII-Lançamentos'!K:K,'FII-Lançamentos'!D:D,$A174,'FII-Lançamentos'!B:B,\"C\")-SUMIFS('FII-Lançamentos'!K:K,'FII-Lançamentos'!D:D,$A174,'FII-Lançamentos'!B:B,\"V\"))","v":0},0,null,{"$f":"IFERROR(VLOOKUP(A174,Cotações!B:C,2,FALSE),\"\")","v":""},0,0,null,null,0,null,0,0,null,{"$f":"IF(OR(A174=\"\",A174=\"(vazio)\"),0,IFERROR(LOOKUP(2,1/('FII-Lançamentos'!D:D=A174),'FII-Lançamentos'!O:O),0))","v":0},null,0,null,null,null,null,null,null,"",{"$f":"IF(A174=\"\",\"\",IFERROR(LOOKUP(2,1/('FII-Recebidos'!D:D=A174),'FII-Recebidos'!C:C),\"\"))","v":""},"",""]
[null,null,{"$f":"SUMIFS('FII-Lançamentos'!C:C,'FII-Lançamentos'!D:D,$A175,'FII-Lançamentos'!B:B,\"C\")+SUMIFS('FII-Lançamentos'!C:C,'FII-Lançamentos'!D:D,$A175,'FII-Lançamentos'!B:B,\"V\")","v":0},{"$f":"IF(C175=0,0,SUMIFS('FII-Lançamentos'!K:K,'FII-Lançamentos'!D:D,$A175,'FII-Lançamentos'!B:B,\"C\")-SUMIFS('FII-Lançamentos'!K:K,'FII-Lançamentos'!D:D,$A175,'FII-Lançamentos'!B:B,\"V\"))","v":0},0,null,{"$f":"IFERROR(VLOOKUP(A175,Cotações!B:C,2,FALSE),\"\")","v":""},0,0,null,null,0,null,0,0,null,{"$f":"IF(OR(A175=\"\",A175=\"(vazio)\"),0,IFERROR(LOOKUP(2,1/('FII-Lançamentos'!D:D=A175),'FII-Lançamentos'!O:O),0))","v":0},null,0,null,null,null,null,null,null,"",{"$f":"IF(A175=\"\",\"\",IFERROR(LOOKUP(2,1/('FII-Recebidos'!D:D=A175),'FII-Recebidos'!C:C),\"\"))","v":""},"",""]
[null,null,{"$f":"SUMIFS('FII-Lançamentos'!C:C,'FII-Lançamentos'!D:D,$A176,'FII-Lançamentos'!B:B,\"C\")+SUMIFS('FII-Lançamentos'!C:C,'FII-Lançamentos'!D:D,$A176,'FII-Lançamentos'!B:B,\"V\")","v":0},{"$f":"IF(C176=0,0,SUMIFS('FII-Lançamentos'!K:K,'FII-Lançamentos'!D:D,$A176,'FII-Lançamentos'!B:B,\"C\")-SUMIFS('FII-Lançamentos'!K:K,'FII-Lançamentos'!D:D,$A176,'FII-Lançamentos'!B:B,\"V\"))","v":0},0,null,{"$f":"IFERROR(VLOOKUP(A176,Cotações!B:C,2,FALSE),\"\")","v":""},0,0,null,null,0,null,0,0,null,{"$f":"IF(OR(A176=\"\",A176=\"(vazio)\"),0,IFERROR(LOOKUP(2,1/('FII-Lançamentos'!D:D=A176),'FII-Lançamentos'!O:O),0))","v":0},null,0,null,null,null,null,null,null,"",{"$f":"IF(A176=\"\",\"\",IFERROR(LOOKUP(2,1/('FII-Recebidos'!D:D=A176),'FII-Recebidos'!C:C),\"\"))","v":""},"",""]
[null,null,{"$f":"SUMIFS('FII-Lançamentos'!C:C,'FII-Lançamentos'!D:D,$A177,'FII-Lançamentos'!B:B,\"C\")+SUMIFS('FII-Lançamentos'!C:C,'FII-Lançamentos'!D:D,$A177,'FII-Lançamentos'!B:B,\"V\")","v":0},{"$f":"IF(C177=0,0,SUMIFS('FII-Lançamentos'!K:K,'FII-Lançamentos'!D:D,$A177,'FII-Lançamentos'!B:B,\"C\")-SUMIFS('FII-Lançamentos'!K:K,'FII-Lançamentos'!D:D,$A177,'FII-Lançamentos'!B:B,\"V\"))","v":0},0,null,{"$f":"IFERROR(VLOOKUP(A177,Cotações!B:C,2,FALSE),\"\")","v":""},0,0,null,null,0,null,0,0,null,{"$f":"IF(OR(A177=\"\",A177=\"(vazio)\"),0,IFERROR(LOOKUP(2,1/('FII-Lançamentos'!D:D=A177),'FII-Lançamentos'!O:O),0))","v":0},null,0,null,null,null,null,null,null,"",{"$f":"IF(A177=\"\",\"\",IFERROR(LOOKUP(2,1/('FII-Recebidos'!D:D=A177),'FII-Recebidos'!C:C),\"\"))","v":""},"",""]
[null,null,{"$f":"SUMIFS('FII-Lançamentos'!C:C,'FII-Lançamentos'!D:D,$A178,'FII-Lançamentos'!B:B,\"C\")+SUMIFS('FII-Lançamentos'!C:C,'FII-Lançamentos'!D:D,$A178,'FII-Lançamentos'!B:B,\"V\")","v":0},{"$f":"IF(C178=0,0,SUMIFS('FII-Lançamentos'!K:K,'FII-Lançamentos'!D:D,$A178,'FII-Lançamentos'!B:B,\"C\")-SUMIFS('FII-Lançamentos'!K:K,'FII-Lançamentos'!D:D,$A178,'FII-Lançamentos'!B:B,\"V\"))","v":0},0,null,{"$f":"IFERROR(VLOOKUP(A178,Cotações!B:C,2,FALSE),\"\")","v":""},0,0,null,null,0,null,0,0,null,{"$f":"IF(OR(A178=\"\",A178=\"(vazio)\"),0,IFERROR(LOOKUP(2,1/('FII-Lançamentos'!D:D=A178),'FII-Lançamentos'!O:O),0))","v":0},null,0,null,null,null,null,null,null,"",{"$f":"IF(A178=\"\",\"\",IFERROR(LOOKUP(2,1/('FII-Recebidos'!D:D=A178),'FII-Recebidos'!C:C),\"\"))","v":""},"",""]
[null,null,{"$f":"SUMIFS('FII-Lançamentos'!C:C,'FII-Lançamentos'!D:D,$A179,'FII-Lançamentos'!B:B,\"C\")+SUMIFS('FII-Lançamentos'!C:C,'FII-Lançamentos'!D:D,$A179,'FII-Lançamentos'!B:B,\"V\")","v":0},{"$f":"IF(C179=0,0,SUMIFS('FII-Lançamentos'!K:K,'FII-Lançamentos'!D:D,$A179,'FII-Lançamentos'!B:B,\"C\")-SUMIFS('FII-Lançamentos'!K:K,'FII-Lançamentos'!D:D,$A179,'FII-Lançamentos'!B:B,\"V\"))","v":0},0,null,{"$f":"IFERROR(VLOOKUP(A179,Cotações!B:C,2,FALSE),\"\")","v":""},0,0,null,null,0,null,0,0,null,{"$f":"IF(OR(A179=\"\",A179=\"(vazio)\"),0,IFERROR(LOOKUP(2,1/('FII-Lançamentos'!D:D=A179),'FII-Lançamentos'!O:O),0))","v":0},null,0,null,null,null,null,null,null,"",{"$f":"IF(A179=\"\",\"\",IFERROR(LOOKUP(2,1/('FII-Recebidos'!D:D=A179),'FII-Recebidos'!C:C),\"\"))","v":""},"",""]
[null,null,{"$f":"SUMIFS('FII-Lançamentos'!C:C,'FII-Lançamentos'!D:D,$A180,'FII-Lançamentos'!B:B,\"C\")+SUMIFS('FII-Lançamentos'!C:C,'FII-Lançamentos'!D:D,$A180,'FII-Lançamentos'!B:B,\"V\")","v":0},{"$f":"IF(C180=0,0,SUMIFS('FII-Lançamentos'!K:K,'FII-Lançamentos'!D:D,$A180,'FII-Lançamentos'!B:B,\"C\")-SUMIFS('FII-Lançamentos'!K:K,'FII-Lançamentos'!D:D,$A180,'FII-Lançamentos'!B:B,\"V\"))","v":0},0,null,{"$f":"IFERROR(VLOOKUP(A180,Cotações!B:C,2,FALSE),\"\")","v":""},0,0,null,null,0,null,0,0,null,{"$f":"IF(OR(A180=\"\",A180=\"(vazio)\"),0,IFERROR(LOOKUP(2,1/('FII-Lançamentos'!D:D=A180),'FII-Lançamentos'!O:O),0))","v":0},null,0,null,null,null,null,null,null,"",{"$f":"IF(A180=\"\",\"\",IFERROR(LOOKUP(2,1/('FII-Recebidos'!D:D=A180),'FII-Recebidos'!C:C),\"\"))","v":""},"",""]
[null,null,{"$f":"SUMIFS('FII-Lançamentos'!C:C,'FII-Lançamentos'!D:D,$A181,'FII-Lançamentos'!B:B,\"C\")+SUMIFS('FII-Lançamentos'!C:C,'FII-Lançamentos'!D:D,$A181,'FII-Lançamentos'!B:B,\"V\")","v":0},{"$f":"IF(C181=0,0,SUMIFS('FII-Lançamentos'!K:K,'FII-Lançamentos'!D:D,$A181,'FII-Lançamentos'!B:B,\"C\")-SUMIFS('FII-Lançamentos'!K:K,'FII-Lançamentos'!D:D,$A181,'FII-Lançamentos'!B:B,\"V\"))","v":0},0,null,{"$f":"IFERROR(VLOOKUP(A181,Cotações!B:C,2,FALSE),\"\")","v":""},0,0,null,null,0,null,0,0,null,{"$f":"IF(OR(A181=\"\",A181=\"(vazio)\"),0,IFERROR(LOOKUP(2,1/('FII-Lançamentos'!D:D=A181),'FII-Lançamentos'!O:O),0))","v":0},null,0,null,null,null,null,null,null,"",{"$f":"IF(A181=\"\",\"\",IFERROR(LOOKUP(2,1/('FII-Recebidos'!D:D=A181),'FII-Recebidos'!C:C),\"\"))","v":""},"",""]
[null,null,{"$f":"SUMIFS('FII-Lançamentos'!C:C,'FII-Lançamentos'!D:D,$A182,'FII-Lançamentos'!B:B,\"C\")+SUMIFS('FII-Lançamentos'!C:C,'FII-Lançamentos'!D:D,$A182,'FII-Lançamentos'!B:B,\"V\")","v":0},{"$f":"IF(C182=0,0,SUMIFS('FII-Lançamentos'!K:K,'FII-Lançamentos'!D:D,$A182,'FII-Lançamentos'!B:B,\"C\")-SUMIFS('FII-Lançamentos'!K:K,'FII-Lançamentos'!D:D,$A182,'FII-Lançamentos'!B:B,\"V\"))","v":0},0,null,{"$f":"IFERROR(VLOOKUP(A182,Cotações!B:C,2,FALSE),\"\")","v":""},0,0,null,null,0,null,0,0,null,{"$f":"IF(OR(A182=\"\",A182=\"(vazio)\"),0,IFERROR(LOOKUP(2,1/('FII-Lançamentos'!D:D=A182),'FII-Lançamentos'!O:O),0))","v":0},null,0,null,null,null,null,null,null,"",{"$f":"IF(A182=\"\",\"\",IFERROR(LOOKUP(2,1/('FII-Recebidos'!D:D=A182),'FII-Recebidos'!C:C),\"\"))","v":""},"",""]
[null,null,{"$f":"SUMIFS('FII-Lançamentos'!C:C,'FII-Lançamentos'!D:D,$A183,'FII-Lançamentos'!B:B,\"C\")+SUMIFS('FII-Lançamentos'!C:C,'FII-Lançamentos'!D:D,$A183,'FII-Lançamentos'!B:B,\"V\")","v":0},{"$f":"IF(C183=0,0,SUMIFS('FII-Lançamentos'!K:K,'FII-Lançamentos'!D:D,$A183,'FII-Lançamentos'!B:B,\"C\")-SUMIFS('FII-Lançamentos'!K:K,'FII-Lançamentos'!D:D,$A183,'FII-Lançamentos'!B:B,\"V\"))","v":0},0,null,{"$f":"IFERROR(VLOOKUP(A183,Cotações!B:C,2,FALSE),\"\")","v":""},0,0,null,null,0,null,0,0,null,{"$f":"IF(OR(A183=\"\",A183=\"(vazio)\"),0,IFERROR(LOOKUP(2,1/('FII-Lançamentos'!D:D=A183),'FII-Lançamentos'!O:O),0))","v":0},null,0,null,null,null,null,null,null,"",{"$f":"IF(A183=\"\",\"\",IFERROR(LOOKUP(2,1/('FII-Recebidos'!D:D=A183),'FII-Recebidos'!C:C),\"\"))","v":""},"",""]
[null,null,{"$f":"SUMIFS('FII-Lançamentos'!C:C,'FII-Lançamentos'!D:D,$A184,'FII-Lançamentos'!B:B,\"C\")+SUMIFS('FII-Lançamentos'!C:C,'FII-Lançamentos'!D:D,$A184,'FII-Lançamentos'!B:B,\"V\")","v":0},{"$f":"IF(C184=0,0,SUMIFS('FII-Lançamentos'!K:K,'FII-Lançamentos'!D:D,$A184,'FII-Lançamentos'!B:B,\"C\")-SUMIFS('FII-Lançamentos'!K:K,'FII-Lançamentos'!D:D,$A184,'FII-Lançamentos'!B:B,\"V\"))","v":0},0,null,{"$f":"IFERROR(VLOOKUP(A184,Cotações!B:C,2,FALSE),\"\")","v":""},0,0,null,null,0,null,0,0,null,{"$f":"IF(OR(A184=\"\",A184=\"(vazio)\"),0,IFERROR(LOOKUP(2,1/('FII-Lançamentos'!D:D=A184),'FII-Lançamentos'!O:O),0))","v":0},null,0,null,null,null,null,null,null,"",{"$f":"IF(A184=\"\",\"\",IFERROR(LOOKUP(2,1/('FII-Recebidos'!D:D=A184),'FII-Recebidos'!C:C),\"\"))","v":""},"",""]
[null,null,{"$f":"SUMIFS('FII-Lançamentos'!C:C,'FII-Lançamentos'!D:D,$A185,'FII-Lançamentos'!B:B,\"C\")+SUMIFS('FII-Lançamentos'!C:C,'FII-Lançamentos'!D:D,$A185,'FII-Lançamentos'!B:B,\"V\")","v":0},{"$f":"IF(C185=0,0,SUMIFS('FII-Lançamentos'!K:K,'FII-Lançamentos'!D:D,$A185,'FII-Lançamentos'!B:B,\"C\")-SUMIFS('FII-Lançamentos'!K:K,'FII-Lançamentos'!D:D,$A185,'FII-Lançamentos'!B:B,\"V\"))","v":0},0,null,{"$f":"IFERROR(VLOOKUP(A185,Cotações!B:C,2,FALSE),\"\")","v":""},0,0,null,null,0,null,0,0,null,{"$f":"IF(OR(A185=\"\",A185=\"(vazio)\"),0,IFERROR(LOOKUP(2,1/('FII-Lançamentos'!D:D=A185),'FII-Lançamentos'!O:O),0))","v":0},null,0,null,null,null,null,null,null,"",{"$f":"IF(A185=\"\",\"\",IFERROR(LOOKUP(2,1/('FII-Recebidos'!D:D=A185),'FII-Recebidos'!C:C),\"\"))","v":""},"",""]
[null,null,{"$f":"SUMIFS('FII-Lançamentos'!C:C,'FII-Lançamentos'!D:D,$A186,'FII-Lançamentos'!B:B,\"C\")+SUMIFS('FII-Lançamentos'!C:C,'FII-Lançamentos'!D:D,$A186,'FII-Lançamentos'!B:B,\"V\")","v":0},{"$f":"IF(C186=0,0,SUMIFS('FII-Lançamentos'!K:K,'FII-Lançamentos'!D:D,$A186,'FII-Lançamentos'!B:B,\"C\")-SUMIFS('FII-Lançamentos'!K:K,'FII-Lançamentos'!D:D,$A186,'FII-Lançamentos'!B:B,\"V\"))","v":0},0,null,{"$f":"IFERROR(VLOOKUP(A186,Cotações!B:C,2,FALSE),\"\")","v":""},0,0,null,null,0,null,0,0,null,{"$f":"IF(OR(A186=\"\",A186=\"(vazio)\"),0,IFERROR(LOOKUP(2,1/('FII-Lançamentos'!D:D=A186),'FII-Lançamentos'!O:O),0))","v":0},null,0,null,null,null,null,null,null,"",{"$f":"IF(A186=\"\",\"\",IFERROR(LOOKUP(2,1/('FII-Recebidos'!D:D=A186),'FII-Recebidos'!C:C),\"\"))","v":""},"",""]
[null,null,{"$f":"SUMIFS('FII-Lançamentos'!C:C,'FII-Lançamentos'!D:D,$A187,'FII-Lançamentos'!B:B,\"C\")+SUMIFS('FII-Lançamentos'!C:C,'FII-Lançamentos'!D:D,$A187,'FII-Lançamentos'!B:B,\"V\")","v":0},{"$f":"IF(C187=0,0,SUMIFS('FII-Lançamentos'!K:K,'FII-Lançamentos'!D:D,$A187,'FII-Lançamentos'!B:B,\"C\")-SUMIFS('FII-Lançamentos'!K:K,'FII-Lançamentos'!D:D,$A187,'FII-Lançamentos'!B:B,\"V\"))","v":0},0,null,{"$f":"IFERROR(VLOOKUP(A187,Cotações!B:C,2,FALSE),\"\")","v":""},0,0,null,null,0,null,0,0,null,{"$f":"IF(OR(A187=\"\",A187=\"(vazio)\"),0,IFERROR(LOOKUP(2,1/('FII-Lançamentos'!D:D=A187),'FII-Lançamentos'!O:O),0))","v":0},null,0,null,null,null,null,null,null,"",{"$f":"IF(A187=\"\",\"\",IFERROR(LOOKUP(2,1/('FII-Recebidos'!D:D=A187),'FII-Recebidos'!C:C),\"\"))","v":""},"",""]
[null,null,{"$f":"SUMIFS('FII-Lançamentos'!C:C,'FII-Lançamentos'!D:D,$A188,'FII-Lançamentos'!B:B,\"C\")+SUMIFS('FII-Lançamentos'!C:C,'FII-Lançamentos'!D:D,$A188,'FII-Lançamentos'!B:B,\"V\")","v":0},{"$f":"IF(C188=0,0,SUMIFS('FII-Lançamentos'!K:K,'FII-Lançamentos'!D:D,$A188,'FII-Lançamentos'!B:B,\"C\")-SUMIFS('FII-Lançamentos'!K:K,'FII-Lançamentos'!D:D,$A188,'FII-Lançamentos'!B:B,\"V\"))","v":0},0,null,{"$f":"IFERROR(VLOOKUP(A188,Cotações!B:C,2,FALSE),\"\")","v":""},0,0,null,null,0,null,0,0,null,{"$f":"IF(OR(A188=\"\",A188=\"(vazio)\"),0,IFERROR(LOOKUP(2,1/('FII-Lançamentos'!D:D=A188),'FII-Lançamentos'!O:O),0))","v":0},null,0,null,null,null,null,null,null,"",{"$f":"IF(A188=\"\",\"\",IFERROR(LOOKUP(2,1/('FII-Recebidos'!D:D=A188),'FII-Recebidos'!C:C),\"\"))","v":""},"",""]
[null,null,{"$f":"SUMIFS('FII-Lançamentos'!C:C,'FII-Lançamentos'!D:D,$A189,'FII-Lançamentos'!B:B,\"C\")+SUMIFS('FII-Lançamentos'!C:C,'FII-Lançamentos'!D:D,$A189,'FII-Lançamentos'!B:B,\"V\")","v":0},{"$f":"IF(C189=0,0,SUMIFS('FII-Lançamentos'!K:K,'FII-Lançamentos'!D:D,$A189,'FII-Lançamentos'!B:B,\"C\")-SUMIFS('FII-Lançamentos'!K:K,'FII-Lançamentos'!D:D,$A189,'FII-Lançamentos'!B:B,\"V\"))","v":0},0,null,{"$f":"IFERROR(VLOOKUP(A189,Cotações!B:C,2,FALSE),\"\")","v":""},0,0,null,null,0,null,0,0,null,{"$f":"IF(OR(A189=\"\",A189=\"(vazio)\"),0,IFERROR(LOOKUP(2,1/('FII-Lançamentos'!D:D=A189),'FII-Lançamentos'!O:O),0))","v":0},null,0,null,null,null,null,null,null,"",{"$f":"IF(A189=\"\",\"\",IFERROR(LOOKUP(2,1/('FII-Recebidos'!D:D=A189),'FII-Recebidos'!C:C),\"\"))","v":""},"",""]
[null,null,{"$f":"SUMIFS('FII-Lançamentos'!C:C,'FII-Lançamentos'!D:D,$A190,'FII-Lançamentos'!B:B,\"C\")+SUMIFS('FII-Lançamentos'!C:C,'FII-Lançamentos'!D:D,$A190,'FII-Lançamentos'!B:B,\"V\")","v":0},{"$f":"IF(C190=0,0,SUMIFS('FII-Lançamentos'!K:K,'FII-Lançamentos'!D:D,$A190,'FII-Lançamentos'!B:B,\"C\")-SUMIFS('FII-Lançamentos'!K:K,'FII-Lançamentos'!D:D,$A190,'FII-Lançamentos'!B:B,\"V\"))","v":0},0,null,{"$f":"IFERROR(VLOOKUP(A190,Cotações!B:C,2,FALSE),\"\")","v":""},0,0,null,null,0,null,0,0,null,{"$f":"IF(OR(A190=\"\",A190=\"(vazio)\"),0,IFERROR(LOOKUP(2,1/('FII-Lançamentos'!D:D=A190),'FII-Lançamentos'!O:O),0))","v":0},null,0,null,null,null,null,null,null,"",{"$f":"IF(A190=\"\",\"\",IFERROR(LOOKUP(2,1/('FII-Recebidos'!D:D=A190),'FII-Recebidos'!C:C),\"\"))","v":""},"",""]
[null,null,{"$f":"SUMIFS('FII-Lançamentos'!C:C,'FII-Lançamentos'!D:D,$A191,'FII-Lançamentos'!B:B,\"C\")+SUMIFS('FII-Lançamentos'!C:C,'FII-Lançamentos'!D:D,$A191,'FII-Lançamentos'!B:B,\"V\")","v":0},{"$f":"IF(C191=0,0,SUMIFS('FII-Lançamentos'!K:K,'FII-Lançamentos'!D:D,$A191,'FII-Lançamentos'!B:B,\"C\")-SUMIFS('FII-Lançamentos'!K:K,'FII-Lançamentos'!D:D,$A191,'FII-Lançamentos'!B:B,\"V\"))","v":0},0,null,{"$f":"IFERROR(VLOOKUP(A191,Cotações!B:C,2,FALSE),\"\")","v":""},0,0,null,null,0,null,0,0,null,{"$f":"IF(OR(A191=\"\",A191=\"(vazio)\"),0,IFERROR(LOOKUP(2,1/('FII-Lançamentos'!D:D=A191),'FII-Lançamentos'!O:O),0))","v":0},null,0,null,null,null,null,null,null,"",{"$f":"IF(A191=\"\",\"\",IFERROR(LOOKUP(2,1/('FII-Recebidos'!D:D=A191),'FII-Recebidos'!C:C),\"\"))","v":""},"",""]
[null,null,{"$f":"SUMIFS('FII-Lançamentos'!C:C,'FII-Lançamentos'!D:D,$A192,'FII-Lançamentos'!B:B,\"C\")+SUMIFS('FII-Lançamentos'!C:C,'FII-Lançamentos'!D:D,$A192,'FII-Lançamentos'!B:B,\"V\")","v":0},{"$f":"IF(C192=0,0,SUMIFS('FII-Lançamentos'!K:K,'FII-Lançamentos'!D:D,$A192,'FII-Lançamentos'!B:B,\"C\")-SUMIFS('FII-Lançamentos'!K:K,'FII-Lançamentos'!D:D,$A192,'FII-Lançamentos'!B:B,\"V\"))","v":0},0,null,{"$f":"IFERROR(VLOOKUP(A192,Cotações!B:C,2,FALSE),\"\")","v":""},0,0,null,null,0,null,0,0,null,{"$f":"IF(OR(A192=\"\",A192=\"(vazio)\"),0,IFERROR(LOOKUP(2,1/('FII-Lançamentos'!D:D=A192),'FII-Lançamentos'!O:O),0))","v":0},null,0,null,null,null,null,null,null,"",{"$f":"IF(A192=\"\",\"\",IFERROR(LOOKUP(2,1/('FII-Recebidos'!D:D=A192),'FII-Recebidos'!C:C),\"\"))","v":""},"",""]
[null,null,{"$f":"SUMIFS('FII-Lançamentos'!C:C,'FII-Lançamentos'!D:D,$A193,'FII-Lançamentos'!B:B,\"C\")+SUMIFS('FII-Lançamentos'!C:C,'FII-Lançamentos'!D:D,$A193,'FII-Lançamentos'!B:B,\"V\")","v":0},{"$f":"IF(C193=0,0,SUMIFS('FII-Lançamentos'!K:K,'FII-Lançamentos'!D:D,$A193,'FII-Lançamentos'!B:B,\"C\")-SUMIFS('FII-Lançamentos'!K:K,'FII-Lançamentos'!D:D,$A193,'FII-Lançamentos'!B:B,\"V\"))","v":0},0,null,{"$f":"IFERROR(VLOOKUP(A193,Cotações!B:C,2,FALSE),\"\")","v":""},0,0,null,null,0,null,0,0,null,{"$f":"IF(OR(A193=\"\",A193=\"(vazio)\"),0,IFERROR(LOOKUP(2,1/('FII-Lançamentos'!D:D=A193),'FII-Lançamentos'!O:O),0))","v":0},null,0,null,null,null,null,null,null,"",{"$f":"IF(A193=\"\",\"\",IFERROR(LOOKUP(2,1/('FII-Recebidos'!D:D=A193),'FII-Recebidos'!C:C),\"\"))","v":""},"",""]
[null,null,{"$f":"SUMIFS('FII-Lançamentos'!C:C,'FII-Lançamentos'!D:D,$A194,'FII-Lançamentos'!B:B,\"C\")+SUMIFS('FII-Lançamentos'!C:C,'FII-Lançamentos'!D:D,$A194,'FII-Lançamentos'!B:B,\"V\")","v":0},{"$f":"IF(C194=0,0,SUMIFS('FII-Lançamentos'!K:K,'FII-Lançamentos'!D:D,$A194,'FII-Lançamentos'!B:B,\"C\")-SUMIFS('FII-Lançamentos'!K:K,'FII-Lançamentos'!D:D,$A194,'FII-Lançamentos'!B:B,\"V\"))","v":0},0,null,{"$f":"IFERROR(VLOOKUP(A194,Cotações!B:C,2,FALSE),\"\")","v":""},0,0,null,null,0,null,0,0,null,{"$f":"IF(OR(A194=\"\",A194=\"(vazio)\"),0,IFERROR(LOOKUP(2,1/('FII-Lançamentos'!D:D=A194),'FII-Lançamentos'!O:O),0))","v":0},null,0,null,null,null,null,null,null,"",{"$f":"IF(A194=\"\",\"\",IFERROR(LOOKUP(2,1/('FII-Recebidos'!D:D=A194),'FII-Recebidos'!C:C),\"\"))","v":""},"",""]
[null,null,{"$f":"SUMIFS('FII-Lançamentos'!C:C,'FII-Lançamentos'!D:D,$A195,'FII-Lançamentos'!B:B,\"C\")+SUMIFS('FII-Lançamentos'!C:C,'FII-Lançamentos'!D:D,$A195,'FII-Lançamentos'!B:B,\"V\")","v":0},{"$f":"IF(C195=0,0,SUMIFS('FII-Lançamentos'!K:K,'FII-Lançamentos'!D:D,$A195,'FII-Lançamentos'!B:B,\"C\")-SUMIFS('FII-Lançamentos'!K:K,'FII-Lançamentos'!D:D,$A195,'FII-Lançamentos'!B:B,\"V\"))","v":0},0,null,{"$f":"IFERROR(VLOOKUP(A195,Cotações!B:C,2,FALSE),\"\")","v":""},0,0,null,null,0,null,0,0,null,{"$f":"IF(OR(A195=\"\",A195=\"(vazio)\"),0,IFERROR(LOOKUP(2,1/('FII-Lançamentos'!D:D=A195),'FII-Lançamentos'!O:O),0))","v":0},null,0,null,null,null,null,null,null,"",{"$f":"IF(A195=\"\",\"\",IFERROR(LOOKUP(2,1/('FII-Recebidos'!D:D=A195),'FII-Recebidos'!C:C),\"\"))","v":""},"",""]
[null,null,{"$f":"SUMIFS('FII-Lançamentos'!C:C,'FII-Lançamentos'!D:D,$A196,'FII-Lançamentos'!B:B,\"C\")+SUMIFS('FII-Lançamentos'!C:C,'FII-Lançamentos'!D:D,$A196,'FII-Lançamentos'!B:B,\"V\")","v":0},{"$f":"IF(C196=0,0,SUMIFS('FII-Lançamentos'!K:K,'FII-Lançamentos'!D:D,$A196,'FII-Lançamentos'!B:B,\"C\")-SUMIFS('FII-Lançamentos'!K:K,'FII-Lançamentos'!D:D,$A196,'FII-Lançamentos'!B:B,\"V\"))","v":0},{"$f":"IF(OR(D196=0,$V$9=0),0,D196/$V$9)","v":0},null,{"$f":"IFERROR(VLOOKUP(A196,Cotações!B:C,2,FALSE),\"\")","v":""},{"$f":"IF(C196=\"\",0,IF(G196=\"\",D196,C196*G196))","v":0},{"$f":"IF(fii_at=0,0,H196/$V$11)","v":0},null,null,{"$f":"IF(OR(K196=\"\",I196=\"\",E196=\"\"),0,IF($K$2=\"% ATUAL\",K196-I196,K196-E196))","v":0},null,{"$f":"IF(OR(D196=0,G196=\"\"),0,H196-D196)","v":0},{"$f":"IF(OR(D196=0,G196=\"\"),0,N196/D196)","v":0},null,{"$f":"IF(OR(A196=\"\",A196=\"(vazio)\"),0,IFERROR(LOOKUP(2,1/('FII-Lançamentos'!D:D=A196),'FII-Lançamentos'!O:O),0))","v":0},null,{"$f":"IF(OR(A196=\"\",A196=\"(vazio)\"),0,(C196*Q196))","v":0},null,null,null,null,null,null,"",{"$f":"IF(A196=\"\",\"\",IFERROR(LOOKUP(2,1/('FII-Recebidos'!D:D=A196),'FII-Recebidos'!C:C),\"\"))","v":""},{"$f":"IFERROR(($AA196/$C196/$Q196),\"\")","v":""},{"$f":"IFERROR(($AA196/$C196/$G196),\"\")","v":""}]
[null,null,{"$f":"SUMIFS('FII-Lançamentos'!C:C,'FII-Lançamentos'!D:D,$A197,'FII-Lançamentos'!B:B,\"C\")+SUMIFS('FII-Lançamentos'!C:C,'FII-Lançamentos'!D:D,$A197,'FII-Lançamentos'!B:B,\"V\")","v":0},{"$f":"IF(C197=0,0,SUMIFS('FII-Lançamentos'!K:K,'FII-Lançamentos'!D:D,$A197,'FII-Lançamentos'!B:B,\"C\")-SUMIFS('FII-Lançamentos'!K:K,'FII-Lançamentos'!D:D,$A197,'FII-Lançamentos'!B:B,\"V\"))","v":0},0,null,{"$f":"IFERROR(VLOOKUP(A197,Cotações!B:C,2,FALSE),\"\")","v":""},0,0,null,null,0,null,0,0,null,{"$f":"IF(OR(A197=\"\",A197=\"(vazio)\"),0,IFERROR(LOOKUP(2,1/('FII-Lançamentos'!D:D=A197),'FII-Lançamentos'!O:O),0))","v":0},null,0,null,null,null,null,null,null,"",{"$f":"IF(A197=\"\",\"\",IFERROR(LOOKUP(2,1/('FII-Recebidos'!D:D=A197),'FII-Recebidos'!C:C),\"\"))","v":""},"",""]
[null,null,{"$f":"SUMIFS('FII-Lançamentos'!C:C,'FII-Lançamentos'!D:D,$A198,'FII-Lançamentos'!B:B,\"C\")+SUMIFS('FII-Lançamentos'!C:C,'FII-Lançamentos'!D:D,$A198,'FII-Lançamentos'!B:B,\"V\")","v":0},{"$f":"IF(C198=0,0,SUMIFS('FII-Lançamentos'!K:K,'FII-Lançamentos'!D:D,$A198,'FII-Lançamentos'!B:B,\"C\")-SUMIFS('FII-Lançamentos'!K:K,'FII-Lançamentos'!D:D,$A198,'FII-Lançamentos'!B:B,\"V\"))","v":0},0,null,{"$f":"IFERROR(VLOOKUP(A198,Cotações!B:C,2,FALSE),\"\")","v":""},0,0,null,null,0,null,0,0,null,{"$f":"IF(OR(A198=\"\",A198=\"(vazio)\"),0,IFERROR(LOOKUP(2,1/('FII-Lançamentos'!D:D=A198),'FII-Lançamentos'!O:O),0))","v":0},null,0,null,null,null,null,null,null,"",{"$f":"IF(A198=\"\",\"\",IFERROR(LOOKUP(2,1/('FII-Recebidos'!D:D=A198),'FII-Recebidos'!C:C),\"\"))","v":""},"",""]
[null,null,{"$f":"SUMIFS('FII-Lançamentos'!C:C,'FII-Lançamentos'!D:D,$A199,'FII-Lançamentos'!B:B,\"C\")+SUMIFS('FII-Lançamentos'!C:C,'FII-Lançamentos'!D:D,$A199,'FII-Lançamentos'!B:B,\"V\")","v":0},{"$f":"IF(C199=0,0,SUMIFS('FII-Lançamentos'!K:K,'FII-Lançamentos'!D:D,$A199,'FII-Lançamentos'!B:B,\"C\")-SUMIFS('FII-Lançamentos'!K:K,'FII-Lançamentos'!D:D,$A199,'FII-Lançamentos'!B:B,\"V\"))","v":0},0,null,{"$f":"IFERROR(VLOOKUP(A199,Cotações!B:C,2,FALSE),\"\")","v":""},0,0,null,null,0,null,0,0,null,{"$f":"IF(OR(A199=\"\",A199=\"(vazio)\"),0,IFERROR(LOOKUP(2,1/('FII-Lançamentos'!D:D=A199),'FII-Lançamentos'!O:O),0))","v":0},null,0,null,null,null,null,null,null,"",{"$f":"IF(A199=\"\",\"\",IFERROR(LOOKUP(2,1/('FII-Recebidos'!D:D=A199),'FII-Recebidos'!C:C),\"\"))","v":""},"",""]
[null,null,{"$f":"SUMIFS('FII-Lançamentos'!C:C,'FII-Lançamentos'!D:D,$A200,'FII-Lançamentos'!B:B,\"C\")+SUMIFS('FII-Lançamentos'!C:C,'FII-Lançamentos'!D:D,$A200,'FII-Lançamentos'!B:B,\"V\")","v":0},{"$f":"IF(C200=0,0,SUMIFS('FII-Lançamentos'!K:K,'FII-Lançamentos'!D:D,$A200,'FII-Lançamentos'!B:B,\"C\")-SUMIFS('FII-Lançamentos'!K:K,'FII-Lançamentos'!D:D,$A200,'FII-Lançamentos'!B:B,\"V\"))","v":0},0,null,{"$f":"IFERROR(VLOOKUP(A200,Cotações!B:C,2,FALSE),\"\")","v":""},0,0,null,null,0,null,0,0,null,{"$f":"IF(OR(A200=\"\",A200=\"(vazio)\"),0,IFERROR(LOOKUP(2,1/('FII-Lançamentos'!D:D=A200),'FII-Lançamentos'!O:O),0))","v":0},null,0,null,null,null,null,null,null,"",{"$f":"IF(A200=\"\",\"\",IFERROR(LOOKUP(2,1/('FII-Recebidos'!D:D=A200),'FII-Recebidos'!C:C),\"\"))","v":""},"",""]
[null,null,{"$f":"SUMIFS('FII-Lançamentos'!C:C,'FII-Lançamentos'!D:D,$A201,'FII-Lançamentos'!B:B,\"C\")+SUMIFS('FII-Lançamentos'!C:C,'FII-Lançamentos'!D:D,$A201,'FII-Lançamentos'!B:B,\"V\")","v":0},{"$f":"IF(C201=0,0,SUMIFS('FII-Lançamentos'!K:K,'FII-Lançamentos'!D:D,$A201,'FII-Lançamentos'!B:B,\"C\")-SUMIFS('FII-Lançamentos'!K:K,'FII-Lançamentos'!D:D,$A201,'FII-Lançamentos'!B:B,\"V\"))","v":0},0,null,{"$f":"IFERROR(VLOOKUP(A201,Cotações!B:C,2,FALSE),\"\")","v":""},0,0,null,null,0,null,0,0,null,{"$f":"IF(OR(A201=\"\",A201=\"(vazio)\"),0,IFERROR(LOOKUP(2,1/('FII-Lançamentos'!D:D=A201),'FII-Lançamentos'!O:O),0))","v":0},null,0,null,null,null,null,null,null,"",{"$f":"IF(A201=\"\",\"\",IFERROR(LOOKUP(2,1/('FII-Recebidos'!D:D=A201),'FII-Recebidos'!C:C),\"\"))","v":""},"",""]
[null,null,{"$f":"SUMIFS('FII-Lançamentos'!C:C,'FII-Lançamentos'!D:D,$A202,'FII-Lançamentos'!B:B,\"C\")+SUMIFS('FII-Lançamentos'!C:C,'FII-Lançamentos'!D:D,$A202,'FII-Lançamentos'!B:B,\"V\")","v":0},{"$f":"IF(C202=0,0,SUMIFS('FII-Lançamentos'!K:K,'FII-Lançamentos'!D:D,$A202,'FII-Lançamentos'!B:B,\"C\")-SUMIFS('FII-Lançamentos'!K:K,'FII-Lançamentos'!D:D,$A202,'FII-Lançamentos'!B:B,\"V\"))","v":0},0,null,{"$f":"IFERROR(VLOOKUP(A202,Cotações!B:C,2,FALSE),\"\")","v":""},0,0,null,null,0,null,0,0,null,{"$f":"IF(OR(A202=\"\",A202=\"(vazio)\"),0,IFERROR(LOOKUP(2,1/('FII-Lançamentos'!D:D=A202),'FII-Lançamentos'!O:O),0))","v":0},null,0,null,null,null,null,null,null,"",{"$f":"IF(A202=\"\",\"\",IFERROR(LOOKUP(2,1/('FII-Recebidos'!D:D=A202),'FII-Recebidos'!C:C),\"\"))","v":""},"",""]
[null,null,{"$f":"SUMIFS('FII-Lançamentos'!C:C,'FII-Lançamentos'!D:D,$A203,'FII-Lançamentos'!B:B,\"C\")+SUMIFS('FII-Lançamentos'!C:C,'FII-Lançamentos'!D:D,$A203,'FII-Lançamentos'!B:B,\"V\")","v":0},{"$f":"IF(C203=0,0,SUMIFS('FII-Lançamentos'!K:K,'FII-Lançamentos'!D:D,$A203,'FII-Lançamentos'!B:B,\"C\")-SUMIFS('FII-Lançamentos'!K:K,'FII-Lançamentos'!D:D,$A203,'FII-Lançamentos'!B:B,\"V\"))","v":0},0,null,{"$f":"IFERROR(VLOOKUP(A203,Cotações!B:C,2,FALSE),\"\")","v":""},0,0,null,null,0,null,0,0,null,{"$f":"IF(OR(A203=\"\",A203=\"(vazio)\"),0,IFERROR(LOOKUP(2,1/('FII-Lançamentos'!D:D=A203),'FII-Lançamentos'!O:O),0))","v":0},null,0,null,null,null,null,null,null,"",{"$f":"IF(A203=\"\",\"\",IFERROR(LOOKUP(2,1/('FII-Recebidos'!D:D=A203),'FII-Recebidos'!C:C),\"\"))","v":""},"",""]
[null,null,{"$f":"SUMIFS('FII-Lançamentos'!C:C,'FII-Lançamentos'!D:D,$A204,'FII-Lançamentos'!B:B,\"C\")+SUMIFS('FII-Lançamentos'!C:C,'FII-Lançamentos'!D:D,$A204,'FII-Lançamentos'!B:B,\"V\")","v":0},{"$f":"IF(C204=0,0,SUMIFS('FII-Lançamentos'!K:K,'FII-Lançamentos'!D:D,$A204,'FII-Lançamentos'!B:B,\"C\")-SUMIFS('FII-Lançamentos'!K:K,'FII-Lançamentos'!D:D,$A204,'FII-Lançamentos'!B:B,\"V\"))","v":0},0,null,{"$f":"IFERROR(VLOOKUP(A204,Cotações!B:C,2,FALSE),\"\")","v":""},0,0,null,null,0,null,0,0,null,{"$f":"IF(OR(A204=\"\",A204=\"(vazio)\"),0,IFERROR(LOOKUP(2,1/('FII-Lançamentos'!D:D=A204),'FII-Lançamentos'!O:O),0))","v":0},null,0,null,null,null,null,null,null,"",{"$f":"IF(A204=\"\",\"\",IFERROR(LOOKUP(2,1/('FII-Recebidos'!D:D=A204),'FII-Recebidos'!C:C),\"\"))","v":""},"",""]
[null,null,{"$f":"SUMIFS('FII-Lançamentos'!C:C,'FII-Lançamentos'!D:D,$A205,'FII-Lançamentos'!B:B,\"C\")+SUMIFS('FII-Lançamentos'!C:C,'FII-Lançamentos'!D:D,$A205,'FII-Lançamentos'!B:B,\"V\")","v":0},{"$f":"IF(C205=0,0,SUMIFS('FII-Lançamentos'!K:K,'FII-Lançamentos'!D:D,$A205,'FII-Lançamentos'!B:B,\"C\")-SUMIFS('FII-Lançamentos'!K:K,'FII-Lançamentos'!D:D,$A205,'FII-Lançamentos'!B:B,\"V\"))","v":0},0,null,{"$f":"IFERROR(VLOOKUP(A205,Cotações!B:C,2,FALSE),\"\")","v":""},0,0,null,null,0,null,0,0,null,{"$f":"IF(OR(A205=\"\",A205=\"(vazio)\"),0,IFERROR(LOOKUP(2,1/('FII-Lançamentos'!D:D=A205),'FII-Lançamentos'!O:O),0))","v":0},null,0,null,null,null,null,null,null,"",{"$f":"IF(A205=\"\",\"\",IFERROR(LOOKUP(2,1/('FII-Recebidos'!D:D=A205),'FII-Recebidos'!C:C),\"\"))","v":""},"",""]
[null,null,{"$f":"SUMIFS('FII-Lançamentos'!C:C,'FII-Lançamentos'!D:D,$A206,'FII-Lançamentos'!B:B,\"C\")+SUMIFS('FII-Lançamentos'!C:C,'FII-Lançamentos'!D:D,$A206,'FII-Lançamentos'!B:B,\"V\")","v":0},{"$f":"IF(C206=0,0,SUMIFS('FII-Lançamentos'!K:K,'FII-Lançamentos'!D:D,$A206,'FII-Lançamentos'!B:B,\"C\")-SUMIFS('FII-Lançamentos'!K:K,'FII-Lançamentos'!D:D,$A206,'FII-Lançamentos'!B:B,\"V\"))","v":0},0,null,{"$f":"IFERROR(VLOOKUP(A206,Cotações!B:C,2,FALSE),\"\")","v":""},0,0,null,null,0,null,0,0,null,{"$f":"IF(OR(A206=\"\",A206=\"(vazio)\"),0,IFERROR(LOOKUP(2,1/('FII-Lançamentos'!D:D=A206),'FII-Lançamentos'!O:O),0))","v":0},null,0,null,null,null,null,null,null,"",{"$f":"IF(A206=\"\",\"\",IFERROR(LOOKUP(2,1/('FII-Recebidos'!D:D=A206),'FII-Recebidos'!C:C),\"\"))","v":""},"",""]
[null,null,{"$f":"SUMIFS('FII-Lançamentos'!C:C,'FII-Lançamentos'!D:D,$A207,'FII-Lançamentos'!B:B,\"C\")+SUMIFS('FII-Lançamentos'!C:C,'FII-Lançamentos'!D:D,$A207,'FII-Lançamentos'!B:B,\"V\")","v":0},{"$f":"IF(C207=0,0,SUMIFS('FII-Lançamentos'!K:K,'FII-Lançamentos'!D:D,$A207,'FII-Lançamentos'!B:B,\"C\")-SUMIFS('FII-Lançamentos'!K:K,'FII-Lançamentos'!D:D,$A207,'FII-Lançamentos'!B:B,\"V\"))","v":0},0,null,{"$f":"IFERROR(VLOOKUP(A207,Cotações!B:C,2,FALSE),\"\")","v":""},0,0,null,null,0,null,0,0,null,{"$f":"IF(OR(A207=\"\",A207=\"(vazio)\"),0,IFERROR(LOOKUP(2,1/('FII-Lançamentos'!D:D=A207),'FII-Lançamentos'!O:O),0))","v":0},null,0,null,null,null,null,null,null,"",{"$f":"IF(A207=\"\",\"\",IFERROR(LOOKUP(2,1/('FII-Recebidos'!D:D=A207),'FII-Recebidos'!C:C),\"\"))","v":""},"",""]
[null,null,{"$f":"SUMIFS('FII-Lançamentos'!C:C,'FII-Lançamentos'!D:D,$A208,'FII-Lançamentos'!B:B,\"C\")+SUMIFS('FII-Lançamentos'!C:C,'FII-Lançamentos'!D:D,$A208,'FII-Lançamentos'!B:B,\"V\")","v":0},{"$f":"IF(C208=0,0,SUMIFS('FII-Lançamentos'!K:K,'FII-Lançamentos'!D:D,$A208,'FII-Lançamentos'!B:B,\"C\")-SUMIFS('FII-Lançamentos'!K:K,'FII-Lançamentos'!D:D,$A208,'FII-Lançamentos'!B:B,\"V\"))","v":0},0,null,{"$f":"IFERROR(VLOOKUP(A208,Cotações!B:C,2,FALSE),\"\")","v":""},0,0,null,null,0,null,0,0,null,{"$f":"IF(OR(A208=\"\",A208=\"(vazio)\"),0,IFERROR(LOOKUP(2,1/('FII-Lançamentos'!D:D=A208),'FII-Lançamentos'!O:O),0))","v":0},null,0,null,null,null,null,null,null,"",{"$f":"IF(A208=\"\",\"\",IFERROR(LOOKUP(2,1/('FII-Recebidos'!D:D=A208),'FII-Recebidos'!C:C),\"\"))","v":""},"",""]
[null,null,{"$f":"SUMIFS('FII-Lançamentos'!C:C,'FII-Lançamentos'!D:D,$A209,'FII-Lançamentos'!B:B,\"C\")+SUMIFS('FII-Lançamentos'!C:C,'FII-Lançamentos'!D:D,$A209,'FII-Lançamentos'!B:B,\"V\")","v":0},{"$f":"IF(C209=0,0,SUMIFS('FII-Lançamentos'!K:K,'FII-Lançamentos'!D:D,$A209,'FII-Lançamentos'!B:B,\"C\")-SUMIFS('FII-Lançamentos'!K:K,'FII-Lançamentos'!D:D,$A209,'FII-Lançamentos'!B:B,\"V\"))","v":0},0,null,{"$f":"IFERROR(VLOOKUP(A209,Cotações!B:C,2,FALSE),\"\")","v":""},0,0,null,null,0,null,0,0,null,{"$f":"IF(OR(A209=\"\",A209=\"(vazio)\"),0,IFERROR(LOOKUP(2,1/('FII-Lançamentos'!D:D=A209),'FII-Lançamentos'!O:O),0))","v":0},null,0,null,null,null,null,null,null,"",{"$f":"IF(A209=\"\",\"\",IFERROR(LOOKUP(2,1/('FII-Recebidos'!D:D=A209),'FII-Recebidos'!C:C),\"\"))","v":""},"",""]
[null,null,{"$f":"SUMIFS('FII-Lançamentos'!C:C,'FII-Lançamentos'!D:D,$A210,'FII-Lançamentos'!B:B,\"C\")+SUMIFS('FII-Lançamentos'!C:C,'FII-Lançamentos'!D:D,$A210,'FII-Lançamentos'!B:B,\"V\")","v":0},{"$f":"IF(C210=0,0,SUMIFS('FII-Lançamentos'!K:K,'FII-Lançamentos'!D:D,$A210,'FII-Lançamentos'!B:B,\"C\")-SUMIFS('FII-Lançamentos'!K:K,'FII-Lançamentos'!D:D,$A210,'FII-Lançamentos'!B:B,\"V\"))","v":0},0,null,{"$f":"IFERROR(VLOOKUP(A210,Cotações!B:C,2,FALSE),\"\")","v":""},0,0,null,null,0,null,0,0,null,{"$f":"IF(OR(A210=\"\",A210=\"(vazio)\"),0,IFERROR(LOOKUP(2,1/('FII-Lançamentos'!D:D=A210),'FII-Lançamentos'!O:O),0))","v":0},null,0,null,null,null,null,null,null,"",{"$f":"IF(A210=\"\",\"\",IFERROR(LOOKUP(2,1/('FII-Recebidos'!D:D=A210),'FII-Recebidos'!C:C),\"\"))","v":""},"",""]
[null,null,{"$f":"SUMIFS('FII-Lançamentos'!C:C,'FII-Lançamentos'!D:D,$A211,'FII-Lançamentos'!B:B,\"C\")+SUMIFS('FII-Lançamentos'!C:C,'FII-Lançamentos'!D:D,$A211,'FII-Lançamentos'!B:B,\"V\")","v":0},{"$f":"IF(C211=0,0,SUMIFS('FII-Lançamentos'!K:K,'FII-Lançamentos'!D:D,$A211,'FII-Lançamentos'!B:B,\"C\")-SUMIFS('FII-Lançamentos'!K:K,'FII-Lançamentos'!D:D,$A211,'FII-Lançamentos'!B:B,\"V\"))","v":0},0,null,{"$f":"IFERROR(VLOOKUP(A211,Cotações!B:C,2,FALSE),\"\")","v":""},0,0,null,null,0,null,0,0,null,{"$f":"IF(OR(A211=\"\",A211=\"(vazio)\"),0,IFERROR(LOOKUP(2,1/('FII-Lançamentos'!D:D=A211),'FII-Lançamentos'!O:O),0))","v":0},null,0,null,null,null,null,null,null,"",{"$f":"IF(A211=\"\",\"\",IFERROR(LOOKUP(2,1/('FII-Recebidos'!D:D=A211),'FII-Recebidos'!C:C),\"\"))","v":""},"",""]
[null,null,{"$f":"SUMIFS('FII-Lançamentos'!C:C,'FII-Lançamentos'!D:D,$A212,'FII-Lançamentos'!B:B,\"C\")+SUMIFS('FII-Lançamentos'!C:C,'FII-Lançamentos'!D:D,$A212,'FII-Lançamentos'!B:B,\"V\")","v":0},{"$f":"IF(C212=0,0,SUMIFS('FII-Lançamentos'!K:K,'FII-Lançamentos'!D:D,$A212,'FII-Lançamentos'!B:B,\"C\")-SUMIFS('FII-Lançamentos'!K:K,'FII-Lançamentos'!D:D,$A212,'FII-Lançamentos'!B:B,\"V\"))","v":0},0,null,{"$f":"IFERROR(VLOOKUP(A212,Cotações!B:C,2,FALSE),\"\")","v":""},0,0,null,null,0,null,0,0,null,{"$f":"IF(OR(A212=\"\",A212=\"(vazio)\"),0,IFERROR(LOOKUP(2,1/('FII-Lançamentos'!D:D=A212),'FII-Lançamentos'!O:O),0))","v":0},null,0,null,null,null,null,null,null,"",{"$f":"IF(A212=\"\",\"\",IFERROR(LOOKUP(2,1/('FII-Recebidos'!D:D=A212),'FII-Recebidos'!C:C),\"\"))","v":""},"",""]
[null,null,{"$f":"SUMIFS('FII-Lançamentos'!C:C,'FII-Lançamentos'!D:D,$A213,'FII-Lançamentos'!B:B,\"C\")+SUMIFS('FII-Lançamentos'!C:C,'FII-Lançamentos'!D:D,$A213,'FII-Lançamentos'!B:B,\"V\")","v":0},{"$f":"IF(C213=0,0,SUMIFS('FII-Lançamentos'!K:K,'FII-Lançamentos'!D:D,$A213,'FII-Lançamentos'!B:B,\"C\")-SUMIFS('FII-Lançamentos'!K:K,'FII-Lançamentos'!D:D,$A213,'FII-Lançamentos'!B:B,\"V\"))","v":0},0,null,{"$f":"IFERROR(VLOOKUP(A213,Cotações!B:C,2,FALSE),\"\")","v":""},0,0,null,null,0,null,0,0,null,{"$f":"IF(OR(A213=\"\",A213=\"(vazio)\"),0,IFERROR(LOOKUP(2,1/('FII-Lançamentos'!D:D=A213),'FII-Lançamentos'!O:O),0))","v":0},null,0,null,null,null,null,null,null,"",{"$f":"IF(A213=\"\",\"\",IFERROR(LOOKUP(2,1/('FII-Recebidos'!D:D=A213),'FII-Recebidos'!C:C),\"\"))","v":""},"",""]
[null,null,{"$f":"SUMIFS('FII-Lançamentos'!C:C,'FII-Lançamentos'!D:D,$A214,'FII-Lançamentos'!B:B,\"C\")+SUMIFS('FII-Lançamentos'!C:C,'FII-Lançamentos'!D:D,$A214,'FII-Lançamentos'!B:B,\"V\")","v":0},{"$f":"IF(C214=0,0,SUMIFS('FII-Lançamentos'!K:K,'FII-Lançamentos'!D:D,$A214,'FII-Lançamentos'!B:B,\"C\")-SUMIFS('FII-Lançamentos'!K:K,'FII-Lançamentos'!D:D,$A214,'FII-Lançamentos'!B:B,\"V\"))","v":0},0,null,{"$f":"IFERROR(VLOOKUP(A214,Cotações!B:C,2,FALSE),\"\")","v":""},0,0,null,null,0,null,0,0,null,{"$f":"IF(OR(A214=\"\",A214=\"(vazio)\"),0,IFERROR(LOOKUP(2,1/('FII-Lançamentos'!D:D=A214),'FII-Lançamentos'!O:O),0))","v":0},null,0,null,null,null,null,null,null,"",{"$f":"IF(A214=\"\",\"\",IFERROR(LOOKUP(2,1/('FII-Recebidos'!D:D=A214),'FII-Recebidos'!C:C),\"\"))","v":""},"",""]
[null,null,{"$f":"SUMIFS('FII-Lançamentos'!C:C,'FII-Lançamentos'!D:D,$A215,'FII-Lançamentos'!B:B,\"C\")+SUMIFS('FII-Lançamentos'!C:C,'FII-Lançamentos'!D:D,$A215,'FII-Lançamentos'!B:B,\"V\")","v":0},{"$f":"IF(C215=0,0,SUMIFS('FII-Lançamentos'!K:K,'FII-Lançamentos'!D:D,$A215,'FII-Lançamentos'!B:B,\"C\")-SUMIFS('FII-Lançamentos'!K:K,'FII-Lançamentos'!D:D,$A215,'FII-Lançamentos'!B:B,\"V\"))","v":0},0,null,{"$f":"IFERROR(VLOOKUP(A215,Cotações!B:C,2,FALSE),\"\")","v":""},0,0,null,null,0,null,0,0,null,{"$f":"IF(OR(A215=\"\",A215=\"(vazio)\"),0,IFERROR(LOOKUP(2,1/('FII-Lançamentos'!D:D=A215),'FII-Lançamentos'!O:O),0))","v":0},null,0,null,null,null,null,null,null,"",{"$f":"IF(A215=\"\",\"\",IFERROR(LOOKUP(2,1/('FII-Recebidos'!D:D=A215),'FII-Recebidos'!C:C),\"\"))","v":""},"",""]
[null,null,{"$f":"SUMIFS('FII-Lançamentos'!C:C,'FII-Lançamentos'!D:D,$A216,'FII-Lançamentos'!B:B,\"C\")+SUMIFS('FII-Lançamentos'!C:C,'FII-Lançamentos'!D:D,$A216,'FII-Lançamentos'!B:B,\"V\")","v":0},{"$f":"IF(C216=0,0,SUMIFS('FII-Lançamentos'!K:K,'FII-Lançamentos'!D:D,$A216,'FII-Lançamentos'!B:B,\"C\")-SUMIFS('FII-Lançamentos'!K:K,'FII-Lançamentos'!D:D,$A216,'FII-Lançamentos'!B:B,\"V\"))","v":0},0,null,{"$f":"IFERROR(VLOOKUP(A216,Cotações!B:C,2,FALSE),\"\")","v":""},0,0,null,null,0,null,0,0,null,{"$f":"IF(OR(A216=\"\",A216=\"(vazio)\"),0,IFERROR(LOOKUP(2,1/('FII-Lançamentos'!D:D=A216),'FII-Lançamentos'!O:O),0))","v":0},null,0,null,null,null,null,null,null,"",{"$f":"IF(A216=\"\",\"\",IFERROR(LOOKUP(2,1/('FII-Recebidos'!D:D=A216),'FII-Recebidos'!C:C),\"\"))","v":""},"",""]
[null,null,{"$f":"SUMIFS('FII-Lançamentos'!C:C,'FII-Lançamentos'!D:D,$A217,'FII-Lançamentos'!B:B,\"C\")+SUMIFS('FII-Lançamentos'!C:C,'FII-Lançamentos'!D:D,$A217,'FII-Lançamentos'!B:B,\"V\")","v":0},{"$f":"IF(C217=0,0,SUMIFS('FII-Lançamentos'!K:K,'FII-Lançamentos'!D:D,$A217,'FII-Lançamentos'!B:B,\"C\")-SUMIFS('FII-Lançamentos'!K:K,'FII-Lançamentos'!D:D,$A217,'FII-Lançamentos'!B:B,\"V\"))","v":0},0,null,{"$f":"IFERROR(VLOOKUP(A217,Cotações!B:C,2,FALSE),\"\")","v":""},0,0,null,null,0,null,0,0,null,{"$f":"IF(OR(A217=\"\",A217=\"(vazio)\"),0,IFERROR(LOOKUP(2,1/('FII-Lançamentos'!D:D=A217),'FII-Lançamentos'!O:O),0))","v":0},null,0,null,null,null,null,null,null,"",{"$f":"IF(A217=\"\",\"\",IFERROR(LOOKUP(2,1/('FII-Recebidos'!D:D=A217),'FII-Recebidos'!C:C),\"\"))","v":""},"",""]
[null,null,{"$f":"SUMIFS('FII-Lançamentos'!C:C,'FII-Lançamentos'!D:D,$A218,'FII-Lançamentos'!B:B,\"C\")+SUMIFS('FII-Lançamentos'!C:C,'FII-Lançamentos'!D:D,$A218,'FII-Lançamentos'!B:B,\"V\")","v":0},{"$f":"IF(C218=0,0,SUMIFS('FII-Lançamentos'!K:K,'FII-Lançamentos'!D:D,$A218,'FII-Lançamentos'!B:B,\"C\")-SUMIFS('FII-Lançamentos'!K:K,'FII-Lançamentos'!D:D,$A218,'FII-Lançamentos'!B:B,\"V\"))","v":0},0,null,{"$f":"IFERROR(VLOOKUP(A218,Cotações!B:C,2,FALSE),\"\")","v":""},0,0,null,null,0,null,0,0,null,{"$f":"IF(OR(A218=\"\",A218=\"(vazio)\"),0,IFERROR(LOOKUP(2,1/('FII-Lançamentos'!D:D=A218),'FII-Lançamentos'!O:O),0))","v":0},null,0,null,null,null,null,null,null,"",{"$f":"IF(A218=\"\",\"\",IFERROR(LOOKUP(2,1/('FII-Recebidos'!D:D=A218),'FII-Recebidos'!C:C),\"\"))","v":""},"",""]
[null,null,{"$f":"SUMIFS('FII-Lançamentos'!C:C,'FII-Lançamentos'!D:D,$A219,'FII-Lançamentos'!B:B,\"C\")+SUMIFS('FII-Lançamentos'!C:C,'FII-Lançamentos'!D:D,$A219,'FII-Lançamentos'!B:B,\"V\")","v":0},{"$f":"IF(C219=0,0,SUMIFS('FII-Lançamentos'!K:K,'FII-Lançamentos'!D:D,$A219,'FII-Lançamentos'!B:B,\"C\")-SUMIFS('FII-Lançamentos'!K:K,'FII-Lançamentos'!D:D,$A219,'FII-Lançamentos'!B:B,\"V\"))","v":0},0,null,{"$f":"IFERROR(VLOOKUP(A219,Cotações!B:C,2,FALSE),\"\")","v":""},0,0,null,null,0,null,0,0,null,{"$f":"IF(OR(A219=\"\",A219=\"(vazio)\"),0,IFERROR(LOOKUP(2,1/('FII-Lançamentos'!D:D=A219),'FII-Lançamentos'!O:O),0))","v":0},null,0,null,null,null,null,null,null,"",{"$f":"IF(A219=\"\",\"\",IFERROR(LOOKUP(2,1/('FII-Recebidos'!D:D=A219),'FII-Recebidos'!C:C),\"\"))","v":""},"",""]
[null,null,{"$f":"SUMIFS('FII-Lançamentos'!C:C,'FII-Lançamentos'!D:D,$A220,'FII-Lançamentos'!B:B,\"C\")+SUMIFS('FII-Lançamentos'!C:C,'FII-Lançamentos'!D:D,$A220,'FII-Lançamentos'!B:B,\"V\")","v":0},{"$f":"IF(C220=0,0,SUMIFS('FII-Lançamentos'!K:K,'FII-Lançamentos'!D:D,$A220,'FII-Lançamentos'!B:B,\"C\")-SUMIFS('FII-Lançamentos'!K:K,'FII-Lançamentos'!D:D,$A220,'FII-Lançamentos'!B:B,\"V\"))","v":0},0,null,{"$f":"IFERROR(VLOOKUP(A220,Cotações!B:C,2,FALSE),\"\")","v":""},0,0,null,null,0,null,0,0,null,{"$f":"IF(OR(A220=\"\",A220=\"(vazio)\"),0,IFERROR(LOOKUP(2,1/('FII-Lançamentos'!D:D=A220),'FII-Lançamentos'!O:O),0))","v":0},null,0,null,null,null,null,null,null,"",{"$f":"IF(A220=\"\",\"\",IFERROR(LOOKUP(2,1/('FII-Recebidos'!D:D=A220),'FII-Recebidos'!C:C),\"\"))","v":""},"",""]
[null,null,{"$f":"SUMIFS('FII-Lançamentos'!C:C,'FII-Lançamentos'!D:D,$A221,'FII-Lançamentos'!B:B,\"C\")+SUMIFS('FII-Lançamentos'!C:C,'FII-Lançamentos'!D:D,$A221,'FII-Lançamentos'!B:B,\"V\")","v":0},{"$f":"IF(C221=0,0,SUMIFS('FII-Lançamentos'!K:K,'FII-Lançamentos'!D:D,$A221,'FII-Lançamentos'!B:B,\"C\")-SUMIFS('FII-Lançamentos'!K:K,'FII-Lançamentos'!D:D,$A221,'FII-Lançamentos'!B:B,\"V\"))","v":0},0,null,{"$f":"IFERROR(VLOOKUP(A221,Cotações!B:C,2,FALSE),\"\")","v":""},0,0,null,null,0,null,0,0,null,{"$f":"IF(OR(A221=\"\",A221=\"(vazio)\"),0,IFERROR(LOOKUP(2,1/('FII-Lançamentos'!D:D=A221),'FII-Lançamentos'!O:O),0))","v":0},null,0,null,null,null,null,null,null,"",{"$f":"IF(A221=\"\",\"\",IFERROR(LOOKUP(2,1/('FII-Recebidos'!D:D=A221),'FII-Recebidos'!C:C),\"\"))","v":""},"",""]
[null,null,{"$f":"SUMIFS('FII-Lançamentos'!C:C,'FII-Lançamentos'!D:D,$A222,'FII-Lançamentos'!B:B,\"C\")+SUMIFS('FII-Lançamentos'!C:C,'FII-Lançamentos'!D:D,$A222,'FII-Lançamentos'!B:B,\"V\")","v":0},{"$f":"IF(C222=0,0,SUMIFS('FII-Lançamentos'!K:K,'FII-Lançamentos'!D:D,$A222,'FII-Lançamentos'!B:B,\"C\")-SUMIFS('FII-Lançamentos'!K:K,'FII-Lançamentos'!D:D,$A222,'FII-Lançamentos'!B:B,\"V\"))","v":0},0,null,{"$f":"IFERROR(VLOOKUP(A222,Cotações!B:C,2,FALSE),\"\")","v":""},0,0,null,null,0,null,0,0,null,{"$f":"IF(OR(A222=\"\",A222=\"(vazio)\"),0,IFERROR(LOOKUP(2,1/('FII-Lançamentos'!D:D=A222),'FII-Lançamentos'!O:O),0))","v":0},null,0,null,null,null,null,null,null,{"$f":"IF(K222=\"\",\"\",K222-I222)","v":""},{"$f":"IF(A222=\"\",\"\",IFERROR(LOOKUP(2,1/('FII-Recebidos'!D:D=A222),'FII-Recebidos'!C:C),\"\"))","v":""},"",""]
[null,null,{"$f":"SUMIFS('FII-Lançamentos'!C:C,'FII-Lançamentos'!D:D,$A223,'FII-Lançamentos'!B:B,\"C\")+SUMIFS('FII-Lançamentos'!C:C,'FII-Lançamentos'!D:D,$A223,'FII-Lançamentos'!B:B,\"V\")","v":0},{"$f":"IF(C223=0,0,SUMIFS('FII-Lançamentos'!K:K,'FII-Lançamentos'!D:D,$A223,'FII-Lançamentos'!B:B,\"C\")-SUMIFS('FII-Lançamentos'!K:K,'FII-Lançamentos'!D:D,$A223,'FII-Lançamentos'!B:B,\"V\"))","v":0},0,null,{"$f":"IFERROR(VLOOKUP(A223,Cotações!B:C,2,FALSE),\"\")","v":""},0,0,null,null,0,null,0,0,null,{"$f":"IF(OR(A223=\"\",A223=\"(vazio)\"),0,IFERROR(LOOKUP(2,1/('FII-Lançamentos'!D:D=A223),'FII-Lançamentos'!O:O),0))","v":0},null,0,null,null,null,null,null,null,"",{"$f":"IF(A223=\"\",\"\",IFERROR(LOOKUP(2,1/('FII-Recebidos'!D:D=A223),'FII-Recebidos'!C:C),\"\"))","v":""},"",""]
[null,null,{"$f":"SUMIFS('FII-Lançamentos'!C:C,'FII-Lançamentos'!D:D,$A224,'FII-Lançamentos'!B:B,\"C\")+SUMIFS('FII-Lançamentos'!C:C,'FII-Lançamentos'!D:D,$A224,'FII-Lançamentos'!B:B,\"V\")","v":0},{"$f":"IF(C224=0,0,SUMIFS('FII-Lançamentos'!K:K,'FII-Lançamentos'!D:D,$A224,'FII-Lançamentos'!B:B,\"C\")-SUMIFS('FII-Lançamentos'!K:K,'FII-Lançamentos'!D:D,$A224,'FII-Lançamentos'!B:B,\"V\"))","v":0},0,null,{"$f":"IFERROR(VLOOKUP(A224,Cotações!B:C,2,FALSE),\"\")","v":""},0,0,null,null,0,null,0,0,null,{"$f":"IF(OR(A224=\"\",A224=\"(vazio)\"),0,IFERROR(LOOKUP(2,1/('FII-Lançamentos'!D:D=A224),'FII-Lançamentos'!O:O),0))","v":0},null,0,null,null,null,null,null,null,"",{"$f":"IF(A224=\"\",\"\",IFERROR(LOOKUP(2,1/('FII-Recebidos'!D:D=A224),'FII-Recebidos'!C:C),\"\"))","v":""},"",""]
[null,null,{"$f":"SUMIFS('FII-Lançamentos'!C:C,'FII-Lançamentos'!D:D,$A225,'FII-Lançamentos'!B:B,\"C\")+SUMIFS('FII-Lançamentos'!C:C,'FII-Lançamentos'!D:D,$A225,'FII-Lançamentos'!B:B,\"V\")","v":0},{"$f":"IF(C225=0,0,SUMIFS('FII-Lançamentos'!K:K,'FII-Lançamentos'!D:D,$A225,'FII-Lançamentos'!B:B,\"C\")-SUMIFS('FII-Lançamentos'!K:K,'FII-Lançamentos'!D:D,$A225,'FII-Lançamentos'!B:B,\"V\"))","v":0},0,null,{"$f":"IFERROR(VLOOKUP(A225,Cotações!B:C,2,FALSE),\"\")","v":""},0,0,null,null,0,null,0,0,null,{"$f":"IF(OR(A225=\"\",A225=\"(vazio)\"),0,IFERROR(LOOKUP(2,1/('FII-Lançamentos'!D:D=A225),'FII-Lançamentos'!O:O),0))","v":0},null,0,null,null,null,null,null,null,"",{"$f":"IF(A225=\"\",\"\",IFERROR(LOOKUP(2,1/('FII-Recebidos'!D:D=A225),'FII-Recebidos'!C:C),\"\"))","v":""},"",""]
[null,null,{"$f":"SUMIFS('FII-Lançamentos'!C:C,'FII-Lançamentos'!D:D,$A226,'FII-Lançamentos'!B:B,\"C\")+SUMIFS('FII-Lançamentos'!C:C,'FII-Lançamentos'!D:D,$A226,'FII-Lançamentos'!B:B,\"V\")","v":0},{"$f":"IF(C226=0,0,SUMIFS('FII-Lançamentos'!K:K,'FII-Lançamentos'!D:D,$A226,'FII-Lançamentos'!B:B,\"C\")-SUMIFS('FII-Lançamentos'!K:K,'FII-Lançamentos'!D:D,$A226,'FII-Lançamentos'!B:B,\"V\"))","v":0},0,null,{"$f":"IFERROR(VLOOKUP(A226,Cotações!B:C,2,FALSE),\"\")","v":""},0,0,null,null,0,null,0,0,null,{"$f":"IF(OR(A226=\"\",A226=\"(vazio)\"),0,IFERROR(LOOKUP(2,1/('FII-Lançamentos'!D:D=A226),'FII-Lançamentos'!O:O),0))","v":0},null,0,null,null,null,null,null,null,"",{"$f":"IF(A226=\"\",\"\",IFERROR(LOOKUP(2,1/('FII-Recebidos'!D:D=A226),'FII-Recebidos'!C:C),\"\"))","v":""},"",""]
[null,null,{"$f":"SUMIFS('FII-Lançamentos'!C:C,'FII-Lançamentos'!D:D,$A227,'FII-Lançamentos'!B:B,\"C\")+SUMIFS('FII-Lançamentos'!C:C,'FII-Lançamentos'!D:D,$A227,'FII-Lançamentos'!B:B,\"V\")","v":0},{"$f":"IF(C227=0,0,SUMIFS('FII-Lançamentos'!K:K,'FII-Lançamentos'!D:D,$A227,'FII-Lançamentos'!B:B,\"C\")-SUMIFS('FII-Lançamentos'!K:K,'FII-Lançamentos'!D:D,$A227,'FII-Lançamentos'!B:B,\"V\"))","v":0},0,null,{"$f":"IFERROR(VLOOKUP(A227,Cotações!B:C,2,FALSE),\"\")","v":""},0,0,null,null,0,null,0,0,null,{"$f":"IF(OR(A227=\"\",A227=\"(vazio)\"),0,IFERROR(LOOKUP(2,1/('FII-Lançamentos'!D:D=A227),'FII-Lançamentos'!O:O),0))","v":0},null,0,null,null,null,null,null,null,"",{"$f":"IF(A227=\"\",\"\",IFERROR(LOOKUP(2,1/('FII-Recebidos'!D:D=A227),'FII-Recebidos'!C:C),\"\"))","v":""},"",""]
[null,null,{"$f":"SUMIFS('FII-Lançamentos'!C:C,'FII-Lançamentos'!D:D,$A228,'FII-Lançamentos'!B:B,\"C\")+SUMIFS('FII-Lançamentos'!C:C,'FII-Lançamentos'!D:D,$A228,'FII-Lançamentos'!B:B,\"V\")","v":0},{"$f":"IF(C228=0,0,SUMIFS('FII-Lançamentos'!K:K,'FII-Lançamentos'!D:D,$A228,'FII-Lançamentos'!B:B,\"C\")-SUMIFS('FII-Lançamentos'!K:K,'FII-Lançamentos'!D:D,$A228,'FII-Lançamentos'!B:B,\"V\"))","v":0},0,null,{"$f":"IFERROR(VLOOKUP(A228,Cotações!B:C,2,FALSE),\"\")","v":""},0,0,null,null,0,null,0,0,null,{"$f":"IF(OR(A228=\"\",A228=\"(vazio)\"),0,IFERROR(LOOKUP(2,1/('FII-Lançamentos'!D:D=A228),'FII-Lançamentos'!O:O),0))","v":0},null,0,null,null,null,null,null,null,"",{"$f":"IF(A228=\"\",\"\",IFERROR(LOOKUP(2,1/('FII-Recebidos'!D:D=A228),'FII-Recebidos'!C:C),\"\"))","v":""},"",""]
[null,null,{"$f":"SUMIFS('FII-Lançamentos'!C:C,'FII-Lançamentos'!D:D,$A229,'FII-Lançamentos'!B:B,\"C\")+SUMIFS('FII-Lançamentos'!C:C,'FII-Lançamentos'!D:D,$A229,'FII-Lançamentos'!B:B,\"V\")","v":0},{"$f":"IF(C229=0,0,SUMIFS('FII-Lançamentos'!K:K,'FII-Lançamentos'!D:D,$A229,'FII-Lançamentos'!B:B,\"C\")-SUMIFS('FII-Lançamentos'!K:K,'FII-Lançamentos'!D:D,$A229,'FII-Lançamentos'!B:B,\"V\"))","v":0},0,null,{"$f":"IFERROR(VLOOKUP(A229,Cotações!B:C,2,FALSE),\"\")","v":""},0,0,null,null,0,null,0,0,null,{"$f":"IF(OR(A229=\"\",A229=\"(vazio)\"),0,IFERROR(LOOKUP(2,1/('FII-Lançamentos'!D:D=A229),'FII-Lançamentos'!O:O),0))","v":0},null,0,null,null,null,null,null,null,"",{"$f":"IF(A229=\"\",\"\",IFERROR(LOOKUP(2,1/('FII-Recebidos'!D:D=A229),'FII-Recebidos'!C:C),\"\"))","v":""},"",""]
[null,null,{"$f":"SUMIFS('FII-Lançamentos'!C:C,'FII-Lançamentos'!D:D,$A230,'FII-Lançamentos'!B:B,\"C\")+SUMIFS('FII-Lançamentos'!C:C,'FII-Lançamentos'!D:D,$A230,'FII-Lançamentos'!B:B,\"V\")","v":0},{"$f":"IF(C230=0,0,SUMIFS('FII-Lançamentos'!K:K,'FII-Lançamentos'!D:D,$A230,'FII-Lançamentos'!B:B,\"C\")-SUMIFS('FII-Lançamentos'!K:K,'FII-Lançamentos'!D:D,$A230,'FII-Lançamentos'!B:B,\"V\"))","v":0},0,null,{"$f":"IFERROR(VLOOKUP(A230,Cotações!B:C,2,FALSE),\"\")","v":""},0,0,null,null,0,null,0,0,null,{"$f":"IF(OR(A230=\"\",A230=\"(vazio)\"),0,IFERROR(LOOKUP(2,1/('FII-Lançamentos'!D:D=A230),'FII-Lançamentos'!O:O),0))","v":0},null,0,null,null,null,null,null,null,"",{"$f":"IF(A230=\"\",\"\",IFERROR(LOOKUP(2,1/('FII-Recebidos'!D:D=A230),'FII-Recebidos'!C:C),\"\"))","v":""},"",""]
[null,null,{"$f":"SUMIFS('FII-Lançamentos'!C:C,'FII-Lançamentos'!D:D,$A231,'FII-Lançamentos'!B:B,\"C\")+SUMIFS('FII-Lançamentos'!C:C,'FII-Lançamentos'!D:D,$A231,'FII-Lançamentos'!B:B,\"V\")","v":0},{"$f":"IF(C231=0,0,SUMIFS('FII-Lançamentos'!K:K,'FII-Lançamentos'!D:D,$A231,'FII-Lançamentos'!B:B,\"C\")-SUMIFS('FII-Lançamentos'!K:K,'FII-Lançamentos'!D:D,$A231,'FII-Lançamentos'!B:B,\"V\"))","v":0},0,null,{"$f":"IFERROR(VLOOKUP(A231,Cotações!B:C,2,FALSE),\"\")","v":""},0,0,null,null,0,null,0,0,null,{"$f":"IF(OR(A231=\"\",A231=\"(vazio)\"),0,IFERROR(LOOKUP(2,1/('FII-Lançamentos'!D:D=A231),'FII-Lançamentos'!O:O),0))","v":0},null,0,null,null,null,null,null,null,"",{"$f":"IF(A231=\"\",\"\",IFERROR(LOOKUP(2,1/('FII-Recebidos'!D:D=A231),'FII-Recebidos'!C:C),\"\"))","v":""},"",""]
[null,null,{"$f":"SUMIFS('FII-Lançamentos'!C:C,'FII-Lançamentos'!D:D,$A232,'FII-Lançamentos'!B:B,\"C\")+SUMIFS('FII-Lançamentos'!C:C,'FII-Lançamentos'!D:D,$A232,'FII-Lançamentos'!B:B,\"V\")","v":0},{"$f":"IF(C232=0,0,SUMIFS('FII-Lançamentos'!K:K,'FII-Lançamentos'!D:D,$A232,'FII-Lançamentos'!B:B,\"C\")-SUMIFS('FII-Lançamentos'!K:K,'FII-Lançamentos'!D:D,$A232,'FII-Lançamentos'!B:B,\"V\"))","v":0},0,null,{"$f":"IFERROR(VLOOKUP(A232,Cotações!B:C,2,FALSE),\"\")","v":""},0,0,null,null,0,null,0,0,null,{"$f":"IF(OR(A232=\"\",A232=\"(vazio)\"),0,IFERROR(LOOKUP(2,1/('FII-Lançamentos'!D:D=A232),'FII-Lançamentos'!O:O),0))","v":0},null,0,null,null,null,null,null,null,"",{"$f":"IF(A232=\"\",\"\",IFERROR(LOOKUP(2,1/('FII-Recebidos'!D:D=A232),'FII-Recebidos'!C:C),\"\"))","v":""},"",""]
[null,null,{"$f":"SUMIFS('FII-Lançamentos'!C:C,'FII-Lançamentos'!D:D,$A233,'FII-Lançamentos'!B:B,\"C\")+SUMIFS('FII-Lançamentos'!C:C,'FII-Lançamentos'!D:D,$A233,'FII-Lançamentos'!B:B,\"V\")","v":0},{"$f":"IF(C233=0,0,SUMIFS('FII-Lançamentos'!K:K,'FII-Lançamentos'!D:D,$A233,'FII-Lançamentos'!B:B,\"C\")-SUMIFS('FII-Lançamentos'!K:K,'FII-Lançamentos'!D:D,$A233,'FII-Lançamentos'!B:B,\"V\"))","v":0},0,null,{"$f":"IFERROR(VLOOKUP(A233,Cotações!B:C,2,FALSE),\"\")","v":""},0,0,null,null,0,null,0,0,null,{"$f":"IF(OR(A233=\"\",A233=\"(vazio)\"),0,IFERROR(LOOKUP(2,1/('FII-Lançamentos'!D:D=A233),'FII-Lançamentos'!O:O),0))","v":0},null,0,null,null,null,null,null,null,"",{"$f":"IF(A233=\"\",\"\",IFERROR(LOOKUP(2,1/('FII-Recebidos'!D:D=A233),'FII-Recebidos'!C:C),\"\"))","v":""},"",""]
[null,null,{"$f":"SUMIFS('FII-Lançamentos'!C:C,'FII-Lançamentos'!D:D,$A234,'FII-Lançamentos'!B:B,\"C\")+SUMIFS('FII-Lançamentos'!C:C,'FII-Lançamentos'!D:D,$A234,'FII-Lançamentos'!B:B,\"V\")","v":0},{"$f":"IF(C234=0,0,SUMIFS('FII-Lançamentos'!K:K,'FII-Lançamentos'!D:D,$A234,'FII-Lançamentos'!B:B,\"C\")-SUMIFS('FII-Lançamentos'!K:K,'FII-Lançamentos'!D:D,$A234,'FII-Lançamentos'!B:B,\"V\"))","v":0},0,null,{"$f":"IFERROR(VLOOKUP(A234,Cotações!B:C,2,FALSE),\"\")","v":""},0,0,null,null,0,null,0,0,null,{"$f":"IF(OR(A234=\"\",A234=\"(vazio)\"),0,IFERROR(LOOKUP(2,1/('FII-Lançamentos'!D:D=A234),'FII-Lançamentos'!O:O),0))","v":0},null,0,null,null,null,null,null,null,"",{"$f":"IF(A234=\"\",\"\",IFERROR(LOOKUP(2,1/('FII-Recebidos'!D:D=A234),'FII-Recebidos'!C:C),\"\"))","v":""},"",""]
[null,null,{"$f":"SUMIFS('FII-Lançamentos'!C:C,'FII-Lançamentos'!D:D,$A235,'FII-Lançamentos'!B:B,\"C\")+SUMIFS('FII-Lançamentos'!C:C,'FII-Lançamentos'!D:D,$A235,'FII-Lançamentos'!B:B,\"V\")","v":0},{"$f":"IF(C235=0,0,SUMIFS('FII-Lançamentos'!K:K,'FII-Lançamentos'!D:D,$A235,'FII-Lançamentos'!B:B,\"C\")-SUMIFS('FII-Lançamentos'!K:K,'FII-Lançamentos'!D:D,$A235,'FII-Lançamentos'!B:B,\"V\"))","v":0},0,null,{"$f":"IFERROR(VLOOKUP(A235,Cotações!B:C,2,FALSE),\"\")","v":""},0,0,null,null,0,null,0,0,null,{"$f":"IF(OR(A235=\"\",A235=\"(vazio)\"),0,IFERROR(LOOKUP(2,1/('FII-Lançamentos'!D:D=A235),'FII-Lançamentos'!O:O),0))","v":0},null,0,null,null,null,null,null,null,"",{"$f":"IF(A235=\"\",\"\",IFERROR(LOOKUP(2,1/('FII-Recebidos'!D:D=A235),'FII-Recebidos'!C:C),\"\"))","v":""},"",""]
[null,null,{"$f":"SUMIFS('FII-Lançamentos'!C:C,'FII-Lançamentos'!D:D,$A236,'FII-Lançamentos'!B:B,\"C\")+SUMIFS('FII-Lançamentos'!C:C,'FII-Lançamentos'!D:D,$A236,'FII-Lançamentos'!B:B,\"V\")","v":0},{"$f":"IF(C236=0,0,SUMIFS('FII-Lançamentos'!K:K,'FII-Lançamentos'!D:D,$A236,'FII-Lançamentos'!B:B,\"C\")-SUMIFS('FII-Lançamentos'!K:K,'FII-Lançamentos'!D:D,$A236,'FII-Lançamentos'!B:B,\"V\"))","v":0},0,null,{"$f":"IFERROR(VLOOKUP(A236,Cotações!B:C,2,FALSE),\"\")","v":""},0,0,null,null,0,null,0,0,null,{"$f":"IF(OR(A236=\"\",A236=\"(vazio)\"),0,IFERROR(LOOKUP(2,1/('FII-Lançamentos'!D:D=A236),'FII-Lançamentos'!O:O),0))","v":0},null,0,null,null,null,null,null,null,"",{"$f":"IF(A236=\"\",\"\",IFERROR(LOOKUP(2,1/('FII-Recebidos'!D:D=A236),'FII-Recebidos'!C:C),\"\"))","v":""},"",""]
[null,null,{"$f":"SUMIFS('FII-Lançamentos'!C:C,'FII-Lançamentos'!D:D,$A237,'FII-Lançamentos'!B:B,\"C\")+SUMIFS('FII-Lançamentos'!C:C,'FII-Lançamentos'!D:D,$A237,'FII-Lançamentos'!B:B,\"V\")","v":0},{"$f":"IF(C237=0,0,SUMIFS('FII-Lançamentos'!K:K,'FII-Lançamentos'!D:D,$A237,'FII-Lançamentos'!B:B,\"C\")-SUMIFS('FII-Lançamentos'!K:K,'FII-Lançamentos'!D:D,$A237,'FII-Lançamentos'!B:B,\"V\"))","v":0},0,null,{"$f":"IFERROR(VLOOKUP(A237,Cotações!B:C,2,FALSE),\"\")","v":""},0,0,null,null,0,null,0,0,null,{"$f":"IF(OR(A237=\"\",A237=\"(vazio)\"),0,IFERROR(LOOKUP(2,1/('FII-Lançamentos'!D:D=A237),'FII-Lançamentos'!O:O),0))","v":0},null,0,null,null,null,null,null,null,"",{"$f":"IF(A237=\"\",\"\",IFERROR(LOOKUP(2,1/('FII-Recebidos'!D:D=A237),'FII-Recebidos'!C:C),\"\"))","v":""},"",""]
[null,null,{"$f":"SUMIFS('FII-Lançamentos'!C:C,'FII-Lançamentos'!D:D,$A238,'FII-Lançamentos'!B:B,\"C\")+SUMIFS('FII-Lançamentos'!C:C,'FII-Lançamentos'!D:D,$A238,'FII-Lançamentos'!B:B,\"V\")","v":0},{"$f":"IF(C238=0,0,SUMIFS('FII-Lançamentos'!K:K,'FII-Lançamentos'!D:D,$A238,'FII-Lançamentos'!B:B,\"C\")-SUMIFS('FII-Lançamentos'!K:K,'FII-Lançamentos'!D:D,$A238,'FII-Lançamentos'!B:B,\"V\"))","v":0},0,null,{"$f":"IFERROR(VLOOKUP(A238,Cotações!B:C,2,FALSE),\"\")","v":""},0,0,null,null,0,null,0,0,null,{"$f":"IF(OR(A238=\"\",A238=\"(vazio)\"),0,IFERROR(LOOKUP(2,1/('FII-Lançamentos'!D:D=A238),'FII-Lançamentos'!O:O),0))","v":0},null,0,null,null,null,null,null,null,"",{"$f":"IF(A238=\"\",\"\",IFERROR(LOOKUP(2,1/('FII-Recebidos'!D:D=A238),'FII-Recebidos'!C:C),\"\"))","v":""},"",""]
[null,null,{"$f":"SUMIFS('FII-Lançamentos'!C:C,'FII-Lançamentos'!D:D,$A239,'FII-Lançamentos'!B:B,\"C\")+SUMIFS('FII-Lançamentos'!C:C,'FII-Lançamentos'!D:D,$A239,'FII-Lançamentos'!B:B,\"V\")","v":0},{"$f":"IF(C239=0,0,SUMIFS('FII-Lançamentos'!K:K,'FII-Lançamentos'!D:D,$A239,'FII-Lançamentos'!B:B,\"C\")-SUMIFS('FII-Lançamentos'!K:K,'FII-Lançamentos'!D:D,$A239,'FII-Lançamentos'!B:B,\"V\"))","v":0},0,null,{"$f":"IFERROR(VLOOKUP(A239,Cotações!B:C,2,FALSE),\"\")","v":""},0,0,null,null,0,null,0,0,null,{"$f":"IF(OR(A239=\"\",A239=\"(vazio)\"),0,IFERROR(LOOKUP(2,1/('FII-Lançamentos'!D:D=A239),'FII-Lançamentos'!O:O),0))","v":0},null,0,null,null,null,null,null,null,"",{"$f":"IF(A239=\"\",\"\",IFERROR(LOOKUP(2,1/('FII-Recebidos'!D:D=A239),'FII-Recebidos'!C:C),\"\"))","v":""},"",""]
[null,null,{"$f":"SUMIFS('FII-Lançamentos'!C:C,'FII-Lançamentos'!D:D,$A240,'FII-Lançamentos'!B:B,\"C\")+SUMIFS('FII-Lançamentos'!C:C,'FII-Lançamentos'!D:D,$A240,'FII-Lançamentos'!B:B,\"V\")","v":0},{"$f":"IF(C240=0,0,SUMIFS('FII-Lançamentos'!K:K,'FII-Lançamentos'!D:D,$A240,'FII-Lançamentos'!B:B,\"C\")-SUMIFS('FII-Lançamentos'!K:K,'FII-Lançamentos'!D:D,$A240,'FII-Lançamentos'!B:B,\"V\"))","v":0},0,null,{"$f":"IFERROR(VLOOKUP(A240,Cotações!B:C,2,FALSE),\"\")","v":""},0,0,null,null,0,null,0,0,null,{"$f":"IF(OR(A240=\"\",A240=\"(vazio)\"),0,IFERROR(LOOKUP(2,1/('FII-Lançamentos'!D:D=A240),'FII-Lançamentos'!O:O),0))","v":0},null,0,null,null,null,null,null,null,"",{"$f":"IF(A240=\"\",\"\",IFERROR(LOOKUP(2,1/('FII-Recebidos'!D:D=A240),'FII-Recebidos'!C:C),\"\"))","v":""},"",""]
[null,null,{"$f":"SUMIFS('FII-Lançamentos'!C:C,'FII-Lançamentos'!D:D,$A241,'FII-Lançamentos'!B:B,\"C\")+SUMIFS('FII-Lançamentos'!C:C,'FII-Lançamentos'!D:D,$A241,'FII-Lançamentos'!B:B,\"V\")","v":0},{"$f":"IF(C241=0,0,SUMIFS('FII-Lançamentos'!K:K,'FII-Lançamentos'!D:D,$A241,'FII-Lançamentos'!B:B,\"C\")-SUMIFS('FII-Lançamentos'!K:K,'FII-Lançamentos'!D:D,$A241,'FII-Lançamentos'!B:B,\"V\"))","v":0},0,null,{"$f":"IFERROR(VLOOKUP(A241,Cotações!B:C,2,FALSE),\"\")","v":""},0,0,null,null,0,null,0,0,null,{"$f":"IF(OR(A241=\"\",A241=\"(vazio)\"),0,IFERROR(LOOKUP(2,1/('FII-Lançamentos'!D:D=A241),'FII-Lançamentos'!O:O),0))","v":0},null,0,null,null,null,null,null,null,"",{"$f":"IF(A241=\"\",\"\",IFERROR(LOOKUP(2,1/('FII-Recebidos'!D:D=A241),'FII-Recebidos'!C:C),\"\"))","v":""},"",""]
[null,null,{"$f":"SUMIFS('FII-Lançamentos'!C:C,'FII-Lançamentos'!D:D,$A242,'FII-Lançamentos'!B:B,\"C\")+SUMIFS('FII-Lançamentos'!C:C,'FII-Lançamentos'!D:D,$A242,'FII-Lançamentos'!B:B,\"V\")","v":0},{"$f":"IF(C242=0,0,SUMIFS('FII-Lançamentos'!K:K,'FII-Lançamentos'!D:D,$A242,'FII-Lançamentos'!B:B,\"C\")-SUMIFS('FII-Lançamentos'!K:K,'FII-Lançamentos'!D:D,$A242,'FII-Lançamentos'!B:B,\"V\"))","v":0},0,null,{"$f":"IFERROR(VLOOKUP(A242,Cotações!B:C,2,FALSE),\"\")","v":""},0,0,null,null,0,null,0,0,null,{"$f":"IF(OR(A242=\"\",A242=\"(vazio)\"),0,IFERROR(LOOKUP(2,1/('FII-Lançamentos'!D:D=A242),'FII-Lançamentos'!O:O),0))","v":0},null,0,null,null,null,null,null,null,"",{"$f":"IF(A242=\"\",\"\",IFERROR(LOOKUP(2,1/('FII-Recebidos'!D:D=A242),'FII-Recebidos'!C:C),\"\"))","v":""},"",""]
[null,null,{"$f":"SUMIFS('FII-Lançamentos'!C:C,'FII-Lançamentos'!D:D,$A243,'FII-Lançamentos'!B:B,\"C\")+SUMIFS('FII-Lançamentos'!C:C,'FII-Lançamentos'!D:D,$A243,'FII-Lançamentos'!B:B,\"V\")","v":0},{"$f":"IF(C243=0,0,SUMIFS('FII-Lançamentos'!K:K,'FII-Lançamentos'!D:D,$A243,'FII-Lançamentos'!B:B,\"C\")-SUMIFS('FII-Lançamentos'!K:K,'FII-Lançamentos'!D:D,$A243,'FII-Lançamentos'!B:B,\"V\"))","v":0},0,null,{"$f":"IFERROR(VLOOKUP(A243,Cotações!B:C,2,FALSE),\"\")","v":""},0,0,null,null,0,null,0,0,null,{"$f":"IF(OR(A243=\"\",A243=\"(vazio)\"),0,IFERROR(LOOKUP(2,1/('FII-Lançamentos'!D:D=A243),'FII-Lançamentos'!O:O),0))","v":0},null,0,null,null,null,null,null,null,"",{"$f":"IF(A243=\"\",\"\",IFERROR(LOOKUP(2,1/('FII-Recebidos'!D:D=A243),'FII-Recebidos'!C:C),\"\"))","v":""},"",""]
[null,null,{"$f":"SUMIFS('FII-Lançamentos'!C:C,'FII-Lançamentos'!D:D,$A244,'FII-Lançamentos'!B:B,\"C\")+SUMIFS('FII-Lançamentos'!C:C,'FII-Lançamentos'!D:D,$A244,'FII-Lançamentos'!B:B,\"V\")","v":0},{"$f":"IF(C244=0,0,SUMIFS('FII-Lançamentos'!K:K,'FII-Lançamentos'!D:D,$A244,'FII-Lançamentos'!B:B,\"C\")-SUMIFS('FII-Lançamentos'!K:K,'FII-Lançamentos'!D:D,$A244,'FII-Lançamentos'!B:B,\"V\"))","v":0},0,null,{"$f":"IFERROR(VLOOKUP(A244,Cotações!B:C,2,FALSE),\"\")","v":""},0,0,null,null,0,null,0,0,null,{"$f":"IF(OR(A244=\"\",A244=\"(vazio)\"),0,IFERROR(LOOKUP(2,1/('FII-Lançamentos'!D:D=A244),'FII-Lançamentos'!O:O),0))","v":0},null,0,null,null,null,null,null,null,"",{"$f":"IF(A244=\"\",\"\",IFERROR(LOOKUP(2,1/('FII-Recebidos'!D:D=A244),'FII-Recebidos'!C:C),\"\"))","v":""},"",""]
[null,null,{"$f":"SUMIFS('FII-Lançamentos'!C:C,'FII-Lançamentos'!D:D,$A245,'FII-Lançamentos'!B:B,\"C\")+SUMIFS('FII-Lançamentos'!C:C,'FII-Lançamentos'!D:D,$A245,'FII-Lançamentos'!B:B,\"V\")","v":0},{"$f":"IF(C245=0,0,SUMIFS('FII-Lançamentos'!K:K,'FII-Lançamentos'!D:D,$A245,'FII-Lançamentos'!B:B,\"C\")-SUMIFS('FII-Lançamentos'!K:K,'FII-Lançamentos'!D:D,$A245,'FII-Lançamentos'!B:B,\"V\"))","v":0},0,null,{"$f":"IFERROR(VLOOKUP(A245,Cotações!B:C,2,FALSE),\"\")","v":""},0,0,null,null,0,null,0,0,null,{"$f":"IF(OR(A245=\"\",A245=\"(vazio)\"),0,IFERROR(LOOKUP(2,1/('FII-Lançamentos'!D:D=A245),'FII-Lançamentos'!O:O),0))","v":0},null,0,null,null,null,null,null,null,"",{"$f":"IF(A245=\"\",\"\",IFERROR(LOOKUP(2,1/('FII-Recebidos'!D:D=A245),'FII-Recebidos'!C:C),\"\"))","v":""},"",""]
[null,null,{"$f":"SUMIFS('FII-Lançamentos'!C:C,'FII-Lançamentos'!D:D,$A246,'FII-Lançamentos'!B:B,\"C\")+SUMIFS('FII-Lançamentos'!C:C,'FII-Lançamentos'!D:D,$A246,'FII-Lançamentos'!B:B,\"V\")","v":0},{"$f":"IF(C246=0,0,SUMIFS('FII-Lançamentos'!K:K,'FII-Lançamentos'!D:D,$A246,'FII-Lançamentos'!B:B,\"C\")-SUMIFS('FII-Lançamentos'!K:K,'FII-Lançamentos'!D:D,$A246,'FII-Lançamentos'!B:B,\"V\"))","v":0},0,null,{"$f":"IFERROR(VLOOKUP(A246,Cotações!B:C,2,FALSE),\"\")","v":""},0,0,null,null,0,null,0,0,null,{"$f":"IF(OR(A246=\"\",A246=\"(vazio)\"),0,IFERROR(LOOKUP(2,1/('FII-Lançamentos'!D:D=A246),'FII-Lançamentos'!O:O),0))","v":0},null,0,null,null,null,null,null,null,"",{"$f":"IF(A246=\"\",\"\",IFERROR(LOOKUP(2,1/('FII-Recebidos'!D:D=A246),'FII-Recebidos'!C:C),\"\"))","v":""},"",""]
[null,null,{"$f":"SUMIFS('FII-Lançamentos'!C:C,'FII-Lançamentos'!D:D,$A247,'FII-Lançamentos'!B:B,\"C\")+SUMIFS('FII-Lançamentos'!C:C,'FII-Lançamentos'!D:D,$A247,'FII-Lançamentos'!B:B,\"V\")","v":0},{"$f":"IF(C247=0,0,SUMIFS('FII-Lançamentos'!K:K,'FII-Lançamentos'!D:D,$A247,'FII-Lançamentos'!B:B,\"C\")-SUMIFS('FII-Lançamentos'!K:K,'FII-Lançamentos'!D:D,$A247,'FII-Lançamentos'!B:B,\"V\"))","v":0},0,null,{"$f":"IFERROR(VLOOKUP(A247,Cotações!B:C,2,FALSE),\"\")","v":""},0,0,null,null,0,null,0,0,null,{"$f":"IF(OR(A247=\"\",A247=\"(vazio)\"),0,IFERROR(LOOKUP(2,1/('FII-Lançamentos'!D:D=A247),'FII-Lançamentos'!O:O),0))","v":0},null,0,null,null,null,null,null,null,"",{"$f":"IF(A247=\"\",\"\",IFERROR(LOOKUP(2,1/('FII-Recebidos'!D:D=A247),'FII-Recebidos'!C:C),\"\"))","v":""},"",""]
[null,null,{"$f":"SUMIFS('FII-Lançamentos'!C:C,'FII-Lançamentos'!D:D,$A248,'FII-Lançamentos'!B:B,\"C\")+SUMIFS('FII-Lançamentos'!C:C,'FII-Lançamentos'!D:D,$A248,'FII-Lançamentos'!B:B,\"V\")","v":0},{"$f":"IF(C248=0,0,SUMIFS('FII-Lançamentos'!K:K,'FII-Lançamentos'!D:D,$A248,'FII-Lançamentos'!B:B,\"C\")-SUMIFS('FII-Lançamentos'!K:K,'FII-Lançamentos'!D:D,$A248,'FII-Lançamentos'!B:B,\"V\"))","v":0},0,null,{"$f":"IFERROR(VLOOKUP(A248,Cotações!B:C,2,FALSE),\"\")","v":""},0,0,null,null,0,null,0,0,null,{"$f":"IF(OR(A248=\"\",A248=\"(vazio)\"),0,IFERROR(LOOKUP(2,1/('FII-Lançamentos'!D:D=A248),'FII-Lançamentos'!O:O),0))","v":0},null,0,null,null,null,null,null,null,"",{"$f":"IF(A248=\"\",\"\",IFERROR(LOOKUP(2,1/('FII-Recebidos'!D:D=A248),'FII-Recebidos'!C:C),\"\"))","v":""},"",""]
[null,null,{"$f":"SUMIFS('FII-Lançamentos'!C:C,'FII-Lançamentos'!D:D,$A249,'FII-Lançamentos'!B:B,\"C\")+SUMIFS('FII-Lançamentos'!C:C,'FII-Lançamentos'!D:D,$A249,'FII-Lançamentos'!B:B,\"V\")","v":0},{"$f":"IF(C249=0,0,SUMIFS('FII-Lançamentos'!K:K,'FII-Lançamentos'!D:D,$A249,'FII-Lançamentos'!B:B,\"C\")-SUMIFS('FII-Lançamentos'!K:K,'FII-Lançamentos'!D:D,$A249,'FII-Lançamentos'!B:B,\"V\"))","v":0},0,null,{"$f":"IFERROR(VLOOKUP(A249,Cotações!B:C,2,FALSE),\"\")","v":""},0,0,null,null,0,null,0,0,null,{"$f":"IF(OR(A249=\"\",A249=\"(vazio)\"),0,IFERROR(LOOKUP(2,1/('FII-Lançamentos'!D:D=A249),'FII-Lançamentos'!O:O),0))","v":0},null,0,null,null,null,null,null,null,"",{"$f":"IF(A249=\"\",\"\",IFERROR(LOOKUP(2,1/('FII-Recebidos'!D:D=A249),'FII-Recebidos'!C:C),\"\"))","v":""},"",""]
[null,null,{"$f":"SUMIFS('FII-Lançamentos'!C:C,'FII-Lançamentos'!D:D,$A250,'FII-Lançamentos'!B:B,\"C\")+SUMIFS('FII-Lançamentos'!C:C,'FII-Lançamentos'!D:D,$A250,'FII-Lançamentos'!B:B,\"V\")","v":0},{"$f":"IF(C250=0,0,SUMIFS('FII-Lançamentos'!K:K,'FII-Lançamentos'!D:D,$A250,'FII-Lançamentos'!B:B,\"C\")-SUMIFS('FII-Lançamentos'!K:K,'FII-Lançamentos'!D:D,$A250,'FII-Lançamentos'!B:B,\"V\"))","v":0},0,null,{"$f":"IFERROR(VLOOKUP(A250,Cotações!B:C,2,FALSE),\"\")","v":""},0,0,null,null,0,null,0,0,null,{"$f":"IF(OR(A250=\"\",A250=\"(vazio)\"),0,IFERROR(LOOKUP(2,1/('FII-Lançamentos'!D:D=A250),'FII-Lançamentos'!O:O),0))","v":0},null,0,null,null,null,null,null,null,"",{"$f":"IF(A250=\"\",\"\",IFERROR(LOOKUP(2,1/('FII-Recebidos'!D:D=A250),'FII-Recebidos'!C:C),\"\"))","v":""},"",""]
[null,null,{"$f":"SUMIFS('FII-Lançamentos'!C:C,'FII-Lançamentos'!D:D,$A251,'FII-Lançamentos'!B:B,\"C\")+SUMIFS('FII-Lançamentos'!C:C,'FII-Lançamentos'!D:D,$A251,'FII-Lançamentos'!B:B,\"V\")","v":0},{"$f":"IF(C251=0,0,SUMIFS('FII-Lançamentos'!K:K,'FII-Lançamentos'!D:D,$A251,'FII-Lançamentos'!B:B,\"C\")-SUMIFS('FII-Lançamentos'!K:K,'FII-Lançamentos'!D:D,$A251,'FII-Lançamentos'!B:B,\"V\"))","v":0},0,null,{"$f":"IFERROR(VLOOKUP(A251,Cotações!B:C,2,FALSE),\"\")","v":""},0,0,null,null,0,null,0,0,null,{"$f":"IF(OR(A251=\"\",A251=\"(vazio)\"),0,IFERROR(LOOKUP(2,1/('FII-Lançamentos'!D:D=A251),'FII-Lançamentos'!O:O),0))","v":0},null,0,null,null,null,null,null,null,"",{"$f":"IF(A251=\"\",\"\",IFERROR(LOOKUP(2,1/('FII-Recebidos'!D:D=A251),'FII-Recebidos'!C:C),\"\"))","v":""},"",""]
[null,null,{"$f":"SUMIFS('FII-Lançamentos'!C:C,'FII-Lançamentos'!D:D,$A252,'FII-Lançamentos'!B:B,\"C\")+SUMIFS('FII-Lançamentos'!C:C,'FII-Lançamentos'!D:D,$A252,'FII-Lançamentos'!B:B,\"V\")","v":0},{"$f":"IF(C252=0,0,SUMIFS('FII-Lançamentos'!K:K,'FII-Lançamentos'!D:D,$A252,'FII-Lançamentos'!B:B,\"C\")-SUMIFS('FII-Lançamentos'!K:K,'FII-Lançamentos'!D:D,$A252,'FII-Lançamentos'!B:B,\"V\"))","v":0},0,null,{"$f":"IFERROR(VLOOKUP(A252,Cotações!B:C,2,FALSE),\"\")","v":""},0,0,null,null,0,null,0,0,null,{"$f":"IF(OR(A252=\"\",A252=\"(vazio)\"),0,IFERROR(LOOKUP(2,1/('FII-Lançamentos'!D:D=A252),'FII-Lançamentos'!O:O),0))","v":0},null,0,null,null,null,null,null,null,"",{"$f":"IF(A252=\"\",\"\",IFERROR(LOOKUP(2,1/('FII-Recebidos'!D:D=A252),'FII-Recebidos'!C:C),\"\"))","v":""},"",""]
[null,null,{"$f":"SUMIFS('FII-Lançamentos'!C:C,'FII-Lançamentos'!D:D,$A253,'FII-Lançamentos'!B:B,\"C\")+SUMIFS('FII-Lançamentos'!C:C,'FII-Lançamentos'!D:D,$A253,'FII-Lançamentos'!B:B,\"V\")","v":0},{"$f":"IF(C253=0,0,SUMIFS('FII-Lançamentos'!K:K,'FII-Lançamentos'!D:D,$A253,'FII-Lançamentos'!B:B,\"C\")-SUMIFS('FII-Lançamentos'!K:K,'FII-Lançamentos'!D:D,$A253,'FII-Lançamentos'!B:B,\"V\"))","v":0},0,null,{"$f":"IFERROR(VLOOKUP(A253,Cotações!B:C,2,FALSE),\"\")","v":""},0,0,null,null,0,null,0,0,null,{"$f":"IF(OR(A253=\"\",A253=\"(vazio)\"),0,IFERROR(LOOKUP(2,1/('FII-Lançamentos'!D:D=A253),'FII-Lançamentos'!O:O),0))","v":0},null,0,null,null,null,null,null,null,"",{"$f":"IF(A253=\"\",\"\",IFERROR(LOOKUP(2,1/('FII-Recebidos'!D:D=A253),'FII-Recebidos'!C:C),\"\"))","v":""},"",""]
[null,null,{"$f":"SUMIFS('FII-Lançamentos'!C:C,'FII-Lançamentos'!D:D,$A254,'FII-Lançamentos'!B:B,\"C\")+SUMIFS('FII-Lançamentos'!C:C,'FII-Lançamentos'!D:D,$A254,'FII-Lançamentos'!B:B,\"V\")","v":0},{"$f":"IF(C254=0,0,SUMIFS('FII-Lançamentos'!K:K,'FII-Lançamentos'!D:D,$A254,'FII-Lançamentos'!B:B,\"C\")-SUMIFS('FII-Lançamentos'!K:K,'FII-Lançamentos'!D:D,$A254,'FII-Lançamentos'!B:B,\"V\"))","v":0},0,null,{"$f":"IFERROR(VLOOKUP(A254,Cotações!B:C,2,FALSE),\"\")","v":""},0,0,null,null,0,null,0,0,null,{"$f":"IF(OR(A254=\"\",A254=\"(vazio)\"),0,IFERROR(LOOKUP(2,1/('FII-Lançamentos'!D:D=A254),'FII-Lançamentos'!O:O),0))","v":0},null,0,null,null,null,null,null,null,"",{"$f":"IF(A254=\"\",\"\",IFERROR(LOOKUP(2,1/('FII-Recebidos'!D:D=A254),'FII-Recebidos'!C:C),\"\"))","v":""},"",""]
[null,null,{"$f":"SUMIFS('FII-Lançamentos'!C:C,'FII-Lançamentos'!D:D,$A255,'FII-Lançamentos'!B:B,\"C\")+SUMIFS('FII-Lançamentos'!C:C,'FII-Lançamentos'!D:D,$A255,'FII-Lançamentos'!B:B,\"V\")","v":0},{"$f":"IF(C255=0,0,SUMIFS('FII-Lançamentos'!K:K,'FII-Lançamentos'!D:D,$A255,'FII-Lançamentos'!B:B,\"C\")-SUMIFS('FII-Lançamentos'!K:K,'FII-Lançamentos'!D:D,$A255,'FII-Lançamentos'!B:B,\"V\"))","v":0},0,null,{"$f":"IFERROR(VLOOKUP(A255,Cotações!B:C,2,FALSE),\"\")","v":""},0,0,null,null,0,null,0,0,null,{"$f":"IF(OR(A255=\"\",A255=\"(vazio)\"),0,IFERROR(LOOKUP(2,1/('FII-Lançamentos'!D:D=A255),'FII-Lançamentos'!O:O),0))","v":0},null,0,null,null,null,null,null,null,"",{"$f":"IF(A255=\"\",\"\",IFERROR(LOOKUP(2,1/('FII-Recebidos'!D:D=A255),'FII-Recebidos'!C:C),\"\"))","v":""},"",""]
[null,null,{"$f":"SUMIFS('FII-Lançamentos'!C:C,'FII-Lançamentos'!D:D,$A256,'FII-Lançamentos'!B:B,\"C\")+SUMIFS('FII-Lançamentos'!C:C,'FII-Lançamentos'!D:D,$A256,'FII-Lançamentos'!B:B,\"V\")","v":0},{"$f":"IF(C256=0,0,SUMIFS('FII-Lançamentos'!K:K,'FII-Lançamentos'!D:D,$A256,'FII-Lançamentos'!B:B,\"C\")-SUMIFS('FII-Lançamentos'!K:K,'FII-Lançamentos'!D:D,$A256,'FII-Lançamentos'!B:B,\"V\"))","v":0},0,null,{"$f":"IFERROR(VLOOKUP(A256,Cotações!B:C,2,FALSE),\"\")","v":""},0,0,null,null,0,null,0,0,null,{"$f":"IF(OR(A256=\"\",A256=\"(vazio)\"),0,IFERROR(LOOKUP(2,1/('FII-Lançamentos'!D:D=A256),'FII-Lançamentos'!O:O),0))","v":0},null,0,null,null,null,null,null,null,"",{"$f":"IF(A256=\"\",\"\",IFERROR(LOOKUP(2,1/('FII-Recebidos'!D:D=A256),'FII-Recebidos'!C:C),\"\"))","v":""},"",""]
[null,null,{"$f":"SUMIFS('FII-Lançamentos'!C:C,'FII-Lançamentos'!D:D,$A257,'FII-Lançamentos'!B:B,\"C\")+SUMIFS('FII-Lançamentos'!C:C,'FII-Lançamentos'!D:D,$A257,'FII-Lançamentos'!B:B,\"V\")","v":0},{"$f":"IF(C257=0,0,SUMIFS('FII-Lançamentos'!K:K,'FII-Lançamentos'!D:D,$A257,'FII-Lançamentos'!B:B,\"C\")-SUMIFS('FII-Lançamentos'!K:K,'FII-Lançamentos'!D:D,$A257,'FII-Lançamentos'!B:B,\"V\"))","v":0},0,null,{"$f":"IFERROR(VLOOKUP(A257,Cotações!B:C,2,FALSE),\"\")","v":""},0,0,null,null,0,null,0,0,null,{"$f":"IF(OR(A257=\"\",A257=\"(vazio)\"),0,IFERROR(LOOKUP(2,1/('FII-Lançamentos'!D:D=A257),'FII-Lançamentos'!O:O),0))","v":0},null,0,null,null,null,null,null,null,"",{"$f":"IF(A257=\"\",\"\",IFERROR(LOOKUP(2,1/('FII-Recebidos'!D:D=A257),'FII-Recebidos'!C:C),\"\"))","v":""},"",""]
[null,null,{"$f":"SUMIFS('FII-Lançamentos'!C:C,'FII-Lançamentos'!D:D,$A258,'FII-Lançamentos'!B:B,\"C\")+SUMIFS('FII-Lançamentos'!C:C,'FII-Lançamentos'!D:D,$A258,'FII-Lançamentos'!B:B,\"V\")","v":0},{"$f":"IF(C258=0,0,SUMIFS('FII-Lançamentos'!K:K,'FII-Lançamentos'!D:D,$A258,'FII-Lançamentos'!B:B,\"C\")-SUMIFS('FII-Lançamentos'!K:K,'FII-Lançamentos'!D:D,$A258,'FII-Lançamentos'!B:B,\"V\"))","v":0},0,null,{"$f":"IFERROR(VLOOKUP(A258,Cotações!B:C,2,FALSE),\"\")","v":""},0,0,null,null,0,null,0,0,null,{"$f":"IF(OR(A258=\"\",A258=\"(vazio)\"),0,IFERROR(LOOKUP(2,1/('FII-Lançamentos'!D:D=A258),'FII-Lançamentos'!O:O),0))","v":0},null,0,null,null,null,null,null,null,"",{"$f":"IF(A258=\"\",\"\",IFERROR(LOOKUP(2,1/('FII-Recebidos'!D:D=A258),'FII-Recebidos'!C:C),\"\"))","v":""},"",""]
[null,null,{"$f":"SUMIFS('FII-Lançamentos'!C:C,'FII-Lançamentos'!D:D,$A259,'FII-Lançamentos'!B:B,\"C\")+SUMIFS('FII-Lançamentos'!C:C,'FII-Lançamentos'!D:D,$A259,'FII-Lançamentos'!B:B,\"V\")","v":0},{"$f":"IF(C259=0,0,SUMIFS('FII-Lançamentos'!K:K,'FII-Lançamentos'!D:D,$A259,'FII-Lançamentos'!B:B,\"C\")-SUMIFS('FII-Lançamentos'!K:K,'FII-Lançamentos'!D:D,$A259,'FII-Lançamentos'!B:B,\"V\"))","v":0},0,null,{"$f":"IFERROR(VLOOKUP(A259,Cotações!B:C,2,FALSE),\"\")","v":""},0,0,null,null,0,null,0,0,null,{"$f":"IF(OR(A259=\"\",A259=\"(vazio)\"),0,IFERROR(LOOKUP(2,1/('FII-Lançamentos'!D:D=A259),'FII-Lançamentos'!O:O),0))","v":0},null,0,null,null,null,null,null,null,"",{"$f":"IF(A259=\"\",\"\",IFERROR(LOOKUP(2,1/('FII-Recebidos'!D:D=A259),'FII-Recebidos'!C:C),\"\"))","v":""},"",""]
[null,null,{"$f":"SUMIFS('FII-Lançamentos'!C:C,'FII-Lançamentos'!D:D,$A260,'FII-Lançamentos'!B:B,\"C\")+SUMIFS('FII-Lançamentos'!C:C,'FII-Lançamentos'!D:D,$A260,'FII-Lançamentos'!B:B,\"V\")","v":0},{"$f":"IF(C260=0,0,SUMIFS('FII-Lançamentos'!K:K,'FII-Lançamentos'!D:D,$A260,'FII-Lançamentos'!B:B,\"C\")-SUMIFS('FII-Lançamentos'!K:K,'FII-Lançamentos'!D:D,$A260,'FII-Lançamentos'!B:B,\"V\"))","v":0},{"$f":"IF(OR(D260=0,$V$9=0),0,D260/$V$9)","v":0},null,{"$f":"IFERROR(VLOOKUP(A260,Cotações!B:C,2,FALSE),\"\")","v":""},{"$f":"IF(C260=\"\",0,IF(G260=\"\",D260,C260*G260))","v":0},{"$f":"IF(fii_at=0,0,H260/$V$11)","v":0},null,null,{"$f":"IF(OR(K260=\"\",I260=\"\",E260=\"\"),0,IF($K$2=\"% ATUAL\",K260-I260,K260-E260))","v":0},null,{"$f":"IF(OR(D260=0,G260=\"\"),0,H260-D260)","v":0},{"$f":"IF(OR(D260=0,G260=\"\"),0,N260/D260)","v":0},null,{"$f":"IF(OR(A260=\"\",A260=\"(vazio)\"),0,IFERROR(LOOKUP(2,1/('FII-Lançamentos'!D:D=A260),'FII-Lançamentos'!O:O),0))","v":0},null,{"$f":"IF(OR(A260=\"\",A260=\"(vazio)\"),0,(C260*Q260))","v":0},null,null,null,null,null,null,"",{"$f":"IF(A260=\"\",\"\",IFERROR(LOOKUP(2,1/('FII-Recebidos'!D:D=A260),'FII-Recebidos'!C:C),\"\"))","v":""},{"$f":"IFERROR(($AA260/$C260/$Q260),\"\")","v":""},{"$f":"IFERROR(($AA260/$C260/$G260),\"\")","v":""}]
[null,null,{"$f":"SUMIFS('FII-Lançamentos'!C:C,'FII-Lançamentos'!D:D,$A261,'FII-Lançamentos'!B:B,\"C\")+SUMIFS('FII-Lançamentos'!C:C,'FII-Lançamentos'!D:D,$A261,'FII-Lançamentos'!B:B,\"V\")","v":0},{"$f":"IF(C261=0,0,SUMIFS('FII-Lançamentos'!K:K,'FII-Lançamentos'!D:D,$A261,'FII-Lançamentos'!B:B,\"C\")-SUMIFS('FII-Lançamentos'!K:K,'FII-Lançamentos'!D:D,$A261,'FII-Lançamentos'!B:B,\"V\"))","v":0},0,null,{"$f":"IFERROR(VLOOKUP(A261,Cotações!B:C,2,FALSE),\"\")","v":""},0,0,null,null,0,null,0,0,null,{"$f":"IF(OR(A261=\"\",A261=\"(vazio)\"),0,IFERROR(LOOKUP(2,1/('FII-Lançamentos'!D:D=A261),'FII-Lançamentos'!O:O),0))","v":0},null,0,null,null,null,null,null,null,"",{"$f":"IF(A261=\"\",\"\",IFERROR(LOOKUP(2,1/('FII-Recebidos'!D:D=A261),'FII-Recebidos'!C:C),\"\"))","v":""},"",""]
[null,null,{"$f":"SUMIFS('FII-Lançamentos'!C:C,'FII-Lançamentos'!D:D,$A262,'FII-Lançamentos'!B:B,\"C\")+SUMIFS('FII-Lançamentos'!C:C,'FII-Lançamentos'!D:D,$A262,'FII-Lançamentos'!B:B,\"V\")","v":0},{"$f":"IF(C262=0,0,SUMIFS('FII-Lançamentos'!K:K,'FII-Lançamentos'!D:D,$A262,'FII-Lançamentos'!B:B,\"C\")-SUMIFS('FII-Lançamentos'!K:K,'FII-Lançamentos'!D:D,$A262,'FII-Lançamentos'!B:B,\"V\"))","v":0},0,null,{"$f":"IFERROR(VLOOKUP(A262,Cotações!B:C,2,FALSE),\"\")","v":""},0,0,null,null,0,null,0,0,null,{"$f":"IF(OR(A262=\"\",A262=\"(vazio)\"),0,IFERROR(LOOKUP(2,1/('FII-Lançamentos'!D:D=A262),'FII-Lançamentos'!O:O),0))","v":0},null,0,null,null,null,null,null,null,"",{"$f":"IF(A262=\"\",\"\",IFERROR(LOOKUP(2,1/('FII-Recebidos'!D:D=A262),'FII-Recebidos'!C:C),\"\"))","v":""},"",""]
[null,null,{"$f":"SUMIFS('FII-Lançamentos'!C:C,'FII-Lançamentos'!D:D,$A263,'FII-Lançamentos'!B:B,\"C\")+SUMIFS('FII-Lançamentos'!C:C,'FII-Lançamentos'!D:D,$A263,'FII-Lançamentos'!B:B,\"V\")","v":0},{"$f":"IF(C263=0,0,SUMIFS('FII-Lançamentos'!K:K,'FII-Lançamentos'!D:D,$A263,'FII-Lançamentos'!B:B,\"C\")-SUMIFS('FII-Lançamentos'!K:K,'FII-Lançamentos'!D:D,$A263,'FII-Lançamentos'!B:B,\"V\"))","v":0},0,null,{"$f":"IFERROR(VLOOKUP(A263,Cotações!B:C,2,FALSE),\"\")","v":""},0,0,null,null,0,null,0,0,null,{"$f":"IF(OR(A263=\"\",A263=\"(vazio)\"),0,IFERROR(LOOKUP(2,1/('FII-Lançamentos'!D:D=A263),'FII-Lançamentos'!O:O),0))","v":0},null,0,null,null,null,null,null,null,"",{"$f":"IF(A263=\"\",\"\",IFERROR(LOOKUP(2,1/('FII-Recebidos'!D:D=A263),'FII-Recebidos'!C:C),\"\"))","v":""},"",""]
[null,null,{"$f":"SUMIFS('FII-Lançamentos'!C:C,'FII-Lançamentos'!D:D,$A264,'FII-Lançamentos'!B:B,\"C\")+SUMIFS('FII-Lançamentos'!C:C,'FII-Lançamentos'!D:D,$A264,'FII-Lançamentos'!B:B,\"V\")","v":0},{"$f":"IF(C264=0,0,SUMIFS('FII-Lançamentos'!K:K,'FII-Lançamentos'!D:D,$A264,'FII-Lançamentos'!B:B,\"C\")-SUMIFS('FII-Lançamentos'!K:K,'FII-Lançamentos'!D:D,$A264,'FII-Lançamentos'!B:B,\"V\"))","v":0},0,null,{"$f":"IFERROR(VLOOKUP(A264,Cotações!B:C,2,FALSE),\"\")","v":""},0,0,null,null,0,null,0,0,null,{"$f":"IF(OR(A264=\"\",A264=\"(vazio)\"),0,IFERROR(LOOKUP(2,1/('FII-Lançamentos'!D:D=A264),'FII-Lançamentos'!O:O),0))","v":0},null,0,null,null,null,null,null,null,"",{"$f":"IF(A264=\"\",\"\",IFERROR(LOOKUP(2,1/('FII-Recebidos'!D:D=A264),'FII-Recebidos'!C:C),\"\"))","v":""},"",""]
[null,null,{"$f":"SUMIFS('FII-Lançamentos'!C:C,'FII-Lançamentos'!D:D,$A265,'FII-Lançamentos'!B:B,\"C\")+SUMIFS('FII-Lançamentos'!C:C,'FII-Lançamentos'!D:D,$A265,'FII-Lançamentos'!B:B,\"V\")","v":0},{"$f":"IF(C265=0,0,SUMIFS('FII-Lançamentos'!K:K,'FII-Lançamentos'!D:D,$A265,'FII-Lançamentos'!B:B,\"C\")-SUMIFS('FII-Lançamentos'!K:K,'FII-Lançamentos'!D:D,$A265,'FII-Lançamentos'!B:B,\"V\"))","v":0},0,null,{"$f":"IFERROR(VLOOKUP(A265,Cotações!B:C,2,FALSE),\"\")","v":""},0,0,null,null,0,null,0,0,null,{"$f":"IF(OR(A265=\"\",A265=\"(vazio)\"),0,IFERROR(LOOKUP(2,1/('FII-Lançamentos'!D:D=A265),'FII-Lançamentos'!O:O),0))","v":0},null,0,null,null,null,null,null,null,"",{"$f":"IF(A265=\"\",\"\",IFERROR(LOOKUP(2,1/('FII-Recebidos'!D:D=A265),'FII-Recebidos'!C:C),\"\"))","v":""},"",""]
[null,null,{"$f":"SUMIFS('FII-Lançamentos'!C:C,'FII-Lançamentos'!D:D,$A266,'FII-Lançamentos'!B:B,\"C\")+SUMIFS('FII-Lançamentos'!C:C,'FII-Lançamentos'!D:D,$A266,'FII-Lançamentos'!B:B,\"V\")","v":0},{"$f":"IF(C266=0,0,SUMIFS('FII-Lançamentos'!K:K,'FII-Lançamentos'!D:D,$A266,'FII-Lançamentos'!B:B,\"C\")-SUMIFS('FII-Lançamentos'!K:K,'FII-Lançamentos'!D:D,$A266,'FII-Lançamentos'!B:B,\"V\"))","v":0},0,null,{"$f":"IFERROR(VLOOKUP(A266,Cotações!B:C,2,FALSE),\"\")","v":""},0,0,null,null,0,null,0,0,null,{"$f":"IF(OR(A266=\"\",A266=\"(vazio)\"),0,IFERROR(LOOKUP(2,1/('FII-Lançamentos'!D:D=A266),'FII-Lançamentos'!O:O),0))","v":0},null,0,null,null,null,null,null,null,"",{"$f":"IF(A266=\"\",\"\",IFERROR(LOOKUP(2,1/('FII-Recebidos'!D:D=A266),'FII-Recebidos'!C:C),\"\"))","v":""},"",""]
[null,null,{"$f":"SUMIFS('FII-Lançamentos'!C:C,'FII-Lançamentos'!D:D,$A267,'FII-Lançamentos'!B:B,\"C\")+SUMIFS('FII-Lançamentos'!C:C,'FII-Lançamentos'!D:D,$A267,'FII-Lançamentos'!B:B,\"V\")","v":0},{"$f":"IF(C267=0,0,SUMIFS('FII-Lançamentos'!K:K,'FII-Lançamentos'!D:D,$A267,'FII-Lançamentos'!B:B,\"C\")-SUMIFS('FII-Lançamentos'!K:K,'FII-Lançamentos'!D:D,$A267,'FII-Lançamentos'!B:B,\"V\"))","v":0},0,null,{"$f":"IFERROR(VLOOKUP(A267,Cotações!B:C,2,FALSE),\"\")","v":""},0,0,null,null,0,null,0,0,null,{"$f":"IF(OR(A267=\"\",A267=\"(vazio)\"),0,IFERROR(LOOKUP(2,1/('FII-Lançamentos'!D:D=A267),'FII-Lançamentos'!O:O),0))","v":0},null,0,null,null,null,null,null,null,"",{"$f":"IF(A267=\"\",\"\",IFERROR(LOOKUP(2,1/('FII-Recebidos'!D:D=A267),'FII-Recebidos'!C:C),\"\"))","v":""},"",""]
[null,null,{"$f":"SUMIFS('FII-Lançamentos'!C:C,'FII-Lançamentos'!D:D,$A268,'FII-Lançamentos'!B:B,\"C\")+SUMIFS('FII-Lançamentos'!C:C,'FII-Lançamentos'!D:D,$A268,'FII-Lançamentos'!B:B,\"V\")","v":0},{"$f":"IF(C268=0,0,SUMIFS('FII-Lançamentos'!K:K,'FII-Lançamentos'!D:D,$A268,'FII-Lançamentos'!B:B,\"C\")-SUMIFS('FII-Lançamentos'!K:K,'FII-Lançamentos'!D:D,$A268,'FII-Lançamentos'!B:B,\"V\"))","v":0},0,null,{"$f":"IFERROR(VLOOKUP(A268,Cotações!B:C,2,FALSE),\"\")","v":""},0,0,null,null,0,null,0,0,null,{"$f":"IF(OR(A268=\"\",A268=\"(vazio)\"),0,IFERROR(LOOKUP(2,1/('FII-Lançamentos'!D:D=A268),'FII-Lançamentos'!O:O),0))","v":0},null,0,null,null,null,null,null,null,"",{"$f":"IF(A268=\"\",\"\",IFERROR(LOOKUP(2,1/('FII-Recebidos'!D:D=A268),'FII-Recebidos'!C:C),\"\"))","v":""},"",""]
[null,null,{"$f":"SUMIFS('FII-Lançamentos'!C:C,'FII-Lançamentos'!D:D,$A269,'FII-Lançamentos'!B:B,\"C\")+SUMIFS('FII-Lançamentos'!C:C,'FII-Lançamentos'!D:D,$A269,'FII-Lançamentos'!B:B,\"V\")","v":0},{"$f":"IF(C269=0,0,SUMIFS('FII-Lançamentos'!K:K,'FII-Lançamentos'!D:D,$A269,'FII-Lançamentos'!B:B,\"C\")-SUMIFS('FII-Lançamentos'!K:K,'FII-Lançamentos'!D:D,$A269,'FII-Lançamentos'!B:B,\"V\"))","v":0},0,null,{"$f":"IFERROR(VLOOKUP(A269,Cotações!B:C,2,FALSE),\"\")","v":""},0,0,null,null,0,null,0,0,null,{"$f":"IF(OR(A269=\"\",A269=\"(vazio)\"),0,IFERROR(LOOKUP(2,1/('FII-Lançamentos'!D:D=A269),'FII-Lançamentos'!O:O),0))","v":0},null,0,null,null,null,null,null,null,"",{"$f":"IF(A269=\"\",\"\",IFERROR(LOOKUP(2,1/('FII-Recebidos'!D:D=A269),'FII-Recebidos'!C:C),\"\"))","v":""},"",""]
[null,null,{"$f":"SUMIFS('FII-Lançamentos'!C:C,'FII-Lançamentos'!D:D,$A270,'FII-Lançamentos'!B:B,\"C\")+SUMIFS('FII-Lançamentos'!C:C,'FII-Lançamentos'!D:D,$A270,'FII-Lançamentos'!B:B,\"V\")","v":0},{"$f":"IF(C270=0,0,SUMIFS('FII-Lançamentos'!K:K,'FII-Lançamentos'!D:D,$A270,'FII-Lançamentos'!B:B,\"C\")-SUMIFS('FII-Lançamentos'!K:K,'FII-Lançamentos'!D:D,$A270,'FII-Lançamentos'!B:B,\"V\"))","v":0},0,null,{"$f":"IFERROR(VLOOKUP(A270,Cotações!B:C,2,FALSE),\"\")","v":""},0,0,null,null,0,null,0,0,null,{"$f":"IF(OR(A270=\"\",A270=\"(vazio)\"),0,IFERROR(LOOKUP(2,1/('FII-Lançamentos'!D:D=A270),'FII-Lançamentos'!O:O),0))","v":0},null,0,null,null,null,null,null,null,"",{"$f":"IF(A270=\"\",\"\",IFERROR(LOOKUP(2,1/('FII-Recebidos'!D:D=A270),'FII-Recebidos'!C:C),\"\"))","v":""},"",""]
[null,null,{"$f":"SUMIFS('FII-Lançamentos'!C:C,'FII-Lançamentos'!D:D,$A271,'FII-Lançamentos'!B:B,\"C\")+SUMIFS('FII-Lançamentos'!C:C,'FII-Lançamentos'!D:D,$A271,'FII-Lançamentos'!B:B,\"V\")","v":0},{"$f":"IF(C271=0,0,SUMIFS('FII-Lançamentos'!K:K,'FII-Lançamentos'!D:D,$A271,'FII-Lançamentos'!B:B,\"C\")-SUMIFS('FII-Lançamentos'!K:K,'FII-Lançamentos'!D:D,$A271,'FII-Lançamentos'!B:B,\"V\"))","v":0},0,null,{"$f":"IFERROR(VLOOKUP(A271,Cotações!B:C,2,FALSE),\"\")","v":""},0,0,null,null,0,null,0,0,null,{"$f":"IF(OR(A271=\"\",A271=\"(vazio)\"),0,IFERROR(LOOKUP(2,1/('FII-Lançamentos'!D:D=A271),'FII-Lançamentos'!O:O),0))","v":0},null,0,null,null,null,null,null,null,"",{"$f":"IF(A271=\"\",\"\",IFERROR(LOOKUP(2,1/('FII-Recebidos'!D:D=A271),'FII-Recebidos'!C:C),\"\"))","v":""},"",""]
[null,null,{"$f":"SUMIFS('FII-Lançamentos'!C:C,'FII-Lançamentos'!D:D,$A272,'FII-Lançamentos'!B:B,\"C\")+SUMIFS('FII-Lançamentos'!C:C,'FII-Lançamentos'!D:D,$A272,'FII-Lançamentos'!B:B,\"V\")","v":0},{"$f":"IF(C272=0,0,SUMIFS('FII-Lançamentos'!K:K,'FII-Lançamentos'!D:D,$A272,'FII-Lançamentos'!B:B,\"C\")-SUMIFS('FII-Lançamentos'!K:K,'FII-Lançamentos'!D:D,$A272,'FII-Lançamentos'!B:B,\"V\"))","v":0},0,null,{"$f":"IFERROR(VLOOKUP(A272,Cotações!B:C,2,FALSE),\"\")","v":""},0,0,null,null,0,null,0,0,null,{"$f":"IF(OR(A272=\"\",A272=\"(vazio)\"),0,IFERROR(LOOKUP(2,1/('FII-Lançamentos'!D:D=A272),'FII-Lançamentos'!O:O),0))","v":0},null,0,null,null,null,null,null,null,"",{"$f":"IF(A272=\"\",\"\",IFERROR(LOOKUP(2,1/('FII-Recebidos'!D:D=A272),'FII-Recebidos'!C:C),\"\"))","v":""},"",""]
[null,null,{"$f":"SUMIFS('FII-Lançamentos'!C:C,'FII-Lançamentos'!D:D,$A273,'FII-Lançamentos'!B:B,\"C\")+SUMIFS('FII-Lançamentos'!C:C,'FII-Lançamentos'!D:D,$A273,'FII-Lançamentos'!B:B,\"V\")","v":0},{"$f":"IF(C273=0,0,SUMIFS('FII-Lançamentos'!K:K,'FII-Lançamentos'!D:D,$A273,'FII-Lançamentos'!B:B,\"C\")-SUMIFS('FII-Lançamentos'!K:K,'FII-Lançamentos'!D:D,$A273,'FII-Lançamentos'!B:B,\"V\"))","v":0},0,null,{"$f":"IFERROR(VLOOKUP(A273,Cotações!B:C,2,FALSE),\"\")","v":""},0,0,null,null,0,null,0,0,null,{"$f":"IF(OR(A273=\"\",A273=\"(vazio)\"),0,IFERROR(LOOKUP(2,1/('FII-Lançamentos'!D:D=A273),'FII-Lançamentos'!O:O),0))","v":0},null,0,null,null,null,null,null,null,"",{"$f":"IF(A273=\"\",\"\",IFERROR(LOOKUP(2,1/('FII-Recebidos'!D:D=A273),'FII-Recebidos'!C:C),\"\"))","v":""},"",""]
[null,null,{"$f":"SUMIFS('FII-Lançamentos'!C:C,'FII-Lançamentos'!D:D,$A274,'FII-Lançamentos'!B:B,\"C\")+SUMIFS('FII-Lançamentos'!C:C,'FII-Lançamentos'!D:D,$A274,'FII-Lançamentos'!B:B,\"V\")","v":0},{"$f":"IF(C274=0,0,SUMIFS('FII-Lançamentos'!K:K,'FII-Lançamentos'!D:D,$A274,'FII-Lançamentos'!B:B,\"C\")-SUMIFS('FII-Lançamentos'!K:K,'FII-Lançamentos'!D:D,$A274,'FII-Lançamentos'!B:B,\"V\"))","v":0},0,null,{"$f":"IFERROR(VLOOKUP(A274,Cotações!B:C,2,FALSE),\"\")","v":""},0,0,null,null,0,null,0,0,null,{"$f":"IF(OR(A274=\"\",A274=\"(vazio)\"),0,IFERROR(LOOKUP(2,1/('FII-Lançamentos'!D:D=A274),'FII-Lançamentos'!O:O),0))","v":0},null,0,null,null,null,null,null,null,"",{"$f":"IF(A274=\"\",\"\",IFERROR(LOOKUP(2,1/('FII-Recebidos'!D:D=A274),'FII-Recebidos'!C:C),\"\"))","v":""},"",""]
[null,null,{"$f":"SUMIFS('FII-Lançamentos'!C:C,'FII-Lançamentos'!D:D,$A275,'FII-Lançamentos'!B:B,\"C\")+SUMIFS('FII-Lançamentos'!C:C,'FII-Lançamentos'!D:D,$A275,'FII-Lançamentos'!B:B,\"V\")","v":0},{"$f":"IF(C275=0,0,SUMIFS('FII-Lançamentos'!K:K,'FII-Lançamentos'!D:D,$A275,'FII-Lançamentos'!B:B,\"C\")-SUMIFS('FII-Lançamentos'!K:K,'FII-Lançamentos'!D:D,$A275,'FII-Lançamentos'!B:B,\"V\"))","v":0},0,null,{"$f":"IFERROR(VLOOKUP(A275,Cotações!B:C,2,FALSE),\"\")","v":""},0,0,null,null,0,null,0,0,null,{"$f":"IF(OR(A275=\"\",A275=\"(vazio)\"),0,IFERROR(LOOKUP(2,1/('FII-Lançamentos'!D:D=A275),'FII-Lançamentos'!O:O),0))","v":0},null,0,null,null,null,null,null,null,"",{"$f":"IF(A275=\"\",\"\",IFERROR(LOOKUP(2,1/('FII-Recebidos'!D:D=A275),'FII-Recebidos'!C:C),\"\"))","v":""},"",""]
[null,null,{"$f":"SUMIFS('FII-Lançamentos'!C:C,'FII-Lançamentos'!D:D,$A276,'FII-Lançamentos'!B:B,\"C\")+SUMIFS('FII-Lançamentos'!C:C,'FII-Lançamentos'!D:D,$A276,'FII-Lançamentos'!B:B,\"V\")","v":0},{"$f":"IF(C276=0,0,SUMIFS('FII-Lançamentos'!K:K,'FII-Lançamentos'!D:D,$A276,'FII-Lançamentos'!B:B,\"C\")-SUMIFS('FII-Lançamentos'!K:K,'FII-Lançamentos'!D:D,$A276,'FII-Lançamentos'!B:B,\"V\"))","v":0},0,null,{"$f":"IFERROR(VLOOKUP(A276,Cotações!B:C,2,FALSE),\"\")","v":""},0,0,null,null,0,null,0,0,null,{"$f":"IF(OR(A276=\"\",A276=\"(vazio)\"),0,IFERROR(LOOKUP(2,1/('FII-Lançamentos'!D:D=A276),'FII-Lançamentos'!O:O),0))","v":0},null,0,null,null,null,null,null,null,"",{"$f":"IF(A276=\"\",\"\",IFERROR(LOOKUP(2,1/('FII-Recebidos'!D:D=A276),'FII-Recebidos'!C:C),\"\"))","v":""},"",""]
[null,null,{"$f":"SUMIFS('FII-Lançamentos'!C:C,'FII-Lançamentos'!D:D,$A277,'FII-Lançamentos'!B:B,\"C\")+SUMIFS('FII-Lançamentos'!C:C,'FII-Lançamentos'!D:D,$A277,'FII-Lançamentos'!B:B,\"V\")","v":0},{"$f":"IF(C277=0,0,SUMIFS('FII-Lançamentos'!K:K,'FII-Lançamentos'!D:D,$A277,'FII-Lançamentos'!B:B,\"C\")-SUMIFS('FII-Lançamentos'!K:K,'FII-Lançamentos'!D:D,$A277,'FII-Lançamentos'!B:B,\"V\"))","v":0},0,null,{"$f":"IFERROR(VLOOKUP(A277,Cotações!B:C,2,FALSE),\"\")","v":""},0,0,null,null,0,null,0,0,null,{"$f":"IF(OR(A277=\"\",A277=\"(vazio)\"),0,IFERROR(LOOKUP(2,1/('FII-Lançamentos'!D:D=A277),'FII-Lançamentos'!O:O),0))","v":0},null,0,null,null,null,null,null,null,"",{"$f":"IF(A277=\"\",\"\",IFERROR(LOOKUP(2,1/('FII-Recebidos'!D:D=A277),'FII-Recebidos'!C:C),\"\"))","v":""},"",""]
[null,null,{"$f":"SUMIFS('FII-Lançamentos'!C:C,'FII-Lançamentos'!D:D,$A278,'FII-Lançamentos'!B:B,\"C\")+SUMIFS('FII-Lançamentos'!C:C,'FII-Lançamentos'!D:D,$A278,'FII-Lançamentos'!B:B,\"V\")","v":0},{"$f":"IF(C278=0,0,SUMIFS('FII-Lançamentos'!K:K,'FII-Lançamentos'!D:D,$A278,'FII-Lançamentos'!B:B,\"C\")-SUMIFS('FII-Lançamentos'!K:K,'FII-Lançamentos'!D:D,$A278,'FII-Lançamentos'!B:B,\"V\"))","v":0},0,null,{"$f":"IFERROR(VLOOKUP(A278,Cotações!B:C,2,FALSE),\"\")","v":""},0,0,null,null,0,null,0,0,null,{"$f":"IF(OR(A278=\"\",A278=\"(vazio)\"),0,IFERROR(LOOKUP(2,1/('FII-Lançamentos'!D:D=A278),'FII-Lançamentos'!O:O),0))","v":0},null,0,null,null,null,null,null,null,"",{"$f":"IF(A278=\"\",\"\",IFERROR(LOOKUP(2,1/('FII-Recebidos'!D:D=A278),'FII-Recebidos'!C:C),\"\"))","v":""},"",""]
[null,null,{"$f":"SUMIFS('FII-Lançamentos'!C:C,'FII-Lançamentos'!D:D,$A279,'FII-Lançamentos'!B:B,\"C\")+SUMIFS('FII-Lançamentos'!C:C,'FII-Lançamentos'!D:D,$A279,'FII-Lançamentos'!B:B,\"V\")","v":0},{"$f":"IF(C279=0,0,SUMIFS('FII-Lançamentos'!K:K,'FII-Lançamentos'!D:D,$A279,'FII-Lançamentos'!B:B,\"C\")-SUMIFS('FII-Lançamentos'!K:K,'FII-Lançamentos'!D:D,$A279,'FII-Lançamentos'!B:B,\"V\"))","v":0},0,null,{"$f":"IFERROR(VLOOKUP(A279,Cotações!B:C,2,FALSE),\"\")","v":""},0,0,null,null,0,null,0,0,null,{"$f":"IF(OR(A279=\"\",A279=\"(vazio)\"),0,IFERROR(LOOKUP(2,1/('FII-Lançamentos'!D:D=A279),'FII-Lançamentos'!O:O),0))","v":0},null,0,null,null,null,null,null,null,"",{"$f":"IF(A279=\"\",\"\",IFERROR(LOOKUP(2,1/('FII-Recebidos'!D:D=A279),'FII-Recebidos'!C:C),\"\"))","v":""},"",""]
[null,null,{"$f":"SUMIFS('FII-Lançamentos'!C:C,'FII-Lançamentos'!D:D,$A280,'FII-Lançamentos'!B:B,\"C\")+SUMIFS('FII-Lançamentos'!C:C,'FII-Lançamentos'!D:D,$A280,'FII-Lançamentos'!B:B,\"V\")","v":0},{"$f":"IF(C280=0,0,SUMIFS('FII-Lançamentos'!K:K,'FII-Lançamentos'!D:D,$A280,'FII-Lançamentos'!B:B,\"C\")-SUMIFS('FII-Lançamentos'!K:K,'FII-Lançamentos'!D:D,$A280,'FII-Lançamentos'!B:B,\"V\"))","v":0},0,null,{"$f":"IFERROR(VLOOKUP(A280,Cotações!B:C,2,FALSE),\"\")","v":""},0,0,null,null,0,null,0,0,null,{"$f":"IF(OR(A280=\"\",A280=\"(vazio)\"),0,IFERROR(LOOKUP(2,1/('FII-Lançamentos'!D:D=A280),'FII-Lançamentos'!O:O),0))","v":0},null,0,null,null,null,null,null,null,"",{"$f":"IF(A280=\"\",\"\",IFERROR(LOOKUP(2,1/('FII-Recebidos'!D:D=A280),'FII-Recebidos'!C:C),\"\"))","v":""},"",""]
[null,null,{"$f":"SUMIFS('FII-Lançamentos'!C:C,'FII-Lançamentos'!D:D,$A281,'FII-Lançamentos'!B:B,\"C\")+SUMIFS('FII-Lançamentos'!C:C,'FII-Lançamentos'!D:D,$A281,'FII-Lançamentos'!B:B,\"V\")","v":0},{"$f":"IF(C281=0,0,SUMIFS('FII-Lançamentos'!K:K,'FII-Lançamentos'!D:D,$A281,'FII-Lançamentos'!B:B,\"C\")-SUMIFS('FII-Lançamentos'!K:K,'FII-Lançamentos'!D:D,$A281,'FII-Lançamentos'!B:B,\"V\"))","v":0},0,null,{"$f":"IFERROR(VLOOKUP(A281,Cotações!B:C,2,FALSE),\"\")","v":""},0,0,null,null,0,null,0,0,null,{"$f":"IF(OR(A281=\"\",A281=\"(vazio)\"),0,IFERROR(LOOKUP(2,1/('FII-Lançamentos'!D:D=A281),'FII-Lançamentos'!O:O),0))","v":0},null,0,null,null,null,null,null,null,"",{"$f":"IF(A281=\"\",\"\",IFERROR(LOOKUP(2,1/('FII-Recebidos'!D:D=A281),'FII-Recebidos'!C:C),\"\"))","v":""},"",""]
[null,null,{"$f":"SUMIFS('FII-Lançamentos'!C:C,'FII-Lançamentos'!D:D,$A282,'FII-Lançamentos'!B:B,\"C\")+SUMIFS('FII-Lançamentos'!C:C,'FII-Lançamentos'!D:D,$A282,'FII-Lançamentos'!B:B,\"V\")","v":0},{"$f":"IF(C282=0,0,SUMIFS('FII-Lançamentos'!K:K,'FII-Lançamentos'!D:D,$A282,'FII-Lançamentos'!B:B,\"C\")-SUMIFS('FII-Lançamentos'!K:K,'FII-Lançamentos'!D:D,$A282,'FII-Lançamentos'!B:B,\"V\"))","v":0},0,null,{"$f":"IFERROR(VLOOKUP(A282,Cotações!B:C,2,FALSE),\"\")","v":""},0,0,null,null,0,null,0,0,null,{"$f":"IF(OR(A282=\"\",A282=\"(vazio)\"),0,IFERROR(LOOKUP(2,1/('FII-Lançamentos'!D:D=A282),'FII-Lançamentos'!O:O),0))","v":0},null,0,null,null,null,null,null,null,"",{"$f":"IF(A282=\"\",\"\",IFERROR(LOOKUP(2,1/('FII-Recebidos'!D:D=A282),'FII-Recebidos'!C:C),\"\"))","v":""},"",""]
[null,null,{"$f":"SUMIFS('FII-Lançamentos'!C:C,'FII-Lançamentos'!D:D,$A283,'FII-Lançamentos'!B:B,\"C\")+SUMIFS('FII-Lançamentos'!C:C,'FII-Lançamentos'!D:D,$A283,'FII-Lançamentos'!B:B,\"V\")","v":0},{"$f":"IF(C283=0,0,SUMIFS('FII-Lançamentos'!K:K,'FII-Lançamentos'!D:D,$A283,'FII-Lançamentos'!B:B,\"C\")-SUMIFS('FII-Lançamentos'!K:K,'FII-Lançamentos'!D:D,$A283,'FII-Lançamentos'!B:B,\"V\"))","v":0},0,null,{"$f":"IFERROR(VLOOKUP(A283,Cotações!B:C,2,FALSE),\"\")","v":""},0,0,null,null,0,null,0,0,null,{"$f":"IF(OR(A283=\"\",A283=\"(vazio)\"),0,IFERROR(LOOKUP(2,1/('FII-Lançamentos'!D:D=A283),'FII-Lançamentos'!O:O),0))","v":0},null,0,null,null,null,null,null,null,"",{"$f":"IF(A283=\"\",\"\",IFERROR(LOOKUP(2,1/('FII-Recebidos'!D:D=A283),'FII-Recebidos'!C:C),\"\"))","v":""},"",""]
[null,null,{"$f":"SUMIFS('FII-Lançamentos'!C:C,'FII-Lançamentos'!D:D,$A284,'FII-Lançamentos'!B:B,\"C\")+SUMIFS('FII-Lançamentos'!C:C,'FII-Lançamentos'!D:D,$A284,'FII-Lançamentos'!B:B,\"V\")","v":0},{"$f":"IF(C284=0,0,SUMIFS('FII-Lançamentos'!K:K,'FII-Lançamentos'!D:D,$A284,'FII-Lançamentos'!B:B,\"C\")-SUMIFS('FII-Lançamentos'!K:K,'FII-Lançamentos'!D:D,$A284,'FII-Lançamentos'!B:B,\"V\"))","v":0},0,null,{"$f":"IFERROR(VLOOKUP(A284,Cotações!B:C,2,FALSE),\"\")","v":""},0,0,null,null,0,null,0,0,null,{"$f":"IF(OR(A284=\"\",A284=\"(vazio)\"),0,IFERROR(LOOKUP(2,1/('FII-Lançamentos'!D:D=A284),'FII-Lançamentos'!O:O),0))","v":0},null,0,null,null,null,null,null,null,"",{"$f":"IF(A284=\"\",\"\",IFERROR(LOOKUP(2,1/('FII-Recebidos'!D:D=A284),'FII-Recebidos'!C:C),\"\"))","v":""},"",""]
[null,null,{"$f":"SUMIFS('FII-Lançamentos'!C:C,'FII-Lançamentos'!D:D,$A285,'FII-Lançamentos'!B:B,\"C\")+SUMIFS('FII-Lançamentos'!C:C,'FII-Lançamentos'!D:D,$A285,'FII-Lançamentos'!B:B,\"V\")","v":0},{"$f":"IF(C285=0,0,SUMIFS('FII-Lançamentos'!K:K,'FII-Lançamentos'!D:D,$A285,'FII-Lançamentos'!B:B,\"C\")-SUMIFS('FII-Lançamentos'!K:K,'FII-Lançamentos'!D:D,$A285,'FII-Lançamentos'!B:B,\"V\"))","v":0},0,null,{"$f":"IFERROR(VLOOKUP(A285,Cotações!B:C,2,FALSE),\"\")","v":""},0,0,null,null,0,null,0,0,null,{"$f":"IF(OR(A285=\"\",A285=\"(vazio)\"),0,IFERROR(LOOKUP(2,1/('FII-Lançamentos'!D:D=A285),'FII-Lançamentos'!O:O),0))","v":0},null,0,null,null,null,null,null,null,"",{"$f":"IF(A285=\"\",\"\",IFERROR(LOOKUP(2,1/('FII-Recebidos'!D:D=A285),'FII-Recebidos'!C:C),\"\"))","v":""},"",""]
[null,null,{"$f":"SUMIFS('FII-Lançamentos'!C:C,'FII-Lançamentos'!D:D,$A286,'FII-Lançamentos'!B:B,\"C\")+SUMIFS('FII-Lançamentos'!C:C,'FII-Lançamentos'!D:D,$A286,'FII-Lançamentos'!B:B,\"V\")","v":0},{"$f":"IF(C286=0,0,SUMIFS('FII-Lançamentos'!K:K,'FII-Lançamentos'!D:D,$A286,'FII-Lançamentos'!B:B,\"C\")-SUMIFS('FII-Lançamentos'!K:K,'FII-Lançamentos'!D:D,$A286,'FII-Lançamentos'!B:B,\"V\"))","v":0},0,null,{"$f":"IFERROR(VLOOKUP(A286,Cotações!B:C,2,FALSE),\"\")","v":""},0,0,null,null,0,null,0,0,null,{"$f":"IF(OR(A286=\"\",A286=\"(vazio)\"),0,IFERROR(LOOKUP(2,1/('FII-Lançamentos'!D:D=A286),'FII-Lançamentos'!O:O),0))","v":0},null,0,null,null,null,null,null,null,{"$f":"IF(K286=\"\",\"\",K286-I286)","v":""},{"$f":"IF(A286=\"\",\"\",IFERROR(LOOKUP(2,1/('FII-Recebidos'!D:D=A286),'FII-Recebidos'!C:C),\"\"))","v":""},"",""]
[null,null,{"$f":"SUMIFS('FII-Lançamentos'!C:C,'FII-Lançamentos'!D:D,$A287,'FII-Lançamentos'!B:B,\"C\")+SUMIFS('FII-Lançamentos'!C:C,'FII-Lançamentos'!D:D,$A287,'FII-Lançamentos'!B:B,\"V\")","v":0},{"$f":"IF(C287=0,0,SUMIFS('FII-Lançamentos'!K:K,'FII-Lançamentos'!D:D,$A287,'FII-Lançamentos'!B:B,\"C\")-SUMIFS('FII-Lançamentos'!K:K,'FII-Lançamentos'!D:D,$A287,'FII-Lançamentos'!B:B,\"V\"))","v":0},0,null,{"$f":"IFERROR(VLOOKUP(A287,Cotações!B:C,2,FALSE),\"\")","v":""},0,0,null,null,0,null,0,0,null,{"$f":"IF(OR(A287=\"\",A287=\"(vazio)\"),0,IFERROR(LOOKUP(2,1/('FII-Lançamentos'!D:D=A287),'FII-Lançamentos'!O:O),0))","v":0},null,0,null,null,null,null,null,null,"",{"$f":"IF(A287=\"\",\"\",IFERROR(LOOKUP(2,1/('FII-Recebidos'!D:D=A287),'FII-Recebidos'!C:C),\"\"))","v":""},"",""]
[null,null,{"$f":"SUMIFS('FII-Lançamentos'!C:C,'FII-Lançamentos'!D:D,$A288,'FII-Lançamentos'!B:B,\"C\")+SUMIFS('FII-Lançamentos'!C:C,'FII-Lançamentos'!D:D,$A288,'FII-Lançamentos'!B:B,\"V\")","v":0},{"$f":"IF(C288=0,0,SUMIFS('FII-Lançamentos'!K:K,'FII-Lançamentos'!D:D,$A288,'FII-Lançamentos'!B:B,\"C\")-SUMIFS('FII-Lançamentos'!K:K,'FII-Lançamentos'!D:D,$A288,'FII-Lançamentos'!B:B,\"V\"))","v":0},0,null,{"$f":"IFERROR(VLOOKUP(A288,Cotações!B:C,2,FALSE),\"\")","v":""},0,0,null,null,0,null,0,0,null,{"$f":"IF(OR(A288=\"\",A288=\"(vazio)\"),0,IFERROR(LOOKUP(2,1/('FII-Lançamentos'!D:D=A288),'FII-Lançamentos'!O:O),0))","v":0},null,0,null,null,null,null,null,null,"",{"$f":"IF(A288=\"\",\"\",IFERROR(LOOKUP(2,1/('FII-Recebidos'!D:D=A288),'FII-Recebidos'!C:C),\"\"))","v":""},"",""]
[null,null,{"$f":"SUMIFS('FII-Lançamentos'!C:C,'FII-Lançamentos'!D:D,$A289,'FII-Lançamentos'!B:B,\"C\")+SUMIFS('FII-Lançamentos'!C:C,'FII-Lançamentos'!D:D,$A289,'FII-Lançamentos'!B:B,\"V\")","v":0},{"$f":"IF(C289=0,0,SUMIFS('FII-Lançamentos'!K:K,'FII-Lançamentos'!D:D,$A289,'FII-Lançamentos'!B:B,\"C\")-SUMIFS('FII-Lançamentos'!K:K,'FII-Lançamentos'!D:D,$A289,'FII-Lançamentos'!B:B,\"V\"))","v":0},0,null,{"$f":"IFERROR(VLOOKUP(A289,Cotações!B:C,2,FALSE),\"\")","v":""},0,0,null,null,0,null,0,0,null,{"$f":"IF(OR(A289=\"\",A289=\"(vazio)\"),0,IFERROR(LOOKUP(2,1/('FII-Lançamentos'!D:D=A289),'FII-Lançamentos'!O:O),0))","v":0},null,0,null,null,null,null,null,null,"",{"$f":"IF(A289=\"\",\"\",IFERROR(LOOKUP(2,1/('FII-Recebidos'!D:D=A289),'FII-Recebidos'!C:C),\"\"))","v":""},"",""]
[null,null,{"$f":"SUMIFS('FII-Lançamentos'!C:C,'FII-Lançamentos'!D:D,$A290,'FII-Lançamentos'!B:B,\"C\")+SUMIFS('FII-Lançamentos'!C:C,'FII-Lançamentos'!D:D,$A290,'FII-Lançamentos'!B:B,\"V\")","v":0},{"$f":"IF(C290=0,0,SUMIFS('FII-Lançamentos'!K:K,'FII-Lançamentos'!D:D,$A290,'FII-Lançamentos'!B:B,\"C\")-SUMIFS('FII-Lançamentos'!K:K,'FII-Lançamentos'!D:D,$A290,'FII-Lançamentos'!B:B,\"V\"))","v":0},0,null,{"$f":"IFERROR(VLOOKUP(A290,Cotações!B:C,2,FALSE),\"\")","v":""},0,0,null,null,0,null,0,0,null,{"$f":"IF(OR(A290=\"\",A290=\"(vazio)\"),0,IFERROR(LOOKUP(2,1/('FII-Lançamentos'!D:D=A290),'FII-Lançamentos'!O:O),0))","v":0},null,0,null,null,null,null,null,null,"",{"$f":"IF(A290=\"\",\"\",IFERROR(LOOKUP(2,1/('FII-Recebidos'!D:D=A290),'FII-Recebidos'!C:C),\"\"))","v":""},"",""]
[null,null,{"$f":"SUMIFS('FII-Lançamentos'!C:C,'FII-Lançamentos'!D:D,$A291,'FII-Lançamentos'!B:B,\"C\")+SUMIFS('FII-Lançamentos'!C:C,'FII-Lançamentos'!D:D,$A291,'FII-Lançamentos'!B:B,\"V\")","v":0},{"$f":"IF(C291=0,0,SUMIFS('FII-Lançamentos'!K:K,'FII-Lançamentos'!D:D,$A291,'FII-Lançamentos'!B:B,\"C\")-SUMIFS('FII-Lançamentos'!K:K,'FII-Lançamentos'!D:D,$A291,'FII-Lançamentos'!B:B,\"V\"))","v":0},0,null,{"$f":"IFERROR(VLOOKUP(A291,Cotações!B:C,2,FALSE),\"\")","v":""},0,0,null,null,0,null,0,0,null,{"$f":"IF(OR(A291=\"\",A291=\"(vazio)\"),0,IFERROR(LOOKUP(2,1/('FII-Lançamentos'!D:D=A291),'FII-Lançamentos'!O:O),0))","v":0},null,0,null,null,null,null,null,null,"",{"$f":"IF(A291=\"\",\"\",IFERROR(LOOKUP(2,1/('FII-Recebidos'!D:D=A291),'FII-Recebidos'!C:C),\"\"))","v":""},"",""]
[null,null,{"$f":"SUMIFS('FII-Lançamentos'!C:C,'FII-Lançamentos'!D:D,$A292,'FII-Lançamentos'!B:B,\"C\")+SUMIFS('FII-Lançamentos'!C:C,'FII-Lançamentos'!D:D,$A292,'FII-Lançamentos'!B:B,\"V\")","v":0},{"$f":"IF(C292=0,0,SUMIFS('FII-Lançamentos'!K:K,'FII-Lançamentos'!D:D,$A292,'FII-Lançamentos'!B:B,\"C\")-SUMIFS('FII-Lançamentos'!K:K,'FII-Lançamentos'!D:D,$A292,'FII-Lançamentos'!B:B,\"V\"))","v":0},0,null,{"$f":"IFERROR(VLOOKUP(A292,Cotações!B:C,2,FALSE),\"\")","v":""},0,0,null,null,0,null,0,0,null,{"$f":"IF(OR(A292=\"\",A292=\"(vazio)\"),0,IFERROR(LOOKUP(2,1/('FII-Lançamentos'!D:D=A292),'FII-Lançamentos'!O:O),0))","v":0},null,0,null,null,null,null,null,null,"",{"$f":"IF(A292=\"\",\"\",IFERROR(LOOKUP(2,1/('FII-Recebidos'!D:D=A292),'FII-Recebidos'!C:C),\"\"))","v":""},"",""]
[null,null,{"$f":"SUMIFS('FII-Lançamentos'!C:C,'FII-Lançamentos'!D:D,$A293,'FII-Lançamentos'!B:B,\"C\")+SUMIFS('FII-Lançamentos'!C:C,'FII-Lançamentos'!D:D,$A293,'FII-Lançamentos'!B:B,\"V\")","v":0},{"$f":"IF(C293=0,0,SUMIFS('FII-Lançamentos'!K:K,'FII-Lançamentos'!D:D,$A293,'FII-Lançamentos'!B:B,\"C\")-SUMIFS('FII-Lançamentos'!K:K,'FII-Lançamentos'!D:D,$A293,'FII-Lançamentos'!B:B,\"V\"))","v":0},0,null,{"$f":"IFERROR(VLOOKUP(A293,Cotações!B:C,2,FALSE),\"\")","v":""},0,0,null,null,0,null,0,0,null,{"$f":"IF(OR(A293=\"\",A293=\"(vazio)\"),0,IFERROR(LOOKUP(2,1/('FII-Lançamentos'!D:D=A293),'FII-Lançamentos'!O:O),0))","v":0},null,0,null,null,null,null,null,null,"",{"$f":"IF(A293=\"\",\"\",IFERROR(LOOKUP(2,1/('FII-Recebidos'!D:D=A293),'FII-Recebidos'!C:C),\"\"))","v":""},"",""]
[null,null,{"$f":"SUMIFS('FII-Lançamentos'!C:C,'FII-Lançamentos'!D:D,$A294,'FII-Lançamentos'!B:B,\"C\")+SUMIFS('FII-Lançamentos'!C:C,'FII-Lançamentos'!D:D,$A294,'FII-Lançamentos'!B:B,\"V\")","v":0},{"$f":"IF(C294=0,0,SUMIFS('FII-Lançamentos'!K:K,'FII-Lançamentos'!D:D,$A294,'FII-Lançamentos'!B:B,\"C\")-SUMIFS('FII-Lançamentos'!K:K,'FII-Lançamentos'!D:D,$A294,'FII-Lançamentos'!B:B,\"V\"))","v":0},0,null,{"$f":"IFERROR(VLOOKUP(A294,Cotações!B:C,2,FALSE),\"\")","v":""},0,0,null,null,0,null,0,0,null,{"$f":"IF(OR(A294=\"\",A294=\"(vazio)\"),0,IFERROR(LOOKUP(2,1/('FII-Lançamentos'!D:D=A294),'FII-Lançamentos'!O:O),0))","v":0},null,0,null,null,null,null,null,null,"",{"$f":"IF(A294=\"\",\"\",IFERROR(LOOKUP(2,1/('FII-Recebidos'!D:D=A294),'FII-Recebidos'!C:C),\"\"))","v":""},"",""]
[null,null,{"$f":"SUMIFS('FII-Lançamentos'!C:C,'FII-Lançamentos'!D:D,$A295,'FII-Lançamentos'!B:B,\"C\")+SUMIFS('FII-Lançamentos'!C:C,'FII-Lançamentos'!D:D,$A295,'FII-Lançamentos'!B:B,\"V\")","v":0},{"$f":"IF(C295=0,0,SUMIFS('FII-Lançamentos'!K:K,'FII-Lançamentos'!D:D,$A295,'FII-Lançamentos'!B:B,\"C\")-SUMIFS('FII-Lançamentos'!K:K,'FII-Lançamentos'!D:D,$A295,'FII-Lançamentos'!B:B,\"V\"))","v":0},0,null,{"$f":"IFERROR(VLOOKUP(A295,Cotações!B:C,2,FALSE),\"\")","v":""},0,0,null,null,0,null,0,0,null,{"$f":"IF(OR(A295=\"\",A295=\"(vazio)\"),0,IFERROR(LOOKUP(2,1/('FII-Lançamentos'!D:D=A295),'FII-Lançamentos'!O:O),0))","v":0},null,0,null,null,null,null,null,null,"",{"$f":"IF(A295=\"\",\"\",IFERROR(LOOKUP(2,1/('FII-Recebidos'!D:D=A295),'FII-Recebidos'!C:C),\"\"))","v":""},"",""]
[null,null,{"$f":"SUMIFS('FII-Lançamentos'!C:C,'FII-Lançamentos'!D:D,$A296,'FII-Lançamentos'!B:B,\"C\")+SUMIFS('FII-Lançamentos'!C:C,'FII-Lançamentos'!D:D,$A296,'FII-Lançamentos'!B:B,\"V\")","v":0},{"$f":"IF(C296=0,0,SUMIFS('FII-Lançamentos'!K:K,'FII-Lançamentos'!D:D,$A296,'FII-Lançamentos'!B:B,\"C\")-SUMIFS('FII-Lançamentos'!K:K,'FII-Lançamentos'!D:D,$A296,'FII-Lançamentos'!B:B,\"V\"))","v":0},0,null,{"$f":"IFERROR(VLOOKUP(A296,Cotações!B:C,2,FALSE),\"\")","v":""},0,0,null,null,0,null,0,0,null,{"$f":"IF(OR(A296=\"\",A296=\"(vazio)\"),0,IFERROR(LOOKUP(2,1/('FII-Lançamentos'!D:D=A296),'FII-Lançamentos'!O:O),0))","v":0},null,0,null,null,null,null,null,null,"",{"$f":"IF(A296=\"\",\"\",IFERROR(LOOKUP(2,1/('FII-Recebidos'!D:D=A296),'FII-Recebidos'!C:C),\"\"))","v":""},"",""]
[null,null,{"$f":"SUMIFS('FII-Lançamentos'!C:C,'FII-Lançamentos'!D:D,$A297,'FII-Lançamentos'!B:B,\"C\")+SUMIFS('FII-Lançamentos'!C:C,'FII-Lançamentos'!D:D,$A297,'FII-Lançamentos'!B:B,\"V\")","v":0},{"$f":"IF(C297=0,0,SUMIFS('FII-Lançamentos'!K:K,'FII-Lançamentos'!D:D,$A297,'FII-Lançamentos'!B:B,\"C\")-SUMIFS('FII-Lançamentos'!K:K,'FII-Lançamentos'!D:D,$A297,'FII-Lançamentos'!B:B,\"V\"))","v":0},0,null,{"$f":"IFERROR(VLOOKUP(A297,Cotações!B:C,2,FALSE),\"\")","v":""},0,0,null,null,0,null,0,0,null,{"$f":"IF(OR(A297=\"\",A297=\"(vazio)\"),0,IFERROR(LOOKUP(2,1/('FII-Lançamentos'!D:D=A297),'FII-Lançamentos'!O:O),0))","v":0},null,0,null,null,null,null,null,null,"",{"$f":"IF(A297=\"\",\"\",IFERROR(LOOKUP(2,1/('FII-Recebidos'!D:D=A297),'FII-Recebidos'!C:C),\"\"))","v":""},"",""]
[null,null,{"$f":"SUMIFS('FII-Lançamentos'!C:C,'FII-Lançamentos'!D:D,$A298,'FII-Lançamentos'!B:B,\"C\")+SUMIFS('FII-Lançamentos'!C:C,'FII-Lançamentos'!D:D,$A298,'FII-Lançamentos'!B:B,\"V\")","v":0},{"$f":"IF(C298=0,0,SUMIFS('FII-Lançamentos'!K:K,'FII-Lançamentos'!D:D,$A298,'FII-Lançamentos'!B:B,\"C\")-SUMIFS('FII-Lançamentos'!K:K,'FII-Lançamentos'!D:D,$A298,'FII-Lançamentos'!B:B,\"V\"))","v":0},0,null,{"$f":"IFERROR(VLOOKUP(A298,Cotações!B:C,2,FALSE),\"\")","v":""},0,0,null,null,0,null,0,0,null,{"$f":"IF(OR(A298=\"\",A298=\"(vazio)\"),0,IFERROR(LOOKUP(2,1/('FII-Lançamentos'!D:D=A298),'FII-Lançamentos'!O:O),0))","v":0},null,0,null,null,null,null,null,null,"",{"$f":"IF(A298=\"\",\"\",IFERROR(LOOKUP(2,1/('FII-Recebidos'!D:D=A298),'FII-Recebidos'!C:C),\"\"))","v":""},"",""]
[null,null,{"$f":"SUMIFS('FII-Lançamentos'!C:C,'FII-Lançamentos'!D:D,$A299,'FII-Lançamentos'!B:B,\"C\")+SUMIFS('FII-Lançamentos'!C:C,'FII-Lançamentos'!D:D,$A299,'FII-Lançamentos'!B:B,\"V\")","v":0},{"$f":"IF(C299=0,0,SUMIFS('FII-Lançamentos'!K:K,'FII-Lançamentos'!D:D,$A299,'FII-Lançamentos'!B:B,\"C\")-SUMIFS('FII-Lançamentos'!K:K,'FII-Lançamentos'!D:D,$A299,'FII-Lançamentos'!B:B,\"V\"))","v":0},0,null,{"$f":"IFERROR(VLOOKUP(A299,Cotações!B:C,2,FALSE),\"\")","v":""},0,0,null,null,0,null,0,0,null,{"$f":"IF(OR(A299=\"\",A299=\"(vazio)\"),0,IFERROR(LOOKUP(2,1/('FII-Lançamentos'!D:D=A299),'FII-Lançamentos'!O:O),0))","v":0},null,0,null,null,null,null,null,null,"",{"$f":"IF(A299=\"\",\"\",IFERROR(LOOKUP(2,1/('FII-Recebidos'!D:D=A299),'FII-Recebidos'!C:C),\"\"))","v":""},"",""]
[null,null,{"$f":"SUMIFS('FII-Lançamentos'!C:C,'FII-Lançamentos'!D:D,$A300,'FII-Lançamentos'!B:B,\"C\")+SUMIFS('FII-Lançamentos'!C:C,'FII-Lançamentos'!D:D,$A300,'FII-Lançamentos'!B:B,\"V\")","v":0},{"$f":"IF(C300=0,0,SUMIFS('FII-Lançamentos'!K:K,'FII-Lançamentos'!D:D,$A300,'FII-Lançamentos'!B:B,\"C\")-SUMIFS('FII-Lançamentos'!K:K,'FII-Lançamentos'!D:D,$A300,'FII-Lançamentos'!B:B,\"V\"))","v":0},0,null,{"$f":"IFERROR(VLOOKUP(A300,Cotações!B:C,2,FALSE),\"\")","v":""},0,0,null,null,0,null,0,0,null,{"$f":"IF(OR(A300=\"\",A300=\"(vazio)\"),0,IFERROR(LOOKUP(2,1/('FII-Lançamentos'!D:D=A300),'FII-Lançamentos'!O:O),0))","v":0},null,0,null,null,null,null,null,null,"",{"$f":"IF(A300=\"\",\"\",IFERROR(LOOKUP(2,1/('FII-Recebidos'!D:D=A300),'FII-Recebidos'!C:C),\"\"))","v":""},"",""]
[null,null,{"$f":"SUMIFS('FII-Lançamentos'!C:C,'FII-Lançamentos'!D:D,$A301,'FII-Lançamentos'!B:B,\"C\")+SUMIFS('FII-Lançamentos'!C:C,'FII-Lançamentos'!D:D,$A301,'FII-Lançamentos'!B:B,\"V\")","v":0},{"$f":"IF(C301=0,0,SUMIFS('FII-Lançamentos'!K:K,'FII-Lançamentos'!D:D,$A301,'FII-Lançamentos'!B:B,\"C\")-SUMIFS('FII-Lançamentos'!K:K,'FII-Lançamentos'!D:D,$A301,'FII-Lançamentos'!B:B,\"V\"))","v":0},0,null,{"$f":"IFERROR(VLOOKUP(A301,Cotações!B:C,2,FALSE),\"\")","v":""},0,0,null,null,0,null,0,0,null,{"$f":"IF(OR(A301=\"\",A301=\"(vazio)\"),0,IFERROR(LOOKUP(2,1/('FII-Lançamentos'!D:D=A301),'FII-Lançamentos'!O:O),0))","v":0},null,0,null,null,null,null,null,null,"",{"$f":"IF(A301=\"\",\"\",IFERROR(LOOKUP(2,1/('FII-Recebidos'!D:D=A301),'FII-Recebidos'!C:C),\"\"))","v":""},"",""]
[null,null,{"$f":"SUMIFS('FII-Lançamentos'!C:C,'FII-Lançamentos'!D:D,$A302,'FII-Lançamentos'!B:B,\"C\")+SUMIFS('FII-Lançamentos'!C:C,'FII-Lançamentos'!D:D,$A302,'FII-Lançamentos'!B:B,\"V\")","v":0},{"$f":"IF(C302=0,0,SUMIFS('FII-Lançamentos'!K:K,'FII-Lançamentos'!D:D,$A302,'FII-Lançamentos'!B:B,\"C\")-SUMIFS('FII-Lançamentos'!K:K,'FII-Lançamentos'!D:D,$A302,'FII-Lançamentos'!B:B,\"V\"))","v":0},0,null,{"$f":"IFERROR(VLOOKUP(A302,Cotações!B:C,2,FALSE),\"\")","v":""},0,0,null,null,0,null,0,0,null,{"$f":"IF(OR(A302=\"\",A302=\"(vazio)\"),0,IFERROR(LOOKUP(2,1/('FII-Lançamentos'!D:D=A302),'FII-Lançamentos'!O:O),0))","v":0},null,0,null,null,null,null,null,null,"",{"$f":"IF(A302=\"\",\"\",IFERROR(LOOKUP(2,1/('FII-Recebidos'!D:D=A302),'FII-Recebidos'!C:C),\"\"))","v":""},"",""]
[null,null,{"$f":"SUMIFS('FII-Lançamentos'!C:C,'FII-Lançamentos'!D:D,$A303,'FII-Lançamentos'!B:B,\"C\")+SUMIFS('FII-Lançamentos'!C:C,'FII-Lançamentos'!D:D,$A303,'FII-Lançamentos'!B:B,\"V\")","v":0},{"$f":"IF(C303=0,0,SUMIFS('FII-Lançamentos'!K:K,'FII-Lançamentos'!D:D,$A303,'FII-Lançamentos'!B:B,\"C\")-SUMIFS('FII-Lançamentos'!K:K,'FII-Lançamentos'!D:D,$A303,'FII-Lançamentos'!B:B,\"V\"))","v":0},0,null,{"$f":"IFERROR(VLOOKUP(A303,Cotações!B:C,2,FALSE),\"\")","v":""},0,0,null,null,0,null,0,0,null,{"$f":"IF(OR(A303=\"\",A303=\"(vazio)\"),0,IFERROR(LOOKUP(2,1/('FII-Lançamentos'!D:D=A303),'FII-Lançamentos'!O:O),0))","v":0},null,0,null,null,null,null,null,null,"",{"$f":"IF(A303=\"\",\"\",IFERROR(LOOKUP(2,1/('FII-Recebidos'!D:D=A303),'FII-Recebidos'!C:C),\"\"))","v":""},"",""]
[null,null,{"$f":"SUMIFS('FII-Lançamentos'!C:C,'FII-Lançamentos'!D:D,$A304,'FII-Lançamentos'!B:B,\"C\")+SUMIFS('FII-Lançamentos'!C:C,'FII-Lançamentos'!D:D,$A304,'FII-Lançamentos'!B:B,\"V\")","v":0},{"$f":"IF(C304=0,0,SUMIFS('FII-Lançamentos'!K:K,'FII-Lançamentos'!D:D,$A304,'FII-Lançamentos'!B:B,\"C\")-SUMIFS('FII-Lançamentos'!K:K,'FII-Lançamentos'!D:D,$A304,'FII-Lançamentos'!B:B,\"V\"))","v":0},0,null,{"$f":"IFERROR(VLOOKUP(A304,Cotações!B:C,2,FALSE),\"\")","v":""},0,0,null,null,0,null,0,0,null,{"$f":"IF(OR(A304=\"\",A304=\"(vazio)\"),0,IFERROR(LOOKUP(2,1/('FII-Lançamentos'!D:D=A304),'FII-Lançamentos'!O:O),0))","v":0},null,0,null,null,null,null,null,null,"",{"$f":"IF(A304=\"\",\"\",IFERROR(LOOKUP(2,1/('FII-Recebidos'!D:D=A304),'FII-Recebidos'!C:C),\"\"))","v":""},"",""]
[null,null,{"$f":"SUMIFS('FII-Lançamentos'!C:C,'FII-Lançamentos'!D:D,$A305,'FII-Lançamentos'!B:B,\"C\")+SUMIFS('FII-Lançamentos'!C:C,'FII-Lançamentos'!D:D,$A305,'FII-Lançamentos'!B:B,\"V\")","v":0},{"$f":"IF(C305=0,0,SUMIFS('FII-Lançamentos'!K:K,'FII-Lançamentos'!D:D,$A305,'FII-Lançamentos'!B:B,\"C\")-SUMIFS('FII-Lançamentos'!K:K,'FII-Lançamentos'!D:D,$A305,'FII-Lançamentos'!B:B,\"V\"))","v":0},0,null,{"$f":"IFERROR(VLOOKUP(A305,Cotações!B:C,2,FALSE),\"\")","v":""},0,0,null,null,0,null,0,0,null,{"$f":"IF(OR(A305=\"\",A305=\"(vazio)\"),0,IFERROR(LOOKUP(2,1/('FII-Lançamentos'!D:D=A305),'FII-Lançamentos'!O:O),0))","v":0},null,0,null,null,null,null,null,null,"",{"$f":"IF(A305=\"\",\"\",IFERROR(LOOKUP(2,1/('FII-Recebidos'!D:D=A305),'FII-Recebidos'!C:C),\"\"))","v":""},"",""]
[null,null,{"$f":"SUMIFS('FII-Lançamentos'!C:C,'FII-Lançamentos'!D:D,$A306,'FII-Lançamentos'!B:B,\"C\")+SUMIFS('FII-Lançamentos'!C:C,'FII-Lançamentos'!D:D,$A306,'FII-Lançamentos'!B:B,\"V\")","v":0},{"$f":"IF(C306=0,0,SUMIFS('FII-Lançamentos'!K:K,'FII-Lançamentos'!D:D,$A306,'FII-Lançamentos'!B:B,\"C\")-SUMIFS('FII-Lançamentos'!K:K,'FII-Lançamentos'!D:D,$A306,'FII-Lançamentos'!B:B,\"V\"))","v":0},0,null,{"$f":"IFERROR(VLOOKUP(A306,Cotações!B:C,2,FALSE),\"\")","v":""},0,0,null,null,0,null,0,0,null,{"$f":"IF(OR(A306=\"\",A306=\"(vazio)\"),0,IFERROR(LOOKUP(2,1/('FII-Lançamentos'!D:D=A306),'FII-Lançamentos'!O:O),0))","v":0},null,0,null,null,null,null,null,null,"",{"$f":"IF(A306=\"\",\"\",IFERROR(LOOKUP(2,1/('FII-Recebidos'!D:D=A306),'FII-Recebidos'!C:C),\"\"))","v":""},"",""]
[null,null,{"$f":"SUMIFS('FII-Lançamentos'!C:C,'FII-Lançamentos'!D:D,$A307,'FII-Lançamentos'!B:B,\"C\")+SUMIFS('FII-Lançamentos'!C:C,'FII-Lançamentos'!D:D,$A307,'FII-Lançamentos'!B:B,\"V\")","v":0},{"$f":"IF(C307=0,0,SUMIFS('FII-Lançamentos'!K:K,'FII-Lançamentos'!D:D,$A307,'FII-Lançamentos'!B:B,\"C\")-SUMIFS('FII-Lançamentos'!K:K,'FII-Lançamentos'!D:D,$A307,'FII-Lançamentos'!B:B,\"V\"))","v":0},0,null,{"$f":"IFERROR(VLOOKUP(A307,Cotações!B:C,2,FALSE),\"\")","v":""},0,0,null,null,0,null,0,0,null,{"$f":"IF(OR(A307=\"\",A307=\"(vazio)\"),0,IFERROR(LOOKUP(2,1/('FII-Lançamentos'!D:D=A307),'FII-Lançamentos'!O:O),0))","v":0},null,0,null,null,null,null,null,null,"",{"$f":"IF(A307=\"\",\"\",IFERROR(LOOKUP(2,1/('FII-Recebidos'!D:D=A307),'FII-Recebidos'!C:C),\"\"))","v":""},"",""]
[null,null,{"$f":"SUMIFS('FII-Lançamentos'!C:C,'FII-Lançamentos'!D:D,$A308,'FII-Lançamentos'!B:B,\"C\")+SUMIFS('FII-Lançamentos'!C:C,'FII-Lançamentos'!D:D,$A308,'FII-Lançamentos'!B:B,\"V\")","v":0},{"$f":"IF(C308=0,0,SUMIFS('FII-Lançamentos'!K:K,'FII-Lançamentos'!D:D,$A308,'FII-Lançamentos'!B:B,\"C\")-SUMIFS('FII-Lançamentos'!K:K,'FII-Lançamentos'!D:D,$A308,'FII-Lançamentos'!B:B,\"V\"))","v":0},0,null,{"$f":"IFERROR(VLOOKUP(A308,Cotações!B:C,2,FALSE),\"\")","v":""},0,0,null,null,0,null,0,0,null,{"$f":"IF(OR(A308=\"\",A308=\"(vazio)\"),0,IFERROR(LOOKUP(2,1/('FII-Lançamentos'!D:D=A308),'FII-Lançamentos'!O:O),0))","v":0},null,0,null,null,null,null,null,null,"",{"$f":"IF(A308=\"\",\"\",IFERROR(LOOKUP(2,1/('FII-Recebidos'!D:D=A308),'FII-Recebidos'!C:C),\"\"))","v":""},"",""]
[null,null,{"$f":"SUMIFS('FII-Lançamentos'!C:C,'FII-Lançamentos'!D:D,$A309,'FII-Lançamentos'!B:B,\"C\")+SUMIFS('FII-Lançamentos'!C:C,'FII-Lançamentos'!D:D,$A309,'FII-Lançamentos'!B:B,\"V\")","v":0},{"$f":"IF(C309=0,0,SUMIFS('FII-Lançamentos'!K:K,'FII-Lançamentos'!D:D,$A309,'FII-Lançamentos'!B:B,\"C\")-SUMIFS('FII-Lançamentos'!K:K,'FII-Lançamentos'!D:D,$A309,'FII-Lançamentos'!B:B,\"V\"))","v":0},0,null,{"$f":"IFERROR(VLOOKUP(A309,Cotações!B:C,2,FALSE),\"\")","v":""},0,0,null,null,0,null,0,0,null,{"$f":"IF(OR(A309=\"\",A309=\"(vazio)\"),0,IFERROR(LOOKUP(2,1/('FII-Lançamentos'!D:D=A309),'FII-Lançamentos'!O:O),0))","v":0},null,0,null,null,null,null,null,null,"",{"$f":"IF(A309=\"\",\"\",IFERROR(LOOKUP(2,1/('FII-Recebidos'!D:D=A309),'FII-Recebidos'!C:C),\"\"))","v":""},"",""]
[null,null,{"$f":"SUMIFS('FII-Lançamentos'!C:C,'FII-Lançamentos'!D:D,$A310,'FII-Lançamentos'!B:B,\"C\")+SUMIFS('FII-Lançamentos'!C:C,'FII-Lançamentos'!D:D,$A310,'FII-Lançamentos'!B:B,\"V\")","v":0},{"$f":"IF(C310=0,0,SUMIFS('FII-Lançamentos'!K:K,'FII-Lançamentos'!D:D,$A310,'FII-Lançamentos'!B:B,\"C\")-SUMIFS('FII-Lançamentos'!K:K,'FII-Lançamentos'!D:D,$A310,'FII-Lançamentos'!B:B,\"V\"))","v":0},0,null,{"$f":"IFERROR(VLOOKUP(A310,Cotações!B:C,2,FALSE),\"\")","v":""},0,0,null,null,0,null,0,0,null,{"$f":"IF(OR(A310=\"\",A310=\"(vazio)\"),0,IFERROR(LOOKUP(2,1/('FII-Lançamentos'!D:D=A310),'FII-Lançamentos'!O:O),0))","v":0},null,0,null,null,null,null,null,null,"",{"$f":"IF(A310=\"\",\"\",IFERROR(LOOKUP(2,1/('FII-Recebidos'!D:D=A310),'FII-Recebidos'!C:C),\"\"))","v":""},"",""]
[null,null,{"$f":"SUMIFS('FII-Lançamentos'!C:C,'FII-Lançamentos'!D:D,$A311,'FII-Lançamentos'!B:B,\"C\")+SUMIFS('FII-Lançamentos'!C:C,'FII-Lançamentos'!D:D,$A311,'FII-Lançamentos'!B:B,\"V\")","v":0},{"$f":"IF(C311=0,0,SUMIFS('FII-Lançamentos'!K:K,'FII-Lançamentos'!D:D,$A311,'FII-Lançamentos'!B:B,\"C\")-SUMIFS('FII-Lançamentos'!K:K,'FII-Lançamentos'!D:D,$A311,'FII-Lançamentos'!B:B,\"V\"))","v":0},0,null,{"$f":"IFERROR(VLOOKUP(A311,Cotações!B:C,2,FALSE),\"\")","v":""},0,0,null,null,0,null,0,0,null,{"$f":"IF(OR(A311=\"\",A311=\"(vazio)\"),0,IFERROR(LOOKUP(2,1/('FII-Lançamentos'!D:D=A311),'FII-Lançamentos'!O:O),0))","v":0},null,0,null,null,null,null,null,null,"",{"$f":"IF(A311=\"\",\"\",IFERROR(LOOKUP(2,1/('FII-Recebidos'!D:D=A311),'FII-Recebidos'!C:C),\"\"))","v":""},"",""]
[null,null,{"$f":"SUMIFS('FII-Lançamentos'!C:C,'FII-Lançamentos'!D:D,$A312,'FII-Lançamentos'!B:B,\"C\")+SUMIFS('FII-Lançamentos'!C:C,'FII-Lançamentos'!D:D,$A312,'FII-Lançamentos'!B:B,\"V\")","v":0},{"$f":"IF(C312=0,0,SUMIFS('FII-Lançamentos'!K:K,'FII-Lançamentos'!D:D,$A312,'FII-Lançamentos'!B:B,\"C\")-SUMIFS('FII-Lançamentos'!K:K,'FII-Lançamentos'!D:D,$A312,'FII-Lançamentos'!B:B,\"V\"))","v":0},0,null,{"$f":"IFERROR(VLOOKUP(A312,Cotações!B:C,2,FALSE),\"\")","v":""},0,0,null,null,0,null,0,0,null,{"$f":"IF(OR(A312=\"\",A312=\"(vazio)\"),0,IFERROR(LOOKUP(2,1/('FII-Lançamentos'!D:D=A312),'FII-Lançamentos'!O:O),0))","v":0},null,0,null,null,null,null,null,null,"",{"$f":"IF(A312=\"\",\"\",IFERROR(LOOKUP(2,1/('FII-Recebidos'!D:D=A312),'FII-Recebidos'!C:C),\"\"))","v":""},"",""]
[null,null,{"$f":"SUMIFS('FII-Lançamentos'!C:C,'FII-Lançamentos'!D:D,$A313,'FII-Lançamentos'!B:B,\"C\")+SUMIFS('FII-Lançamentos'!C:C,'FII-Lançamentos'!D:D,$A313,'FII-Lançamentos'!B:B,\"V\")","v":0},{"$f":"IF(C313=0,0,SUMIFS('FII-Lançamentos'!K:K,'FII-Lançamentos'!D:D,$A313,'FII-Lançamentos'!B:B,\"C\")-SUMIFS('FII-Lançamentos'!K:K,'FII-Lançamentos'!D:D,$A313,'FII-Lançamentos'!B:B,\"V\"))","v":0},0,null,{"$f":"IFERROR(VLOOKUP(A313,Cotações!B:C,2,FALSE),\"\")","v":""},0,0,null,null,0,null,0,0,null,{"$f":"IF(OR(A313=\"\",A313=\"(vazio)\"),0,IFERROR(LOOKUP(2,1/('FII-Lançamentos'!D:D=A313),'FII-Lançamentos'!O:O),0))","v":0},null,0,null,null,null,null,null,null,"",{"$f":"IF(A313=\"\",\"\",IFERROR(LOOKUP(2,1/('FII-Recebidos'!D:D=A313),'FII-Recebidos'!C:C),\"\"))","v":""},"",""]
[null,null,{"$f":"SUMIFS('FII-Lançamentos'!C:C,'FII-Lançamentos'!D:D,$A314,'FII-Lançamentos'!B:B,\"C\")+SUMIFS('FII-Lançamentos'!C:C,'FII-Lançamentos'!D:D,$A314,'FII-Lançamentos'!B:B,\"V\")","v":0},{"$f":"IF(C314=0,0,SUMIFS('FII-Lançamentos'!K:K,'FII-Lançamentos'!D:D,$A314,'FII-Lançamentos'!B:B,\"C\")-SUMIFS('FII-Lançamentos'!K:K,'FII-Lançamentos'!D:D,$A314,'FII-Lançamentos'!B:B,\"V\"))","v":0},0,null,{"$f":"IFERROR(VLOOKUP(A314,Cotações!B:C,2,FALSE),\"\")","v":""},0,0,null,null,0,null,0,0,null,{"$f":"IF(OR(A314=\"\",A314=\"(vazio)\"),0,IFERROR(LOOKUP(2,1/('FII-Lançamentos'!D:D=A314),'FII-Lançamentos'!O:O),0))","v":0},null,0,null,null,null,null,null,null,"",{"$f":"IF(A314=\"\",\"\",IFERROR(LOOKUP(2,1/('FII-Recebidos'!D:D=A314),'FII-Recebidos'!C:C),\"\"))","v":""},"",""]
[null,null,{"$f":"SUMIFS('FII-Lançamentos'!C:C,'FII-Lançamentos'!D:D,$A315,'FII-Lançamentos'!B:B,\"C\")+SUMIFS('FII-Lançamentos'!C:C,'FII-Lançamentos'!D:D,$A315,'FII-Lançamentos'!B:B,\"V\")","v":0},{"$f":"IF(C315=0,0,SUMIFS('FII-Lançamentos'!K:K,'FII-Lançamentos'!D:D,$A315,'FII-Lançamentos'!B:B,\"C\")-SUMIFS('FII-Lançamentos'!K:K,'FII-Lançamentos'!D:D,$A315,'FII-Lançamentos'!B:B,\"V\"))","v":0},0,null,{"$f":"IFERROR(VLOOKUP(A315,Cotações!B:C,2,FALSE),\"\")","v":""},0,0,null,null,0,null,0,0,null,{"$f":"IF(OR(A315=\"\",A315=\"(vazio)\"),0,IFERROR(LOOKUP(2,1/('FII-Lançamentos'!D:D=A315),'FII-Lançamentos'!O:O),0))","v":0},null,0,null,null,null,null,null,null,"",{"$f":"IF(A315=\"\",\"\",IFERROR(LOOKUP(2,1/('FII-Recebidos'!D:D=A315),'FII-Recebidos'!C:C),\"\"))","v":""},"",""]
[null,null,{"$f":"SUMIFS('FII-Lançamentos'!C:C,'FII-Lançamentos'!D:D,$A316,'FII-Lançamentos'!B:B,\"C\")+SUMIFS('FII-Lançamentos'!C:C,'FII-Lançamentos'!D:D,$A316,'FII-Lançamentos'!B:B,\"V\")","v":0},{"$f":"IF(C316=0,0,SUMIFS('FII-Lançamentos'!K:K,'FII-Lançamentos'!D:D,$A316,'FII-Lançamentos'!B:B,\"C\")-SUMIFS('FII-Lançamentos'!K:K,'FII-Lançamentos'!D:D,$A316,'FII-Lançamentos'!B:B,\"V\"))","v":0},0,null,{"$f":"IFERROR(VLOOKUP(A316,Cotações!B:C,2,FALSE),\"\")","v":""},0,0,null,null,0,null,0,0,null,{"$f":"IF(OR(A316=\"\",A316=\"(vazio)\"),0,IFERROR(LOOKUP(2,1/('FII-Lançamentos'!D:D=A316),'FII-Lançamentos'!O:O),0))","v":0},null,0,null,null,null,null,null,null,"",{"$f":"IF(A316=\"\",\"\",IFERROR(LOOKUP(2,1/('FII-Recebidos'!D:D=A316),'FII-Recebidos'!C:C),\"\"))","v":""},"",""]
[null,null,{"$f":"SUMIFS('FII-Lançamentos'!C:C,'FII-Lançamentos'!D:D,$A317,'FII-Lançamentos'!B:B,\"C\")+SUMIFS('FII-Lançamentos'!C:C,'FII-Lançamentos'!D:D,$A317,'FII-Lançamentos'!B:B,\"V\")","v":0},{"$f":"IF(C317=0,0,SUMIFS('FII-Lançamentos'!K:K,'FII-Lançamentos'!D:D,$A317,'FII-Lançamentos'!B:B,\"C\")-SUMIFS('FII-Lançamentos'!K:K,'FII-Lançamentos'!D:D,$A317,'FII-Lançamentos'!B:B,\"V\"))","v":0},0,null,{"$f":"IFERROR(VLOOKUP(A317,Cotações!B:C,2,FALSE),\"\")","v":""},0,0,null,null,0,null,0,0,null,{"$f":"IF(OR(A317=\"\",A317=\"(vazio)\"),0,IFERROR(LOOKUP(2,1/('FII-Lançamentos'!D:D=A317),'FII-Lançamentos'!O:O),0))","v":0},null,0,null,null,null,null,null,null,"",{"$f":"IF(A317=\"\",\"\",IFERROR(LOOKUP(2,1/('FII-Recebidos'!D:D=A317),'FII-Recebidos'!C:C),\"\"))","v":""},"",""]
[null,null,{"$f":"SUMIFS('FII-Lançamentos'!C:C,'FII-Lançamentos'!D:D,$A318,'FII-Lançamentos'!B:B,\"C\")+SUMIFS('FII-Lançamentos'!C:C,'FII-Lançamentos'!D:D,$A318,'FII-Lançamentos'!B:B,\"V\")","v":0},{"$f":"IF(C318=0,0,SUMIFS('FII-Lançamentos'!K:K,'FII-Lançamentos'!D:D,$A318,'FII-Lançamentos'!B:B,\"C\")-SUMIFS('FII-Lançamentos'!K:K,'FII-Lançamentos'!D:D,$A318,'FII-Lançamentos'!B:B,\"V\"))","v":0},0,null,{"$f":"IFERROR(VLOOKUP(A318,Cotações!B:C,2,FALSE),\"\")","v":""},0,0,null,null,0,null,0,0,null,{"$f":"IF(OR(A318=\"\",A318=\"(vazio)\"),0,IFERROR(LOOKUP(2,1/('FII-Lançamentos'!D:D=A318),'FII-Lançamentos'!O:O),0))","v":0},null,0,null,null,null,null,null,null,"",{"$f":"IF(A318=\"\",\"\",IFERROR(LOOKUP(2,1/('FII-Recebidos'!D:D=A318),'FII-Recebidos'!C:C),\"\"))","v":""},"",""]
[null,null,{"$f":"SUMIFS('FII-Lançamentos'!C:C,'FII-Lançamentos'!D:D,$A319,'FII-Lançamentos'!B:B,\"C\")+SUMIFS('FII-Lançamentos'!C:C,'FII-Lançamentos'!D:D,$A319,'FII-Lançamentos'!B:B,\"V\")","v":0},{"$f":"IF(C319=0,0,SUMIFS('FII-Lançamentos'!K:K,'FII-Lançamentos'!D:D,$A319,'FII-Lançamentos'!B:B,\"C\")-SUMIFS('FII-Lançamentos'!K:K,'FII-Lançamentos'!D:D,$A319,'FII-Lançamentos'!B:B,\"V\"))","v":0},0,null,{"$f":"IFERROR(VLOOKUP(A319,Cotações!B:C,2,FALSE),\"\")","v":""},0,0,null,null,0,null,0,0,null,{"$f":"IF(OR(A319=\"\",A319=\"(vazio)\"),0,IFERROR(LOOKUP(2,1/('FII-Lançamentos'!D:D=A319),'FII-Lançamentos'!O:O),0))","v":0},null,0,null,null,null,null,null,null,"",{"$f":"IF(A319=\"\",\"\",IFERROR(LOOKUP(2,1/('FII-Recebidos'!D:D=A319),'FII-Recebidos'!C:C),\"\"))","v":""},"",""]
[null,null,{"$f":"SUMIFS('FII-Lançamentos'!C:C,'FII-Lançamentos'!D:D,$A320,'FII-Lançamentos'!B:B,\"C\")+SUMIFS('FII-Lançamentos'!C:C,'FII-Lançamentos'!D:D,$A320,'FII-Lançamentos'!B:B,\"V\")","v":0},{"$f":"IF(C320=0,0,SUMIFS('FII-Lançamentos'!K:K,'FII-Lançamentos'!D:D,$A320,'FII-Lançamentos'!B:B,\"C\")-SUMIFS('FII-Lançamentos'!K:K,'FII-Lançamentos'!D:D,$A320,'FII-Lançamentos'!B:B,\"V\"))","v":0},0,null,{"$f":"IFERROR(VLOOKUP(A320,Cotações!B:C,2,FALSE),\"\")","v":""},0,0,null,null,0,null,0,0,null,{"$f":"IF(OR(A320=\"\",A320=\"(vazio)\"),0,IFERROR(LOOKUP(2,1/('FII-Lançamentos'!D:D=A320),'FII-Lançamentos'!O:O),0))","v":0},null,0,null,null,null,null,null,null,"",{"$f":"IF(A320=\"\",\"\",IFERROR(LOOKUP(2,1/('FII-Recebidos'!D:D=A320),'FII-Recebidos'!C:C),\"\"))","v":""},"",""]
[null,null,{"$f":"SUMIFS('FII-Lançamentos'!C:C,'FII-Lançamentos'!D:D,$A321,'FII-Lançamentos'!B:B,\"C\")+SUMIFS('FII-Lançamentos'!C:C,'FII-Lançamentos'!D:D,$A321,'FII-Lançamentos'!B:B,\"V\")","v":0},{"$f":"IF(C321=0,0,SUMIFS('FII-Lançamentos'!K:K,'FII-Lançamentos'!D:D,$A321,'FII-Lançamentos'!B:B,\"C\")-SUMIFS('FII-Lançamentos'!K:K,'FII-Lançamentos'!D:D,$A321,'FII-Lançamentos'!B:B,\"V\"))","v":0},0,null,{"$f":"IFERROR(VLOOKUP(A321,Cotações!B:C,2,FALSE),\"\")","v":""},0,0,null,null,0,null,0,0,null,{"$f":"IF(OR(A321=\"\",A321=\"(vazio)\"),0,IFERROR(LOOKUP(2,1/('FII-Lançamentos'!D:D=A321),'FII-Lançamentos'!O:O),0))","v":0},null,0,null,null,null,null,null,null,"",{"$f":"IF(A321=\"\",\"\",IFERROR(LOOKUP(2,1/('FII-Recebidos'!D:D=A321),'FII-Recebidos'!C:C),\"\"))","v":""},"",""]
[null,null,{"$f":"SUMIFS('FII-Lançamentos'!C:C,'FII-Lançamentos'!D:D,$A322,'FII-Lançamentos'!B:B,\"C\")+SUMIFS('FII-Lançamentos'!C:C,'FII-Lançamentos'!D:D,$A322,'FII-Lançamentos'!B:B,\"V\")","v":0},{"$f":"IF(C322=0,0,SUMIFS('FII-Lançamentos'!K:K,'FII-Lançamentos'!D:D,$A322,'FII-Lançamentos'!B:B,\"C\")-SUMIFS('FII-Lançamentos'!K:K,'FII-Lançamentos'!D:D,$A322,'FII-Lançamentos'!B:B,\"V\"))","v":0},0,null,{"$f":"IFERROR(VLOOKUP(A322,Cotações!B:C,2,FALSE),\"\")","v":""},0,0,null,null,0,null,0,0,null,{"$f":"IF(OR(A322=\"\",A322=\"(vazio)\"),0,IFERROR(LOOKUP(2,1/('FII-Lançamentos'!D:D=A322),'FII-Lançamentos'!O:O),0))","v":0},null,0,null,null,null,null,null,null,"",{"$f":"IF(A322=\"\",\"\",IFERROR(LOOKUP(2,1/('FII-Recebidos'!D:D=A322),'FII-Recebidos'!C:C),\"\"))","v":""},"",""]
[null,null,{"$f":"SUMIFS('FII-Lançamentos'!C:C,'FII-Lançamentos'!D:D,$A323,'FII-Lançamentos'!B:B,\"C\")+SUMIFS('FII-Lançamentos'!C:C,'FII-Lançamentos'!D:D,$A323,'FII-Lançamentos'!B:B,\"V\")","v":0},{"$f":"IF(C323=0,0,SUMIFS('FII-Lançamentos'!K:K,'FII-Lançamentos'!D:D,$A323,'FII-Lançamentos'!B:B,\"C\")-SUMIFS('FII-Lançamentos'!K:K,'FII-Lançamentos'!D:D,$A323,'FII-Lançamentos'!B:B,\"V\"))","v":0},0,null,{"$f":"IFERROR(VLOOKUP(A323,Cotações!B:C,2,FALSE),\"\")","v":""},0,0,null,null,0,null,0,0,null,{"$f":"IF(OR(A323=\"\",A323=\"(vazio)\"),0,IFERROR(LOOKUP(2,1/('FII-Lançamentos'!D:D=A323),'FII-Lançamentos'!O:O),0))","v":0},null,0,null,null,null,null,null,null,"",{"$f":"IF(A323=\"\",\"\",IFERROR(LOOKUP(2,1/('FII-Recebidos'!D:D=A323),'FII-Recebidos'!C:C),\"\"))","v":""},"",""]
[null,null,{"$f":"SUMIFS('FII-Lançamentos'!C:C,'FII-Lançamentos'!D:D,$A324,'FII-Lançamentos'!B:B,\"C\")+SUMIFS('FII-Lançamentos'!C:C,'FII-Lançamentos'!D:D,$A324,'FII-Lançamentos'!B:B,\"V\")","v":0},{"$f":"IF(C324=0,0,SUMIFS('FII-Lançamentos'!K:K,'FII-Lançamentos'!D:D,$A324,'FII-Lançamentos'!B:B,\"C\")-SUMIFS('FII-Lançamentos'!K:K,'FII-Lançamentos'!D:D,$A324,'FII-Lançamentos'!B:B,\"V\"))","v":0},{"$f":"IF(OR(D324=0,$V$9=0),0,D324/$V$9)","v":0},null,{"$f":"IFERROR(VLOOKUP(A324,Cotações!B:C,2,FALSE),\"\")","v":""},{"$f":"IF(C324=\"\",0,IF(G324=\"\",D324,C324*G324))","v":0},{"$f":"IF(fii_at=0,0,H324/$V$11)","v":0},null,null,{"$f":"IF(OR(K324=\"\",I324=\"\",E324=\"\"),0,IF($K$2=\"% ATUAL\",K324-I324,K324-E324))","v":0},null,{"$f":"IF(OR(D324=0,G324=\"\"),0,H324-D324)","v":0},{"$f":"IF(OR(D324=0,G324=\"\"),0,N324/D324)","v":0},null,{"$f":"IF(OR(A324=\"\",A324=\"(vazio)\"),0,IFERROR(LOOKUP(2,1/('FII-Lançamentos'!D:D=A324),'FII-Lançamentos'!O:O),0))","v":0},null,{"$f":"IF(OR(A324=\"\",A324=\"(vazio)\"),0,(C324*Q324))","v":0},null,null,null,null,null,null,"",{"$f":"IF(A324=\"\",\"\",IFERROR(LOOKUP(2,1/('FII-Recebidos'!D:D=A324),'FII-Recebidos'!C:C),\"\"))","v":""},{"$f":"IFERROR(($AA324/$C324/$Q324),\"\")","v":""},{"$f":"IFERROR(($AA324/$C324/$G324),\"\")","v":""}]
[null,null,{"$f":"SUMIFS('FII-Lançamentos'!C:C,'FII-Lançamentos'!D:D,$A325,'FII-Lançamentos'!B:B,\"C\")+SUMIFS('FII-Lançamentos'!C:C,'FII-Lançamentos'!D:D,$A325,'FII-Lançamentos'!B:B,\"V\")","v":0},{"$f":"IF(C325=0,0,SUMIFS('FII-Lançamentos'!K:K,'FII-Lançamentos'!D:D,$A325,'FII-Lançamentos'!B:B,\"C\")-SUMIFS('FII-Lançamentos'!K:K,'FII-Lançamentos'!D:D,$A325,'FII-Lançamentos'!B:B,\"V\"))","v":0},0,null,{"$f":"IFERROR(VLOOKUP(A325,Cotações!B:C,2,FALSE),\"\")","v":""},0,0,null,null,0,null,0,0,null,{"$f":"IF(OR(A325=\"\",A325=\"(vazio)\"),0,IFERROR(LOOKUP(2,1/('FII-Lançamentos'!D:D=A325),'FII-Lançamentos'!O:O),0))","v":0},null,0,null,null,null,null,null,null,"",{"$f":"IF(A325=\"\",\"\",IFERROR(LOOKUP(2,1/('FII-Recebidos'!D:D=A325),'FII-Recebidos'!C:C),\"\"))","v":""},"",""]
[null,null,{"$f":"SUMIFS('FII-Lançamentos'!C:C,'FII-Lançamentos'!D:D,$A326,'FII-Lançamentos'!B:B,\"C\")+SUMIFS('FII-Lançamentos'!C:C,'FII-Lançamentos'!D:D,$A326,'FII-Lançamentos'!B:B,\"V\")","v":0},{"$f":"IF(C326=0,0,SUMIFS('FII-Lançamentos'!K:K,'FII-Lançamentos'!D:D,$A326,'FII-Lançamentos'!B:B,\"C\")-SUMIFS('FII-Lançamentos'!K:K,'FII-Lançamentos'!D:D,$A326,'FII-Lançamentos'!B:B,\"V\"))","v":0},0,null,{"$f":"IFERROR(VLOOKUP(A326,Cotações!B:C,2,FALSE),\"\")","v":""},0,0,null,null,0,null,0,0,null,{"$f":"IF(OR(A326=\"\",A326=\"(vazio)\"),0,IFERROR(LOOKUP(2,1/('FII-Lançamentos'!D:D=A326),'FII-Lançamentos'!O:O),0))","v":0},null,0,null,null,null,null,null,null,"",{"$f":"IF(A326=\"\",\"\",IFERROR(LOOKUP(2,1/('FII-Recebidos'!D:D=A326),'FII-Recebidos'!C:C),\"\"))","v":""},"",""]
[null,null,{"$f":"SUMIFS('FII-Lançamentos'!C:C,'FII-Lançamentos'!D:D,$A327,'FII-Lançamentos'!B:B,\"C\")+SUMIFS('FII-Lançamentos'!C:C,'FII-Lançamentos'!D:D,$A327,'FII-Lançamentos'!B:B,\"V\")","v":0},{"$f":"IF(C327=0,0,SUMIFS('FII-Lançamentos'!K:K,'FII-Lançamentos'!D:D,$A327,'FII-Lançamentos'!B:B,\"C\")-SUMIFS('FII-Lançamentos'!K:K,'FII-Lançamentos'!D:D,$A327,'FII-Lançamentos'!B:B,\"V\"))","v":0},0,null,{"$f":"IFERROR(VLOOKUP(A327,Cotações!B:C,2,FALSE),\"\")","v":""},0,0,null,null,0,null,0,0,null,{"$f":"IF(OR(A327=\"\",A327=\"(vazio)\"),0,IFERROR(LOOKUP(2,1/('FII-Lançamentos'!D:D=A327),'FII-Lançamentos'!O:O),0))","v":0},null,0,null,null,null,null,null,null,"",{"$f":"IF(A327=\"\",\"\",IFERROR(LOOKUP(2,1/('FII-Recebidos'!D:D=A327),'FII-Recebidos'!C:C),\"\"))","v":""},"",""]
[null,null,{"$f":"SUMIFS('FII-Lançamentos'!C:C,'FII-Lançamentos'!D:D,$A328,'FII-Lançamentos'!B:B,\"C\")+SUMIFS('FII-Lançamentos'!C:C,'FII-Lançamentos'!D:D,$A328,'FII-Lançamentos'!B:B,\"V\")","v":0},{"$f":"IF(C328=0,0,SUMIFS('FII-Lançamentos'!K:K,'FII-Lançamentos'!D:D,$A328,'FII-Lançamentos'!B:B,\"C\")-SUMIFS('FII-Lançamentos'!K:K,'FII-Lançamentos'!D:D,$A328,'FII-Lançamentos'!B:B,\"V\"))","v":0},0,null,{"$f":"IFERROR(VLOOKUP(A328,Cotações!B:C,2,FALSE),\"\")","v":""},0,0,null,null,0,null,0,0,null,{"$f":"IF(OR(A328=\"\",A328=\"(vazio)\"),0,IFERROR(LOOKUP(2,1/('FII-Lançamentos'!D:D=A328),'FII-Lançamentos'!O:O),0))","v":0},null,0,null,null,null,null,null,null,"",{"$f":"IF(A328=\"\",\"\",IFERROR(LOOKUP(2,1/('FII-Recebidos'!D:D=A328),'FII-Recebidos'!C:C),\"\"))","v":""},"",""]
[null,null,{"$f":"SUMIFS('FII-Lançamentos'!C:C,'FII-Lançamentos'!D:D,$A329,'FII-Lançamentos'!B:B,\"C\")+SUMIFS('FII-Lançamentos'!C:C,'FII-Lançamentos'!D:D,$A329,'FII-Lançamentos'!B:B,\"V\")","v":0},{"$f":"IF(C329=0,0,SUMIFS('FII-Lançamentos'!K:K,'FII-Lançamentos'!D:D,$A329,'FII-Lançamentos'!B:B,\"C\")-SUMIFS('FII-Lançamentos'!K:K,'FII-Lançamentos'!D:D,$A329,'FII-Lançamentos'!B:B,\"V\"))","v":0},0,null,{"$f":"IFERROR(VLOOKUP(A329,Cotações!B:C,2,FALSE),\"\")","v":""},0,0,null,null,0,null,0,0,null,{"$f":"IF(OR(A329=\"\",A329=\"(vazio)\"),0,IFERROR(LOOKUP(2,1/('FII-Lançamentos'!D:D=A329),'FII-Lançamentos'!O:O),0))","v":0},null,0,null,null,null,null,null,null,"",{"$f":"IF(A329=\"\",\"\",IFERROR(LOOKUP(2,1/('FII-Recebidos'!D:D=A329),'FII-Recebidos'!C:C),\"\"))","v":""},"",""]
[null,null,{"$f":"SUMIFS('FII-Lançamentos'!C:C,'FII-Lançamentos'!D:D,$A330,'FII-Lançamentos'!B:B,\"C\")+SUMIFS('FII-Lançamentos'!C:C,'FII-Lançamentos'!D:D,$A330,'FII-Lançamentos'!B:B,\"V\")","v":0},{"$f":"IF(C330=0,0,SUMIFS('FII-Lançamentos'!K:K,'FII-Lançamentos'!D:D,$A330,'FII-Lançamentos'!B:B,\"C\")-SUMIFS('FII-Lançamentos'!K:K,'FII-Lançamentos'!D:D,$A330,'FII-Lançamentos'!B:B,\"V\"))","v":0},0,null,{"$f":"IFERROR(VLOOKUP(A330,Cotações!B:C,2,FALSE),\"\")","v":""},0,0,null,null,0,null,0,0,null,{"$f":"IF(OR(A330=\"\",A330=\"(vazio)\"),0,IFERROR(LOOKUP(2,1/('FII-Lançamentos'!D:D=A330),'FII-Lançamentos'!O:O),0))","v":0},null,0,null,null,null,null,null,null,"",{"$f":"IF(A330=\"\",\"\",IFERROR(LOOKUP(2,1/('FII-Recebidos'!D:D=A330),'FII-Recebidos'!C:C),\"\"))","v":""},"",""]
[null,null,{"$f":"SUMIFS('FII-Lançamentos'!C:C,'FII-Lançamentos'!D:D,$A331,'FII-Lançamentos'!B:B,\"C\")+SUMIFS('FII-Lançamentos'!C:C,'FII-Lançamentos'!D:D,$A331,'FII-Lançamentos'!B:B,\"V\")","v":0},{"$f":"IF(C331=0,0,SUMIFS('FII-Lançamentos'!K:K,'FII-Lançamentos'!D:D,$A331,'FII-Lançamentos'!B:B,\"C\")-SUMIFS('FII-Lançamentos'!K:K,'FII-Lançamentos'!D:D,$A331,'FII-Lançamentos'!B:B,\"V\"))","v":0},0,null,{"$f":"IFERROR(VLOOKUP(A331,Cotações!B:C,2,FALSE),\"\")","v":""},0,0,null,null,0,null,0,0,null,{"$f":"IF(OR(A331=\"\",A331=\"(vazio)\"),0,IFERROR(LOOKUP(2,1/('FII-Lançamentos'!D:D=A331),'FII-Lançamentos'!O:O),0))","v":0},null,0,null,null,null,null,null,null,"",{"$f":"IF(A331=\"\",\"\",IFERROR(LOOKUP(2,1/('FII-Recebidos'!D:D=A331),'FII-Recebidos'!C:C),\"\"))","v":""},"",""]
[null,null,{"$f":"SUMIFS('FII-Lançamentos'!C:C,'FII-Lançamentos'!D:D,$A332,'FII-Lançamentos'!B:B,\"C\")+SUMIFS('FII-Lançamentos'!C:C,'FII-Lançamentos'!D:D,$A332,'FII-Lançamentos'!B:B,\"V\")","v":0},{"$f":"IF(C332=0,0,SUMIFS('FII-Lançamentos'!K:K,'FII-Lançamentos'!D:D,$A332,'FII-Lançamentos'!B:B,\"C\")-SUMIFS('FII-Lançamentos'!K:K,'FII-Lançamentos'!D:D,$A332,'FII-Lançamentos'!B:B,\"V\"))","v":0},0,null,{"$f":"IFERROR(VLOOKUP(A332,Cotações!B:C,2,FALSE),\"\")","v":""},0,0,null,null,0,null,0,0,null,{"$f":"IF(OR(A332=\"\",A332=\"(vazio)\"),0,IFERROR(LOOKUP(2,1/('FII-Lançamentos'!D:D=A332),'FII-Lançamentos'!O:O),0))","v":0},null,0,null,null,null,null,null,null,"",{"$f":"IF(A332=\"\",\"\",IFERROR(LOOKUP(2,1/('FII-Recebidos'!D:D=A332),'FII-Recebidos'!C:C),\"\"))","v":""},"",""]
[null,null,{"$f":"SUMIFS('FII-Lançamentos'!C:C,'FII-Lançamentos'!D:D,$A333,'FII-Lançamentos'!B:B,\"C\")+SUMIFS('FII-Lançamentos'!C:C,'FII-Lançamentos'!D:D,$A333,'FII-Lançamentos'!B:B,\"V\")","v":0},{"$f":"IF(C333=0,0,SUMIFS('FII-Lançamentos'!K:K,'FII-Lançamentos'!D:D,$A333,'FII-Lançamentos'!B:B,\"C\")-SUMIFS('FII-Lançamentos'!K:K,'FII-Lançamentos'!D:D,$A333,'FII-Lançamentos'!B:B,\"V\"))","v":0},0,null,{"$f":"IFERROR(VLOOKUP(A333,Cotações!B:C,2,FALSE),\"\")","v":""},0,0,null,null,0,null,0,0,null,{"$f":"IF(OR(A333=\"\",A333=\"(vazio)\"),0,IFERROR(LOOKUP(2,1/('FII-Lançamentos'!D:D=A333),'FII-Lançamentos'!O:O),0))","v":0},null,0,null,null,null,null,null,null,"",{"$f":"IF(A333=\"\",\"\",IFERROR(LOOKUP(2,1/('FII-Recebidos'!D:D=A333),'FII-Recebidos'!C:C),\"\"))","v":""},"",""]
[null,null,{"$f":"SUMIFS('FII-Lançamentos'!C:C,'FII-Lançamentos'!D:D,$A334,'FII-Lançamentos'!B:B,\"C\")+SUMIFS('FII-Lançamentos'!C:C,'FII-Lançamentos'!D:D,$A334,'FII-Lançamentos'!B:B,\"V\")","v":0},{"$f":"IF(C334=0,0,SUMIFS('FII-Lançamentos'!K:K,'FII-Lançamentos'!D:D,$A334,'FII-Lançamentos'!B:B,\"C\")-SUMIFS('FII-Lançamentos'!K:K,'FII-Lançamentos'!D:D,$A334,'FII-Lançamentos'!B:B,\"V\"))","v":0},0,null,{"$f":"IFERROR(VLOOKUP(A334,Cotações!B:C,2,FALSE),\"\")","v":""},0,0,null,null,0,null,0,0,null,{"$f":"IF(OR(A334=\"\",A334=\"(vazio)\"),0,IFERROR(LOOKUP(2,1/('FII-Lançamentos'!D:D=A334),'FII-Lançamentos'!O:O),0))","v":0},null,0,null,null,null,null,null,null,"",{"$f":"IF(A334=\"\",\"\",IFERROR(LOOKUP(2,1/('FII-Recebidos'!D:D=A334),'FII-Recebidos'!C:C),\"\"))","v":""},"",""]
[null,null,{"$f":"SUMIFS('FII-Lançamentos'!C:C,'FII-Lançamentos'!D:D,$A335,'FII-Lançamentos'!B:B,\"C\")+SUMIFS('FII-Lançamentos'!C:C,'FII-Lançamentos'!D:D,$A335,'FII-Lançamentos'!B:B,\"V\")","v":0},{"$f":"IF(C335=0,0,SUMIFS('FII-Lançamentos'!K:K,'FII-Lançamentos'!D:D,$A335,'FII-Lançamentos'!B:B,\"C\")-SUMIFS('FII-Lançamentos'!K:K,'FII-Lançamentos'!D:D,$A335,'FII-Lançamentos'!B:B,\"V\"))","v":0},0,null,{"$f":"IFERROR(VLOOKUP(A335,Cotações!B:C,2,FALSE),\"\")","v":""},0,0,null,null,0,null,0,0,null,{"$f":"IF(OR(A335=\"\",A335=\"(vazio)\"),0,IFERROR(LOOKUP(2,1/('FII-Lançamentos'!D:D=A335),'FII-Lançamentos'!O:O),0))","v":0},null,0,null,null,null,null,null,null,"",{"$f":"IF(A335=\"\",\"\",IFERROR(LOOKUP(2,1/('FII-Recebidos'!D:D=A335),'FII-Recebidos'!C:C),\"\"))","v":""},"",""]
[null,null,{"$f":"SUMIFS('FII-Lançamentos'!C:C,'FII-Lançamentos'!D:D,$A336,'FII-Lançamentos'!B:B,\"C\")+SUMIFS('FII-Lançamentos'!C:C,'FII-Lançamentos'!D:D,$A336,'FII-Lançamentos'!B:B,\"V\")","v":0},{"$f":"IF(C336=0,0,SUMIFS('FII-Lançamentos'!K:K,'FII-Lançamentos'!D:D,$A336,'FII-Lançamentos'!B:B,\"C\")-SUMIFS('FII-Lançamentos'!K:K,'FII-Lançamentos'!D:D,$A336,'FII-Lançamentos'!B:B,\"V\"))","v":0},0,null,{"$f":"IFERROR(VLOOKUP(A336,Cotações!B:C,2,FALSE),\"\")","v":""},0,0,null,null,0,null,0,0,null,{"$f":"IF(OR(A336=\"\",A336=\"(vazio)\"),0,IFERROR(LOOKUP(2,1/('FII-Lançamentos'!D:D=A336),'FII-Lançamentos'!O:O),0))","v":0},null,0,null,null,null,null,null,null,"",{"$f":"IF(A336=\"\",\"\",IFERROR(LOOKUP(2,1/('FII-Recebidos'!D:D=A336),'FII-Recebidos'!C:C),\"\"))","v":""},"",""]
[null,null,{"$f":"SUMIFS('FII-Lançamentos'!C:C,'FII-Lançamentos'!D:D,$A337,'FII-Lançamentos'!B:B,\"C\")+SUMIFS('FII-Lançamentos'!C:C,'FII-Lançamentos'!D:D,$A337,'FII-Lançamentos'!B:B,\"V\")","v":0},{"$f":"IF(C337=0,0,SUMIFS('FII-Lançamentos'!K:K,'FII-Lançamentos'!D:D,$A337,'FII-Lançamentos'!B:B,\"C\")-SUMIFS('FII-Lançamentos'!K:K,'FII-Lançamentos'!D:D,$A337,'FII-Lançamentos'!B:B,\"V\"))","v":0},0,null,{"$f":"IFERROR(VLOOKUP(A337,Cotações!B:C,2,FALSE),\"\")","v":""},0,0,null,null,0,null,0,0,null,{"$f":"IF(OR(A337=\"\",A337=\"(vazio)\"),0,IFERROR(LOOKUP(2,1/('FII-Lançamentos'!D:D=A337),'FII-Lançamentos'!O:O),0))","v":0},null,0,null,null,null,null,null,null,"",{"$f":"IF(A337=\"\",\"\",IFERROR(LOOKUP(2,1/('FII-Recebidos'!D:D=A337),'FII-Recebidos'!C:C),\"\"))","v":""},"",""]
[null,null,{"$f":"SUMIFS('FII-Lançamentos'!C:C,'FII-Lançamentos'!D:D,$A338,'FII-Lançamentos'!B:B,\"C\")+SUMIFS('FII-Lançamentos'!C:C,'FII-Lançamentos'!D:D,$A338,'FII-Lançamentos'!B:B,\"V\")","v":0},{"$f":"IF(C338=0,0,SUMIFS('FII-Lançamentos'!K:K,'FII-Lançamentos'!D:D,$A338,'FII-Lançamentos'!B:B,\"C\")-SUMIFS('FII-Lançamentos'!K:K,'FII-Lançamentos'!D:D,$A338,'FII-Lançamentos'!B:B,\"V\"))","v":0},0,null,{"$f":"IFERROR(VLOOKUP(A338,Cotações!B:C,2,FALSE),\"\")","v":""},0,0,null,null,0,null,0,0,null,{"$f":"IF(OR(A338=\"\",A338=\"(vazio)\"),0,IFERROR(LOOKUP(2,1/('FII-Lançamentos'!D:D=A338),'FII-Lançamentos'!O:O),0))","v":0},null,0,null,null,null,null,null,null,"",{"$f":"IF(A338=\"\",\"\",IFERROR(LOOKUP(2,1/('FII-Recebidos'!D:D=A338),'FII-Recebidos'!C:C),\"\"))","v":""},"",""]
[null,null,{"$f":"SUMIFS('FII-Lançamentos'!C:C,'FII-Lançamentos'!D:D,$A339,'FII-Lançamentos'!B:B,\"C\")+SUMIFS('FII-Lançamentos'!C:C,'FII-Lançamentos'!D:D,$A339,'FII-Lançamentos'!B:B,\"V\")","v":0},{"$f":"IF(C339=0,0,SUMIFS('FII-Lançamentos'!K:K,'FII-Lançamentos'!D:D,$A339,'FII-Lançamentos'!B:B,\"C\")-SUMIFS('FII-Lançamentos'!K:K,'FII-Lançamentos'!D:D,$A339,'FII-Lançamentos'!B:B,\"V\"))","v":0},0,null,{"$f":"IFERROR(VLOOKUP(A339,Cotações!B:C,2,FALSE),\"\")","v":""},0,0,null,null,0,null,0,0,null,{"$f":"IF(OR(A339=\"\",A339=\"(vazio)\"),0,IFERROR(LOOKUP(2,1/('FII-Lançamentos'!D:D=A339),'FII-Lançamentos'!O:O),0))","v":0},null,0,null,null,null,null,null,null,"",{"$f":"IF(A339=\"\",\"\",IFERROR(LOOKUP(2,1/('FII-Recebidos'!D:D=A339),'FII-Recebidos'!C:C),\"\"))","v":""},"",""]
[null,null,{"$f":"SUMIFS('FII-Lançamentos'!C:C,'FII-Lançamentos'!D:D,$A340,'FII-Lançamentos'!B:B,\"C\")+SUMIFS('FII-Lançamentos'!C:C,'FII-Lançamentos'!D:D,$A340,'FII-Lançamentos'!B:B,\"V\")","v":0},{"$f":"IF(C340=0,0,SUMIFS('FII-Lançamentos'!K:K,'FII-Lançamentos'!D:D,$A340,'FII-Lançamentos'!B:B,\"C\")-SUMIFS('FII-Lançamentos'!K:K,'FII-Lançamentos'!D:D,$A340,'FII-Lançamentos'!B:B,\"V\"))","v":0},0,null,{"$f":"IFERROR(VLOOKUP(A340,Cotações!B:C,2,FALSE),\"\")","v":""},0,0,null,null,0,null,0,0,null,{"$f":"IF(OR(A340=\"\",A340=\"(vazio)\"),0,IFERROR(LOOKUP(2,1/('FII-Lançamentos'!D:D=A340),'FII-Lançamentos'!O:O),0))","v":0},null,0,null,null,null,null,null,null,"",{"$f":"IF(A340=\"\",\"\",IFERROR(LOOKUP(2,1/('FII-Recebidos'!D:D=A340),'FII-Recebidos'!C:C),\"\"))","v":""},"",""]
[null,null,{"$f":"SUMIFS('FII-Lançamentos'!C:C,'FII-Lançamentos'!D:D,$A341,'FII-Lançamentos'!B:B,\"C\")+SUMIFS('FII-Lançamentos'!C:C,'FII-Lançamentos'!D:D,$A341,'FII-Lançamentos'!B:B,\"V\")","v":0},{"$f":"IF(C341=0,0,SUMIFS('FII-Lançamentos'!K:K,'FII-Lançamentos'!D:D,$A341,'FII-Lançamentos'!B:B,\"C\")-SUMIFS('FII-Lançamentos'!K:K,'FII-Lançamentos'!D:D,$A341,'FII-Lançamentos'!B:B,\"V\"))","v":0},0,null,{"$f":"IFERROR(VLOOKUP(A341,Cotações!B:C,2,FALSE),\"\")","v":""},0,0,null,null,0,null,0,0,null,{"$f":"IF(OR(A341=\"\",A341=\"(vazio)\"),0,IFERROR(LOOKUP(2,1/('FII-Lançamentos'!D:D=A341),'FII-Lançamentos'!O:O),0))","v":0},null,0,null,null,null,null,null,null,"",{"$f":"IF(A341=\"\",\"\",IFERROR(LOOKUP(2,1/('FII-Recebidos'!D:D=A341),'FII-Recebidos'!C:C),\"\"))","v":""},"",""]
[null,null,{"$f":"SUMIFS('FII-Lançamentos'!C:C,'FII-Lançamentos'!D:D,$A342,'FII-Lançamentos'!B:B,\"C\")+SUMIFS('FII-Lançamentos'!C:C,'FII-Lançamentos'!D:D,$A342,'FII-Lançamentos'!B:B,\"V\")","v":0},{"$f":"IF(C342=0,0,SUMIFS('FII-Lançamentos'!K:K,'FII-Lançamentos'!D:D,$A342,'FII-Lançamentos'!B:B,\"C\")-SUMIFS('FII-Lançamentos'!K:K,'FII-Lançamentos'!D:D,$A342,'FII-Lançamentos'!B:B,\"V\"))","v":0},0,null,{"$f":"IFERROR(VLOOKUP(A342,Cotações!B:C,2,FALSE),\"\")","v":""},0,0,null,null,0,null,0,0,null,{"$f":"IF(OR(A342=\"\",A342=\"(vazio)\"),0,IFERROR(LOOKUP(2,1/('FII-Lançamentos'!D:D=A342),'FII-Lançamentos'!O:O),0))","v":0},null,0,null,null,null,null,null,null,"",{"$f":"IF(A342=\"\",\"\",IFERROR(LOOKUP(2,1/('FII-Recebidos'!D:D=A342),'FII-Recebidos'!C:C),\"\"))","v":""},"",""]
[null,null,{"$f":"SUMIFS('FII-Lançamentos'!C:C,'FII-Lançamentos'!D:D,$A343,'FII-Lançamentos'!B:B,\"C\")+SUMIFS('FII-Lançamentos'!C:C,'FII-Lançamentos'!D:D,$A343,'FII-Lançamentos'!B:B,\"V\")","v":0},{"$f":"IF(C343=0,0,SUMIFS('FII-Lançamentos'!K:K,'FII-Lançamentos'!D:D,$A343,'FII-Lançamentos'!B:B,\"C\")-SUMIFS('FII-Lançamentos'!K:K,'FII-Lançamentos'!D:D,$A343,'FII-Lançamentos'!B:B,\"V\"))","v":0},0,null,{"$f":"IFERROR(VLOOKUP(A343,Cotações!B:C,2,FALSE),\"\")","v":""},0,0,null,null,0,null,0,0,null,{"$f":"IF(OR(A343=\"\",A343=\"(vazio)\"),0,IFERROR(LOOKUP(2,1/('FII-Lançamentos'!D:D=A343),'FII-Lançamentos'!O:O),0))","v":0},null,0,null,null,null,null,null,null,"",{"$f":"IF(A343=\"\",\"\",IFERROR(LOOKUP(2,1/('FII-Recebidos'!D:D=A343),'FII-Recebidos'!C:C),\"\"))","v":""},"",""]
[null,null,{"$f":"SUMIFS('FII-Lançamentos'!C:C,'FII-Lançamentos'!D:D,$A344,'FII-Lançamentos'!B:B,\"C\")+SUMIFS('FII-Lançamentos'!C:C,'FII-Lançamentos'!D:D,$A344,'FII-Lançamentos'!B:B,\"V\")","v":0},{"$f":"IF(C344=0,0,SUMIFS('FII-Lançamentos'!K:K,'FII-Lançamentos'!D:D,$A344,'FII-Lançamentos'!B:B,\"C\")-SUMIFS('FII-Lançamentos'!K:K,'FII-Lançamentos'!D:D,$A344,'FII-Lançamentos'!B:B,\"V\"))","v":0},0,null,{"$f":"IFERROR(VLOOKUP(A344,Cotações!B:C,2,FALSE),\"\")","v":""},0,0,null,null,0,null,0,0,null,{"$f":"IF(OR(A344=\"\",A344=\"(vazio)\"),0,IFERROR(LOOKUP(2,1/('FII-Lançamentos'!D:D=A344),'FII-Lançamentos'!O:O),0))","v":0},null,0,null,null,null,null,null,null,"",{"$f":"IF(A344=\"\",\"\",IFERROR(LOOKUP(2,1/('FII-Recebidos'!D:D=A344),'FII-Recebidos'!C:C),\"\"))","v":""},"",""]
[null,null,{"$f":"SUMIFS('FII-Lançamentos'!C:C,'FII-Lançamentos'!D:D,$A345,'FII-Lançamentos'!B:B,\"C\")+SUMIFS('FII-Lançamentos'!C:C,'FII-Lançamentos'!D:D,$A345,'FII-Lançamentos'!B:B,\"V\")","v":0},{"$f":"IF(C345=0,0,SUMIFS('FII-Lançamentos'!K:K,'FII-Lançamentos'!D:D,$A345,'FII-Lançamentos'!B:B,\"C\")-SUMIFS('FII-Lançamentos'!K:K,'FII-Lançamentos'!D:D,$A345,'FII-Lançamentos'!B:B,\"V\"))","v":0},0,null,{"$f":"IFERROR(VLOOKUP(A345,Cotações!B:C,2,FALSE),\"\")","v":""},0,0,null,null,0,null,0,0,null,{"$f":"IF(OR(A345=\"\",A345=\"(vazio)\"),0,IFERROR(LOOKUP(2,1/('FII-Lançamentos'!D:D=A345),'FII-Lançamentos'!O:O),0))","v":0},null,0,null,null,null,null,null,null,"",{"$f":"IF(A345=\"\",\"\",IFERROR(LOOKUP(2,1/('FII-Recebidos'!D:D=A345),'FII-Recebidos'!C:C),\"\"))","v":""},"",""]
[null,null,{"$f":"SUMIFS('FII-Lançamentos'!C:C,'FII-Lançamentos'!D:D,$A346,'FII-Lançamentos'!B:B,\"C\")+SUMIFS('FII-Lançamentos'!C:C,'FII-Lançamentos'!D:D,$A346,'FII-Lançamentos'!B:B,\"V\")","v":0},{"$f":"IF(C346=0,0,SUMIFS('FII-Lançamentos'!K:K,'FII-Lançamentos'!D:D,$A346,'FII-Lançamentos'!B:B,\"C\")-SUMIFS('FII-Lançamentos'!K:K,'FII-Lançamentos'!D:D,$A346,'FII-Lançamentos'!B:B,\"V\"))","v":0},0,null,{"$f":"IFERROR(VLOOKUP(A346,Cotações!B:C,2,FALSE),\"\")","v":""},0,0,null,null,0,null,0,0,null,{"$f":"IF(OR(A346=\"\",A346=\"(vazio)\"),0,IFERROR(LOOKUP(2,1/('FII-Lançamentos'!D:D=A346),'FII-Lançamentos'!O:O),0))","v":0},null,0,null,null,null,null,null,null,"",{"$f":"IF(A346=\"\",\"\",IFERROR(LOOKUP(2,1/('FII-Recebidos'!D:D=A346),'FII-Recebidos'!C:C),\"\"))","v":""},"",""]
[null,null,{"$f":"SUMIFS('FII-Lançamentos'!C:C,'FII-Lançamentos'!D:D,$A347,'FII-Lançamentos'!B:B,\"C\")+SUMIFS('FII-Lançamentos'!C:C,'FII-Lançamentos'!D:D,$A347,'FII-Lançamentos'!B:B,\"V\")","v":0},{"$f":"IF(C347=0,0,SUMIFS('FII-Lançamentos'!K:K,'FII-Lançamentos'!D:D,$A347,'FII-Lançamentos'!B:B,\"C\")-SUMIFS('FII-Lançamentos'!K:K,'FII-Lançamentos'!D:D,$A347,'FII-Lançamentos'!B:B,\"V\"))","v":0},0,null,{"$f":"IFERROR(VLOOKUP(A347,Cotações!B:C,2,FALSE),\"\")","v":""},0,0,null,null,0,null,0,0,null,{"$f":"IF(OR(A347=\"\",A347=\"(vazio)\"),0,IFERROR(LOOKUP(2,1/('FII-Lançamentos'!D:D=A347),'FII-Lançamentos'!O:O),0))","v":0},null,0,null,null,null,null,null,null,"",{"$f":"IF(A347=\"\",\"\",IFERROR(LOOKUP(2,1/('FII-Recebidos'!D:D=A347),'FII-Recebidos'!C:C),\"\"))","v":""},"",""]
[null,null,{"$f":"SUMIFS('FII-Lançamentos'!C:C,'FII-Lançamentos'!D:D,$A348,'FII-Lançamentos'!B:B,\"C\")+SUMIFS('FII-Lançamentos'!C:C,'FII-Lançamentos'!D:D,$A348,'FII-Lançamentos'!B:B,\"V\")","v":0},{"$f":"IF(C348=0,0,SUMIFS('FII-Lançamentos'!K:K,'FII-Lançamentos'!D:D,$A348,'FII-Lançamentos'!B:B,\"C\")-SUMIFS('FII-Lançamentos'!K:K,'FII-Lançamentos'!D:D,$A348,'FII-Lançamentos'!B:B,\"V\"))","v":0},0,null,{"$f":"IFERROR(VLOOKUP(A348,Cotações!B:C,2,FALSE),\"\")","v":""},0,0,null,null,0,null,0,0,null,{"$f":"IF(OR(A348=\"\",A348=\"(vazio)\"),0,IFERROR(LOOKUP(2,1/('FII-Lançamentos'!D:D=A348),'FII-Lançamentos'!O:O),0))","v":0},null,0,null,null,null,null,null,null,"",{"$f":"IF(A348=\"\",\"\",IFERROR(LOOKUP(2,1/('FII-Recebidos'!D:D=A348),'FII-Recebidos'!C:C),\"\"))","v":""},"",""]
[null,null,{"$f":"SUMIFS('FII-Lançamentos'!C:C,'FII-Lançamentos'!D:D,$A349,'FII-Lançamentos'!B:B,\"C\")+SUMIFS('FII-Lançamentos'!C:C,'FII-Lançamentos'!D:D,$A349,'FII-Lançamentos'!B:B,\"V\")","v":0},{"$f":"IF(C349=0,0,SUMIFS('FII-Lançamentos'!K:K,'FII-Lançamentos'!D:D,$A349,'FII-Lançamentos'!B:B,\"C\")-SUMIFS('FII-Lançamentos'!K:K,'FII-Lançamentos'!D:D,$A349,'FII-Lançamentos'!B:B,\"V\"))","v":0},0,null,{"$f":"IFERROR(VLOOKUP(A349,Cotações!B:C,2,FALSE),\"\")","v":""},0,0,null,null,0,null,0,0,null,{"$f":"IF(OR(A349=\"\",A349=\"(vazio)\"),0,IFERROR(LOOKUP(2,1/('FII-Lançamentos'!D:D=A349),'FII-Lançamentos'!O:O),0))","v":0},null,0,null,null,null,null,null,null,"",{"$f":"IF(A349=\"\",\"\",IFERROR(LOOKUP(2,1/('FII-Recebidos'!D:D=A349),'FII-Recebidos'!C:C),\"\"))","v":""},"",""]
[null,null,{"$f":"SUMIFS('FII-Lançamentos'!C:C,'FII-Lançamentos'!D:D,$A350,'FII-Lançamentos'!B:B,\"C\")+SUMIFS('FII-Lançamentos'!C:C,'FII-Lançamentos'!D:D,$A350,'FII-Lançamentos'!B:B,\"V\")","v":0},{"$f":"IF(C350=0,0,SUMIFS('FII-Lançamentos'!K:K,'FII-Lançamentos'!D:D,$A350,'FII-Lançamentos'!B:B,\"C\")-SUMIFS('FII-Lançamentos'!K:K,'FII-Lançamentos'!D:D,$A350,'FII-Lançamentos'!B:B,\"V\"))","v":0},0,null,{"$f":"IFERROR(VLOOKUP(A350,Cotações!B:C,2,FALSE),\"\")","v":""},0,0,null,null,0,null,0,0,null,{"$f":"IF(OR(A350=\"\",A350=\"(vazio)\"),0,IFERROR(LOOKUP(2,1/('FII-Lançamentos'!D:D=A350),'FII-Lançamentos'!O:O),0))","v":0},null,0,null,null,null,null,null,null,{"$f":"IF(K350=\"\",\"\",K350-I350)","v":""},{"$f":"IF(A350=\"\",\"\",IFERROR(LOOKUP(2,1/('FII-Recebidos'!D:D=A350),'FII-Recebidos'!C:C),\"\"))","v":""},"",""]
[{"$f":"IF('FII-Lançamentos'!#REF!=\"\",\"\",'FII-Lançamentos'!#REF!)","v":{"$error":"#REF!"}}]
[{"$f":"IF('FII-Lançamentos'!#REF!=\"\",\"\",'FII-Lançamentos'!#REF!)","v":{"$error":"#REF!"}}]
[{"$f":"IF('FII-Lançamentos'!#REF!=\"\",\"\",'FII-Lançamentos'!#REF!)","v":{"$error":"#REF!"}}]
[{"$f":"IF('FII-Lançamentos'!#REF!=\"\",\"\",'FII-Lançamentos'!#REF!)","v":{"$error":"#REF!"}}]
[{"$f":"IF('FII-Lançamentos'!#REF!=\"\",\"\",'FII-Lançamentos'!#REF!)","v":{"$error":"#REF!"}}]
[{"$f":"IF('FII-Lançamentos'!#REF!=\"\",\"\",'FII-Lançamentos'!#REF!)","v":{"$error":"#REF!"}}]
[{"$f":"IF('FII-Lançamentos'!#REF!=\"\",\"\",'FII-Lançamentos'!#REF!)","v":{"$error":"#REF!"}}]
[{"$f":"IF('FII-Lançamentos'!#REF!=\"\",\"\",'FII-Lançamentos'!#REF!)","v":{"$error":"#REF!"}}]
[{"$f":"IF('FII-Lançamentos'!#REF!=\"\",\"\",'FII-Lançamentos'!#REF!)","v":{"$error":"#REF!"}}]
[{"$f":"IF('FII-Lançamentos'!#REF!=\"\",\"\",'FII-Lançamentos'!#REF!)","v":{"$error":"#REF!"}}]
[{"$f":"IF('FII-Lançamentos'!#REF!=\"\",\"\",'FII-Lançamentos'!#REF!)","v":{"$error":"#REF!"}}]
[{"$f":"IF('FII-Lançamentos'!#REF!=\"\",\"\",'FII-Lançamentos'!#REF!)","v":{"$error":"#REF!"}}]
[{"$f":"IF('FII-Lançamentos'!#REF!=\"\",\"\",'FII-Lançamentos'!#REF!)","v":{"$error":"#REF!"}}]
[{"$f":"IF('FII-Lançamentos'!#REF!=\"\",\"\",'FII-Lançamentos'!#REF!)","v":{"$error":"#REF!"}}]
[{"$f":"IF('FII-Lançamentos'!#REF!=\"\",\"\",'FII-Lançamentos'!#REF!)","v":{"$error":"#REF!"}}]
[{"$f":"IF('FII-Lançamentos'!#REF!=\"\",\"\",'FII-Lançamentos'!#REF!)","v":{"$error":"#REF!"}}]
[{"$f":"IF('FII-Lançamentos'!#REF!=\"\",\"\",'FII-Lançamentos'!#REF!)","v":{"$error":"#REF!"}}]
[{"$f":"IF('FII-Lançamentos'!#REF!=\"\",\"\",'FII-Lançamentos'!#REF!)","v":{"$error":"#REF!"}}]
[{"$f":"IF('FII-Lançamentos'!#REF!=\"\",\"\",'FII-Lançamentos'!#REF!)","v":{"$error":"#REF!"}}]
[{"$f":"IF('FII-Lançamentos'!#REF!=\"\",\"\",'FII-Lançamentos'!#REF!)","v":{"$error":"#REF!"}}]
[{"$f":"IF('FII-Lançamentos'!#REF!=\"\",\"\",'FII-Lançamentos'!#REF!)","v":{"$error":"#REF!"}}]
[{"$f":"IF('FII-Lançamentos'!#REF!=\"\",\"\",'FII-Lançamentos'!#REF!)","v":{"$error":"#REF!"}}]
[{"$f":"IF('FII-Lançamentos'!#REF!=\"\",\"\",'FII-Lançamentos'!#REF!)","v":{"$error":"#REF!"}}]
[{"$f":"IF('FII-Lançamentos'!#REF!=\"\",\"\",'FII-Lançamentos'!#REF!)","v":{"$error":"#REF!"}}]
[{"$f":"IF('FII-Lançamentos'!#REF!=\"\",\"\",'FII-Lançamentos'!#REF!)","v":{"$error":"#REF!"}}]
[{"$f":"IF('FII-Lançamentos'!#REF!=\"\",\"\",'FII-Lançamentos'!#REF!)","v":{"$error":"#REF!"}}]
[{"$f":"IF('FII-Lançamentos'!#REF!=\"\",\"\",'FII-Lançamentos'!#REF!)","v":{"$error":"#REF!"}}]
[{"$f":"IF('FII-Lançamentos'!#REF!=\"\",\"\",'FII-Lançamentos'!#REF!)","v":{"$error":"#REF!"}}]
[{"$f":"IF('FII-Lançamentos'!#REF!=\"\",\"\",'FII-Lançamentos'!#REF!)","v":{"$error":"#REF!"}}]
[{"$f":"IF('FII-Lançamentos'!#REF!=\"\",\"\",'FII-Lançamentos'!#REF!)","v":{"$error":"#REF!"}}]
[{"$f":"IF('FII-Lançamentos'!#REF!=\"\",\"\",'FII-Lançamentos'!#REF!)","v":{"$error":"#REF!"}}]
[{"$f":"IF('FII-Lançamentos'!#REF!=\"\",\"\",'FII-Lançamentos'!#REF!)","v":{"$error":"#REF!"}}]
[{"$f":"IF('FII-Lançamentos'!#REF!=\"\",\"\",'FII-Lançamentos'!#REF!)","v":{"$error":"#REF!"}}]
[{"$f":"IF('FII-Lançamentos'!#REF!=\"\",\"\",'FII-Lançamentos'!#REF!)","v":{"$error":"#REF!"}}]
[{"$f":"IF('FII-Lançamentos'!#REF!=\"\",\"\",'FII-Lançamentos'!#REF!)","v":{"$error":"#REF!"}}]
[{"$f":"IF('FII-Lançamentos'!#REF!=\"\",\"\",'FII-Lançamentos'!#REF!)","v":{"$error":"#REF!"}}]
[{"$f":"IF('FII-Lançamentos'!#REF!=\"\",\"\",'FII-Lançamentos'!#REF!)","v":{"$error":"#REF!"}}]
[{"$f":"IF('FII-Lançamentos'!#REF!=\"\",\"\",'FII-Lançamentos'!#REF!)","v":{"$error":"#REF!"}}]
[{"$f":"IF('FII-Lançamentos'!#REF!=\"\",\"\",'FII-Lançamentos'!#REF!)","v":{"$error":"#REF!"}}]
[{"$f":"IF('FII-Lançamentos'!#REF!=\"\",\"\",'FII-Lançamentos'!#REF!)","v":{"$error":"#REF!"}}]
[{"$f":"IF('FII-Lançamentos'!#REF!=\"\",\"\",'FII-Lançamentos'!#REF!)","v":{"$error":"#REF!"}}]
[{"$f":"IF('FII-Lançamentos'!#REF!=\"\",\"\",'FII-Lançamentos'!#REF!)","v":{"$error":"#REF!"}}]
[{"$f":"IF('FII-Lançamentos'!#REF!=\"\",\"\",'FII-Lançamentos'!#REF!)","v":{"$error":"#REF!"}}]
[{"$f":"IF('FII-Lançamentos'!#REF!=\"\",\"\",'FII-Lançamentos'!#REF!)","v":{"$error":"#REF!"}}]
[{"$f":"IF('FII-Lançamentos'!#REF!=\"\",\"\",'FII-Lançamentos'!#REF!)","v":{"$error":"#REF!"}}]
[{"$f":"IF('FII-Lançamentos'!#REF!=\"\",\"\",'FII-Lançamentos'!#REF!)","v":{"$error":"#REF!"}}]
[{"$f":"IF('FII-Lançamentos'!#REF!=\"\",\"\",'FII-Lançamentos'!#REF!)","v":{"$error":"#REF!"}}]
[{"$f":"IF('FII-Lançamentos'!#REF!=\"\",\"\",'FII-Lançamentos'!#REF!)","v":{"$error":"#REF!"}}]
[{"$f":"IF('FII-Lançamentos'!#REF!=\"\",\"\",'FII-Lançamentos'!#REF!)","v":{"$error":"#REF!"}}]
[{"$f":"IF('FII-Lançamentos'!#REF!=\"\",\"\",'FII-Lançamentos'!#REF!)","v":{"$error":"#REF!"}}]
[{"$f":"IF('FII-Lançamentos'!#REF!=\"\",\"\",'FII-Lançamentos'!#REF!)","v":{"$error":"#REF!"}}]
[{"$f":"IF('FII-Lançamentos'!#REF!=\"\",\"\",'FII-Lançamentos'!#REF!)","v":{"$error":"#REF!"}}]
[{"$f":"IF('FII-Lançamentos'!#REF!=\"\",\"\",'FII-Lançamentos'!#REF!)","v":{"$error":"#REF!"}}]
[{"$f":"IF('FII-Lançamentos'!#REF!=\"\",\"\",'FII-Lançamentos'!#REF!)","v":{"$error":"#REF!"}}]
[{"$f":"IF('FII-Lançamentos'!#REF!=\"\",\"\",'FII-Lançamentos'!#REF!)","v":{"$error":"#REF!"}}]
[{"$f":"IF('FII-Lançamentos'!#REF!=\"\",\"\",'FII-Lançamentos'!#REF!)","v":{"$error":"#REF!"}}]
[{"$f":"IF('FII-Lançamentos'!#REF!=\"\",\"\",'FII-Lançamentos'!#REF!)","v":{"$error":"#REF!"}}]
[{"$f":"IF('FII-Lançamentos'!#REF!=\"\",\"\",'FII-Lançamentos'!#REF!)","v":{"$error":"#REF!"}}]
[{"$f":"IF('FII-Lançamentos'!#REF!=\"\",\"\",'FII-Lançamentos'!#REF!)","v":{"$error":"#REF!"}}]
[{"$f":"IF('FII-Lançamentos'!#REF!=\"\",\"\",'FII-Lançamentos'!#REF!)","v":{"$error":"#REF!"}}]
[{"$f":"IF('FII-Lançamentos'!#REF!=\"\",\"\",'FII-Lançamentos'!#REF!)","v":{"$error":"#REF!"}}]
[{"$f":"IF('FII-Lançamentos'!#REF!=\"\",\"\",'FII-Lançamentos'!#REF!)","v":{"$error":"#REF!"}}]
[{"$f":"IF('FII-Lançamentos'!#REF!=\"\",\"\",'FII-Lançamentos'!#REF!)","v":{"$error":"#REF!"}}]
[{"$f":"IF('FII-Lançamentos'!#REF!=\"\",\"\",'FII-Lançamentos'!#REF!)","v":{"$error":"#REF!"}}]
[{"$f":"IF('FII-Lançamentos'!#REF!=\"\",\"\",'FII-Lançamentos'!#REF!)","v":{"$error":"#REF!"}}]
[{"$f":"IF('FII-Lançamentos'!#REF!=\"\",\"\",'FII-Lançamentos'!#REF!)","v":{"$error":"#REF!"}}]
[{"$f":"IF('FII-Lançamentos'!#REF!=\"\",\"\",'FII-Lançamentos'!#REF!)","v":{"$error":"#REF!"}}]
[{"$f":"IF('FII-Lançamentos'!#REF!=\"\",\"\",'FII-Lançamentos'!#REF!)","v":{"$error":"#REF!"}}]
[{"$f":"IF('FII-Lançamentos'!#REF!=\"\",\"\",'FII-Lançamentos'!#REF!)","v":{"$error":"#REF!"}}]
[{"$f":"IF('FII-Lançamentos'!#REF!=\"\",\"\",'FII-Lançamentos'!#REF!)","v":{"$error":"#REF!"}}]
[{"$f":"IF('FII-Lançamentos'!#REF!=\"\",\"\",'FII-Lançamentos'!#REF!)","v":{"$error":"#REF!"}}]
[{"$f":"IF('FII-Lançamentos'!#REF!=\"\",\"\",'FII-Lançamentos'!#REF!)","v":{"$error":"#REF!"}}]
[{"$f":"IF('FII-Lançamentos'!#REF!=\"\",\"\",'FII-Lançamentos'!#REF!)","v":{"$error":"#REF!"}}]
[{"$f":"IF('FII-Lançamentos'!#REF!=\"\",\"\",'FII-Lançamentos'!#REF!)","v":{"$error":"#REF!"}}]
[{"$f":"IF('FII-Lançamentos'!#REF!=\"\",\"\",'FII-Lançamentos'!#REF!)","v":{"$error":"#REF!"}}]
[{"$f":"IF('FII-Lançamentos'!#REF!=\"\",\"\",'FII-Lançamentos'!#REF!)","v":{"$error":"#REF!"}}]
[{"$f":"IF('FII-Lançamentos'!#REF!=\"\",\"\",'FII-Lançamentos'!#REF!)","v":{"$error":"#REF!"}}]
[{"$f":"IF('FII-Lançamentos'!#REF!=\"\",\"\",'FII-Lançamentos'!#REF!)","v":{"$error":"#REF!"}}]
[{"$f":"IF('FII-Lançamentos'!#REF!=\"\",\"\",'FII-Lançamentos'!#REF!)","v":{"$error":"#REF!"}}]
[{"$f":"IF('FII-Lançamentos'!#REF!=\"\",\"\",'FII-Lançamentos'!#REF!)","v":{"$error":"#REF!"}}]
[{"$f":"IF('FII-Lançamentos'!#REF!=\"\",\"\",'FII-Lançamentos'!#REF!)","v":{"$error":"#REF!"}}]
[{"$f":"IF('FII-Lançamentos'!#REF!=\"\",\"\",'FII-Lançamentos'!#REF!)","v":{"$error":"#REF!"}}]
[{"$f":"IF('FII-Lançamentos'!#REF!=\"\",\"\",'FII-Lançamentos'!#REF!)","v":{"$error":"#REF!"}}]
[{"$f":"IF('FII-Lançamentos'!#REF!=\"\",\"\",'FII-Lançamentos'!#REF!)","v":{"$error":"#REF!"}}]
[{"$f":"IF('FII-Lançamentos'!#REF!=\"\",\"\",'FII-Lançamentos'!#REF!)","v":{"$error":"#REF!"}}]
[{"$f":"IF('FII-Lançamentos'!#REF!=\"\",\"\",'FII-Lançamentos'!#REF!)","v":{"$error":"#REF!"}}]
[{"$f":"IF('FII-Lançamentos'!#REF!=\"\",\"\",'FII-Lançamentos'!#REF!)","v":{"$error":"#REF!"}}]
[{"$f":"IF('FII-Lançamentos'!#REF!=\"\",\"\",'FII-Lançamentos'!#REF!)","v":{"$error":"#REF!"}}]
[{"$f":"IF('FII-Lançamentos'!#REF!=\"\",\"\",'FII-Lançamentos'!#REF!)","v":{"$error":"#REF!"}}]
[{"$f":"IF('FII-Lançamentos'!#REF!=\"\",\"\",'FII-Lançamentos'!#REF!)","v":{"$error":"#REF!"}}]
[{"$f":"IF('FII-Lançamentos'!#REF!=\"\",\"\",'FII-Lançamentos'!#REF!)","v":{"$error":"#REF!"}}]
[{"$f":"IF('FII-Lançamentos'!#REF!=\"\",\"\",'FII-Lançamentos'!#REF!)","v":{"$error":"#REF!"}}]
[{"$f":"IF('FII-Lançamentos'!#REF!=\"\",\"\",'FII-Lançamentos'!#REF!)","v":{"$error":"#REF!"}}]
[{"$f":"IF('FII-Lançamentos'!#REF!=\"\",\"\",'FII-Lançamentos'!#REF!)","v":{"$error":"#REF!"}}]
[{"$f":"IF('FII-Lançamentos'!#REF!=\"\",\"\",'FII-Lançamentos'!#REF!)","v":{"$error":"#REF!"}}]
[{"$f":"IF('FII-Lançamentos'!#REF!=\"\",\"\",'FII-Lançamentos'!#REF!)","v":{"$error":"#REF!"}}]
[{"$f":"IF('FII-Lançamentos'!#REF!=\"\",\"\",'FII-Lançamentos'!#REF!)","v":{"$error":"#REF!"}}]
[{"$f":"IF('FII-Lançamentos'!#REF!=\"\",\"\",'FII-Lançamentos'!#REF!)","v":{"$error":"#REF!"}}]
[{"$f":"IF('FII-Lançamentos'!#REF!=\"\",\"\",'FII-Lançamentos'!#REF!)","v":{"$error":"#REF!"}}]
[{"$f":"IF('FII-Lançamentos'!#REF!=\"\",\"\",'FII-Lançamentos'!#REF!)","v":{"$error":"#REF!"}}]
[{"$f":"IF('FII-Lançamentos'!#REF!=\"\",\"\",'FII-Lançamentos'!#REF!)","v":{"$error":"#REF!"}}]
[{"$f":"IF('FII-Lançamentos'!#REF!=\"\",\"\",'FII-Lançamentos'!#REF!)","v":{"$error":"#REF!"}}]
[{"$f":"IF('FII-Lançamentos'!#REF!=\"\",\"\",'FII-Lançamentos'!#REF!)","v":{"$error":"#REF!"}}]
[{"$f":"IF('FII-Lançamentos'!#REF!=\"\",\"\",'FII-Lançamentos'!#REF!)","v":{"$error":"#REF!"}}]
[{"$f":"IF('FII-Lançamentos'!#REF!=\"\",\"\",'FII-Lançamentos'!#REF!)","v":{"$error":"#REF!"}}]
[{"$f":"IF('FII-Lançamentos'!#REF!=\"\",\"\",'FII-Lançamentos'!#REF!)","v":{"$error":"#REF!"}}]
[{"$f":"IF('FII-Lançamentos'!#REF!=\"\",\"\",'FII-Lançamentos'!#REF!)","v":{"$error":"#REF!"}}]
[{"$f":"IF('FII-Lançamentos'!#REF!=\"\",\"\",'FII-Lançamentos'!#REF!)","v":{"$error":"#REF!"}}]
[{"$f":"IF('FII-Lançamentos'!#REF!=\"\",\"\",'FII-Lançamentos'!#REF!)","v":{"$error":"#REF!"}}]
[{"$f":"IF('FII-Lançamentos'!#REF!=\"\",\"\",'FII-Lançamentos'!#REF!)","v":{"$error":"#REF!"}}]
[{"$f":"IF('FII-Lançamentos'!#REF!=\"\",\"\",'FII-Lançamentos'!#REF!)","v":{"$error":"#REF!"}}]
[{"$f":"IF('FII-Lançamentos'!#REF!=\"\",\"\",'FII-Lançamentos'!#REF!)","v":{"$error":"#REF!"}}]
[{"$f":"IF('FII-Lançamentos'!#REF!=\"\",\"\",'FII-Lançamentos'!#REF!)","v":{"$error":"#REF!"}}]
[{"$f":"IF('FII-Lançamentos'!#REF!=\"\",\"\",'FII-Lançamentos'!#REF!)","v":{"$error":"#REF!"}}]
[{"$f":"IF('FII-Lançamentos'!#REF!=\"\",\"\",'FII-Lançamentos'!#REF!)","v":{"$error":"#REF!"}}]
[{"$f":"IF('FII-Lançamentos'!#REF!=\"\",\"\",'FII-Lançamentos'!#REF!)","v":{"$error":"#REF!"}}]
[{"$f":"IF('FII-Lançamentos'!#REF!=\"\",\"\",'FII-Lançamentos'!#REF!)","v":{"$error":"#REF!"}}]
[{"$f":"IF('FII-Lançamentos'!#REF!=\"\",\"\",'FII-Lançamentos'!#REF!)","v":{"$error":"#REF!"}}]
[{"$f":"IF('FII-Lançamentos'!#REF!=\"\",\"\",'FII-Lançamentos'!#REF!)","v":{"$error":"#REF!"}}]
[{"$f":"IF('FII-Lançamentos'!#REF!=\"\",\"\",'FII-Lançamentos'!#REF!)","v":{"$error":"#REF!"}}]
[{"$f":"IF('FII-Lançamentos'!#REF!=\"\",\"\",'FII-Lançamentos'!#REF!)","v":{"$error":"#REF!"}}]
[{"$f":"IF('FII-Lançamentos'!#REF!=\"\",\"\",'FII-Lançamentos'!#REF!)","v":{"$error":"#REF!"}}]
[{"$f":"IF('FII-Lançamentos'!#REF!=\"\",\"\",'FII-Lançamentos'!#REF!)","v":{"$error":"#REF!"}}]
[{"$f":"IF('FII-Lançamentos'!#REF!=\"\",\"\",'FII-Lançamentos'!#REF!)","v":{"$error":"#REF!"}}]
[{"$f":"IF('FII-Lançamentos'!#REF!=\"\",\"\",'FII-Lançamentos'!#REF!)","v":{"$error":"#REF!"}}]
[{"$f":"IF('FII-Lançamentos'!#REF!=\"\",\"\",'FII-Lançamentos'!#REF!)","v":{"$error":"#REF!"}}]
[{"$f":"IF('FII-Lançamentos'!#REF!=\"\",\"\",'FII-Lançamentos'!#REF!)","v":{"$error":"#REF!"}}]
[{"$f":"IF('FII-Lançamentos'!#REF!=\"\",\"\",'FII-Lançamentos'!#REF!)","v":{"$error":"#REF!"}}]
[{"$f":"IF('FII-Lançamentos'!#REF!=\"\",\"\",'FII-Lançamentos'!#REF!)","v":{"$error":"#REF!"}}]
[{"$f":"IF('FII-Lançamentos'!#REF!=\"\",\"\",'FII-Lançamentos'!#REF!)","v":{"$error":"#REF!"}}]
[{"$f":"IF('FII-Lançamentos'!#REF!=\"\",\"\",'FII-Lançamentos'!#REF!)","v":{"$error":"#REF!"}}]
[{"$f":"IF('FII-Lançamentos'!#REF!=\"\",\"\",'FII-Lançamentos'!#REF!)","v":{"$error":"#REF!"}}]
[{"$f":"IF('FII-Lançamentos'!#REF!=\"\",\"\",'FII-Lançamentos'!#REF!)","v":{"$error":"#REF!"}}]
[{"$f":"IF('FII-Lançamentos'!#REF!=\"\",\"\",'FII-Lançamentos'!#REF!)","v":{"$error":"#REF!"}}]
[{"$f":"IF('FII-Lançamentos'!#REF!=\"\",\"\",'FII-Lançamentos'!#REF!)","v":{"$error":"#REF!"}}]
[{"$f":"IF('FII-Lançamentos'!#REF!=\"\",\"\",'FII-Lançamentos'!#REF!)","v":{"$error":"#REF!"}}]
[{"$f":"IF('FII-Lançamentos'!#REF!=\"\",\"\",'FII-Lançamentos'!#REF!)","v":{"$error":"#REF!"}}]
[{"$f":"IF('FII-Lançamentos'!#REF!=\"\",\"\",'FII-Lançamentos'!#REF!)","v":{"$error":"#REF!"}}]
[{"$f":"IF('FII-Lançamentos'!#REF!=\"\",\"\",'FII-Lançamentos'!#REF!)","v":{"$error":"#REF!"}}]
[{"$f":"IF('FII-Lançamentos'!#REF!=\"\",\"\",'FII-Lançamentos'!#REF!)","v":{"$error":"#REF!"}}]
[{"$f":"IF('FII-Lançamentos'!#REF!=\"\",\"\",'FII-Lançamentos'!#REF!)","v":{"$error":"#REF!"}}]
[{"$f":"IF('FII-Lançamentos'!#REF!=\"\",\"\",'FII-Lançamentos'!#REF!)","v":{"$error":"#REF!"}}]
[{"$f":"IF('FII-Lançamentos'!#REF!=\"\",\"\",'FII-Lançamentos'!#REF!)","v":{"$error":"#REF!"}}]
[{"$f":"IF('FII-Lançamentos'!#REF!=\"\",\"\",'FII-Lançamentos'!#REF!)","v":{"$error":"#REF!"}}]
[{"$f":"IF('FII-Lançamentos'!#REF!=\"\",\"\",'FII-Lançamentos'!#REF!)","v":{"$error":"#REF!"}}]
[{"$f":"IF('FII-Lançamentos'!#REF!=\"\",\"\",'FII-Lançamentos'!#REF!)","v":{"$error":"#REF!"}}]
[{"$f":"IF('FII-Lançamentos'!#REF!=\"\",\"\",'FII-Lançamentos'!#REF!)","v":{"$error":"#REF!"}}]
[{"$f":"IF('FII-Lançamentos'!#REF!=\"\",\"\",'FII-Lançamentos'!#REF!)","v":{"$error":"#REF!"}}]
[{"$f":"IF('FII-Lançamentos'!#REF!=\"\",\"\",'FII-Lançamentos'!#REF!)","v":{"$error":"#REF!"}}]
[{"$f":"IF('FII-Lançamentos'!#REF!=\"\",\"\",'FII-Lançamentos'!#REF!)","v":{"$error":"#REF!"}}]
[{"$f":"IF('FII-Lançamentos'!#REF!=\"\",\"\",'FII-Lançamentos'!#REF!)","v":{"$error":"#REF!"}}]
[{"$f":"IF('FII-Lançamentos'!#REF!=\"\",\"\",'FII-Lançamentos'!#REF!)","v":{"$error":"#REF!"}}]
[{"$f":"IF('FII-Lançamentos'!#REF!=\"\",\"\",'FII-Lançamentos'!#REF!)","v":{"$error":"#REF!"}}]
[{"$f":"IF('FII-Lançamentos'!#REF!=\"\",\"\",'FII-Lançamentos'!#REF!)","v":{"$error":"#REF!"}}]
[{"$f":"IF('FII-Lançamentos'!#REF!=\"\",\"\",'FII-Lançamentos'!#REF!)","v":{"$error":"#REF!"}}]
[{"$f":"IF('FII-Lançamentos'!#REF!=\"\",\"\",'FII-Lançamentos'!#REF!)","v":{"$error":"#REF!"}}]
[{"$f":"IF('FII-Lançamentos'!#REF!=\"\",\"\",'FII-Lançamentos'!#REF!)","v":{"$error":"#REF!"}}]
[{"$f":"IF('FII-Lançamentos'!#REF!=\"\",\"\",'FII-Lançamentos'!#REF!)","v":{"$error":"#REF!"}}]
[{"$f":"IF('FII-Lançamentos'!#REF!=\"\",\"\",'FII-Lançamentos'!#REF!)","v":{"$error":"#REF!"}}]
[{"$f":"IF('FII-Lançamentos'!#REF!=\"\",\"\",'FII-Lançamentos'!#REF!)","v":{"$error":"#REF!"}}]
[{"$f":"IF('FII-Lançamentos'!#REF!=\"\",\"\",'FII-Lançamentos'!#REF!)","v":{"$error":"#REF!"}}]
[{"$f":"IF('FII-Lançamentos'!#REF!=\"\",\"\",'FII-Lançamentos'!#REF!)","v":{"$error":"#REF!"}}]
[{"$f":"IF('FII-Lançamentos'!#REF!=\"\",\"\",'FII-Lançamentos'!#REF!)","v":{"$error":"#REF!"}}]
[{"$f":"IF('FII-Lançamentos'!#REF!=\"\",\"\",'FII-Lançamentos'!#REF!)","v":{"$error":"#REF!"}}]
[{"$f":"IF('FII-Lançamentos'!#REF!=\"\",\"\",'FII-Lançamentos'!#REF!)","v":{"$error":"#REF!"}}]
[{"$f":"IF('FII-Lançamentos'!#REF!=\"\",\"\",'FII-Lançamentos'!#REF!)","v":{"$error":"#REF!"}}]
[{"$f":"IF('FII-Lançamentos'!#REF!=\"\",\"\",'FII-Lançamentos'!#REF!)","v":{"$error":"#REF!"}}]
[{"$f":"IF('FII-Lançamentos'!#REF!=\"\",\"\",'FII-Lançamentos'!#REF!)","v":{"$error":"#REF!"}}]
[{"$f":"IF('FII-Lançamentos'!#REF!=\"\",\"\",'FII-Lançamentos'!#REF!)","v":{"$error":"#REF!"}}]
[{"$f":"IF('FII-Lançamentos'!#REF!=\"\",\"\",'FII-Lançamentos'!#REF!)","v":{"$error":"#REF!"}}]
[{"$f":"IF('FII-Lançamentos'!#REF!=\"\",\"\",'FII-Lançamentos'!#REF!)","v":{"$error":"#REF!"}}]
[{"$f":"IF('FII-Lançamentos'!#REF!=\"\",\"\",'FII-Lançamentos'!#REF!)","v":{"$error":"#REF!"}}]
[{"$f":"IF('FII-Lançamentos'!#REF!=\"\",\"\",'FII-Lançamentos'!#REF!)","v":{"$error":"#REF!"}}]
[{"$f":"IF('FII-Lançamentos'!#REF!=\"\",\"\",'FII-Lançamentos'!#REF!)","v":{"$error":"#REF!"}}]
[{"$f":"IF('FII-Lançamentos'!#REF!=\"\",\"\",'FII-Lançamentos'!#REF!)","v":{"$error":"#REF!"}}]
[{"$f":"IF('FII-Lançamentos'!#REF!=\"\",\"\",'FII-Lançamentos'!#REF!)","v":{"$error":"#REF!"}}]
[{"$f":"IF('FII-Lançamentos'!#REF!=\"\",\"\",'FII-Lançamentos'!#REF!)","v":{"$error":"#REF!"}}]
[{"$f":"IF('FII-Lançamentos'!#REF!=\"\",\"\",'FII-Lançamentos'!#REF!)","v":{"$error":"#REF!"}}]
[{"$f":"IF('FII-Lançamentos'!#REF!=\"\",\"\",'FII-Lançamentos'!#REF!)","v":{"$error":"#REF!"}}]
[{"$f":"IF('FII-Lançamentos'!#REF!=\"\",\"\",'FII-Lançamentos'!#REF!)","v":{"$error":"#REF!"}}]
[{"$f":"IF('FII-Lançamentos'!#REF!=\"\",\"\",'FII-Lançamentos'!#REF!)","v":{"$error":"#REF!"}}]
[{"$f":"IF('FII-Lançamentos'!#REF!=\"\",\"\",'FII-Lançamentos'!#REF!)","v":{"$error":"#REF!"}}]
[{"$f":"IF('FII-Lançamentos'!#REF!=\"\",\"\",'FII-Lançamentos'!#REF!)","v":{"$error":"#REF!"}}]
[{"$f":"IF('FII-Lançamentos'!#REF!=\"\",\"\",'FII-Lançamentos'!#REF!)","v":{"$error":"#REF!"}}]
[{"$f":"IF('FII-Lançamentos'!#REF!=\"\",\"\",'FII-Lançamentos'!#REF!)","v":{"$error":"#REF!"}}]
[{"$f":"IF('FII-Lançamentos'!#REF!=\"\",\"\",'FII-Lançamentos'!#REF!)","v":{"$error":"#REF!"}}]
[{"$f":"IF('FII-Lançamentos'!#REF!=\"\",\"\",'FII-Lançamentos'!#REF!)","v":{"$error":"#REF!"}}]
[{"$f":"IF('FII-Lançamentos'!#REF!=\"\",\"\",'FII-Lançamentos'!#REF!)","v":{"$error":"#REF!"}}]
[{"$f":"IF('FII-Lançamentos'!#REF!=\"\",\"\",'FII-Lançamentos'!#REF!)","v":{"$error":"#REF!"}}]
[{"$f":"IF('FII-Lançamentos'!#REF!=\"\",\"\",'FII-Lançamentos'!#REF!)","v":{"$error":"#REF!"}}]
[{"$f":"IF('FII-Lançamentos'!#REF!=\"\",\"\",'FII-Lançamentos'!#REF!)","v":{"$error":"#REF!"}}]
[{"$f":"IF('FII-Lançamentos'!#REF!=\"\",\"\",'FII-Lançamentos'!#REF!)","v":{"$error":"#REF!"}}]
[{"$f":"IF('FII-Lançamentos'!#REF!=\"\",\"\",'FII-Lançamentos'!#REF!)","v":{"$error":"#REF!"}}]
[{"$f":"IF('FII-Lançamentos'!#REF!=\"\",\"\",'FII-Lançamentos'!#REF!)","v":{"$error":"#REF!"}}]
[{"$f":"IF('FII-Lançamentos'!#REF!=\"\",\"\",'FII-Lançamentos'!#REF!)","v":{"$error":"#REF!"}}]
[{"$f":"IF('FII-Lançamentos'!#REF!=\"\",\"\",'FII-Lançamentos'!#REF!)","v":{"$error":"#REF!"}}]
[{"$f":"IF('FII-Lançamentos'!#REF!=\"\",\"\",'FII-Lançamentos'!#REF!)","v":{"$error":"#REF!"}}]
[{"$f":"IF('FII-Lançamentos'!#REF!=\"\",\"\",'FII-Lançamentos'!#REF!)","v":{"$error":"#REF!"}}]
[{"$f":"IF('FII-Lançamentos'!#REF!=\"\",\"\",'FII-Lançamentos'!#REF!)","v":{"$error":"#REF!"}}]
[{"$f":"IF('FII-Lançamentos'!#REF!=\"\",\"\",'FII-Lançamentos'!#REF!)","v":{"$error":"#REF!"}}]
[{"$f":"IF('FII-Lançamentos'!#REF!=\"\",\"\",'FII-Lançamentos'!#REF!)","v":{"$error":"#REF!"}}]
[{"$f":"IF('FII-Lançamentos'!#REF!=\"\",\"\",'FII-Lançamentos'!#REF!)","v":{"$error":"#REF!"}}]
[{"$f":"IF('FII-Lançamentos'!#REF!=\"\",\"\",'FII-Lançamentos'!#REF!)","v":{"$error":"#REF!"}}]
[{"$f":"IF('FII-Lançamentos'!#REF!=\"\",\"\",'FII-Lançamentos'!#REF!)","v":{"$error":"#REF!"}}]
[{"$f":"IF('FII-Lançamentos'!#REF!=\"\",\"\",'FII-Lançamentos'!#REF!)","v":{"$error":"#REF!"}}]
[{"$f":"IF('FII-Lançamentos'!#REF!=\"\",\"\",'FII-Lançamentos'!#REF!)","v":{"$error":"#REF!"}}]
[{"$f":"IF('FII-Lançamentos'!#REF!=\"\",\"\",'FII-Lançamentos'!#REF!)","v":{"$error":"#REF!"}}]
[{"$f":"IF('FII-Lançamentos'!#REF!=\"\",\"\",'FII-Lançamentos'!#REF!)","v":{"$error":"#REF!"}}]
[{"$f":"IF('FII-Lançamentos'!#REF!=\"\",\"\",'FII-Lançamentos'!#REF!)","v":{"$error":"#REF!"}}]
[{"$f":"IF('FII-Lançamentos'!#REF!=\"\",\"\",'FII-Lançamentos'!#REF!)","v":{"$error":"#REF!"}}]
[{"$f":"IF('FII-Lançamentos'!#REF!=\"\",\"\",'FII-Lançamentos'!#REF!)","v":{"$error":"#REF!"}}]
[{"$f":"IF('FII-Lançamentos'!#REF!=\"\",\"\",'FII-Lançamentos'!#REF!)","v":{"$error":"#REF!"}}]
[{"$f":"IF('FII-Lançamentos'!#REF!=\"\",\"\",'FII-Lançamentos'!#REF!)","v":{"$error":"#REF!"}}]
[{"$f":"IF('FII-Lançamentos'!#REF!=\"\",\"\",'FII-Lançamentos'!#REF!)","v":{"$error":"#REF!"}}]
[{"$f":"IF('FII-Lançamentos'!#REF!=\"\",\"\",'FII-Lançamentos'!#REF!)","v":{"$error":"#REF!"}}]
[{"$f":"IF('FII-Lançamentos'!#REF!=\"\",\"\",'FII-Lançamentos'!#REF!)","v":{"$error":"#REF!"}}]
[{"$f":"IF('FII-Lançamentos'!#REF!=\"\",\"\",'FII-Lançamentos'!#REF!)","v":{"$error":"#REF!"}}]
[{"$f":"IF('FII-Lançamentos'!#REF!=\"\",\"\",'FII-Lançamentos'!#REF!)","v":{"$error":"#REF!"}}]
[{"$f":"IF('FII-Lançamentos'!#REF!=\"\",\"\",'FII-Lançamentos'!#REF!)","v":{"$error":"#REF!"}}]
[{"$f":"IF('FII-Lançamentos'!#REF!=\"\",\"\",'FII-Lançamentos'!#REF!)","v":{"$error":"#REF!"}}]
[{"$f":"IF('FII-Lançamentos'!#REF!=\"\",\"\",'FII-Lançamentos'!#REF!)","v":{"$error":"#REF!"}}]
[{"$f":"IF('FII-Lançamentos'!#REF!=\"\",\"\",'FII-Lançamentos'!#REF!)","v":{"$error":"#REF!"}}]
[{"$f":"IF('FII-Lançamentos'!#REF!=\"\",\"\",'FII-Lançamentos'!#REF!)","v":{"$error":"#REF!"}}]
[{"$f":"IF('FII-Lançamentos'!#REF!=\"\",\"\",'FII-Lançamentos'!#REF!)","v":{"$error":"#REF!"}}]
[{"$f":"IF('FII-Lançamentos'!#REF!=\"\",\"\",'FII-Lançamentos'!#REF!)","v":{"$error":"#REF!"}}]
[{"$f":"IF('FII-Lançamentos'!#REF!=\"\",\"\",'FII-Lançamentos'!#REF!)","v":{"$error":"#REF!"}}]
[{"$f":"IF('FII-Lançamentos'!#REF!=\"\",\"\",'FII-Lançamentos'!#REF!)","v":{"$error":"#REF!"}}]
[{"$f":"IF('FII-Lançamentos'!#REF!=\"\",\"\",'FII-Lançamentos'!#REF!)","v":{"$error":"#REF!"}}]
[{"$f":"IF('FII-Lançamentos'!#REF!=\"\",\"\",'FII-Lançamentos'!#REF!)","v":{"$error":"#REF!"}}]
[{"$f":"IF('FII-Lançamentos'!#REF!=\"\",\"\",'FII-Lançamentos'!#REF!)","v":{"$error":"#REF!"}}]
[{"$f":"IF('FII-Lançamentos'!#REF!=\"\",\"\",'FII-Lançamentos'!#REF!)","v":{"$error":"#REF!"}}]
[{"$f":"IF('FII-Lançamentos'!#REF!=\"\",\"\",'FII-Lançamentos'!#REF!)","v":{"$error":"#REF!"}}]
[{"$f":"IF('FII-Lançamentos'!#REF!=\"\",\"\",'FII-Lançamentos'!#REF!)","v":{"$error":"#REF!"}}]
[{"$f":"IF('FII-Lançamentos'!#REF!=\"\",\"\",'FII-Lançamentos'!#REF!)","v":{"$error":"#REF!"}}]
[{"$f":"IF('FII-Lançamentos'!#REF!=\"\",\"\",'FII-Lançamentos'!#REF!)","v":{"$error":"#REF!"}}]
[{"$f":"IF('FII-Lançamentos'!#REF!=\"\",\"\",'FII-Lançamentos'!#REF!)","v":{"$error":"#REF!"}}]
[{"$f":"IF('FII-Lançamentos'!#REF!=\"\",\"\",'FII-Lançamentos'!#REF!)","v":{"$error":"#REF!"}}]
[{"$f":"IF('FII-Lançamentos'!#REF!=\"\",\"\",'FII-Lançamentos'!#REF!)","v":{"$error":"#REF!"}}]
[{"$f":"IF('FII-Lançamentos'!#REF!=\"\",\"\",'FII-Lançamentos'!#REF!)","v":{"$error":"#REF!"}}]
[{"$f":"IF('FII-Lançamentos'!#REF!=\"\",\"\",'FII-Lançamentos'!#REF!)","v":{"$error":"#REF!"}}]
[{"$f":"IF('FII-Lançamentos'!#REF!=\"\",\"\",'FII-Lançamentos'!#REF!)","v":{"$error":"#REF!"}}]
[{"$f":"IF('FII-Lançamentos'!#REF!=\"\",\"\",'FII-Lançamentos'!#REF!)","v":{"$error":"#REF!"}}]
[{"$f":"IF('FII-Lançamentos'!#REF!=\"\",\"\",'FII-Lançamentos'!#REF!)","v":{"$error":"#REF!"}}]
[{"$f":"IF('FII-Lançamentos'!#REF!=\"\",\"\",'FII-Lançamentos'!#REF!)","v":{"$error":"#REF!"}}]
[{"$f":"IF('FII-Lançamentos'!#REF!=\"\",\"\",'FII-Lançamentos'!#REF!)","v":{"$error":"#REF!"}}]
[{"$f":"IF('FII-Lançamentos'!#REF!=\"\",\"\",'FII-Lançamentos'!#REF!)","v":{"$error":"#REF!"}}]
[{"$f":"IF('FII-Lançamentos'!#REF!=\"\",\"\",'FII-Lançamentos'!#REF!)","v":{"$error":"#REF!"}}]
[{"$f":"IF('FII-Lançamentos'!#REF!=\"\",\"\",'FII-Lançamentos'!#REF!)","v":{"$error":"#REF!"}}]
[{"$f":"IF('FII-Lançamentos'!#REF!=\"\",\"\",'FII-Lançamentos'!#REF!)","v":{"$error":"#REF!"}}]
[{"$f":"IF('FII-Lançamentos'!#REF!=\"\",\"\",'FII-Lançamentos'!#REF!)","v":{"$error":"#REF!"}}]
[{"$f":"IF('FII-Lançamentos'!#REF!=\"\",\"\",'FII-Lançamentos'!#REF!)","v":{"$error":"#REF!"}}]
[{"$f":"IF('FII-Lançamentos'!#REF!=\"\",\"\",'FII-Lançamentos'!#REF!)","v":{"$error":"#REF!"}}]
[{"$f":"IF('FII-Lançamentos'!#REF!=\"\",\"\",'FII-Lançamentos'!#REF!)","v":{"$error":"#REF!"}}]
[{"$f":"IF('FII-Lançamentos'!#REF!=\"\",\"\",'FII-Lançamentos'!#REF!)","v":{"$error":"#REF!"}}]
[{"$f":"IF('FII-Lançamentos'!#REF!=\"\",\"\",'FII-Lançamentos'!#REF!)","v":{"$error":"#REF!"}}]
[{"$f":"IF('FII-Lançamentos'!#REF!=\"\",\"\",'FII-Lançamentos'!#REF!)","v":{"$error":"#REF!"}}]
[{"$f":"IF('FII-Lançamentos'!#REF!=\"\",\"\",'FII-Lançamentos'!#REF!)","v":{"$error":"#REF!"}}]
[{"$f":"IF('FII-Lançamentos'!#REF!=\"\",\"\",'FII-Lançamentos'!#REF!)","v":{"$error":"#REF!"}}]
[{"$f":"IF('FII-Lançamentos'!#REF!=\"\",\"\",'FII-Lançamentos'!#REF!)","v":{"$error":"#REF!"}}]
[{"$f":"IF('FII-Lançamentos'!#REF!=\"\",\"\",'FII-Lançamentos'!#REF!)","v":{"$error":"#REF!"}}]
[{"$f":"IF('FII-Lançamentos'!#REF!=\"\",\"\",'FII-Lançamentos'!#REF!)","v":{"$error":"#REF!"}}]
[{"$f":"IF('FII-Lançamentos'!#REF!=\"\",\"\",'FII-Lançamentos'!#REF!)","v":{"$error":"#REF!"}}]
[{"$f":"IF('FII-Lançamentos'!#REF!=\"\",\"\",'FII-Lançamentos'!#REF!)","v":{"$error":"#REF!"}}]
[{"$f":"IF('FII-Lançamentos'!#REF!=\"\",\"\",'FII-Lançamentos'!#REF!)","v":{"$error":"#REF!"}}]
[{"$f":"IF('FII-Lançamentos'!#REF!=\"\",\"\",'FII-Lançamentos'!#REF!)","v":{"$error":"#REF!"}}]
[{"$f":"IF('FII-Lançamentos'!#REF!=\"\",\"\",'FII-Lançamentos'!#REF!)","v":{"$error":"#REF!"}}]
[{"$f":"IF('FII-Lançamentos'!#REF!=\"\",\"\",'FII-Lançamentos'!#REF!)","v":{"$error":"#REF!"}}]
[{"$f":"IF('FII-Lançamentos'!#REF!=\"\",\"\",'FII-Lançamentos'!#REF!)","v":{"$error":"#REF!"}}]
[{"$f":"IF('FII-Lançamentos'!#REF!=\"\",\"\",'FII-Lançamentos'!#REF!)","v":{"$error":"#REF!"}}]
[{"$f":"IF('FII-Lançamentos'!#REF!=\"\",\"\",'FII-Lançamentos'!#REF!)","v":{"$error":"#REF!"}}]
[{"$f":"IF('FII-Lançamentos'!#REF!=\"\",\"\",'FII-Lançamentos'!#REF!)","v":{"$error":"#REF!"}}]
[{"$f":"IF('FII-Lançamentos'!#REF!=\"\",\"\",'FII-Lançamentos'!#REF!)","v":{"$error":"#REF!"}}]
[{"$f":"IF('FII-Lançamentos'!#REF!=\"\",\"\",'FII-Lançamentos'!#REF!)","v":{"$error":"#REF!"}}]
[{"$f":"IF('FII-Lançamentos'!#REF!=\"\",\"\",'FII-Lançamentos'!#REF!)","v":{"$error":"#REF!"}}]
[{"$f":"IF('FII-Lançamentos'!#REF!=\"\",\"\",'FII-Lançamentos'!#REF!)","v":{"$error":"#REF!"}}]
[{"$f":"IF('FII-Lançamentos'!#REF!=\"\",\"\",'FII-Lançamentos'!#REF!)","v":{"$error":"#REF!"}}]
[{"$f":"IF('FII-Lançamentos'!#REF!=\"\",\"\",'FII-Lançamentos'!#REF!)","v":{"$error":"#REF!"}}]
[{"$f":"IF('FII-Lançamentos'!#REF!=\"\",\"\",'FII-Lançamentos'!#REF!)","v":{"$error":"#REF!"}}]
[{"$f":"IF('FII-Lançamentos'!#REF!=\"\",\"\",'FII-Lançamentos'!#REF!)","v":{"$error":"#REF!"}}]
[{"$f":"IF('FII-Lançamentos'!#REF!=\"\",\"\",'FII-Lançamentos'!#REF!)","v":{"$error":"#REF!"}}]
[{"$f":"IF('FII-Lançamentos'!#REF!=\"\",\"\",'FII-Lançamentos'!#REF!)","v":{"$error":"#REF!"}}]
[{"$f":"IF('FII-Lançamentos'!#REF!=\"\",\"\",'FII-Lançamentos'!#REF!)","v":{"$error":"#REF!"}}]
[{"$f":"IF('FII-Lançamentos'!#REF!=\"\",\"\",'FII-Lançamentos'!#REF!)","v":{"$error":"#REF!"}}]
[{"$f":"IF('FII-Lançamentos'!#REF!=\"\",\"\",'FII-Lançamentos'!#REF!)","v":{"$error":"#REF!"}}]
[{"$f":"IF('FII-Lançamentos'!#REF!=\"\",\"\",'FII-Lançamentos'!#REF!)","v":{"$error":"#REF!"}}]
[{"$f":"IF('FII-Lançamentos'!#REF!=\"\",\"\",'FII-Lançamentos'!#REF!)","v":{"$error":"#REF!"}}]
[{"$f":"IF('FII-Lançamentos'!#REF!=\"\",\"\",'FII-Lançamentos'!#REF!)","v":{"$error":"#REF!"}}]
[{"$f":"IF('FII-Lançamentos'!#REF!=\"\",\"\",'FII-Lançamentos'!#REF!)","v":{"$error":"#REF!"}}]
[{"$f":"IF('FII-Lançamentos'!#REF!=\"\",\"\",'FII-Lançamentos'!#REF!)","v":{"$error":"#REF!"}}]
[{"$f":"IF('FII-Lançamentos'!#REF!=\"\",\"\",'FII-Lançamentos'!#REF!)","v":{"$error":"#REF!"}}]
[{"$f":"IF('FII-Lançamentos'!#REF!=\"\",\"\",'FII-Lançamentos'!#REF!)","v":{"$error":"#REF!"}}]
[{"$f":"IF('FII-Lançamentos'!#REF!=\"\",\"\",'FII-Lançamentos'!#REF!)","v":{"$error":"#REF!"}}]
[{"$f":"IF('FII-Lançamentos'!#REF!=\"\",\"\",'FII-Lançamentos'!#REF!)","v":{"$error":"#REF!"}}]
[{"$f":"IF('FII-Lançamentos'!#REF!=\"\",\"\",'FII-Lançamentos'!#REF!)","v":{"$error":"#REF!"}}]
[{"$f":"IF('FII-Lançamentos'!#REF!=\"\",\"\",'FII-Lançamentos'!#REF!)","v":{"$error":"#REF!"}}]
[{"$f":"IF('FII-Lançamentos'!#REF!=\"\",\"\",'FII-Lançamentos'!#REF!)","v":{"$error":"#REF!"}}]
[{"$f":"IF('FII-Lançamentos'!#REF!=\"\",\"\",'FII-Lançamentos'!#REF!)","v":{"$error":"#REF!"}}]
[{"$f":"IF('FII-Lançamentos'!#REF!=\"\",\"\",'FII-Lançamentos'!#REF!)","v":{"$error":"#REF!"}}]
[{"$f":"IF('FII-Lançamentos'!#REF!=\"\",\"\",'FII-Lançamentos'!#REF!)","v":{"$error":"#REF!"}}]
[{"$f":"IF('FII-Lançamentos'!#REF!=\"\",\"\",'FII-Lançamentos'!#REF!)","v":{"$error":"#REF!"}}]
[{"$f":"IF('FII-Lançamentos'!#REF!=\"\",\"\",'FII-Lançamentos'!#REF!)","v":{"$error":"#REF!"}}]
[{"$f":"IF('FII-Lançamentos'!#REF!=\"\",\"\",'FII-Lançamentos'!#REF!)","v":{"$error":"#REF!"}}]
[{"$f":"IF('FII-Lançamentos'!#REF!=\"\",\"\",'FII-Lançamentos'!#REF!)","v":{"$error":"#REF!"}}]
[{"$f":"IF('FII-Lançamentos'!#REF!=\"\",\"\",'FII-Lançamentos'!#REF!)","v":{"$error":"#REF!"}}]
[{"$f":"IF('FII-Lançamentos'!#REF!=\"\",\"\",'FII-Lançamentos'!#REF!)","v":{"$error":"#REF!"}}]
[{"$f":"IF('FII-Lançamentos'!#REF!=\"\",\"\",'FII-Lançamentos'!#REF!)","v":{"$error":"#REF!"}}]
[{"$f":"IF('FII-Lançamentos'!#REF!=\"\",\"\",'FII-Lançamentos'!#REF!)","v":{"$error":"#REF!"}}]
[{"$f":"IF('FII-Lançamentos'!#REF!=\"\",\"\",'FII-Lançamentos'!#REF!)","v":{"$error":"#REF!"}}]
[{"$f":"IF('FII-Lançamentos'!#REF!=\"\",\"\",'FII-Lançamentos'!#REF!)","v":{"$error":"#REF!"}}]
[{"$f":"IF('FII-Lançamentos'!#REF!=\"\",\"\",'FII-Lançamentos'!#REF!)","v":{"$error":"#REF!"}}]
[{"$f":"IF('FII-Lançamentos'!#REF!=\"\",\"\",'FII-Lançamentos'!#REF!)","v":{"$error":"#REF!"}}]
[{"$f":"IF('FII-Lançamentos'!#REF!=\"\",\"\",'FII-Lançamentos'!#REF!)","v":{"$error":"#REF!"}}]
[{"$f":"IF('FII-Lançamentos'!#REF!=\"\",\"\",'FII-Lançamentos'!#REF!)","v":{"$error":"#REF!"}}]
[{"$f":"IF('FII-Lançamentos'!#REF!=\"\",\"\",'FII-Lançamentos'!#REF!)","v":{"$error":"#REF!"}}]
[{"$f":"IF('FII-Lançamentos'!#REF!=\"\",\"\",'FII-Lançamentos'!#REF!)","v":{"$error":"#REF!"}}]
[{"$f":"IF('FII-Lançamentos'!#REF!=\"\",\"\",'FII-Lançamentos'!#REF!)","v":{"$error":"#REF!"}}]
[{"$f":"IF('FII-Lançamentos'!#REF!=\"\",\"\",'FII-Lançamentos'!#REF!)","v":{"$error":"#REF!"}}]
[{"$f":"IF('FII-Lançamentos'!#REF!=\"\",\"\",'FII-Lançamentos'!#REF!)","v":{"$error":"#REF!"}}]
[{"$f":"IF('FII-Lançamentos'!#REF!=\"\",\"\",'FII-Lançamentos'!#REF!)","v":{"$error":"#REF!"}}]
[{"$f":"IF('FII-Lançamentos'!#REF!=\"\",\"\",'FII-Lançamentos'!#REF!)","v":{"$error":"#REF!"}}]
[{"$f":"IF('FII-Lançamentos'!#REF!=\"\",\"\",'FII-Lançamentos'!#REF!)","v":{"$error":"#REF!"}}]
[{"$f":"IF('FII-Lançamentos'!#REF!=\"\",\"\",'FII-Lançamentos'!#REF!)","v":{"$error":"#REF!"}}]
[{"$f":"IF('FII-Lançamentos'!#REF!=\"\",\"\",'FII-Lançamentos'!#REF!)","v":{"$error":"#REF!"}}]
[{"$f":"IF('FII-Lançamentos'!#REF!=\"\",\"\",'FII-Lançamentos'!#REF!)","v":{"$error":"#REF!"}}]
[{"$f":"IF('FII-Lançamentos'!#REF!=\"\",\"\",'FII-Lançamentos'!#REF!)","v":{"$error":"#REF!"}}]
[{"$f":"IF('FII-Lançamentos'!#REF!=\"\",\"\",'FII-Lançamentos'!#REF!)","v":{"$error":"#REF!"}}]
[{"$f":"IF('FII-Lançamentos'!#REF!=\"\",\"\",'FII-Lançamentos'!#REF!)","v":{"$error":"#REF!"}}]
[{"$f":"IF('FII-Lançamentos'!#REF!=\"\",\"\",'FII-Lançamentos'!#REF!)","v":{"$error":"#REF!"}}]
[{"$f":"IF('FII-Lançamentos'!#REF!=\"\",\"\",'FII-Lançamentos'!#REF!)","v":{"$error":"#REF!"}}]
[{"$f":"IF('FII-Lançamentos'!#REF!=\"\",\"\",'FII-Lançamentos'!#REF!)","v":{"$error":"#REF!"}}]
[{"$f":"IF('FII-Lançamentos'!#REF!=\"\",\"\",'FII-Lançamentos'!#REF!)","v":{"$error":"#REF!"}}]
[{"$f":"IF('FII-Lançamentos'!#REF!=\"\",\"\",'FII-Lançamentos'!#REF!)","v":{"$error":"#REF!"}}]
[{"$f":"IF('FII-Lançamentos'!#REF!=\"\",\"\",'FII-Lançamentos'!#REF!)","v":{"$error":"#REF!"}}]
[{"$f":"IF('FII-Lançamentos'!#REF!=\"\",\"\",'FII-Lançamentos'!#REF!)","v":{"$error":"#REF!"}}]
[{"$f":"IF('FII-Lançamentos'!#REF!=\"\",\"\",'FII-Lançamentos'!#REF!)","v":{"$error":"#REF!"}}]
[{"$f":"IF('FII-Lançamentos'!#REF!=\"\",\"\",'FII-Lançamentos'!#REF!)","v":{"$error":"#REF!"}}]
[{"$f":"IF('FII-Lançamentos'!#REF!=\"\",\"\",'FII-Lançamentos'!#REF!)","v":{"$error":"#REF!"}}]
[{"$f":"IF('FII-Lançamentos'!#REF!=\"\",\"\",'FII-Lançamentos'!#REF!)","v":{"$error":"#REF!"}}]
[{"$f":"IF('FII-Lançamentos'!#REF!=\"\",\"\",'FII-Lançamentos'!#REF!)","v":{"$error":"#REF!"}}]
[{"$f":"IF('FII-Lançamentos'!#REF!=\"\",\"\",'FII-Lançamentos'!#REF!)","v":{"$error":"#REF!"}}]
[{"$f":"IF('FII-Lançamentos'!#REF!=\"\",\"\",'FII-Lançamentos'!#REF!)","v":{"$error":"#REF!"}}]
[{"$f":"IF('FII-Lançamentos'!#REF!=\"\",\"\",'FII-Lançamentos'!#REF!)","v":{"$error":"#REF!"}}]
[{"$f":"IF('FII-Lançamentos'!#REF!=\"\",\"\",'FII-Lançamentos'!#REF!)","v":{"$error":"#REF!"}}]
[{"$f":"IF('FII-Lançamentos'!#REF!=\"\",\"\",'FII-Lançamentos'!#REF!)","v":{"$error":"#REF!"}}]
[{"$f":"IF('FII-Lançamentos'!#REF!=\"\",\"\",'FII-Lançamentos'!#REF!)","v":{"$error":"#REF!"}}]
[{"$f":"IF('FII-Lançamentos'!#REF!=\"\",\"\",'FII-Lançamentos'!#REF!)","v":{"$error":"#REF!"}}]
[{"$f":"IF('FII-Lançamentos'!#REF!=\"\",\"\",'FII-Lançamentos'!#REF!)","v":{"$error":"#REF!"}}]

{"sheet":"FII-Recebidos","index":6,"n_rows":1,"n_cols":5,"rows_kept":1,"cut":false,"hidden":false,"merged":[]}
["DATA","TIPO","VALOR","FII","IRRF"]

{"sheet":"TD-Lançamentos","index":7,"n_rows":1,"n_cols":13,"rows_kept":1,"cut":false,"hidden":false,"merged":[]}
["DATA","C/V","QTD","PAPEL","PREÇO","VENCIMENTO","CORRETAGEM","TAXA","IRRF","TOTAL","ÍNDICE","\"+/x\"","%"]

{"sheet":"TD-Custódia","index":8,"n_rows":697,"n_cols":24,"rows_kept":697,"cut":false,"hidden":false,"merged":[[14,18,14,20],[0,0,0,1],[16,18,16,20],[8,18,8,20],[9,18,9,20],[10,18,10,20],[11,18,11,20],[12,18,12,20],[13,18,13,20],[0,3,0,5],[0,7,0,9],[0,11,0,12],[0,14,0,15],[0,18,0,20],[7,18,7,20]]}
["TÍTULO",null,null,"VALORES APLICADOS",null,null,null,"VALORES ATUAIS",null,null,null,"OBJETIVO",null,null,"RESULTADO",null,null,null,"COMPRAR MAIS"]
["TÍTULO","VENCIMENTO",null,"QUANTIDADE","R$","%",null,"COTAÇÃO","R$","%",null,"% ATUAL","DIFERENÇA",null,"R$","%",null,null,"PRIORIDADE","TÍTULO","DIFERENCIAL"]
["(vazio)",{"$f":"IF(A3=\"\",\"\",RIGHT(A3,10))","v":"(vazio)"},{"$f":"IF(OR(A3=\"\",A3=\"(vazio)\"),\"\",LEFT(A3,LEN(A3)-11))","v":""},{"$f":"SUMIFS('TD-Lançamentos'!C:C,'TD-Lançamentos'!D:D,A3,'TD-Lançamentos'!B:B,\"c\")-SUMIFS('TD-Lançamentos'!C:C,'TD-Lançamentos'!D:D,A3,'TD-Lançamentos'!B:B,\"v\")","v":0},{"$f":"IF(D3=0,0,SUMIFS('TD-Lançamentos'!J:J,'TD-Lançamentos'!D:D,A3,'TD-Lançamentos'!B:B,\"c\")-SUMIFS('TD-Lançamentos'!J:J,'TD-Lançamentos'!D:D,A3,'TD-Lançamentos'!B:B,\"v\"))","v":0},{"$f":"IF(OR(E3=0,$S$9=0),0,E3/$S$9)","v":0},null,{"$f":"IF(OR(A3=\"\",A3=\"(vazio)\"),\"\",tesourodireto(CONCATENATE(LEFT(A3,LEN(A3)-11),\" \",RIGHT(B3,4)),\"preço\"))","v":""},{"$f":"IF(D3=\"\",0,IF(H3=\"\",E3,D3*H3))","v":0},{"$f":"IF($S$11=0,0,I3/$S$11)","v":0},"(LTN)",null,{"$f":"IF(OR(L3=\"\",J3=\"\",F3=\"\"),0,IF($L$2=\"% ATUAL\",L3-J3,L3-F3))","v":0},"Tesouro Prefixado",{"$f":"IF(OR(E3=0,H3=\"\"),0,I3-E3)","v":0},{"$f":"IF(OR(E3=0,H3=\"\"),0,O3/E3)","v":0},null,null,"1º",{"$f":"IF(OR(U3=0,U3=\"\"),\"\",CONCATENATE(INDIRECT(CONCATENATE(\"a\",MATCH(U3,M:M,0)))))","v":""},{"$f":"IF(MAX(M$3:M$350)<=0,\"\",MAX(M$3:M$350))","v":""}]
[null,{"$f":"IF(A4=\"\",\"\",RIGHT(A4,10))","v":""},{"$f":"IF(OR(A4=\"\",A4=\"(vazio)\"),\"\",LEFT(A4,LEN(A4)-11))","v":""},{"$f":"SUMIFS('TD-Lançamentos'!C:C,'TD-Lançamentos'!D:D,A4,'TD-Lançamentos'!B:B,\"c\")-SUMIFS('TD-Lançamentos'!C:C,'TD-Lançamentos'!D:D,A4,'TD-Lançamentos'!B:B,\"v\")","v":0},{"$f":"IF(D4=0,0,SUMIFS('TD-Lançamentos'!J:J,'TD-Lançamentos'!D:D,A4,'TD-Lançamentos'!B:B,\"c\")-SUMIFS('TD-Lançamentos'!J:J,'TD-Lançamentos'!D:D,A4,'TD-Lançamentos'!B:B,\"v\"))","v":0},{"$f":"IF(OR(E4=0,$S$9=0),0,E4/$S$9)","v":0},null,{"$f":"IF(OR(A4=\"\",A4=\"(vazio)\"),\"\",tesourodireto(CONCATENATE(LEFT(A4,LEN(A4)-11),\" \",RIGHT(B4,4)),\"preço\"))","v":""},{"$f":"IF(D4=\"\",0,IF(H4=\"\",E4,D4*H4))","v":0},{"$f":"IF($S$11=0,0,I4/$S$11)","v":0},"(LFT)",null,{"$f":"IF(OR(L4=\"\",J4=\"\",F4=\"\"),0,IF($L$2=\"% ATUAL\",L4-J4,L4-F4))","v":0},"Tesouro Selic",{"$f":"IF(OR(E4=0,H4=\"\"),0,I4-E4)","v":0},{"$f":"IF(OR(E4=0,H4=\"\"),0,O4/E4)","v":0},null,null,"2º",{"$f":"IF(OR(U4=0,U4=\"\"),\"\",CONCATENATE(INDIRECT(CONCATENATE(\"a\",MATCH(U4,M:M,0)))))","v":""},{"$f":"IF(LARGE(M$3:M$350,2)<=0,\"\",LARGE(M$3:M$350,2))","v":""}]
[null,"","",{"$f":"SUMIFS('TD-Lançamentos'!C:C,'TD-Lançamentos'!D:D,A5,'TD-Lançamentos'!B:B,\"c\")-SUMIFS('TD-Lançamentos'!C:C,'TD-Lançamentos'!D:D,A5,'TD-Lançamentos'!B:B,\"v\")","v":0},{"$f":"IF(D5=0,0,SUMIFS('TD-Lançamentos'!J:J,'TD-Lançamentos'!D:D,A5,'TD-Lançamentos'!B:B,\"c\")-SUMIFS('TD-Lançamentos'!J:J,'TD-Lançamentos'!D:D,A5,'TD-Lançamentos'!B:B,\"v\"))","v":0},0,null,{"$f":"IF(OR(A5=\"\",A5=\"(vazio)\"),\"\",tesourodireto(CONCATENATE(LEFT(A5,LEN(A5)-11),\" \",RIGHT(B5,4)),\"preço\"))","v":""},0,0,"(NTNB)",null,0,"Tesouro IPCA+ com Juros Semestrais",0,0,null,null,"3º","",{"$f":"IF(LARGE(M$3:M$350,3)<=0,\"\",LARGE(M$3:M$350,3))","v":""}]
[null,"","",{"$f":"SUMIFS('TD-Lançamentos'!C:C,'TD-Lançamentos'!D:D,A6,'TD-Lançamentos'!B:B,\"c\")-SUMIFS('TD-Lançamentos'!C:C,'TD-Lançamentos'!D:D,A6,'TD-Lançamentos'!B:B,\"v\")","v":0},{"$f":"IF(D6=0,0,SUMIFS('TD-Lançamentos'!J:J,'TD-Lançamentos'!D:D,A6,'TD-Lançamentos'!B:B,\"c\")-SUMIFS('TD-Lançamentos'!J:J,'TD-Lançamentos'!D:D,A6,'TD-Lançamentos'!B:B,\"v\"))","v":0},0,null,{"$f":"IF(OR(A6=\"\",A6=\"(vazio)\"),\"\",tesourodireto(CONCATENATE(LEFT(A6,LEN(A6)-11),\" \",RIGHT(B6,4)),\"preço\"))","v":""},0,0,"(NTNB Princ)",null,0,"Tesouro IPCA+",0,0]
[null,"","",{"$f":"SUMIFS('TD-Lançamentos'!C:C,'TD-Lançamentos'!D:D,A7,'TD-Lançamentos'!B:B,\"c\")-SUMIFS('TD-Lançamentos'!C:C,'TD-Lançamentos'!D:D,A7,'TD-Lançamentos'!B:B,\"v\")","v":0},{"$f":"IF(D7=0,0,SUMIFS('TD-Lançamentos'!J:J,'TD-Lançamentos'!D:D,A7,'TD-Lançamentos'!B:B,\"c\")-SUMIFS('TD-Lançamentos'!J:J,'TD-Lançamentos'!D:D,A7,'TD-Lançamentos'!B:B,\"v\"))","v":0},0,null,{"$f":"IF(OR(A7=\"\",A7=\"(vazio)\"),\"\",tesourodireto(CONCATENATE(LEFT(A7,LEN(A7)-11),\" \",RIGHT(B7,4)),\"preço\"))","v":""},0,0,"(NTNF)",null,0,"Tesouro Prefixado com Juros Semestrais",0,0]
[null,"","",{"$f":"SUMIFS('TD-Lançamentos'!C:C,'TD-Lançamentos'!D:D,A8,'TD-Lançamentos'!B:B,\"c\")-SUMIFS('TD-Lançamentos'!C:C,'TD-Lançamentos'!D:D,A8,'TD-Lançamentos'!B:B,\"v\")","v":0},{"$f":"IF(D8=0,0,SUMIFS('TD-Lançamentos'!J:J,'TD-Lançamentos'!D:D,A8,'TD-Lançamentos'!B:B,\"c\")-SUMIFS('TD-Lançamentos'!J:J,'TD-Lançamentos'!D:D,A8,'TD-Lançamentos'!B:B,\"v\"))","v":0},0,null,{"$f":"IF(OR(A8=\"\",A8=\"(vazio)\"),\"\",tesourodireto(CONCATENATE(LEFT(A8,LEN(A8)-11),\" \",RIGHT(B8,4)),\"preço\"))","v":""},0,0,null,null,0,null,0,0,null,null,"TOTAL INVESTIDO"]
[null,"","",{"$f":"SUMIFS('TD-Lançamentos'!C:C,'TD-Lançamentos'!D:D,A9,'TD-Lançamentos'!B:B,\"c\")-SUMIFS('TD-Lançamentos'!C:C,'TD-Lançamentos'!D:D,A9,'TD-Lançamentos'!B:B,\"v\")","v":0},{"$f":"IF(D9=0,0,SUMIFS('TD-Lançamentos'!J:J,'TD-Lançamentos'!D:D,A9,'TD-Lançamentos'!B:B,\"c\")-SUMIFS('TD-Lançamentos'!J:J,'TD-Lançamentos'!D:D,A9,'TD-Lançamentos'!B:B,\"v\"))","v":0},0,null,{"$f":"IF(OR(A9=\"\",A9=\"(vazio)\"),\"\",tesourodireto(CONCATENATE(LEFT(A9,LEN(A9)-11),\" \",RIGHT(B9,4)),\"preço\"))","v":""},0,0,null,null,0,null,0,0,null,null,{"$f":"SUM(E3:E350)","v":0}]
[null,"","",{"$f":"SUMIFS('TD-Lançamentos'!C:C,'TD-Lançamentos'!D:D,A10,'TD-Lançamentos'!B:B,\"c\")-SUMIFS('TD-Lançamentos'!C:C,'TD-Lançamentos'!D:D,A10,'TD-Lançamentos'!B:B,\"v\")","v":0},{"$f":"IF(D10=0,0,SUMIFS('TD-Lançamentos'!J:J,'TD-Lançamentos'!D:D,A10,'TD-Lançamentos'!B:B,\"c\")-SUMIFS('TD-Lançamentos'!J:J,'TD-Lançamentos'!D:D,A10,'TD-Lançamentos'!B:B,\"v\"))","v":0},0,null,{"$f":"IF(OR(A10=\"\",A10=\"(vazio)\"),\"\",tesourodireto(CONCATENATE(LEFT(A10,LEN(A10)-11),\" \",RIGHT(B10,4)),\"preço\"))","v":""},0,0,null,null,0,null,0,0,null,null,"TOTAL ATUAL"]
[null,"","",{"$f":"SUMIFS('TD-Lançamentos'!C:C,'TD-Lançamentos'!D:D,A11,'TD-Lançamentos'!B:B,\"c\")-SUMIFS('TD-Lançamentos'!C:C,'TD-Lançamentos'!D:D,A11,'TD-Lançamentos'!B:B,\"v\")","v":0},{"$f":"IF(D11=0,0,SUMIFS('TD-Lançamentos'!J:J,'TD-Lançamentos'!D:D,A11,'TD-Lançamentos'!B:B,\"c\")-SUMIFS('TD-Lançamentos'!J:J,'TD-Lançamentos'!D:D,A11,'TD-Lançamentos'!B:B,\"v\"))","v":0},0,null,{"$f":"IF(OR(A11=\"\",A11=\"(vazio)\"),\"\",tesourodireto(CONCATENATE(LEFT(A11,LEN(A11)-11),\" \",RIGHT(B11,4)),\"preço\"))","v":""},0,0,null,null,0,null,0,0,null,null,{"$f":"SUM(I3:I350)","v":0}]
[null,"","",{"$f":"SUMIFS('TD-Lançamentos'!C:C,'TD-Lançamentos'!D:D,A12,'TD-Lançamentos'!B:B,\"c\")-SUMIFS('TD-Lançamentos'!C:C,'TD-Lançamentos'!D:D,A12,'TD-Lançamentos'!B:B,\"v\")","v":0},{"$f":"IF(D12=0,0,SUMIFS('TD-Lançamentos'!J:J,'TD-Lançamentos'!D:D,A12,'TD-Lançamentos'!B:B,\"c\")-SUMIFS('TD-Lançamentos'!J:J,'TD-Lançamentos'!D:D,A12,'TD-Lançamentos'!B:B,\"v\"))","v":0},0,null,{"$f":"IF(OR(A12=\"\",A12=\"(vazio)\"),\"\",tesourodireto(CONCATENATE(LEFT(A12,LEN(A12)-11),\" \",RIGHT(B12,4)),\"preço\"))","v":""},0,0,null,null,0,null,0,0,null,null,"RESULTADO EM REAIS"]
[null,"","",{"$f":"SUMIFS('TD-Lançamentos'!C:C,'TD-Lançamentos'!D:D,A13,'TD-Lançamentos'!B:B,\"c\")-SUMIFS('TD-Lançamentos'!C:C,'TD-Lançamentos'!D:D,A13,'TD-Lançamentos'!B:B,\"v\")","v":0},{"$f":"IF(D13=0,0,SUMIFS('TD-Lançamentos'!J:J,'TD-Lançamentos'!D:D,A13,'TD-Lançamentos'!B:B,\"c\")-SUMIFS('TD-Lançamentos'!J:J,'TD-Lançamentos'!D:D,A13,'TD-Lançamentos'!B:B,\"v\"))","v":0},0,null,{"$f":"IF(OR(A13=\"\",A13=\"(vazio)\"),\"\",tesourodireto(CONCATENATE(LEFT(A13,LEN(A13)-11),\" \",RIGHT(B13,4)),\"preço\"))","v":""},0,0,null,null,0,null,0,0,null,null,{"$f":"SUM(O3:O350)","v":0}]
[null,"","",{"$f":"SUMIFS('TD-Lançamentos'!C:C,'TD-Lançamentos'!D:D,A14,'TD-Lançamentos'!B:B,\"c\")-SUMIFS('TD-Lançamentos'!C:C,'TD-Lançamentos'!D:D,A14,'TD-Lançamentos'!B:B,\"v\")","v":0},{"$f":"IF(D14=0,0,SUMIFS('TD-Lançamentos'!J:J,'TD-Lançamentos'!D:D,A14,'TD-Lançamentos'!B:B,\"c\")-SUMIFS('TD-Lançamentos'!J:J,'TD-Lançamentos'!D:D,A14,'TD-Lançamentos'!B:B,\"v\"))","v":0},0,null,{"$f":"IF(OR(A14=\"\",A14=\"(vazio)\"),\"\",tesourodireto(CONCATENATE(LEFT(A14,LEN(A14)-11),\" \",RIGHT(B14,4)),\"preço\"))","v":""},0,0,null,null,0,null,0,0,null,null,"RESULTADO EM PERCENTUAL",null,null,null,{"$f":"IF(L14=\"\",\"\",L14-J14)","v":""},{"$f":"IF(OR($A361=\"TOTAL\",$A361=\"\"),\"\",$A361)","v":{"$error":"#REF!"}}]
[null,"","",{"$f":"SUMIFS('TD-Lançamentos'!C:C,'TD-Lançamentos'!D:D,A15,'TD-Lançamentos'!B:B,\"c\")-SUMIFS('TD-Lançamentos'!C:C,'TD-Lançamentos'!D:D,A15,'TD-Lançamentos'!B:B,\"v\")","v":0},{"$f":"IF(D15=0,0,SUMIFS('TD-Lançamentos'!J:J,'TD-Lançamentos'!D:D,A15,'TD-Lançamentos'!B:B,\"c\")-SUMIFS('TD-Lançamentos'!J:J,'TD-Lançamentos'!D:D,A15,'TD-Lançamentos'!B:B,\"v\"))","v":0},0,null,{"$f":"IF(OR(A15=\"\",A15=\"(vazio)\"),\"\",tesourodireto(CONCATENATE(LEFT(A15,LEN(A15)-11),\" \",RIGHT(B15,4)),\"preço\"))","v":""},0,0,null,null,0,null,0,0,null,null,{"$f":"IFERROR((S11/S9)-1,0)","v":0},null,null,null,"",{"$error":"#REF!"}]
[null,"","",{"$f":"SUMIFS('TD-Lançamentos'!C:C,'TD-Lançamentos'!D:D,A16,'TD-Lançamentos'!B:B,\"c\")-SUMIFS('TD-Lançamentos'!C:C,'TD-Lançamentos'!D:D,A16,'TD-Lançamentos'!B:B,\"v\")","v":0},{"$f":"IF(D16=0,0,SUMIFS('TD-Lançamentos'!J:J,'TD-Lançamentos'!D:D,A16,'TD-Lançamentos'!B:B,\"c\")-SUMIFS('TD-Lançamentos'!J:J,'TD-Lançamentos'!D:D,A16,'TD-Lançamentos'!B:B,\"v\"))","v":0},0,null,{"$f":"IF(OR(A16=\"\",A16=\"(vazio)\"),\"\",tesourodireto(CONCATENATE(LEFT(A16,LEN(A16)-11),\" \",RIGHT(B16,4)),\"preço\"))","v":""},0,0,null,null,0,null,0,0,null,null,null,null,null,null,"",{"$error":"#REF!"}]
[null,"","",{"$f":"SUMIFS('TD-Lançamentos'!C:C,'TD-Lançamentos'!D:D,A17,'TD-Lançamentos'!B:B,\"c\")-SUMIFS('TD-Lançamentos'!C:C,'TD-Lançamentos'!D:D,A17,'TD-Lançamentos'!B:B,\"v\")","v":0},{"$f":"IF(D17=0,0,SUMIFS('TD-Lançamentos'!J:J,'TD-Lançamentos'!D:D,A17,'TD-Lançamentos'!B:B,\"c\")-SUMIFS('TD-Lançamentos'!J:J,'TD-Lançamentos'!D:D,A17,'TD-Lançamentos'!B:B,\"v\"))","v":0},0,null,{"$f":"IF(OR(A17=\"\",A17=\"(vazio)\"),\"\",tesourodireto(CONCATENATE(LEFT(A17,LEN(A17)-11),\" \",RIGHT(B17,4)),\"preço\"))","v":""},0,0,null,null,0,null,0,0,null,null,"POR TIPO DE TÍTULO",null,null,null,"",{"$error":"#REF!"}]
[null,"","",{"$f":"SUMIFS('TD-Lançamentos'!C:C,'TD-Lançamentos'!D:D,A18,'TD-Lançamentos'!B:B,\"c\")-SUMIFS('TD-Lançamentos'!C:C,'TD-Lançamentos'!D:D,A18,'TD-Lançamentos'!B:B,\"v\")","v":0},{"$f":"IF(D18=0,0,SUMIFS('TD-Lançamentos'!J:J,'TD-Lançamentos'!D:D,A18,'TD-Lançamentos'!B:B,\"c\")-SUMIFS('TD-Lançamentos'!J:J,'TD-Lançamentos'!D:D,A18,'TD-Lançamentos'!B:B,\"v\"))","v":0},0,null,{"$f":"IF(OR(A18=\"\",A18=\"(vazio)\"),\"\",tesourodireto(CONCATENATE(LEFT(A18,LEN(A18)-11),\" \",RIGHT(B18,4)),\"preço\"))","v":""},0,0,null,null,0,null,0,0,null,null,"TÍTULO","INVESTIDO","ATUAL",null,"",{"$error":"#REF!"}]
[null,"","",{"$f":"SUMIFS('TD-Lançamentos'!C:C,'TD-Lançamentos'!D:D,A19,'TD-Lançamentos'!B:B,\"c\")-SUMIFS('TD-Lançamentos'!C:C,'TD-Lançamentos'!D:D,A19,'TD-Lançamentos'!B:B,\"v\")","v":0},{"$f":"IF(D19=0,0,SUMIFS('TD-Lançamentos'!J:J,'TD-Lançamentos'!D:D,A19,'TD-Lançamentos'!B:B,\"c\")-SUMIFS('TD-Lançamentos'!J:J,'TD-Lançamentos'!D:D,A19,'TD-Lançamentos'!B:B,\"v\"))","v":0},0,null,{"$f":"IF(OR(A19=\"\",A19=\"(vazio)\"),\"\",tesourodireto(CONCATENATE(LEFT(A19,LEN(A19)-11),\" \",RIGHT(B19,4)),\"preço\"))","v":""},0,0,null,null,0,null,0,0,null,null,"LFT",{"$f":"SUMIF(C:C,S19,E:E)","v":0},{"$f":"SUMIF(C:C,S19,E:E)+SUMIF(C:C,S19,O:O)","v":0},null,"",{"$error":"#REF!"}]
[null,"","",{"$f":"SUMIFS('TD-Lançamentos'!C:C,'TD-Lançamentos'!D:D,A20,'TD-Lançamentos'!B:B,\"c\")-SUMIFS('TD-Lançamentos'!C:C,'TD-Lançamentos'!D:D,A20,'TD-Lançamentos'!B:B,\"v\")","v":0},{"$f":"IF(D20=0,0,SUMIFS('TD-Lançamentos'!J:J,'TD-Lançamentos'!D:D,A20,'TD-Lançamentos'!B:B,\"c\")-SUMIFS('TD-Lançamentos'!J:J,'TD-Lançamentos'!D:D,A20,'TD-Lançamentos'!B:B,\"v\"))","v":0},0,null,{"$f":"IF(OR(A20=\"\",A20=\"(vazio)\"),\"\",tesourodireto(CONCATENATE(LEFT(A20,LEN(A20)-11),\" \",RIGHT(B20,4)),\"preço\"))","v":""},0,0,null,null,0,null,0,0,null,null,"LTN",{"$f":"SUMIF(C:C,S20,E:E)","v":0},{"$f":"SUMIF(C:C,S20,E:E)+SUMIF(C:C,S20,O:O)","v":0},null,"",{"$error":"#REF!"}]
[null,"","",{"$f":"SUMIFS('TD-Lançamentos'!C:C,'TD-Lançamentos'!D:D,A21,'TD-Lançamentos'!B:B,\"c\")-SUMIFS('TD-Lançamentos'!C:C,'TD-Lançamentos'!D:D,A21,'TD-Lançamentos'!B:B,\"v\")","v":0},{"$f":"IF(D21=0,0,SUMIFS('TD-Lançamentos'!J:J,'TD-Lançamentos'!D:D,A21,'TD-Lançamentos'!B:B,\"c\")-SUMIFS('TD-Lançamentos'!J:J,'TD-Lançamentos'!D:D,A21,'TD-Lançamentos'!B:B,\"v\"))","v":0},0,null,{"$f":"IF(OR(A21=\"\",A21=\"(vazio)\"),\"\",tesourodireto(CONCATENATE(LEFT(A21,LEN(A21)-11),\" \",RIGHT(B21,4)),\"preço\"))","v":""},0,0,null,null,0,null,0,0,null,null,"NTNF",0,0,null,"",{"$error":"#REF!"}]
[null,"","",{"$f":"SUMIFS('TD-Lançamentos'!C:C,'TD-Lançamentos'!D:D,A22,'TD-Lançamentos'!B:B,\"c\")-SUMIFS('TD-Lançamentos'!C:C,'TD-Lançamentos'!D:D,A22,'TD-Lançamentos'!B:B,\"v\")","v":0},{"$f":"IF(D22=0,0,SUMIFS('TD-Lançamentos'!J:J,'TD-Lançamentos'!D:D,A22,'TD-Lançamentos'!B:B,\"c\")-SUMIFS('TD-Lançamentos'!J:J,'TD-Lançamentos'!D:D,A22,'TD-Lançamentos'!B:B,\"v\"))","v":0},0,null,{"$f":"IF(OR(A22=\"\",A22=\"(vazio)\"),\"\",tesourodireto(CONCATENATE(LEFT(A22,LEN(A22)-11),\" \",RIGHT(B22,4)),\"preço\"))","v":""},0,0,null,null,0,null,0,0,null,null,"NTNB",0,0,null,"",{"$error":"#REF!"}]
[null,"","",{"$f":"SUMIFS('TD-Lançamentos'!C:C,'TD-Lançamentos'!D:D,A23,'TD-Lançamentos'!B:B,\"c\")-SUMIFS('TD-Lançamentos'!C:C,'TD-Lançamentos'!D:D,A23,'TD-Lançamentos'!B:B,\"v\")","v":0},{"$f":"IF(D23=0,0,SUMIFS('TD-Lançamentos'!J:J,'TD-Lançamentos'!D:D,A23,'TD-Lançamentos'!B:B,\"c\")-SUMIFS('TD-Lançamentos'!J:J,'TD-Lançamentos'!D:D,A23,'TD-Lançamentos'!B:B,\"v\"))","v":0},0,null,{"$f":"IF(OR(A23=\"\",A23=\"(vazio)\"),\"\",tesourodireto(CONCATENATE(LEFT(A23,LEN(A23)-11),\" \",RIGHT(B23,4)),\"preço\"))","v":""},0,0,null,null,0,null,0,0,null,null,"NTNB-P",0,0,null,"",{"$error":"#REF!"}]
[null,"","",{"$f":"SUMIFS('TD-Lançamentos'!C:C,'TD-Lançamentos'!D:D,A24,'TD-Lançamentos'!B:B,\"c\")-SUMIFS('TD-Lançamentos'!C:C,'TD-Lançamentos'!D:D,A24,'TD-Lançamentos'!B:B,\"v\")","v":0},{"$f":"IF(D24=0,0,SUMIFS('TD-Lançamentos'!J:J,'TD-Lançamentos'!D:D,A24,'TD-Lançamentos'!B:B,\"c\")-SUMIFS('TD-Lançamentos'!J:J,'TD-Lançamentos'!D:D,A24,'TD-Lançamentos'!B:B,\"v\"))","v":0},0,null,{"$f":"IF(OR(A24=\"\",A24=\"(vazio)\"),\"\",tesourodireto(CONCATENATE(LEFT(A24,LEN(A24)-11),\" \",RIGHT(B24,4)),\"preço\"))","v":""},0,0,null,null,0,null,0,0,null,null,null,null,null,null,"",{"$error":"#REF!"}]
[null,"","",{"$f":"SUMIFS('TD-Lançamentos'!C:C,'TD-Lançamentos'!D:D,A25,'TD-Lançamentos'!B:B,\"c\")-SUMIFS('TD-Lançamentos'!C:C,'TD-Lançamentos'!D:D,A25,'TD-Lançamentos'!B:B,\"v\")","v":0},{"$f":"IF(D25=0,0,SUMIFS('TD-Lançamentos'!J:J,'TD-Lançamentos'!D:D,A25,'TD-Lançamentos'!B:B,\"c\")-SUMIFS('TD-Lançamentos'!J:J,'TD-Lançamentos'!D:D,A25,'TD-Lançamentos'!B:B,\"v\"))","v":0},0,null,{"$f":"IF(OR(A25=\"\",A25=\"(vazio)\"),\"\",tesourodireto(CONCATENATE(LEFT(A25,LEN(A25)-11),\" \",RIGHT(B25,4)),\"preço\"))","v":""},0,0,null,null,0,null,0,0,null,null,null,null,null,null,"",{"$error":"#REF!"}]
[null,"","",{"$f":"SUMIFS('TD-Lançamentos'!C:C,'TD-Lançamentos'!D:D,A26,'TD-Lançamentos'!B:B,\"c\")-SUMIFS('TD-Lançamentos'!C:C,'TD-Lançamentos'!D:D,A26,'TD-Lançamentos'!B:B,\"v\")","v":0},{"$f":"IF(D26=0,0,SUMIFS('TD-Lançamentos'!J:J,'TD-Lançamentos'!D:D,A26,'TD-Lançamentos'!B:B,\"c\")-SUMIFS('TD-Lançamentos'!J:J,'TD-Lançamentos'!D:D,A26,'TD-Lançamentos'!B:B,\"v\"))","v":0},0,null,{"$f":"IF(OR(A26=\"\",A26=\"(vazio)\"),\"\",tesourodireto(CONCATENATE(LEFT(A26,LEN(A26)-11),\" \",RIGHT(B26,4)),\"preço\"))","v":""},0,0,null,null,0,null,0,0,null,null,null,null,null,null,"",{"$error":"#REF!"}]
[null,"","",{"$f":"SUMIFS('TD-Lançamentos'!C:C,'TD-Lançamentos'!D:D,A27,'TD-Lançamentos'!B:B,\"c\")-SUMIFS('TD-Lançamentos'!C:C,'TD-Lançamentos'!D:D,A27,'TD-Lançamentos'!B:B,\"v\")","v":0},{"$f":"IF(D27=0,0,SUMIFS('TD-Lançamentos'!J:J,'TD-Lançamentos'!D:D,A27,'TD-Lançamentos'!B:B,\"c\")-SUMIFS('TD-Lançamentos'!J:J,'TD-Lançamentos'!D:D,A27,'TD-Lançamentos'!B:B,\"v\"))","v":0},0,null,{"$f":"IF(OR(A27=\"\",A27=\"(vazio)\"),\"\",tesourodireto(CONCATENATE(LEFT(A27,LEN(A27)-11),\" \",RIGHT(B27,4)),\"preço\"))","v":""},0,0,null,null,0,null,0,0,null,null,null,"% ATUAL",null,null,"",{"$error":"#REF!"}]
[null,"","",{"$f":"SUMIFS('TD-Lançamentos'!C:C,'TD-Lançamentos'!D:D,A28,'TD-Lançamentos'!B:B,\"c\")-SUMIFS('TD-Lançamentos'!C:C,'TD-Lançamentos'!D:D,A28,'TD-Lançamentos'!B:B,\"v\")","v":0},{"$f":"IF(D28=0,0,SUMIFS('TD-Lançamentos'!J:J,'TD-Lançamentos'!D:D,A28,'TD-Lançamentos'!B:B,\"c\")-SUMIFS('TD-Lançamentos'!J:J,'TD-Lançamentos'!D:D,A28,'TD-Lançamentos'!B:B,\"v\"))","v":0},0,null,{"$f":"IF(OR(A28=\"\",A28=\"(vazio)\"),\"\",tesourodireto(CONCATENATE(LEFT(A28,LEN(A28)-11),\" \",RIGHT(B28,4)),\"preço\"))","v":""},0,0,null,null,0,null,0,0,null,null,null,"% INVESTIDO",null,null,"",{"$error":"#REF!"}]
[null,"","",{"$f":"SUMIFS('TD-Lançamentos'!C:C,'TD-Lançamentos'!D:D,A29,'TD-Lançamentos'!B:B,\"c\")-SUMIFS('TD-Lançamentos'!C:C,'TD-Lançamentos'!D:D,A29,'TD-Lançamentos'!B:B,\"v\")","v":0},{"$f":"IF(D29=0,0,SUMIFS('TD-Lançamentos'!J:J,'TD-Lançamentos'!D:D,A29,'TD-Lançamentos'!B:B,\"c\")-SUMIFS('TD-Lançamentos'!J:J,'TD-Lançamentos'!D:D,A29,'TD-Lançamentos'!B:B,\"v\"))","v":0},0,null,{"$f":"IF(OR(A29=\"\",A29=\"(vazio)\"),\"\",tesourodireto(CONCATENATE(LEFT(A29,LEN(A29)-11),\" \",RIGHT(B29,4)),\"preço\"))","v":""},0,0,null,null,0,null,0,0,null,null,null,null,null,null,"",{"$error":"#REF!"}]
[null,"","",{"$f":"SUMIFS('TD-Lançamentos'!C:C,'TD-Lançamentos'!D:D,A30,'TD-Lançamentos'!B:B,\"c\")-SUMIFS('TD-Lançamentos'!C:C,'TD-Lançamentos'!D:D,A30,'TD-Lançamentos'!B:B,\"v\")","v":0},{"$f":"IF(D30=0,0,SUMIFS('TD-Lançamentos'!J:J,'TD-Lançamentos'!D:D,A30,'TD-Lançamentos'!B:B,\"c\")-SUMIFS('TD-Lançamentos'!J:J,'TD-Lançamentos'!D:D,A30,'TD-Lançamentos'!B:B,\"v\"))","v":0},0,null,{"$f":"IF(OR(A30=\"\",A30=\"(vazio)\"),\"\",tesourodireto(CONCATENATE(LEFT(A30,LEN(A30)-11),\" \",RIGHT(B30,4)),\"preço\"))","v":""},0,0,null,null,0,null,0,0,null,null,null,null,null,null,"",{"$error":"#REF!"}]
[null,"","",{"$f":"SUMIFS('TD-Lançamentos'!C:C,'TD-Lançamentos'!D:D,A31,'TD-Lançamentos'!B:B,\"c\")-SUMIFS('TD-Lançamentos'!C:C,'TD-Lançamentos'!D:D,A31,'TD-Lançamentos'!B:B,\"v\")","v":0},{"$f":"IF(D31=0,0,SUMIFS('TD-Lançamentos'!J:J,'TD-Lançamentos'!D:D,A31,'TD-Lançamentos'!B:B,\"c\")-SUMIFS('TD-Lançamentos'!J:J,'TD-Lançamentos'!D:D,A31,'TD-Lançamentos'!B:B,\"v\"))","v":0},0,null,{"$f":"IF(OR(A31=\"\",A31=\"(vazio)\"),\"\",tesourodireto(CONCATENATE(LEFT(A31,LEN(A31)-11),\" \",RIGHT(B31,4)),\"preço\"))","v":""},0,0,null,null,0,null,0,0,null,null,null,null,null,null,"",{"$error":"#REF!"}]
[null,"","",{"$f":"SUMIFS('TD-Lançamentos'!C:C,'TD-Lançamentos'!D:D,A32,'TD-Lançamentos'!B:B,\"c\")-SUMIFS('TD-Lançamentos'!C:C,'TD-Lançamentos'!D:D,A32,'TD-Lançamentos'!B:B,\"v\")","v":0},{"$f":"IF(D32=0,0,SUMIFS('TD-Lançamentos'!J:J,'TD-Lançamentos'!D:D,A32,'TD-Lançamentos'!B:B,\"c\")-SUMIFS('TD-Lançamentos'!J:J,'TD-Lançamentos'!D:D,A32,'TD-Lançamentos'!B:B,\"v\"))","v":0},0,null,{"$f":"IF(OR(A32=\"\",A32=\"(vazio)\"),\"\",tesourodireto(CONCATENATE(LEFT(A32,LEN(A32)-11),\" \",RIGHT(B32,4)),\"preço\"))","v":""},0,0,null,null,0,null,0,0,null,null,null,null,null,null,"",{"$error":"#REF!"}]
[null,"","",{"$f":"SUMIFS('TD-Lançamentos'!C:C,'TD-Lançamentos'!D:D,A33,'TD-Lançamentos'!B:B,\"c\")-SUMIFS('TD-Lançamentos'!C:C,'TD-Lançamentos'!D:D,A33,'TD-Lançamentos'!B:B,\"v\")","v":0},{"$f":"IF(D33=0,0,SUMIFS('TD-Lançamentos'!J:J,'TD-Lançamentos'!D:D,A33,'TD-Lançamentos'!B:B,\"c\")-SUMIFS('TD-Lançamentos'!J:J,'TD-Lançamentos'!D:D,A33,'TD-Lançamentos'!B:B,\"v\"))","v":0},0,null,{"$f":"IF(OR(A33=\"\",A33=\"(vazio)\"),\"\",tesourodireto(CONCATENATE(LEFT(A33,LEN(A33)-11),\" \",RIGHT(B33,4)),\"preço\"))","v":""},0,0,null,null,0,null,0,0,null,null,null,null,null,null,"",{"$error":"#REF!"}]
[null,"","",{"$f":"SUMIFS('TD-Lançamentos'!C:C,'TD-Lançamentos'!D:D,A34,'TD-Lançamentos'!B:B,\"c\")-SUMIFS('TD-Lançamentos'!C:C,'TD-Lançamentos'!D:D,A34,'TD-Lançamentos'!B:B,\"v\")","v":0},{"$f":"IF(D34=0,0,SUMIFS('TD-Lançamentos'!J:J,'TD-Lançamentos'!D:D,A34,'TD-Lançamentos'!B:B,\"c\")-SUMIFS('TD-Lançamentos'!J:J,'TD-Lançamentos'!D:D,A34,'TD-Lançamentos'!B:B,\"v\"))","v":0},0,null,{"$f":"IF(OR(A34=\"\",A34=\"(vazio)\"),\"\",tesourodireto(CONCATENATE(LEFT(A34,LEN(A34)-11),\" \",RIGHT(B34,4)),\"preço\"))","v":""},0,0,null,null,0,null,0,0,null,null,null,null,null,null,"",{"$error":"#REF!"}]
[null,"","",{"$f":"SUMIFS('TD-Lançamentos'!C:C,'TD-Lançamentos'!D:D,A35,'TD-Lançamentos'!B:B,\"c\")-SUMIFS('TD-Lançamentos'!C:C,'TD-Lançamentos'!D:D,A35,'TD-Lançamentos'!B:B,\"v\")","v":0},{"$f":"IF(D35=0,0,SUMIFS('TD-Lançamentos'!J:J,'TD-Lançamentos'!D:D,A35,'TD-Lançamentos'!B:B,\"c\")-SUMIFS('TD-Lançamentos'!J:J,'TD-Lançamentos'!D:D,A35,'TD-Lançamentos'!B:B,\"v\"))","v":0},0,null,{"$f":"IF(OR(A35=\"\",A35=\"(vazio)\"),\"\",tesourodireto(CONCATENATE(LEFT(A35,LEN(A35)-11),\" \",RIGHT(B35,4)),\"preço\"))","v":""},0,0,null,null,0,null,0,0,null,null,null,null,null,null,"",{"$error":"#REF!"}]
[null,"","",{"$f":"SUMIFS('TD-Lançamentos'!C:C,'TD-Lançamentos'!D:D,A36,'TD-Lançamentos'!B:B,\"c\")-SUMIFS('TD-Lançamentos'!C:C,'TD-Lançamentos'!D:D,A36,'TD-Lançamentos'!B:B,\"v\")","v":0},{"$f":"IF(D36=0,0,SUMIFS('TD-Lançamentos'!J:J,'TD-Lançamentos'!D:D,A36,'TD-Lançamentos'!B:B,\"c\")-SUMIFS('TD-Lançamentos'!J:J,'TD-Lançamentos'!D:D,A36,'TD-Lançamentos'!B:B,\"v\"))","v":0},0,null,{"$f":"IF(OR(A36=\"\",A36=\"(vazio)\"),\"\",tesourodireto(CONCATENATE(LEFT(A36,LEN(A36)-11),\" \",RIGHT(B36,4)),\"preço\"))","v":""},0,0,null,null,0,null,0,0,null,null,null,null,null,null,"",{"$error":"#REF!"}]
[null,"","",{"$f":"SUMIFS('TD-Lançamentos'!C:C,'TD-Lançamentos'!D:D,A37,'TD-Lançamentos'!B:B,\"c\")-SUMIFS('TD-Lançamentos'!C:C,'TD-Lançamentos'!D:D,A37,'TD-Lançamentos'!B:B,\"v\")","v":0},{"$f":"IF(D37=0,0,SUMIFS('TD-Lançamentos'!J:J,'TD-Lançamentos'!D:D,A37,'TD-Lançamentos'!B:B,\"c\")-SUMIFS('TD-Lançamentos'!J:J,'TD-Lançamentos'!D:D,A37,'TD-Lançamentos'!B:B,\"v\"))","v":0},0,null,{"$f":"IF(OR(A37=\"\",A37=\"(vazio)\"),\"\",tesourodireto(CONCATENATE(LEFT(A37,LEN(A37)-11),\" \",RIGHT(B37,4)),\"preço\"))","v":""},0,0,null,null,0,null,0,0,null,null,null,null,null,null,"",{"$error":"#REF!"}]
[null,"","",{"$f":"SUMIFS('TD-Lançamentos'!C:C,'TD-Lançamentos'!D:D,A38,'TD-Lançamentos'!B:B,\"c\")-SUMIFS('TD-Lançamentos'!C:C,'TD-Lançamentos'!D:D,A38,'TD-Lançamentos'!B:B,\"v\")","v":0},{"$f":"IF(D38=0,0,SUMIFS('TD-Lançamentos'!J:J,'TD-Lançamentos'!D:D,A38,'TD-Lançamentos'!B:B,\"c\")-SUMIFS('TD-Lançamentos'!J:J,'TD-Lançamentos'!D:D,A38,'TD-Lançamentos'!B:B,\"v\"))","v":0},0,null,{"$f":"IF(OR(A38=\"\",A38=\"(vazio)\"),\"\",tesourodireto(CONCATENATE(LEFT(A38,LEN(A38)-11),\" \",RIGHT(B38,4)),\"preço\"))","v":""},0,0,null,null,0,null,0,0,null,null,null,null,null,null,"",{"$error":"#REF!"}]
[null,"","",{"$f":"SUMIFS('TD-Lançamentos'!C:C,'TD-Lançamentos'!D:D,A39,'TD-Lançamentos'!B:B,\"c\")-SUMIFS('TD-Lançamentos'!C:C,'TD-Lançamentos'!D:D,A39,'TD-Lançamentos'!B:B,\"v\")","v":0},{"$f":"IF(D39=0,0,SUMIFS('TD-Lançamentos'!J:J,'TD-Lançamentos'!D:D,A39,'TD-Lançamentos'!B:B,\"c\")-SUMIFS('TD-Lançamentos'!J:J,'TD-Lançamentos'!D:D,A39,'TD-Lançamentos'!B:B,\"v\"))","v":0},0,null,{"$f":"IF(OR(A39=\"\",A39=\"(vazio)\"),\"\",tesourodireto(CONCATENATE(LEFT(A39,LEN(A39)-11),\" \",RIGHT(B39,4)),\"preço\"))","v":""},0,0,null,null,0,null,0,0,null,null,null,null,null,null,"",{"$error":"#REF!"}]
[null,"","",{"$f":"SUMIFS('TD-Lançamentos'!C:C,'TD-Lançamentos'!D:D,A40,'TD-Lançamentos'!B:B,\"c\")-SUMIFS('TD-Lançamentos'!C:C,'TD-Lançamentos'!D:D,A40,'TD-Lançamentos'!B:B,\"v\")","v":0},{"$f":"IF(D40=0,0,SUMIFS('TD-Lançamentos'!J:J,'TD-Lançamentos'!D:D,A40,'TD-Lançamentos'!B:B,\"c\")-SUMIFS('TD-Lançamentos'!J:J,'TD-Lançamentos'!D:D,A40,'TD-Lançamentos'!B:B,\"v\"))","v":0},0,null,{"$f":"IF(OR(A40=\"\",A40=\"(vazio)\"),\"\",tesourodireto(CONCATENATE(LEFT(A40,LEN(A40)-11),\" \",RIGHT(B40,4)),\"preço\"))","v":""},0,0,null,null,0,null,0,0,null,null,null,null,null,null,"",{"$error":"#REF!"}]
[null,"","",{"$f":"SUMIFS('TD-Lançamentos'!C:C,'TD-Lançamentos'!D:D,A41,'TD-Lançamentos'!B:B,\"c\")-SUMIFS('TD-Lançamentos'!C:C,'TD-Lançamentos'!D:D,A41,'TD-Lançamentos'!B:B,\"v\")","v":0},{"$f":"IF(D41=0,0,SUMIFS('TD-Lançamentos'!J:J,'TD-Lançamentos'!D:D,A41,'TD-Lançamentos'!B:B,\"c\")-SUMIFS('TD-Lançamentos'!J:J,'TD-Lançamentos'!D:D,A41,'TD-Lançamentos'!B:B,\"v\"))","v":0},0,null,{"$f":"IF(OR(A41=\"\",A41=\"(vazio)\"),\"\",tesourodireto(CONCATENATE(LEFT(A41,LEN(A41)-11),\" \",RIGHT(B41,4)),\"preço\"))","v":""},0,0,null,null,0,null,0,0,null,null,null,null,null,null,"",{"$error":"#REF!"}]
[null,"","",{"$f":"SUMIFS('TD-Lançamentos'!C:C,'TD-Lançamentos'!D:D,A42,'TD-Lançamentos'!B:B,\"c\")-SUMIFS('TD-Lançamentos'!C:C,'TD-Lançamentos'!D:D,A42,'TD-Lançamentos'!B:B,\"v\")","v":0},{"$f":"IF(D42=0,0,SUMIFS('TD-Lançamentos'!J:J,'TD-Lançamentos'!D:D,A42,'TD-Lançamentos'!B:B,\"c\")-SUMIFS('TD-Lançamentos'!J:J,'TD-Lançamentos'!D:D,A42,'TD-Lançamentos'!B:B,\"v\"))","v":0},0,null,{"$f":"IF(OR(A42=\"\",A42=\"(vazio)\"),\"\",tesourodireto(CONCATENATE(LEFT(A42,LEN(A42)-11),\" \",RIGHT(B42,4)),\"preço\"))","v":""},0,0,null,null,0,null,0,0,null,null,null,null,null,null,"",{"$error":"#REF!"}]
[null,"","",{"$f":"SUMIFS('TD-Lançamentos'!C:C,'TD-Lançamentos'!D:D,A43,'TD-Lançamentos'!B:B,\"c\")-SUMIFS('TD-Lançamentos'!C:C,'TD-Lançamentos'!D:D,A43,'TD-Lançamentos'!B:B,\"v\")","v":0},{"$f":"IF(D43=0,0,SUMIFS('TD-Lançamentos'!J:J,'TD-Lançamentos'!D:D,A43,'TD-Lançamentos'!B:B,\"c\")-SUMIFS('TD-Lançamentos'!J:J,'TD-Lançamentos'!D:D,A43,'TD-Lançamentos'!B:B,\"v\"))","v":0},0,null,{"$f":"IF(OR(A43=\"\",A43=\"(vazio)\"),\"\",tesourodireto(CONCATENATE(LEFT(A43,LEN(A43)-11),\" \",RIGHT(B43,4)),\"preço\"))","v":""},0,0,null,null,0,null,0,0,null,null,null,null,null,null,"",{"$error":"#REF!"}]
[null,"","",{"$f":"SUMIFS('TD-Lançamentos'!C:C,'TD-Lançamentos'!D:D,A44,'TD-Lançamentos'!B:B,\"c\")-SUMIFS('TD-Lançamentos'!C:C,'TD-Lançamentos'!D:D,A44,'TD-Lançamentos'!B:B,\"v\")","v":0},{"$f":"IF(D44=0,0,SUMIFS('TD-Lançamentos'!J:J,'TD-Lançamentos'!D:D,A44,'TD-Lançamentos'!B:B,\"c\")-SUMIFS('TD-Lançamentos'!J:J,'TD-Lançamentos'!D:D,A44,'TD-Lançamentos'!B:B,\"v\"))","v":0},0,null,{"$f":"IF(OR(A44=\"\",A44=\"(vazio)\"),\"\",tesourodireto(CONCATENATE(LEFT(A44,LEN(A44)-11),\" \",RIGHT(B44,4)),\"preço\"))","v":""},0,0,null,null,0,null,0,0,null,null,null,null,null,null,"",{"$error":"#REF!"}]
[null,"","",{"$f":"SUMIFS('TD-Lançamentos'!C:C,'TD-Lançamentos'!D:D,A45,'TD-Lançamentos'!B:B,\"c\")-SUMIFS('TD-Lançamentos'!C:C,'TD-Lançamentos'!D:D,A45,'TD-Lançamentos'!B:B,\"v\")","v":0},{"$f":"IF(D45=0,0,SUMIFS('TD-Lançamentos'!J:J,'TD-Lançamentos'!D:D,A45,'TD-Lançamentos'!B:B,\"c\")-SUMIFS('TD-Lançamentos'!J:J,'TD-Lançamentos'!D:D,A45,'TD-Lançamentos'!B:B,\"v\"))","v":0},0,null,{"$f":"IF(OR(A45=\"\",A45=\"(vazio)\"),\"\",tesourodireto(CONCATENATE(LEFT(A45,LEN(A45)-11),\" \",RIGHT(B45,4)),\"preço\"))","v":""},0,0,null,null,0,null,0,0,null,null,null,null,null,null,"",{"$error":"#REF!"}]
[null,"","",{"$f":"SUMIFS('TD-Lançamentos'!C:C,'TD-Lançamentos'!D:D,A46,'TD-Lançamentos'!B:B,\"c\")-SUMIFS('TD-Lançamentos'!C:C,'TD-Lançamentos'!D:D,A46,'TD-Lançamentos'!B:B,\"v\")","v":0},{"$f":"IF(D46=0,0,SUMIFS('TD-Lançamentos'!J:J,'TD-Lançamentos'!D:D,A46,'TD-Lançamentos'!B:B,\"c\")-SUMIFS('TD-Lançamentos'!J:J,'TD-Lançamentos'!D:D,A46,'TD-Lançamentos'!B:B,\"v\"))","v":0},0,null,{"$f":"IF(OR(A46=\"\",A46=\"(vazio)\"),\"\",tesourodireto(CONCATENATE(LEFT(A46,LEN(A46)-11),\" \",RIGHT(B46,4)),\"preço\"))","v":""},0,0,null,null,0,null,0,0,null,null,null,null,null,null,"",{"$error":"#REF!"}]
[null,"","",{"$f":"SUMIFS('TD-Lançamentos'!C:C,'TD-Lançamentos'!D:D,A47,'TD-Lançamentos'!B:B,\"c\")-SUMIFS('TD-Lançamentos'!C:C,'TD-Lançamentos'!D:D,A47,'TD-Lançamentos'!B:B,\"v\")","v":0},{"$f":"IF(D47=0,0,SUMIFS('TD-Lançamentos'!J:J,'TD-Lançamentos'!D:D,A47,'TD-Lançamentos'!B:B,\"c\")-SUMIFS('TD-Lançamentos'!J:J,'TD-Lançamentos'!D:D,A47,'TD-Lançamentos'!B:B,\"v\"))","v":0},0,null,{"$f":"IF(OR(A47=\"\",A47=\"(vazio)\"),\"\",tesourodireto(CONCATENATE(LEFT(A47,LEN(A47)-11),\" \",RIGHT(B47,4)),\"preço\"))","v":""},0,0,null,null,0,null,0,0,null,null,null,null,null,null,"",{"$error":"#REF!"}]
[null,"","",{"$f":"SUMIFS('TD-Lançamentos'!C:C,'TD-Lançamentos'!D:D,A48,'TD-Lançamentos'!B:B,\"c\")-SUMIFS('TD-Lançamentos'!C:C,'TD-Lançamentos'!D:D,A48,'TD-Lançamentos'!B:B,\"v\")","v":0},{"$f":"IF(D48=0,0,SUMIFS('TD-Lançamentos'!J:J,'TD-Lançamentos'!D:D,A48,'TD-Lançamentos'!B:B,\"c\")-SUMIFS('TD-Lançamentos'!J:J,'TD-Lançamentos'!D:D,A48,'TD-Lançamentos'!B:B,\"v\"))","v":0},0,null,{"$f":"IF(OR(A48=\"\",A48=\"(vazio)\"),\"\",tesourodireto(CONCATENATE(LEFT(A48,LEN(A48)-11),\" \",RIGHT(B48,4)),\"preço\"))","v":""},0,0,null,null,0,null,0,0,null,null,null,null,null,null,"",{"$error":"#REF!"}]
[null,"","",{"$f":"SUMIFS('TD-Lançamentos'!C:C,'TD-Lançamentos'!D:D,A49,'TD-Lançamentos'!B:B,\"c\")-SUMIFS('TD-Lançamentos'!C:C,'TD-Lançamentos'!D:D,A49,'TD-Lançamentos'!B:B,\"v\")","v":0},{"$f":"IF(D49=0,0,SUMIFS('TD-Lançamentos'!J:J,'TD-Lançamentos'!D:D,A49,'TD-Lançamentos'!B:B,\"c\")-SUMIFS('TD-Lançamentos'!J:J,'TD-Lançamentos'!D:D,A49,'TD-Lançamentos'!B:B,\"v\"))","v":0},0,null,{"$f":"IF(OR(A49=\"\",A49=\"(vazio)\"),\"\",tesourodireto(CONCATENATE(LEFT(A49,LEN(A49)-11),\" \",RIGHT(B49,4)),\"preço\"))","v":""},0,0,null,null,0,null,0,0,null,null,null,null,null,null,"",{"$error":"#REF!"}]
[null,"","",{"$f":"SUMIFS('TD-Lançamentos'!C:C,'TD-Lançamentos'!D:D,A50,'TD-Lançamentos'!B:B,\"c\")-SUMIFS('TD-Lançamentos'!C:C,'TD-Lançamentos'!D:D,A50,'TD-Lançamentos'!B:B,\"v\")","v":0},{"$f":"IF(D50=0,0,SUMIFS('TD-Lançamentos'!J:J,'TD-Lançamentos'!D:D,A50,'TD-Lançamentos'!B:B,\"c\")-SUMIFS('TD-Lançamentos'!J:J,'TD-Lançamentos'!D:D,A50,'TD-Lançamentos'!B:B,\"v\"))","v":0},0,null,{"$f":"IF(OR(A50=\"\",A50=\"(vazio)\"),\"\",tesourodireto(CONCATENATE(LEFT(A50,LEN(A50)-11),\" \",RIGHT(B50,4)),\"preço\"))","v":""},0,0,null,null,0,null,0,0,null,null,null,null,null,null,"",{"$error":"#REF!"}]
[null,"","",{"$f":"SUMIFS('TD-Lançamentos'!C:C,'TD-Lançamentos'!D:D,A51,'TD-Lançamentos'!B:B,\"c\")-SUMIFS('TD-Lançamentos'!C:C,'TD-Lançamentos'!D:D,A51,'TD-Lançamentos'!B:B,\"v\")","v":0},{"$f":"IF(D51=0,0,SUMIFS('TD-Lançamentos'!J:J,'TD-Lançamentos'!D:D,A51,'TD-Lançamentos'!B:B,\"c\")-SUMIFS('TD-Lançamentos'!J:J,'TD-Lançamentos'!D:D,A51,'TD-Lançamentos'!B:B,\"v\"))","v":0},0,null,{"$f":"IF(OR(A51=\"\",A51=\"(vazio)\"),\"\",tesourodireto(CONCATENATE(LEFT(A51,LEN(A51)-11),\" \",RIGHT(B51,4)),\"preço\"))","v":""},0,0,null,null,0,null,0,0,null,null,null,null,null,null,"",{"$error":"#REF!"}]
[null,"","",{"$f":"SUMIFS('TD-Lançamentos'!C:C,'TD-Lançamentos'!D:D,A52,'TD-Lançamentos'!B:B,\"c\")-SUMIFS('TD-Lançamentos'!C:C,'TD-Lançamentos'!D:D,A52,'TD-Lançamentos'!B:B,\"v\")","v":0},{"$f":"IF(D52=0,0,SUMIFS('TD-Lançamentos'!J:J,'TD-Lançamentos'!D:D,A52,'TD-Lançamentos'!B:B,\"c\")-SUMIFS('TD-Lançamentos'!J:J,'TD-Lançamentos'!D:D,A52,'TD-Lançamentos'!B:B,\"v\"))","v":0},0,null,{"$f":"IF(OR(A52=\"\",A52=\"(vazio)\"),\"\",tesourodireto(CONCATENATE(LEFT(A52,LEN(A52)-11),\" \",RIGHT(B52,4)),\"preço\"))","v":""},0,0,null,null,0,null,0,0,null,null,null,null,null,null,"",{"$error":"#REF!"}]
[null,"","",{"$f":"SUMIFS('TD-Lançamentos'!C:C,'TD-Lançamentos'!D:D,A53,'TD-Lançamentos'!B:B,\"c\")-SUMIFS('TD-Lançamentos'!C:C,'TD-Lançamentos'!D:D,A53,'TD-Lançamentos'!B:B,\"v\")","v":0},{"$f":"IF(D53=0,0,SUMIFS('TD-Lançamentos'!J:J,'TD-Lançamentos'!D:D,A53,'TD-Lançamentos'!B:B,\"c\")-SUMIFS('TD-Lançamentos'!J:J,'TD-Lançamentos'!D:D,A53,'TD-Lançamentos'!B:B,\"v\"))","v":0},0,null,{"$f":"IF(OR(A53=\"\",A53=\"(vazio)\"),\"\",tesourodireto(CONCATENATE(LEFT(A53,LEN(A53)-11),\" \",RIGHT(B53,4)),\"preço\"))","v":""},0,0,null,null,0,null,0,0,null,null,null,null,null,null,"",{"$error":"#REF!"}]
[null,"","",{"$f":"SUMIFS('TD-Lançamentos'!C:C,'TD-Lançamentos'!D:D,A54,'TD-Lançamentos'!B:B,\"c\")-SUMIFS('TD-Lançamentos'!C:C,'TD-Lançamentos'!D:D,A54,'TD-Lançamentos'!B:B,\"v\")","v":0},{"$f":"IF(D54=0,0,SUMIFS('TD-Lançamentos'!J:J,'TD-Lançamentos'!D:D,A54,'TD-Lançamentos'!B:B,\"c\")-SUMIFS('TD-Lançamentos'!J:J,'TD-Lançamentos'!D:D,A54,'TD-Lançamentos'!B:B,\"v\"))","v":0},0,null,{"$f":"IF(OR(A54=\"\",A54=\"(vazio)\"),\"\",tesourodireto(CONCATENATE(LEFT(A54,LEN(A54)-11),\" \",RIGHT(B54,4)),\"preço\"))","v":""},0,0,null,null,0,null,0,0,null,null,null,null,null,null,"",{"$error":"#REF!"}]
[null,"","",{"$f":"SUMIFS('TD-Lançamentos'!C:C,'TD-Lançamentos'!D:D,A55,'TD-Lançamentos'!B:B,\"c\")-SUMIFS('TD-Lançamentos'!C:C,'TD-Lançamentos'!D:D,A55,'TD-Lançamentos'!B:B,\"v\")","v":0},{"$f":"IF(D55=0,0,SUMIFS('TD-Lançamentos'!J:J,'TD-Lançamentos'!D:D,A55,'TD-Lançamentos'!B:B,\"c\")-SUMIFS('TD-Lançamentos'!J:J,'TD-Lançamentos'!D:D,A55,'TD-Lançamentos'!B:B,\"v\"))","v":0},0,null,{"$f":"IF(OR(A55=\"\",A55=\"(vazio)\"),\"\",tesourodireto(CONCATENATE(LEFT(A55,LEN(A55)-11),\" \",RIGHT(B55,4)),\"preço\"))","v":""},0,0,null,null,0,null,0,0,null,null,null,null,null,null,"",{"$error":"#REF!"}]
[null,"","",{"$f":"SUMIFS('TD-Lançamentos'!C:C,'TD-Lançamentos'!D:D,A56,'TD-Lançamentos'!B:B,\"c\")-SUMIFS('TD-Lançamentos'!C:C,'TD-Lançamentos'!D:D,A56,'TD-Lançamentos'!B:B,\"v\")","v":0},{"$f":"IF(D56=0,0,SUMIFS('TD-Lançamentos'!J:J,'TD-Lançamentos'!D:D,A56,'TD-Lançamentos'!B:B,\"c\")-SUMIFS('TD-Lançamentos'!J:J,'TD-Lançamentos'!D:D,A56,'TD-Lançamentos'!B:B,\"v\"))","v":0},0,null,{"$f":"IF(OR(A56=\"\",A56=\"(vazio)\"),\"\",tesourodireto(CONCATENATE(LEFT(A56,LEN(A56)-11),\" \",RIGHT(B56,4)),\"preço\"))","v":""},0,0,null,null,0,null,0,0,null,null,null,null,null,null,"",{"$error":"#REF!"}]
[null,"","",{"$f":"SUMIFS('TD-Lançamentos'!C:C,'TD-Lançamentos'!D:D,A57,'TD-Lançamentos'!B:B,\"c\")-SUMIFS('TD-Lançamentos'!C:C,'TD-Lançamentos'!D:D,A57,'TD-Lançamentos'!B:B,\"v\")","v":0},{"$f":"IF(D57=0,0,SUMIFS('TD-Lançamentos'!J:J,'TD-Lançamentos'!D:D,A57,'TD-Lançamentos'!B:B,\"c\")-SUMIFS('TD-Lançamentos'!J:J,'TD-Lançamentos'!D:D,A57,'TD-Lançamentos'!B:B,\"v\"))","v":0},0,null,{"$f":"IF(OR(A57=\"\",A57=\"(vazio)\"),\"\",tesourodireto(CONCATENATE(LEFT(A57,LEN(A57)-11),\" \",RIGHT(B57,4)),\"preço\"))","v":""},0,0,null,null,0,null,0,0,null,null,null,null,null,null,"",{"$error":"#REF!"}]
[null,"","",{"$f":"SUMIFS('TD-Lançamentos'!C:C,'TD-Lançamentos'!D:D,A58,'TD-Lançamentos'!B:B,\"c\")-SUMIFS('TD-Lançamentos'!C:C,'TD-Lançamentos'!D:D,A58,'TD-Lançamentos'!B:B,\"v\")","v":0},{"$f":"IF(D58=0,0,SUMIFS('TD-Lançamentos'!J:J,'TD-Lançamentos'!D:D,A58,'TD-Lançamentos'!B:B,\"c\")-SUMIFS('TD-Lançamentos'!J:J,'TD-Lançamentos'!D:D,A58,'TD-Lançamentos'!B:B,\"v\"))","v":0},0,null,{"$f":"IF(OR(A58=\"\",A58=\"(vazio)\"),\"\",tesourodireto(CONCATENATE(LEFT(A58,LEN(A58)-11),\" \",RIGHT(B58,4)),\"preço\"))","v":""},0,0,null,null,0,null,0,0,null,null,null,null,null,null,"",{"$error":"#REF!"}]
[null,"","",{"$f":"SUMIFS('TD-Lançamentos'!C:C,'TD-Lançamentos'!D:D,A59,'TD-Lançamentos'!B:B,\"c\")-SUMIFS('TD-Lançamentos'!C:C,'TD-Lançamentos'!D:D,A59,'TD-Lançamentos'!B:B,\"v\")","v":0},{"$f":"IF(D59=0,0,SUMIFS('TD-Lançamentos'!J:J,'TD-Lançamentos'!D:D,A59,'TD-Lançamentos'!B:B,\"c\")-SUMIFS('TD-Lançamentos'!J:J,'TD-Lançamentos'!D:D,A59,'TD-Lançamentos'!B:B,\"v\"))","v":0},0,null,{"$f":"IF(OR(A59=\"\",A59=\"(vazio)\"),\"\",tesourodireto(CONCATENATE(LEFT(A59,LEN(A59)-11),\" \",RIGHT(B59,4)),\"preço\"))","v":""},0,0,null,null,0,null,0,0,null,null,null,null,null,null,"",{"$error":"#REF!"}]
[null,"","",{"$f":"SUMIFS('TD-Lançamentos'!C:C,'TD-Lançamentos'!D:D,A60,'TD-Lançamentos'!B:B,\"c\")-SUMIFS('TD-Lançamentos'!C:C,'TD-Lançamentos'!D:D,A60,'TD-Lançamentos'!B:B,\"v\")","v":0},{"$f":"IF(D60=0,0,SUMIFS('TD-Lançamentos'!J:J,'TD-Lançamentos'!D:D,A60,'TD-Lançamentos'!B:B,\"c\")-SUMIFS('TD-Lançamentos'!J:J,'TD-Lançamentos'!D:D,A60,'TD-Lançamentos'!B:B,\"v\"))","v":0},0,null,{"$f":"IF(OR(A60=\"\",A60=\"(vazio)\"),\"\",tesourodireto(CONCATENATE(LEFT(A60,LEN(A60)-11),\" \",RIGHT(B60,4)),\"preço\"))","v":""},0,0,null,null,0,null,0,0,null,null,null,null,null,null,"",{"$error":"#REF!"}]
[null,"","",{"$f":"SUMIFS('TD-Lançamentos'!C:C,'TD-Lançamentos'!D:D,A61,'TD-Lançamentos'!B:B,\"c\")-SUMIFS('TD-Lançamentos'!C:C,'TD-Lançamentos'!D:D,A61,'TD-Lançamentos'!B:B,\"v\")","v":0},{"$f":"IF(D61=0,0,SUMIFS('TD-Lançamentos'!J:J,'TD-Lançamentos'!D:D,A61,'TD-Lançamentos'!B:B,\"c\")-SUMIFS('TD-Lançamentos'!J:J,'TD-Lançamentos'!D:D,A61,'TD-Lançamentos'!B:B,\"v\"))","v":0},0,null,{"$f":"IF(OR(A61=\"\",A61=\"(vazio)\"),\"\",tesourodireto(CONCATENATE(LEFT(A61,LEN(A61)-11),\" \",RIGHT(B61,4)),\"preço\"))","v":""},0,0,null,null,0,null,0,0,null,null,null,null,null,null,"",{"$error":"#REF!"}]
[null,"","",{"$f":"SUMIFS('TD-Lançamentos'!C:C,'TD-Lançamentos'!D:D,A62,'TD-Lançamentos'!B:B,\"c\")-SUMIFS('TD-Lançamentos'!C:C,'TD-Lançamentos'!D:D,A62,'TD-Lançamentos'!B:B,\"v\")","v":0},{"$f":"IF(D62=0,0,SUMIFS('TD-Lançamentos'!J:J,'TD-Lançamentos'!D:D,A62,'TD-Lançamentos'!B:B,\"c\")-SUMIFS('TD-Lançamentos'!J:J,'TD-Lançamentos'!D:D,A62,'TD-Lançamentos'!B:B,\"v\"))","v":0},0,null,{"$f":"IF(OR(A62=\"\",A62=\"(vazio)\"),\"\",tesourodireto(CONCATENATE(LEFT(A62,LEN(A62)-11),\" \",RIGHT(B62,4)),\"preço\"))","v":""},0,0,null,null,0,null,0,0,null,null,null,null,null,null,"",{"$error":"#REF!"}]
[null,"","",{"$f":"SUMIFS('TD-Lançamentos'!C:C,'TD-Lançamentos'!D:D,A63,'TD-Lançamentos'!B:B,\"c\")-SUMIFS('TD-Lançamentos'!C:C,'TD-Lançamentos'!D:D,A63,'TD-Lançamentos'!B:B,\"v\")","v":0},{"$f":"IF(D63=0,0,SUMIFS('TD-Lançamentos'!J:J,'TD-Lançamentos'!D:D,A63,'TD-Lançamentos'!B:B,\"c\")-SUMIFS('TD-Lançamentos'!J:J,'TD-Lançamentos'!D:D,A63,'TD-Lançamentos'!B:B,\"v\"))","v":0},0,null,{"$f":"IF(OR(A63=\"\",A63=\"(vazio)\"),\"\",tesourodireto(CONCATENATE(LEFT(A63,LEN(A63)-11),\" \",RIGHT(B63,4)),\"preço\"))","v":""},0,0,null,null,0,null,0,0,null,null,null,null,null,null,"",{"$error":"#REF!"}]
[null,"","",{"$f":"SUMIFS('TD-Lançamentos'!C:C,'TD-Lançamentos'!D:D,A64,'TD-Lançamentos'!B:B,\"c\")-SUMIFS('TD-Lançamentos'!C:C,'TD-Lançamentos'!D:D,A64,'TD-Lançamentos'!B:B,\"v\")","v":0},{"$f":"IF(D64=0,0,SUMIFS('TD-Lançamentos'!J:J,'TD-Lançamentos'!D:D,A64,'TD-Lançamentos'!B:B,\"c\")-SUMIFS('TD-Lançamentos'!J:J,'TD-Lançamentos'!D:D,A64,'TD-Lançamentos'!B:B,\"v\"))","v":0},0,null,{"$f":"IF(OR(A64=\"\",A64=\"(vazio)\"),\"\",tesourodireto(CONCATENATE(LEFT(A64,LEN(A64)-11),\" \",RIGHT(B64,4)),\"preço\"))","v":""},0,0,null,null,0,null,0,0,null,null,null,null,null,null,"",{"$error":"#REF!"}]
[null,"","",{"$f":"SUMIFS('TD-Lançamentos'!C:C,'TD-Lançamentos'!D:D,A65,'TD-Lançamentos'!B:B,\"c\")-SUMIFS('TD-Lançamentos'!C:C,'TD-Lançamentos'!D:D,A65,'TD-Lançamentos'!B:B,\"v\")","v":0},{"$f":"IF(D65=0,0,SUMIFS('TD-Lançamentos'!J:J,'TD-Lançamentos'!D:D,A65,'TD-Lançamentos'!B:B,\"c\")-SUMIFS('TD-Lançamentos'!J:J,'TD-Lançamentos'!D:D,A65,'TD-Lançamentos'!B:B,\"v\"))","v":0},0,null,{"$f":"IF(OR(A65=\"\",A65=\"(vazio)\"),\"\",tesourodireto(CONCATENATE(LEFT(A65,LEN(A65)-11),\" \",RIGHT(B65,4)),\"preço\"))","v":""},0,0,null,null,0,null,0,0,null,null,null,null,null,null,"",{"$error":"#REF!"}]
[null,"","",{"$f":"SUMIFS('TD-Lançamentos'!C:C,'TD-Lançamentos'!D:D,A66,'TD-Lançamentos'!B:B,\"c\")-SUMIFS('TD-Lançamentos'!C:C,'TD-Lançamentos'!D:D,A66,'TD-Lançamentos'!B:B,\"v\")","v":0},{"$f":"IF(D66=0,0,SUMIFS('TD-Lançamentos'!J:J,'TD-Lançamentos'!D:D,A66,'TD-Lançamentos'!B:B,\"c\")-SUMIFS('TD-Lançamentos'!J:J,'TD-Lançamentos'!D:D,A66,'TD-Lançamentos'!B:B,\"v\"))","v":0},0,null,{"$f":"IF(OR(A66=\"\",A66=\"(vazio)\"),\"\",tesourodireto(CONCATENATE(LEFT(A66,LEN(A66)-11),\" \",RIGHT(B66,4)),\"preço\"))","v":""},0,0,null,null,0,null,0,0,null,null,null,null,null,null,"",{"$error":"#REF!"}]
[null,"","",{"$f":"SUMIFS('TD-Lançamentos'!C:C,'TD-Lançamentos'!D:D,A67,'TD-Lançamentos'!B:B,\"c\")-SUMIFS('TD-Lançamentos'!C:C,'TD-Lançamentos'!D:D,A67,'TD-Lançamentos'!B:B,\"v\")","v":0},{"$f":"IF(D67=0,0,SUMIFS('TD-Lançamentos'!J:J,'TD-Lançamentos'!D:D,A67,'TD-Lançamentos'!B:B,\"c\")-SUMIFS('TD-Lançamentos'!J:J,'TD-Lançamentos'!D:D,A67,'TD-Lançamentos'!B:B,\"v\"))","v":0},0,null,{"$f":"IF(OR(A67=\"\",A67=\"(vazio)\"),\"\",tesourodireto(CONCATENATE(LEFT(A67,LEN(A67)-11),\" \",RIGHT(B67,4)),\"preço\"))","v":""},0,0,null,null,0,null,0,0,null,null,null,null,null,null,"",{"$error":"#REF!"}]
[null,{"$f":"IF(A68=\"\",\"\",RIGHT(A68,10))","v":""},{"$f":"IF(OR(A68=\"\",A68=\"(vazio)\"),\"\",LEFT(A68,LEN(A68)-11))","v":""},{"$f":"SUMIFS('TD-Lançamentos'!C:C,'TD-Lançamentos'!D:D,A68,'TD-Lançamentos'!B:B,\"c\")-SUMIFS('TD-Lançamentos'!C:C,'TD-Lançamentos'!D:D,A68,'TD-Lançamentos'!B:B,\"v\")","v":0},{"$f":"IF(D68=0,0,SUMIFS('TD-Lançamentos'!J:J,'TD-Lançamentos'!D:D,A68,'TD-Lançamentos'!B:B,\"c\")-SUMIFS('TD-Lançamentos'!J:J,'TD-Lançamentos'!D:D,A68,'TD-Lançamentos'!B:B,\"v\"))","v":0},{"$f":"IF(OR(E68=0,$S$9=0),0,E68/$S$9)","v":0},null,{"$f":"IF(OR(A68=\"\",A68=\"(vazio)\"),\"\",tesourodireto(CONCATENATE(LEFT(A68,LEN(A68)-11),\" \",RIGHT(B68,4)),\"preço\"))","v":""},{"$f":"IF(D68=\"\",0,IF(H68=\"\",E68,D68*H68))","v":0},{"$f":"IF($S$11=0,0,I68/$S$11)","v":0},null,null,{"$f":"IF(OR(L68=\"\",J68=\"\",F68=\"\"),0,IF($L$2=\"% ATUAL\",L68-J68,L68-F68))","v":0},null,{"$f":"IF(OR(E68=0,H68=\"\"),0,I68-E68)","v":0},{"$f":"IF(OR(E68=0,H68=\"\"),0,O68/E68)","v":0},null,null,null,null,null,null,"",{"$error":"#REF!"}]
[null,"","",{"$f":"SUMIFS('TD-Lançamentos'!C:C,'TD-Lançamentos'!D:D,A69,'TD-Lançamentos'!B:B,\"c\")-SUMIFS('TD-Lançamentos'!C:C,'TD-Lançamentos'!D:D,A69,'TD-Lançamentos'!B:B,\"v\")","v":0},{"$f":"IF(D69=0,0,SUMIFS('TD-Lançamentos'!J:J,'TD-Lançamentos'!D:D,A69,'TD-Lançamentos'!B:B,\"c\")-SUMIFS('TD-Lançamentos'!J:J,'TD-Lançamentos'!D:D,A69,'TD-Lançamentos'!B:B,\"v\"))","v":0},0,null,{"$f":"IF(OR(A69=\"\",A69=\"(vazio)\"),\"\",tesourodireto(CONCATENATE(LEFT(A69,LEN(A69)-11),\" \",RIGHT(B69,4)),\"preço\"))","v":""},0,0,null,null,0,null,0,0,null,null,null,null,null,null,"",{"$error":"#REF!"}]
[null,"","",{"$f":"SUMIFS('TD-Lançamentos'!C:C,'TD-Lançamentos'!D:D,A70,'TD-Lançamentos'!B:B,\"c\")-SUMIFS('TD-Lançamentos'!C:C,'TD-Lançamentos'!D:D,A70,'TD-Lançamentos'!B:B,\"v\")","v":0},{"$f":"IF(D70=0,0,SUMIFS('TD-Lançamentos'!J:J,'TD-Lançamentos'!D:D,A70,'TD-Lançamentos'!B:B,\"c\")-SUMIFS('TD-Lançamentos'!J:J,'TD-Lançamentos'!D:D,A70,'TD-Lançamentos'!B:B,\"v\"))","v":0},0,null,{"$f":"IF(OR(A70=\"\",A70=\"(vazio)\"),\"\",tesourodireto(CONCATENATE(LEFT(A70,LEN(A70)-11),\" \",RIGHT(B70,4)),\"preço\"))","v":""},0,0,null,null,0,null,0,0,null,null,null,null,null,null,"",{"$error":"#REF!"}]
[null,"","",{"$f":"SUMIFS('TD-Lançamentos'!C:C,'TD-Lançamentos'!D:D,A71,'TD-Lançamentos'!B:B,\"c\")-SUMIFS('TD-Lançamentos'!C:C,'TD-Lançamentos'!D:D,A71,'TD-Lançamentos'!B:B,\"v\")","v":0},{"$f":"IF(D71=0,0,SUMIFS('TD-Lançamentos'!J:J,'TD-Lançamentos'!D:D,A71,'TD-Lançamentos'!B:B,\"c\")-SUMIFS('TD-Lançamentos'!J:J,'TD-Lançamentos'!D:D,A71,'TD-Lançamentos'!B:B,\"v\"))","v":0},0,null,{"$f":"IF(OR(A71=\"\",A71=\"(vazio)\"),\"\",tesourodireto(CONCATENATE(LEFT(A71,LEN(A71)-11),\" \",RIGHT(B71,4)),\"preço\"))","v":""},0,0,null,null,0,null,0,0,null,null,null,null,null,null,"",{"$error":"#REF!"}]
[null,"","",{"$f":"SUMIFS('TD-Lançamentos'!C:C,'TD-Lançamentos'!D:D,A72,'TD-Lançamentos'!B:B,\"c\")-SUMIFS('TD-Lançamentos'!C:C,'TD-Lançamentos'!D:D,A72,'TD-Lançamentos'!B:B,\"v\")","v":0},{"$f":"IF(D72=0,0,SUMIFS('TD-Lançamentos'!J:J,'TD-Lançamentos'!D:D,A72,'TD-Lançamentos'!B:B,\"c\")-SUMIFS('TD-Lançamentos'!J:J,'TD-Lançamentos'!D:D,A72,'TD-Lançamentos'!B:B,\"v\"))","v":0},0,null,{"$f":"IF(OR(A72=\"\",A72=\"(vazio)\"),\"\",tesourodireto(CONCATENATE(LEFT(A72,LEN(A72)-11),\" \",RIGHT(B72,4)),\"preço\"))","v":""},0,0,null,null,0,null,0,0,null,null,null,null,null,null,"",{"$error":"#REF!"}]
[null,"","",{"$f":"SUMIFS('TD-Lançamentos'!C:C,'TD-Lançamentos'!D:D,A73,'TD-Lançamentos'!B:B,\"c\")-SUMIFS('TD-Lançamentos'!C:C,'TD-Lançamentos'!D:D,A73,'TD-Lançamentos'!B:B,\"v\")","v":0},{"$f":"IF(D73=0,0,SUMIFS('TD-Lançamentos'!J:J,'TD-Lançamentos'!D:D,A73,'TD-Lançamentos'!B:B,\"c\")-SUMIFS('TD-Lançamentos'!J:J,'TD-Lançamentos'!D:D,A73,'TD-Lançamentos'!B:B,\"v\"))","v":0},0,null,{"$f":"IF(OR(A73=\"\",A73=\"(vazio)\"),\"\",tesourodireto(CONCATENATE(LEFT(A73,LEN(A73)-11),\" \",RIGHT(B73,4)),\"preço\"))","v":""},0,0,null,null,0,null,0,0,null,null,null,null,null,null,"",{"$error":"#REF!"}]
[null,"","",{"$f":"SUMIFS('TD-Lançamentos'!C:C,'TD-Lançamentos'!D:D,A74,'TD-Lançamentos'!B:B,\"c\")-SUMIFS('TD-Lançamentos'!C:C,'TD-Lançamentos'!D:D,A74,'TD-Lançamentos'!B:B,\"v\")","v":0},{"$f":"IF(D74=0,0,SUMIFS('TD-Lançamentos'!J:J,'TD-Lançamentos'!D:D,A74,'TD-Lançamentos'!B:B,\"c\")-SUMIFS('TD-Lançamentos'!J:J,'TD-Lançamentos'!D:D,A74,'TD-Lançamentos'!B:B,\"v\"))","v":0},0,null,{"$f":"IF(OR(A74=\"\",A74=\"(vazio)\"),\"\",tesourodireto(CONCATENATE(LEFT(A74,LEN(A74)-11),\" \",RIGHT(B74,4)),\"preço\"))","v":""},0,0,null,null,0,null,0,0,null,null,null,null,null,null,"",{"$error":"#REF!"}]
[null,"","",{"$f":"SUMIFS('TD-Lançamentos'!C:C,'TD-Lançamentos'!D:D,A75,'TD-Lançamentos'!B:B,\"c\")-SUMIFS('TD-Lançamentos'!C:C,'TD-Lançamentos'!D:D,A75,'TD-Lançamentos'!B:B,\"v\")","v":0},{"$f":"IF(D75=0,0,SUMIFS('TD-Lançamentos'!J:J,'TD-Lançamentos'!D:D,A75,'TD-Lançamentos'!B:B,\"c\")-SUMIFS('TD-Lançamentos'!J:J,'TD-Lançamentos'!D:D,A75,'TD-Lançamentos'!B:B,\"v\"))","v":0},0,null,{"$f":"IF(OR(A75=\"\",A75=\"(vazio)\"),\"\",tesourodireto(CONCATENATE(LEFT(A75,LEN(A75)-11),\" \",RIGHT(B75,4)),\"preço\"))","v":""},0,0,null,null,0,null,0,0,null,null,null,null,null,null,"",{"$error":"#REF!"}]
[null,"","",{"$f":"SUMIFS('TD-Lançamentos'!C:C,'TD-Lançamentos'!D:D,A76,'TD-Lançamentos'!B:B,\"c\")-SUMIFS('TD-Lançamentos'!C:C,'TD-Lançamentos'!D:D,A76,'TD-Lançamentos'!B:B,\"v\")","v":0},{"$f":"IF(D76=0,0,SUMIFS('TD-Lançamentos'!J:J,'TD-Lançamentos'!D:D,A76,'TD-Lançamentos'!B:B,\"c\")-SUMIFS('TD-Lançamentos'!J:J,'TD-Lançamentos'!D:D,A76,'TD-Lançamentos'!B:B,\"v\"))","v":0},0,null,{"$f":"IF(OR(A76=\"\",A76=\"(vazio)\"),\"\",tesourodireto(CONCATENATE(LEFT(A76,LEN(A76)-11),\" \",RIGHT(B76,4)),\"preço\"))","v":""},0,0,null,null,0,null,0,0,null,null,null,null,null,null,"",{"$error":"#REF!"}]
[null,"","",{"$f":"SUMIFS('TD-Lançamentos'!C:C,'TD-Lançamentos'!D:D,A77,'TD-Lançamentos'!B:B,\"c\")-SUMIFS('TD-Lançamentos'!C:C,'TD-Lançamentos'!D:D,A77,'TD-Lançamentos'!B:B,\"v\")","v":0},{"$f":"IF(D77=0,0,SUMIFS('TD-Lançamentos'!J:J,'TD-Lançamentos'!D:D,A77,'TD-Lançamentos'!B:B,\"c\")-SUMIFS('TD-Lançamentos'!J:J,'TD-Lançamentos'!D:D,A77,'TD-Lançamentos'!B:B,\"v\"))","v":0},0,null,{"$f":"IF(OR(A77=\"\",A77=\"(vazio)\"),\"\",tesourodireto(CONCATENATE(LEFT(A77,LEN(A77)-11),\" \",RIGHT(B77,4)),\"preço\"))","v":""},0,0,null,null,0,null,0,0,null,null,null,null,null,null,"",{"$error":"#REF!"}]
[null,"","",{"$f":"SUMIFS('TD-Lançamentos'!C:C,'TD-Lançamentos'!D:D,A78,'TD-Lançamentos'!B:B,\"c\")-SUMIFS('TD-Lançamentos'!C:C,'TD-Lançamentos'!D:D,A78,'TD-Lançamentos'!B:B,\"v\")","v":0},{"$f":"IF(D78=0,0,SUMIFS('TD-Lançamentos'!J:J,'TD-Lançamentos'!D:D,A78,'TD-Lançamentos'!B:B,\"c\")-SUMIFS('TD-Lançamentos'!J:J,'TD-Lançamentos'!D:D,A78,'TD-Lançamentos'!B:B,\"v\"))","v":0},0,null,{"$f":"IF(OR(A78=\"\",A78=\"(vazio)\"),\"\",tesourodireto(CONCATENATE(LEFT(A78,LEN(A78)-11),\" \",RIGHT(B78,4)),\"preço\"))","v":""},0,0,null,null,0,null,0,0,null,null,null,null,null,null,{"$f":"IF(L78=\"\",\"\",L78-J78)","v":""},{"$f":"IF(OR($A425=\"TOTAL\",$A425=\"\"),\"\",$A425)","v":{"$error":"#REF!"}}]
[null,"","",{"$f":"SUMIFS('TD-Lançamentos'!C:C,'TD-Lançamentos'!D:D,A79,'TD-Lançamentos'!B:B,\"c\")-SUMIFS('TD-Lançamentos'!C:C,'TD-Lançamentos'!D:D,A79,'TD-Lançamentos'!B:B,\"v\")","v":0},{"$f":"IF(D79=0,0,SUMIFS('TD-Lançamentos'!J:J,'TD-Lançamentos'!D:D,A79,'TD-Lançamentos'!B:B,\"c\")-SUMIFS('TD-Lançamentos'!J:J,'TD-Lançamentos'!D:D,A79,'TD-Lançamentos'!B:B,\"v\"))","v":0},0,null,{"$f":"IF(OR(A79=\"\",A79=\"(vazio)\"),\"\",tesourodireto(CONCATENATE(LEFT(A79,LEN(A79)-11),\" \",RIGHT(B79,4)),\"preço\"))","v":""},0,0,null,null,0,null,0,0,null,null,null,null,null,null,"",{"$error":"#REF!"}]
[null,"","",{"$f":"SUMIFS('TD-Lançamentos'!C:C,'TD-Lançamentos'!D:D,A80,'TD-Lançamentos'!B:B,\"c\")-SUMIFS('TD-Lançamentos'!C:C,'TD-Lançamentos'!D:D,A80,'TD-Lançamentos'!B:B,\"v\")","v":0},{"$f":"IF(D80=0,0,SUMIFS('TD-Lançamentos'!J:J,'TD-Lançamentos'!D:D,A80,'TD-Lançamentos'!B:B,\"c\")-SUMIFS('TD-Lançamentos'!J:J,'TD-Lançamentos'!D:D,A80,'TD-Lançamentos'!B:B,\"v\"))","v":0},0,null,{"$f":"IF(OR(A80=\"\",A80=\"(vazio)\"),\"\",tesourodireto(CONCATENATE(LEFT(A80,LEN(A80)-11),\" \",RIGHT(B80,4)),\"preço\"))","v":""},0,0,null,null,0,null,0,0,null,null,null,null,null,null,"",{"$error":"#REF!"}]
[null,"","",{"$f":"SUMIFS('TD-Lançamentos'!C:C,'TD-Lançamentos'!D:D,A81,'TD-Lançamentos'!B:B,\"c\")-SUMIFS('TD-Lançamentos'!C:C,'TD-Lançamentos'!D:D,A81,'TD-Lançamentos'!B:B,\"v\")","v":0},{"$f":"IF(D81=0,0,SUMIFS('TD-Lançamentos'!J:J,'TD-Lançamentos'!D:D,A81,'TD-Lançamentos'!B:B,\"c\")-SUMIFS('TD-Lançamentos'!J:J,'TD-Lançamentos'!D:D,A81,'TD-Lançamentos'!B:B,\"v\"))","v":0},0,null,{"$f":"IF(OR(A81=\"\",A81=\"(vazio)\"),\"\",tesourodireto(CONCATENATE(LEFT(A81,LEN(A81)-11),\" \",RIGHT(B81,4)),\"preço\"))","v":""},0,0,null,null,0,null,0,0,null,null,null,null,null,null,"",{"$error":"#REF!"}]
[null,"","",{"$f":"SUMIFS('TD-Lançamentos'!C:C,'TD-Lançamentos'!D:D,A82,'TD-Lançamentos'!B:B,\"c\")-SUMIFS('TD-Lançamentos'!C:C,'TD-Lançamentos'!D:D,A82,'TD-Lançamentos'!B:B,\"v\")","v":0},{"$f":"IF(D82=0,0,SUMIFS('TD-Lançamentos'!J:J,'TD-Lançamentos'!D:D,A82,'TD-Lançamentos'!B:B,\"c\")-SUMIFS('TD-Lançamentos'!J:J,'TD-Lançamentos'!D:D,A82,'TD-Lançamentos'!B:B,\"v\"))","v":0},0,null,{"$f":"IF(OR(A82=\"\",A82=\"(vazio)\"),\"\",tesourodireto(CONCATENATE(LEFT(A82,LEN(A82)-11),\" \",RIGHT(B82,4)),\"preço\"))","v":""},0,0,null,null,0,null,0,0,null,null,null,null,null,null,"",{"$error":"#REF!"}]
[null,"","",{"$f":"SUMIFS('TD-Lançamentos'!C:C,'TD-Lançamentos'!D:D,A83,'TD-Lançamentos'!B:B,\"c\")-SUMIFS('TD-Lançamentos'!C:C,'TD-Lançamentos'!D:D,A83,'TD-Lançamentos'!B:B,\"v\")","v":0},{"$f":"IF(D83=0,0,SUMIFS('TD-Lançamentos'!J:J,'TD-Lançamentos'!D:D,A83,'TD-Lançamentos'!B:B,\"c\")-SUMIFS('TD-Lançamentos'!J:J,'TD-Lançamentos'!D:D,A83,'TD-Lançamentos'!B:B,\"v\"))","v":0},0,null,{"$f":"IF(OR(A83=\"\",A83=\"(vazio)\"),\"\",tesourodireto(CONCATENATE(LEFT(A83,LEN(A83)-11),\" \",RIGHT(B83,4)),\"preço\"))","v":""},0,0,null,null,0,null,0,0,null,null,null,null,null,null,"",{"$error":"#REF!"}]
[null,"","",{"$f":"SUMIFS('TD-Lançamentos'!C:C,'TD-Lançamentos'!D:D,A84,'TD-Lançamentos'!B:B,\"c\")-SUMIFS('TD-Lançamentos'!C:C,'TD-Lançamentos'!D:D,A84,'TD-Lançamentos'!B:B,\"v\")","v":0},{"$f":"IF(D84=0,0,SUMIFS('TD-Lançamentos'!J:J,'TD-Lançamentos'!D:D,A84,'TD-Lançamentos'!B:B,\"c\")-SUMIFS('TD-Lançamentos'!J:J,'TD-Lançamentos'!D:D,A84,'TD-Lançamentos'!B:B,\"v\"))","v":0},0,null,{"$f":"IF(OR(A84=\"\",A84=\"(vazio)\"),\"\",tesourodireto(CONCATENATE(LEFT(A84,LEN(A84)-11),\" \",RIGHT(B84,4)),\"preço\"))","v":""},0,0,null,null,0,null,0,0,null,null,null,null,null,null,"",{"$error":"#REF!"}]
[null,"","",{"$f":"SUMIFS('TD-Lançamentos'!C:C,'TD-Lançamentos'!D:D,A85,'TD-Lançamentos'!B:B,\"c\")-SUMIFS('TD-Lançamentos'!C:C,'TD-Lançamentos'!D:D,A85,'TD-Lançamentos'!B:B,\"v\")","v":0},{"$f":"IF(D85=0,0,SUMIFS('TD-Lançamentos'!J:J,'TD-Lançamentos'!D:D,A85,'TD-Lançamentos'!B:B,\"c\")-SUMIFS('TD-Lançamentos'!J:J,'TD-Lançamentos'!D:D,A85,'TD-Lançamentos'!B:B,\"v\"))","v":0},0,null,{"$f":"IF(OR(A85=\"\",A85=\"(vazio)\"),\"\",tesourodireto(CONCATENATE(LEFT(A85,LEN(A85)-11),\" \",RIGHT(B85,4)),\"preço\"))","v":""},0,0,null,null,0,null,0,0,null,null,null,null,null,null,"",{"$error":"#REF!"}]
[null,"","",{"$f":"SUMIFS('TD-Lançamentos'!C:C,'TD-Lançamentos'!D:D,A86,'TD-Lançamentos'!B:B,\"c\")-SUMIFS('TD-Lançamentos'!C:C,'TD-Lançamentos'!D:D,A86,'TD-Lançamentos'!B:B,\"v\")","v":0},{"$f":"IF(D86=0,0,SUMIFS('TD-Lançamentos'!J:J,'TD-Lançamentos'!D:D,A86,'TD-Lançamentos'!B:B,\"c\")-SUMIFS('TD-Lançamentos'!J:J,'TD-Lançamentos'!D:D,A86,'TD-Lançamentos'!B:B,\"v\"))","v":0},0,null,{"$f":"IF(OR(A86=\"\",A86=\"(vazio)\"),\"\",tesourodireto(CONCATENATE(LEFT(A86,LEN(A86)-11),\" \",RIGHT(B86,4)),\"preço\"))","v":""},0,0,null,null,0,null,0,0,null,null,null,null,null,null,"",{"$error":"#REF!"}]
[null,"","",{"$f":"SUMIFS('TD-Lançamentos'!C:C,'TD-Lançamentos'!D:D,A87,'TD-Lançamentos'!B:B,\"c\")-SUMIFS('TD-Lançamentos'!C:C,'TD-Lançamentos'!D:D,A87,'TD-Lançamentos'!B:B,\"v\")","v":0},{"$f":"IF(D87=0,0,SUMIFS('TD-Lançamentos'!J:J,'TD-Lançamentos'!D:D,A87,'TD-Lançamentos'!B:B,\"c\")-SUMIFS('TD-Lançamentos'!J:J,'TD-Lançamentos'!D:D,A87,'TD-Lançamentos'!B:B,\"v\"))","v":0},0,null,{"$f":"IF(OR(A87=\"\",A87=\"(vazio)\"),\"\",tesourodireto(CONCATENATE(LEFT(A87,LEN(A87)-11),\" \",RIGHT(B87,4)),\"preço\"))","v":""},0,0,null,null,0,null,0,0,null,null,null,null,null,null,"",{"$error":"#REF!"}]
[null,"","",{"$f":"SUMIFS('TD-Lançamentos'!C:C,'TD-Lançamentos'!D:D,A88,'TD-Lançamentos'!B:B,\"c\")-SUMIFS('TD-Lançamentos'!C:C,'TD-Lançamentos'!D:D,A88,'TD-Lançamentos'!B:B,\"v\")","v":0},{"$f":"IF(D88=0,0,SUMIFS('TD-Lançamentos'!J:J,'TD-Lançamentos'!D:D,A88,'TD-Lançamentos'!B:B,\"c\")-SUMIFS('TD-Lançamentos'!J:J,'TD-Lançamentos'!D:D,A88,'TD-Lançamentos'!B:B,\"v\"))","v":0},0,null,{"$f":"IF(OR(A88=\"\",A88=\"(vazio)\"),\"\",tesourodireto(CONCATENATE(LEFT(A88,LEN(A88)-11),\" \",RIGHT(B88,4)),\"preço\"))","v":""},0,0,null,null,0,null,0,0,null,null,null,null,null,null,"",{"$error":"#REF!"}]
[null,"","",{"$f":"SUMIFS('TD-Lançamentos'!C:C,'TD-Lançamentos'!D:D,A89,'TD-Lançamentos'!B:B,\"c\")-SUMIFS('TD-Lançamentos'!C:C,'TD-Lançamentos'!D:D,A89,'TD-Lançamentos'!B:B,\"v\")","v":0},{"$f":"IF(D89=0,0,SUMIFS('TD-Lançamentos'!J:J,'TD-Lançamentos'!D:D,A89,'TD-Lançamentos'!B:B,\"c\")-SUMIFS('TD-Lançamentos'!J:J,'TD-Lançamentos'!D:D,A89,'TD-Lançamentos'!B:B,\"v\"))","v":0},0,null,{"$f":"IF(OR(A89=\"\",A89=\"(vazio)\"),\"\",tesourodireto(CONCATENATE(LEFT(A89,LEN(A89)-11),\" \",RIGHT(B89,4)),\"preço\"))","v":""},0,0,null,null,0,null,0,0,null,null,null,null,null,null,"",{"$error":"#REF!"}]
[null,"","",{"$f":"SUMIFS('TD-Lançamentos'!C:C,'TD-Lançamentos'!D:D,A90,'TD-Lançamentos'!B:B,\"c\")-SUMIFS('TD-Lançamentos'!C:C,'TD-Lançamentos'!D:D,A90,'TD-Lançamentos'!B:B,\"v\")","v":0},{"$f":"IF(D90=0,0,SUMIFS('TD-Lançamentos'!J:J,'TD-Lançamentos'!D:D,A90,'TD-Lançamentos'!B:B,\"c\")-SUMIFS('TD-Lançamentos'!J:J,'TD-Lançamentos'!D:D,A90,'TD-Lançamentos'!B:B,\"v\"))","v":0},0,null,{"$f":"IF(OR(A90=\"\",A90=\"(vazio)\"),\"\",tesourodireto(CONCATENATE(LEFT(A90,LEN(A90)-11),\" \",RIGHT(B90,4)),\"preço\"))","v":""},0,0,null,null,0,null,0,0,null,null,null,null,null,null,"",{"$error":"#REF!"}]
[null,"","",{"$f":"SUMIFS('TD-Lançamentos'!C:C,'TD-Lançamentos'!D:D,A91,'TD-Lançamentos'!B:B,\"c\")-SUMIFS('TD-Lançamentos'!C:C,'TD-Lançamentos'!D:D,A91,'TD-Lançamentos'!B:B,\"v\")","v":0},{"$f":"IF(D91=0,0,SUMIFS('TD-Lançamentos'!J:J,'TD-Lançamentos'!D:D,A91,'TD-Lançamentos'!B:B,\"c\")-SUMIFS('TD-Lançamentos'!J:J,'TD-Lançamentos'!D:D,A91,'TD-Lançamentos'!B:B,\"v\"))","v":0},0,null,{"$f":"IF(OR(A91=\"\",A91=\"(vazio)\"),\"\",tesourodireto(CONCATENATE(LEFT(A91,LEN(A91)-11),\" \",RIGHT(B91,4)),\"preço\"))","v":""},0,0,null,null,0,null,0,0,null,null,null,null,null,null,"",{"$error":"#REF!"}]
[null,"","",{"$f":"SUMIFS('TD-Lançamentos'!C:C,'TD-Lançamentos'!D:D,A92,'TD-Lançamentos'!B:B,\"c\")-SUMIFS('TD-Lançamentos'!C:C,'TD-Lançamentos'!D:D,A92,'TD-Lançamentos'!B:B,\"v\")","v":0},{"$f":"IF(D92=0,0,SUMIFS('TD-Lançamentos'!J:J,'TD-Lançamentos'!D:D,A92,'TD-Lançamentos'!B:B,\"c\")-SUMIFS('TD-Lançamentos'!J:J,'TD-Lançamentos'!D:D,A92,'TD-Lançamentos'!B:B,\"v\"))","v":0},0,null,{"$f":"IF(OR(A92=\"\",A92=\"(vazio)\"),\"\",tesourodireto(CONCATENATE(LEFT(A92,LEN(A92)-11),\" \",RIGHT(B92,4)),\"preço\"))","v":""},0,0,null,null,0,null,0,0,null,null,null,null,null,null,"",{"$error":"#REF!"}]
[null,"","",{"$f":"SUMIFS('TD-Lançamentos'!C:C,'TD-Lançamentos'!D:D,A93,'TD-Lançamentos'!B:B,\"c\")-SUMIFS('TD-Lançamentos'!C:C,'TD-Lançamentos'!D:D,A93,'TD-Lançamentos'!B:B,\"v\")","v":0},{"$f":"IF(D93=0,0,SUMIFS('TD-Lançamentos'!J:J,'TD-Lançamentos'!D:D,A93,'TD-Lançamentos'!B:B,\"c\")-SUMIFS('TD-Lançamentos'!J:J,'TD-Lançamentos'!D:D,A93,'TD-Lançamentos'!B:B,\"v\"))","v":0},0,null,{"$f":"IF(OR(A93=\"\",A93=\"(vazio)\"),\"\",tesourodireto(CONCATENATE(LEFT(A93,LEN(A93)-11),\" \",RIGHT(B93,4)),\"preço\"))","v":""},0,0,null,null,0,null,0,0,null,null,null,null,null,null,"",{"$error":"#REF!"}]
[null,"","",{"$f":"SUMIFS('TD-Lançamentos'!C:C,'TD-Lançamentos'!D:D,A94,'TD-Lançamentos'!B:B,\"c\")-SUMIFS('TD-Lançamentos'!C:C,'TD-Lançamentos'!D:D,A94,'TD-Lançamentos'!B:B,\"v\")","v":0},{"$f":"IF(D94=0,0,SUMIFS('TD-Lançamentos'!J:J,'TD-Lançamentos'!D:D,A94,'TD-Lançamentos'!B:B,\"c\")-SUMIFS('TD-Lançamentos'!J:J,'TD-Lançamentos'!D:D,A94,'TD-Lançamentos'!B:B,\"v\"))","v":0},0,null,{"$f":"IF(OR(A94=\"\",A94=\"(vazio)\"),\"\",tesourodireto(CONCATENATE(LEFT(A94,LEN(A94)-11),\" \",RIGHT(B94,4)),\"preço\"))","v":""},0,0,null,null,0,null,0,0,null,null,null,null,null,null,"",{"$error":"#REF!"}]
[null,"","",{"$f":"SUMIFS('TD-Lançamentos'!C:C,'TD-Lançamentos'!D:D,A95,'TD-Lançamentos'!B:B,\"c\")-SUMIFS('TD-Lançamentos'!C:C,'TD-Lançamentos'!D:D,A95,'TD-Lançamentos'!B:B,\"v\")","v":0},{"$f":"IF(D95=0,0,SUMIFS('TD-Lançamentos'!J:J,'TD-Lançamentos'!D:D,A95,'TD-Lançamentos'!B:B,\"c\")-SUMIFS('TD-Lançamentos'!J:J,'TD-Lançamentos'!D:D,A95,'TD-Lançamentos'!B:B,\"v\"))","v":0},0,null,{"$f":"IF(OR(A95=\"\",A95=\"(vazio)\"),\"\",tesourodireto(CONCATENATE(LEFT(A95,LEN(A95)-11),\" \",RIGHT(B95,4)),\"preço\"))","v":""},0,0,null,null,0,null,0,0,null,null,null,null,null,null,"",{"$error":"#REF!"}]
[null,"","",{"$f":"SUMIFS('TD-Lançamentos'!C:C,'TD-Lançamentos'!D:D,A96,'TD-Lançamentos'!B:B,\"c\")-SUMIFS('TD-Lançamentos'!C:C,'TD-Lançamentos'!D:D,A96,'TD-Lançamentos'!B:B,\"v\")","v":0},{"$f":"IF(D96=0,0,SUMIFS('TD-Lançamentos'!J:J,'TD-Lançamentos'!D:D,A96,'TD-Lançamentos'!B:B,\"c\")-SUMIFS('TD-Lançamentos'!J:J,'TD-Lançamentos'!D:D,A96,'TD-Lançamentos'!B:B,\"v\"))","v":0},0,null,{"$f":"IF(OR(A96=\"\",A96=\"(vazio)\"),\"\",tesourodireto(CONCATENATE(LEFT(A96,LEN(A96)-11),\" \",RIGHT(B96,4)),\"preço\"))","v":""},0,0,null,null,0,null,0,0,null,null,null,null,null,null,"",{"$error":"#REF!"}]
[null,"","",{"$f":"SUMIFS('TD-Lançamentos'!C:C,'TD-Lançamentos'!D:D,A97,'TD-Lançamentos'!B:B,\"c\")-SUMIFS('TD-Lançamentos'!C:C,'TD-Lançamentos'!D:D,A97,'TD-Lançamentos'!B:B,\"v\")","v":0},{"$f":"IF(D97=0,0,SUMIFS('TD-Lançamentos'!J:J,'TD-Lançamentos'!D:D,A97,'TD-Lançamentos'!B:B,\"c\")-SUMIFS('TD-Lançamentos'!J:J,'TD-Lançamentos'!D:D,A97,'TD-Lançamentos'!B:B,\"v\"))","v":0},0,null,{"$f":"IF(OR(A97=\"\",A97=\"(vazio)\"),\"\",tesourodireto(CONCATENATE(LEFT(A97,LEN(A97)-11),\" \",RIGHT(B97,4)),\"preço\"))","v":""},0,0,null,null,0,null,0,0,null,null,null,null,null,null,"",{"$error":"#REF!"}]
[null,"","",{"$f":"SUMIFS('TD-Lançamentos'!C:C,'TD-Lançamentos'!D:D,A98,'TD-Lançamentos'!B:B,\"c\")-SUMIFS('TD-Lançamentos'!C:C,'TD-Lançamentos'!D:D,A98,'TD-Lançamentos'!B:B,\"v\")","v":0},{"$f":"IF(D98=0,0,SUMIFS('TD-Lançamentos'!J:J,'TD-Lançamentos'!D:D,A98,'TD-Lançamentos'!B:B,\"c\")-SUMIFS('TD-Lançamentos'!J:J,'TD-Lançamentos'!D:D,A98,'TD-Lançamentos'!B:B,\"v\"))","v":0},0,null,{"$f":"IF(OR(A98=\"\",A98=\"(vazio)\"),\"\",tesourodireto(CONCATENATE(LEFT(A98,LEN(A98)-11),\" \",RIGHT(B98,4)),\"preço\"))","v":""},0,0,null,null,0,null,0,0,null,null,null,null,null,null,"",{"$error":"#REF!"}]
[null,"","",{"$f":"SUMIFS('TD-Lançamentos'!C:C,'TD-Lançamentos'!D:D,A99,'TD-Lançamentos'!B:B,\"c\")-SUMIFS('TD-Lançamentos'!C:C,'TD-Lançamentos'!D:D,A99,'TD-Lançamentos'!B:B,\"v\")","v":0},{"$f":"IF(D99=0,0,SUMIFS('TD-Lançamentos'!J:J,'TD-Lançamentos'!D:D,A99,'TD-Lançamentos'!B:B,\"c\")-SUMIFS('TD-Lançamentos'!J:J,'TD-Lançamentos'!D:D,A99,'TD-Lançamentos'!B:B,\"v\"))","v":0},0,null,{"$f":"IF(OR(A99=\"\",A99=\"(vazio)\"),\"\",tesourodireto(CONCATENATE(LEFT(A99,LEN(A99)-11),\" \",RIGHT(B99,4)),\"preço\"))","v":""},0,0,null,null,0,null,0,0,null,null,null,null,null,null,"",{"$error":"#REF!"}]
[null,"","",{"$f":"SUMIFS('TD-Lançamentos'!C:C,'TD-Lançamentos'!D:D,A100,'TD-Lançamentos'!B:B,\"c\")-SUMIFS('TD-Lançamentos'!C:C,'TD-Lançamentos'!D:D,A100,'TD-Lançamentos'!B:B,\"v\")","v":0},{"$f":"IF(D100=0,0,SUMIFS('TD-Lançamentos'!J:J,'TD-Lançamentos'!D:D,A100,'TD-Lançamentos'!B:B,\"c\")-SUMIFS('TD-Lançamentos'!J:J,'TD-Lançamentos'!D:D,A100,'TD-Lançamentos'!B:B,\"v\"))","v":0},0,null,{"$f":"IF(OR(A100=\"\",A100=\"(vazio)\"),\"\",tesourodireto(CONCATENATE(LEFT(A100,LEN(A100)-11),\" \",RIGHT(B100,4)),\"preço\"))","v":""},0,0,null,null,0,null,0,0,null,null,null,null,null,null,"",{"$error":"#REF!"}]
[null,"","",{"$f":"SUMIFS('TD-Lançamentos'!C:C,'TD-Lançamentos'!D:D,A101,'TD-Lançamentos'!B:B,\"c\")-SUMIFS('TD-Lançamentos'!C:C,'TD-Lançamentos'!D:D,A101,'TD-Lançamentos'!B:B,\"v\")","v":0},{"$f":"IF(D101=0,0,SUMIFS('TD-Lançamentos'!J:J,'TD-Lançamentos'!D:D,A101,'TD-Lançamentos'!B:B,\"c\")-SUMIFS('TD-Lançamentos'!J:J,'TD-Lançamentos'!D:D,A101,'TD-Lançamentos'!B:B,\"v\"))","v":0},0,null,{"$f":"IF(OR(A101=\"\",A101=\"(vazio)\"),\"\",tesourodireto(CONCATENATE(LEFT(A101,LEN(A101)-11),\" \",RIGHT(B101,4)),\"preço\"))","v":""},0,0,null,null,0,null,0,0,null,null,null,null,null,null,"",{"$error":"#REF!"}]
[null,"","",{"$f":"SUMIFS('TD-Lançamentos'!C:C,'TD-Lançamentos'!D:D,A102,'TD-Lançamentos'!B:B,\"c\")-SUMIFS('TD-Lançamentos'!C:C,'TD-Lançamentos'!D:D,A102,'TD-Lançamentos'!B:B,\"v\")","v":0},{"$f":"IF(D102=0,0,SUMIFS('TD-Lançamentos'!J:J,'TD-Lançamentos'!D:D,A102,'TD-Lançamentos'!B:B,\"c\")-SUMIFS('TD-Lançamentos'!J:J,'TD-Lançamentos'!D:D,A102,'TD-Lançamentos'!B:B,\"v\"))","v":0},0,null,{"$f":"IF(OR(A102=\"\",A102=\"(vazio)\"),\"\",tesourodireto(CONCATENATE(LEFT(A102,LEN(A102)-11),\" \",RIGHT(B102,4)),\"preço\"))","v":""},0,0,null,null,0,null,0,0,null,null,null,null,null,null,"",{"$error":"#REF!"}]
[null,"","",{"$f":"SUMIFS('TD-Lançamentos'!C:C,'TD-Lançamentos'!D:D,A103,'TD-Lançamentos'!B:B,\"c\")-SUMIFS('TD-Lançamentos'!C:C,'TD-Lançamentos'!D:D,A103,'TD-Lançamentos'!B:B,\"v\")","v":0},{"$f":"IF(D103=0,0,SUMIFS('TD-Lançamentos'!J:J,'TD-Lançamentos'!D:D,A103,'TD-Lançamentos'!B:B,\"c\")-SUMIFS('TD-Lançamentos'!J:J,'TD-Lançamentos'!D:D,A103,'TD-Lançamentos'!B:B,\"v\"))","v":0},0,null,{"$f":"IF(OR(A103=\"\",A103=\"(vazio)\"),\"\",tesourodireto(CONCATENATE(LEFT(A103,LEN(A103)-11),\" \",RIGHT(B103,4)),\"preço\"))","v":""},0,0,null,null,0,null,0,0,null,null,null,null,null,null,"",{"$error":"#REF!"}]
[null,"","",{"$f":"SUMIFS('TD-Lançamentos'!C:C,'TD-Lançamentos'!D:D,A104,'TD-Lançamentos'!B:B,\"c\")-SUMIFS('TD-Lançamentos'!C:C,'TD-Lançamentos'!D:D,A104,'TD-Lançamentos'!B:B,\"v\")","v":0},{"$f":"IF(D104=0,0,SUMIFS('TD-Lançamentos'!J:J,'TD-Lançamentos'!D:D,A104,'TD-Lançamentos'!B:B,\"c\")-SUMIFS('TD-Lançamentos'!J:J,'TD-Lançamentos'!D:D,A104,'TD-Lançamentos'!B:B,\"v\"))","v":0},0,null,{"$f":"IF(OR(A104=\"\",A104=\"(vazio)\"),\"\",tesourodireto(CONCATENATE(LEFT(A104,LEN(A104)-11),\" \",RIGHT(B104,4)),\"preço\"))","v":""},0,0,null,null,0,null,0,0,null,null,null,null,null,null,"",{"$error":"#REF!"}]
[null,"","",{"$f":"SUMIFS('TD-Lançamentos'!C:C,'TD-Lançamentos'!D:D,A105,'TD-Lançamentos'!B:B,\"c\")-SUMIFS('TD-Lançamentos'!C:C,'TD-Lançamentos'!D:D,A105,'TD-Lançamentos'!B:B,\"v\")","v":0},{"$f":"IF(D105=0,0,SUMIFS('TD-Lançamentos'!J:J,'TD-Lançamentos'!D:D,A105,'TD-Lançamentos'!B:B,\"c\")-SUMIFS('TD-Lançamentos'!J:J,'TD-Lançamentos'!D:D,A105,'TD-Lançamentos'!B:B,\"v\"))","v":0},0,null,{"$f":"IF(OR(A105=\"\",A105=\"(vazio)\"),\"\",tesourodireto(CONCATENATE(LEFT(A105,LEN(A105)-11),\" \",RIGHT(B105,4)),\"preço\"))","v":""},0,0,null,null,0,null,0,0,null,null,null,null,null,null,"",{"$error":"#REF!"}]
[null,"","",{"$f":"SUMIFS('TD-Lançamentos'!C:C,'TD-Lançamentos'!D:D,A106,'TD-Lançamentos'!B:B,\"c\")-SUMIFS('TD-Lançamentos'!C:C,'TD-Lançamentos'!D:D,A106,'TD-Lançamentos'!B:B,\"v\")","v":0},{"$f":"IF(D106=0,0,SUMIFS('TD-Lançamentos'!J:J,'TD-Lançamentos'!D:D,A106,'TD-Lançamentos'!B:B,\"c\")-SUMIFS('TD-Lançamentos'!J:J,'TD-Lançamentos'!D:D,A106,'TD-Lançamentos'!B:B,\"v\"))","v":0},0,null,{"$f":"IF(OR(A106=\"\",A106=\"(vazio)\"),\"\",tesourodireto(CONCATENATE(LEFT(A106,LEN(A106)-11),\" \",RIGHT(B106,4)),\"preço\"))","v":""},0,0,null,null,0,null,0,0,null,null,null,null,null,null,"",{"$error":"#REF!"}]
[null,"","",{"$f":"SUMIFS('TD-Lançamentos'!C:C,'TD-Lançamentos'!D:D,A107,'TD-Lançamentos'!B:B,\"c\")-SUMIFS('TD-Lançamentos'!C:C,'TD-Lançamentos'!D:D,A107,'TD-Lançamentos'!B:B,\"v\")","v":0},{"$f":"IF(D107=0,0,SUMIFS('TD-Lançamentos'!J:J,'TD-Lançamentos'!D:D,A107,'TD-Lançamentos'!B:B,\"c\")-SUMIFS('TD-Lançamentos'!J:J,'TD-Lançamentos'!D:D,A107,'TD-Lançamentos'!B:B,\"v\"))","v":0},0,null,{"$f":"IF(OR(A107=\"\",A107=\"(vazio)\"),\"\",tesourodireto(CONCATENATE(LEFT(A107,LEN(A107)-11),\" \",RIGHT(B107,4)),\"preço\"))","v":""},0,0,null,null,0,null,0,0,null,null,null,null,null,null,"",{"$error":"#REF!"}]
[null,"","",{"$f":"SUMIFS('TD-Lançamentos'!C:C,'TD-Lançamentos'!D:D,A108,'TD-Lançamentos'!B:B,\"c\")-SUMIFS('TD-Lançamentos'!C:C,'TD-Lançamentos'!D:D,A108,'TD-Lançamentos'!B:B,\"v\")","v":0},{"$f":"IF(D108=0,0,SUMIFS('TD-Lançamentos'!J:J,'TD-Lançamentos'!D:D,A108,'TD-Lançamentos'!B:B,\"c\")-SUMIFS('TD-Lançamentos'!J:J,'TD-Lançamentos'!D:D,A108,'TD-Lançamentos'!B:B,\"v\"))","v":0},0,null,{"$f":"IF(OR(A108=\"\",A108=\"(vazio)\"),\"\",tesourodireto(CONCATENATE(LEFT(A108,LEN(A108)-11),\" \",RIGHT(B108,4)),\"preço\"))","v":""},0,0,null,null,0,null,0,0,null,null,null,null,null,null,"",{"$error":"#REF!"}]
[null,"","",{"$f":"SUMIFS('TD-Lançamentos'!C:C,'TD-Lançamentos'!D:D,A109,'TD-Lançamentos'!B:B,\"c\")-SUMIFS('TD-Lançamentos'!C:C,'TD-Lançamentos'!D:D,A109,'TD-Lançamentos'!B:B,\"v\")","v":0},{"$f":"IF(D109=0,0,SUMIFS('TD-Lançamentos'!J:J,'TD-Lançamentos'!D:D,A109,'TD-Lançamentos'!B:B,\"c\")-SUMIFS('TD-Lançamentos'!J:J,'TD-Lançamentos'!D:D,A109,'TD-Lançamentos'!B:B,\"v\"))","v":0},0,null,{"$f":"IF(OR(A109=\"\",A109=\"(vazio)\"),\"\",tesourodireto(CONCATENATE(LEFT(A109,LEN(A109)-11),\" \",RIGHT(B109,4)),\"preço\"))","v":""},0,0,null,null,0,null,0,0,null,null,null,null,null,null,"",{"$error":"#REF!"}]
[null,"","",{"$f":"SUMIFS('TD-Lançamentos'!C:C,'TD-Lançamentos'!D:D,A110,'TD-Lançamentos'!B:B,\"c\")-SUMIFS('TD-Lançamentos'!C:C,'TD-Lançamentos'!D:D,A110,'TD-Lançamentos'!B:B,\"v\")","v":0},{"$f":"IF(D110=0,0,SUMIFS('TD-Lançamentos'!J:J,'TD-Lançamentos'!D:D,A110,'TD-Lançamentos'!B:B,\"c\")-SUMIFS('TD-Lançamentos'!J:J,'TD-Lançamentos'!D:D,A110,'TD-Lançamentos'!B:B,\"v\"))","v":0},0,null,{"$f":"IF(OR(A110=\"\",A110=\"(vazio)\"),\"\",tesourodireto(CONCATENATE(LEFT(A110,LEN(A110)-11),\" \",RIGHT(B110,4)),\"preço\"))","v":""},0,0,null,null,0,null,0,0,null,null,null,null,null,null,"",{"$error":"#REF!"}]
[null,"","",{"$f":"SUMIFS('TD-Lançamentos'!C:C,'TD-Lançamentos'!D:D,A111,'TD-Lançamentos'!B:B,\"c\")-SUMIFS('TD-Lançamentos'!C:C,'TD-Lançamentos'!D:D,A111,'TD-Lançamentos'!B:B,\"v\")","v":0},{"$f":"IF(D111=0,0,SUMIFS('TD-Lançamentos'!J:J,'TD-Lançamentos'!D:D,A111,'TD-Lançamentos'!B:B,\"c\")-SUMIFS('TD-Lançamentos'!J:J,'TD-Lançamentos'!D:D,A111,'TD-Lançamentos'!B:B,\"v\"))","v":0},0,null,{"$f":"IF(OR(A111=\"\",A111=\"(vazio)\"),\"\",tesourodireto(CONCATENATE(LEFT(A111,LEN(A111)-11),\" \",RIGHT(B111,4)),\"preço\"))","v":""},0,0,null,null,0,null,0,0,null,null,null,null,null,null,"",{"$error":"#REF!"}]
[null,"","",{"$f":"SUMIFS('TD-Lançamentos'!C:C,'TD-Lançamentos'!D:D,A112,'TD-Lançamentos'!B:B,\"c\")-SUMIFS('TD-Lançamentos'!C:C,'TD-Lançamentos'!D:D,A112,'TD-Lançamentos'!B:B,\"v\")","v":0},{"$f":"IF(D112=0,0,SUMIFS('TD-Lançamentos'!J:J,'TD-Lançamentos'!D:D,A112,'TD-Lançamentos'!B:B,\"c\")-SUMIFS('TD-Lançamentos'!J:J,'TD-Lançamentos'!D:D,A112,'TD-Lançamentos'!B:B,\"v\"))","v":0},0,null,{"$f":"IF(OR(A112=\"\",A112=\"(vazio)\"),\"\",tesourodireto(CONCATENATE(LEFT(A112,LEN(A112)-11),\" \",RIGHT(B112,4)),\"preço\"))","v":""},0,0,null,null,0,null,0,0,null,null,null,null,null,null,"",{"$error":"#REF!"}]
[null,"","",{"$f":"SUMIFS('TD-Lançamentos'!C:C,'TD-Lançamentos'!D:D,A113,'TD-Lançamentos'!B:B,\"c\")-SUMIFS('TD-Lançamentos'!C:C,'TD-Lançamentos'!D:D,A113,'TD-Lançamentos'!B:B,\"v\")","v":0},{"$f":"IF(D113=0,0,SUMIFS('TD-Lançamentos'!J:J,'TD-Lançamentos'!D:D,A113,'TD-Lançamentos'!B:B,\"c\")-SUMIFS('TD-Lançamentos'!J:J,'TD-Lançamentos'!D:D,A113,'TD-Lançamentos'!B:B,\"v\"))","v":0},0,null,{"$f":"IF(OR(A113=\"\",A113=\"(vazio)\"),\"\",tesourodireto(CONCATENATE(LEFT(A113,LEN(A113)-11),\" \",RIGHT(B113,4)),\"preço\"))","v":""},0,0,null,null,0,null,0,0,null,null,null,null,null,null,"",{"$error":"#REF!"}]
[null,"","",{"$f":"SUMIFS('TD-Lançamentos'!C:C,'TD-Lançamentos'!D:D,A114,'TD-Lançamentos'!B:B,\"c\")-SUMIFS('TD-Lançamentos'!C:C,'TD-Lançamentos'!D:D,A114,'TD-Lançamentos'!B:B,\"v\")","v":0},{"$f":"IF(D114=0,0,SUMIFS('TD-Lançamentos'!J:J,'TD-Lançamentos'!D:D,A114,'TD-Lançamentos'!B:B,\"c\")-SUMIFS('TD-Lançamentos'!J:J,'TD-Lançamentos'!D:D,A114,'TD-Lançamentos'!B:B,\"v\"))","v":0},0,null,{"$f":"IF(OR(A114=\"\",A114=\"(vazio)\"),\"\",tesourodireto(CONCATENATE(LEFT(A114,LEN(A114)-11),\" \",RIGHT(B114,4)),\"preço\"))","v":""},0,0,null,null,0,null,0,0,null,null,null,null,null,null,"",{"$error":"#REF!"}]
[null,"","",{"$f":"SUMIFS('TD-Lançamentos'!C:C,'TD-Lançamentos'!D:D,A115,'TD-Lançamentos'!B:B,\"c\")-SUMIFS('TD-Lançamentos'!C:C,'TD-Lançamentos'!D:D,A115,'TD-Lançamentos'!B:B,\"v\")","v":0},{"$f":"IF(D115=0,0,SUMIFS('TD-Lançamentos'!J:J,'TD-Lançamentos'!D:D,A115,'TD-Lançamentos'!B:B,\"c\")-SUMIFS('TD-Lançamentos'!J:J,'TD-Lançamentos'!D:D,A115,'TD-Lançamentos'!B:B,\"v\"))","v":0},0,null,{"$f":"IF(OR(A115=\"\",A115=\"(vazio)\"),\"\",tesourodireto(CONCATENATE(LEFT(A115,LEN(A115)-11),\" \",RIGHT(B115,4)),\"preço\"))","v":""},0,0,null,null,0,null,0,0,null,null,null,null,null,null,"",{"$error":"#REF!"}]
[null,"","",{"$f":"SUMIFS('TD-Lançamentos'!C:C,'TD-Lançamentos'!D:D,A116,'TD-Lançamentos'!B:B,\"c\")-SUMIFS('TD-Lançamentos'!C:C,'TD-Lançamentos'!D:D,A116,'TD-Lançamentos'!B:B,\"v\")","v":0},{"$f":"IF(D116=0,0,SUMIFS('TD-Lançamentos'!J:J,'TD-Lançamentos'!D:D,A116,'TD-Lançamentos'!B:B,\"c\")-SUMIFS('TD-Lançamentos'!J:J,'TD-Lançamentos'!D:D,A116,'TD-Lançamentos'!B:B,\"v\"))","v":0},0,null,{"$f":"IF(OR(A116=\"\",A116=\"(vazio)\"),\"\",tesourodireto(CONCATENATE(LEFT(A116,LEN(A116)-11),\" \",RIGHT(B116,4)),\"preço\"))","v":""},0,0,null,null,0,null,0,0,null,null,null,null,null,null,"",{"$error":"#REF!"}]
[null,"","",{"$f":"SUMIFS('TD-Lançamentos'!C:C,'TD-Lançamentos'!D:D,A117,'TD-Lançamentos'!B:B,\"c\")-SUMIFS('TD-Lançamentos'!C:C,'TD-Lançamentos'!D:D,A117,'TD-Lançamentos'!B:B,\"v\")","v":0},{"$f":"IF(D117=0,0,SUMIFS('TD-Lançamentos'!J:J,'TD-Lançamentos'!D:D,A117,'TD-Lançamentos'!B:B,\"c\")-SUMIFS('TD-Lançamentos'!J:J,'TD-Lançamentos'!D:D,A117,'TD-Lançamentos'!B:B,\"v\"))","v":0},0,null,{"$f":"IF(OR(A117=\"\",A117=\"(vazio)\"),\"\",tesourodireto(CONCATENATE(LEFT(A117,LEN(A117)-11),\" \",RIGHT(B117,4)),\"preço\"))","v":""},0,0,null,null,0,null,0,0,null,null,null,null,null,null,"",{"$error":"#REF!"}]
[null,"","",{"$f":"SUMIFS('TD-Lançamentos'!C:C,'TD-Lançamentos'!D:D,A118,'TD-Lançamentos'!B:B,\"c\")-SUMIFS('TD-Lançamentos'!C:C,'TD-Lançamentos'!D:D,A118,'TD-Lançamentos'!B:B,\"v\")","v":0},{"$f":"IF(D118=0,0,SUMIFS('TD-Lançamentos'!J:J,'TD-Lançamentos'!D:D,A118,'TD-Lançamentos'!B:B,\"c\")-SUMIFS('TD-Lançamentos'!J:J,'TD-Lançamentos'!D:D,A118,'TD-Lançamentos'!B:B,\"v\"))","v":0},0,null,{"$f":"IF(OR(A118=\"\",A118=\"(vazio)\"),\"\",tesourodireto(CONCATENATE(LEFT(A118,LEN(A118)-11),\" \",RIGHT(B118,4)),\"preço\"))","v":""},0,0,null,null,0,null,0,0,null,null,null,null,null,null,"",{"$error":"#REF!"}]
[null,"","",{"$f":"SUMIFS('TD-Lançamentos'!C:C,'TD-Lançamentos'!D:D,A119,'TD-Lançamentos'!B:B,\"c\")-SUMIFS('TD-Lançamentos'!C:C,'TD-Lançamentos'!D:D,A119,'TD-Lançamentos'!B:B,\"v\")","v":0},{"$f":"IF(D119=0,0,SUMIFS('TD-Lançamentos'!J:J,'TD-Lançamentos'!D:D,A119,'TD-Lançamentos'!B:B,\"c\")-SUMIFS('TD-Lançamentos'!J:J,'TD-Lançamentos'!D:D,A119,'TD-Lançamentos'!B:B,\"v\"))","v":0},0,null,{"$f":"IF(OR(A119=\"\",A119=\"(vazio)\"),\"\",tesourodireto(CONCATENATE(LEFT(A119,LEN(A119)-11),\" \",RIGHT(B119,4)),\"preço\"))","v":""},0,0,null,null,0,null,0,0,null,null,null,null,null,null,"",{"$error":"#REF!"}]
[null,"","",{"$f":"SUMIFS('TD-Lançamentos'!C:C,'TD-Lançamentos'!D:D,A120,'TD-Lançamentos'!B:B,\"c\")-SUMIFS('TD-Lançamentos'!C:C,'TD-Lançamentos'!D:D,A120,'TD-Lançamentos'!B:B,\"v\")","v":0},{"$f":"IF(D120=0,0,SUMIFS('TD-Lançamentos'!J:J,'TD-Lançamentos'!D:D,A120,'TD-Lançamentos'!B:B,\"c\")-SUMIFS('TD-Lançamentos'!J:J,'TD-Lançamentos'!D:D,A120,'TD-Lançamentos'!B:B,\"v\"))","v":0},0,null,{"$f":"IF(OR(A120=\"\",A120=\"(vazio)\"),\"\",tesourodireto(CONCATENATE(LEFT(A120,LEN(A120)-11),\" \",RIGHT(B120,4)),\"preço\"))","v":""},0,0,null,null,0,null,0,0,null,null,null,null,null,null,"",{"$error":"#REF!"}]
[null,"","",{"$f":"SUMIFS('TD-Lançamentos'!C:C,'TD-Lançamentos'!D:D,A121,'TD-Lançamentos'!B:B,\"c\")-SUMIFS('TD-Lançamentos'!C:C,'TD-Lançamentos'!D:D,A121,'TD-Lançamentos'!B:B,\"v\")","v":0},{"$f":"IF(D121=0,0,SUMIFS('TD-Lançamentos'!J:J,'TD-Lançamentos'!D:D,A121,'TD-Lançamentos'!B:B,\"c\")-SUMIFS('TD-Lançamentos'!J:J,'TD-Lançamentos'!D:D,A121,'TD-Lançamentos'!B:B,\"v\"))","v":0},0,null,{"$f":"IF(OR(A121=\"\",A121=\"(vazio)\"),\"\",tesourodireto(CONCATENATE(LEFT(A121,LEN(A121)-11),\" \",RIGHT(B121,4)),\"preço\"))","v":""},0,0,null,null,0,null,0,0,null,null,null,null,null,null,"",{"$error":"#REF!"}]
[null,"","",{"$f":"SUMIFS('TD-Lançamentos'!C:C,'TD-Lançamentos'!D:D,A122,'TD-Lançamentos'!B:B,\"c\")-SUMIFS('TD-Lançamentos'!C:C,'TD-Lançamentos'!D:D,A122,'TD-Lançamentos'!B:B,\"v\")","v":0},{"$f":"IF(D122=0,0,SUMIFS('TD-Lançamentos'!J:J,'TD-Lançamentos'!D:D,A122,'TD-Lançamentos'!B:B,\"c\")-SUMIFS('TD-Lançamentos'!J:J,'TD-Lançamentos'!D:D,A122,'TD-Lançamentos'!B:B,\"v\"))","v":0},0,null,{"$f":"IF(OR(A122=\"\",A122=\"(vazio)\"),\"\",tesourodireto(CONCATENATE(LEFT(A122,LEN(A122)-11),\" \",RIGHT(B122,4)),\"preço\"))","v":""},0,0,null,null,0,null,0,0,null,null,null,null,null,null,"",{"$error":"#REF!"}]
[null,"","",{"$f":"SUMIFS('TD-Lançamentos'!C:C,'TD-Lançamentos'!D:D,A123,'TD-Lançamentos'!B:B,\"c\")-SUMIFS('TD-Lançamentos'!C:C,'TD-Lançamentos'!D:D,A123,'TD-Lançamentos'!B:B,\"v\")","v":0},{"$f":"IF(D123=0,0,SUMIFS('TD-Lançamentos'!J:J,'TD-Lançamentos'!D:D,A123,'TD-Lançamentos'!B:B,\"c\")-SUMIFS('TD-Lançamentos'!J:J,'TD-Lançamentos'!D:D,A123,'TD-Lançamentos'!B:B,\"v\"))","v":0},0,null,{"$f":"IF(OR(A123=\"\",A123=\"(vazio)\"),\"\",tesourodireto(CONCATENATE(LEFT(A123,LEN(A123)-11),\" \",RIGHT(B123,4)),\"preço\"))","v":""},0,0,null,null,0,null,0,0,null,null,null,null,null,null,"",{"$error":"#REF!"}]
[null,"","",{"$f":"SUMIFS('TD-Lançamentos'!C:C,'TD-Lançamentos'!D:D,A124,'TD-Lançamentos'!B:B,\"c\")-SUMIFS('TD-Lançamentos'!C:C,'TD-Lançamentos'!D:D,A124,'TD-Lançamentos'!B:B,\"v\")","v":0},{"$f":"IF(D124=0,0,SUMIFS('TD-Lançamentos'!J:J,'TD-Lançamentos'!D:D,A124,'TD-Lançamentos'!B:B,\"c\")-SUMIFS('TD-Lançamentos'!J:J,'TD-Lançamentos'!D:D,A124,'TD-Lançamentos'!B:B,\"v\"))","v":0},0,null,{"$f":"IF(OR(A124=\"\",A124=\"(vazio)\"),\"\",tesourodireto(CONCATENATE(LEFT(A124,LEN(A124)-11),\" \",RIGHT(B124,4)),\"preço\"))","v":""},0,0,null,null,0,null,0,0,null,null,null,null,null,null,"",{"$error":"#REF!"}]
[null,"","",{"$f":"SUMIFS('TD-Lançamentos'!C:C,'TD-Lançamentos'!D:D,A125,'TD-Lançamentos'!B:B,\"c\")-SUMIFS('TD-Lançamentos'!C:C,'TD-Lançamentos'!D:D,A125,'TD-Lançamentos'!B:B,\"v\")","v":0},{"$f":"IF(D125=0,0,SUMIFS('TD-Lançamentos'!J:J,'TD-Lançamentos'!D:D,A125,'TD-Lançamentos'!B:B,\"c\")-SUMIFS('TD-Lançamentos'!J:J,'TD-Lançamentos'!D:D,A125,'TD-Lançamentos'!B:B,\"v\"))","v":0},0,null,{"$f":"IF(OR(A125=\"\",A125=\"(vazio)\"),\"\",tesourodireto(CONCATENATE(LEFT(A125,LEN(A125)-11),\" \",RIGHT(B125,4)),\"preço\"))","v":""},0,0,null,null,0,null,0,0,null,null,null,null,null,null,"",{"$error":"#REF!"}]
[null,"","",{"$f":"SUMIFS('TD-Lançamentos'!C:C,'TD-Lançamentos'!D:D,A126,'TD-Lançamentos'!B:B,\"c\")-SUMIFS('TD-Lançamentos'!C:C,'TD-Lançamentos'!D:D,A126,'TD-Lançamentos'!B:B,\"v\")","v":0},{"$f":"IF(D126=0,0,SUMIFS('TD-Lançamentos'!J:J,'TD-Lançamentos'!D:D,A126,'TD-Lançamentos'!B:B,\"c\")-SUMIFS('TD-Lançamentos'!J:J,'TD-Lançamentos'!D:D,A126,'TD-Lançamentos'!B:B,\"v\"))","v":0},0,null,{"$f":"IF(OR(A126=\"\",A126=\"(vazio)\"),\"\",tesourodireto(CONCATENATE(LEFT(A126,LEN(A126)-11),\" \",RIGHT(B126,4)),\"preço\"))","v":""},0,0,null,null,0,null,0,0,null,null,null,null,null,null,"",{"$error":"#REF!"}]
[null,"","",{"$f":"SUMIFS('TD-Lançamentos'!C:C,'TD-Lançamentos'!D:D,A127,'TD-Lançamentos'!B:B,\"c\")-SUMIFS('TD-Lançamentos'!C:C,'TD-Lançamentos'!D:D,A127,'TD-Lançamentos'!B:B,\"v\")","v":0},{"$f":"IF(D127=0,0,SUMIFS('TD-Lançamentos'!J:J,'TD-Lançamentos'!D:D,A127,'TD-Lançamentos'!B:B,\"c\")-SUMIFS('TD-Lançamentos'!J:J,'TD-Lançamentos'!D:D,A127,'TD-Lançamentos'!B:B,\"v\"))","v":0},0,null,{"$f":"IF(OR(A127=\"\",A127=\"(vazio)\"),\"\",tesourodireto(CONCATENATE(LEFT(A127,LEN(A127)-11),\" \",RIGHT(B127,4)),\"preço\"))","v":""},0,0,null,null,0,null,0,0,null,null,null,null,null,null,"",{"$error":"#REF!"}]
[null,"","",{"$f":"SUMIFS('TD-Lançamentos'!C:C,'TD-Lançamentos'!D:D,A128,'TD-Lançamentos'!B:B,\"c\")-SUMIFS('TD-Lançamentos'!C:C,'TD-Lançamentos'!D:D,A128,'TD-Lançamentos'!B:B,\"v\")","v":0},{"$f":"IF(D128=0,0,SUMIFS('TD-Lançamentos'!J:J,'TD-Lançamentos'!D:D,A128,'TD-Lançamentos'!B:B,\"c\")-SUMIFS('TD-Lançamentos'!J:J,'TD-Lançamentos'!D:D,A128,'TD-Lançamentos'!B:B,\"v\"))","v":0},0,null,{"$f":"IF(OR(A128=\"\",A128=\"(vazio)\"),\"\",tesourodireto(CONCATENATE(LEFT(A128,LEN(A128)-11),\" \",RIGHT(B128,4)),\"preço\"))","v":""},0,0,null,null,0,null,0,0,null,null,null,null,null,null,"",{"$error":"#REF!"}]
[null,"","",{"$f":"SUMIFS('TD-Lançamentos'!C:C,'TD-Lançamentos'!D:D,A129,'TD-Lançamentos'!B:B,\"c\")-SUMIFS('TD-Lançamentos'!C:C,'TD-Lançamentos'!D:D,A129,'TD-Lançamentos'!B:B,\"v\")","v":0},{"$f":"IF(D129=0,0,SUMIFS('TD-Lançamentos'!J:J,'TD-Lançamentos'!D:D,A129,'TD-Lançamentos'!B:B,\"c\")-SUMIFS('TD-Lançamentos'!J:J,'TD-Lançamentos'!D:D,A129,'TD-Lançamentos'!B:B,\"v\"))","v":0},0,null,{"$f":"IF(OR(A129=\"\",A129=\"(vazio)\"),\"\",tesourodireto(CONCATENATE(LEFT(A129,LEN(A129)-11),\" \",RIGHT(B129,4)),\"preço\"))","v":""},0,0,null,null,0,null,0,0,null,null,null,null,null,null,"",{"$error":"#REF!"}]
[null,"","",{"$f":"SUMIFS('TD-Lançamentos'!C:C,'TD-Lançamentos'!D:D,A130,'TD-Lançamentos'!B:B,\"c\")-SUMIFS('TD-Lançamentos'!C:C,'TD-Lançamentos'!D:D,A130,'TD-Lançamentos'!B:B,\"v\")","v":0},{"$f":"IF(D130=0,0,SUMIFS('TD-Lançamentos'!J:J,'TD-Lançamentos'!D:D,A130,'TD-Lançamentos'!B:B,\"c\")-SUMIFS('TD-Lançamentos'!J:J,'TD-Lançamentos'!D:D,A130,'TD-Lançamentos'!B:B,\"v\"))","v":0},0,null,{"$f":"IF(OR(A130=\"\",A130=\"(vazio)\"),\"\",tesourodireto(CONCATENATE(LEFT(A130,LEN(A130)-11),\" \",RIGHT(B130,4)),\"preço\"))","v":""},0,0,null,null,0,null,0,0,null,null,null,null,null,null,"",{"$error":"#REF!"}]
[null,"","",{"$f":"SUMIFS('TD-Lançamentos'!C:C,'TD-Lançamentos'!D:D,A131,'TD-Lançamentos'!B:B,\"c\")-SUMIFS('TD-Lançamentos'!C:C,'TD-Lançamentos'!D:D,A131,'TD-Lançamentos'!B:B,\"v\")","v":0},{"$f":"IF(D131=0,0,SUMIFS('TD-Lançamentos'!J:J,'TD-Lançamentos'!D:D,A131,'TD-Lançamentos'!B:B,\"c\")-SUMIFS('TD-Lançamentos'!J:J,'TD-Lançamentos'!D:D,A131,'TD-Lançamentos'!B:B,\"v\"))","v":0},0,null,{"$f":"IF(OR(A131=\"\",A131=\"(vazio)\"),\"\",tesourodireto(CONCATENATE(LEFT(A131,LEN(A131)-11),\" \",RIGHT(B131,4)),\"preço\"))","v":""},0,0,null,null,0,null,0,0,null,null,null,null,null,null,"",{"$error":"#REF!"}]
[null,{"$f":"IF(A132=\"\",\"\",RIGHT(A132,10))","v":""},{"$f":"IF(OR(A132=\"\",A132=\"(vazio)\"),\"\",LEFT(A132,LEN(A132)-11))","v":""},{"$f":"SUMIFS('TD-Lançamentos'!C:C,'TD-Lançamentos'!D:D,A132,'TD-Lançamentos'!B:B,\"c\")-SUMIFS('TD-Lançamentos'!C:C,'TD-Lançamentos'!D:D,A132,'TD-Lançamentos'!B:B,\"v\")","v":0},{"$f":"IF(D132=0,0,SUMIFS('TD-Lançamentos'!J:J,'TD-Lançamentos'!D:D,A132,'TD-Lançamentos'!B:B,\"c\")-SUMIFS('TD-Lançamentos'!J:J,'TD-Lançamentos'!D:D,A132,'TD-Lançamentos'!B:B,\"v\"))","v":0},{"$f":"IF(OR(E132=0,$S$9=0),0,E132/$S$9)","v":0},null,{"$f":"IF(OR(A132=\"\",A132=\"(vazio)\"),\"\",tesourodireto(CONCATENATE(LEFT(A132,LEN(A132)-11),\" \",RIGHT(B132,4)),\"preço\"))","v":""},{"$f":"IF(D132=\"\",0,IF(H132=\"\",E132,D132*H132))","v":0},{"$f":"IF($S$11=0,0,I132/$S$11)","v":0},null,null,{"$f":"IF(OR(L132=\"\",J132=\"\",F132=\"\"),0,IF($L$2=\"% ATUAL\",L132-J132,L132-F132))","v":0},null,{"$f":"IF(OR(E132=0,H132=\"\"),0,I132-E132)","v":0},{"$f":"IF(OR(E132=0,H132=\"\"),0,O132/E132)","v":0},null,null,null,null,null,null,"",{"$error":"#REF!"}]
[null,"","",{"$f":"SUMIFS('TD-Lançamentos'!C:C,'TD-Lançamentos'!D:D,A133,'TD-Lançamentos'!B:B,\"c\")-SUMIFS('TD-Lançamentos'!C:C,'TD-Lançamentos'!D:D,A133,'TD-Lançamentos'!B:B,\"v\")","v":0},{"$f":"IF(D133=0,0,SUMIFS('TD-Lançamentos'!J:J,'TD-Lançamentos'!D:D,A133,'TD-Lançamentos'!B:B,\"c\")-SUMIFS('TD-Lançamentos'!J:J,'TD-Lançamentos'!D:D,A133,'TD-Lançamentos'!B:B,\"v\"))","v":0},0,null,{"$f":"IF(OR(A133=\"\",A133=\"(vazio)\"),\"\",tesourodireto(CONCATENATE(LEFT(A133,LEN(A133)-11),\" \",RIGHT(B133,4)),\"preço\"))","v":""},0,0,null,null,0,null,0,0,null,null,null,null,null,null,"",{"$error":"#REF!"}]
[null,"","",{"$f":"SUMIFS('TD-Lançamentos'!C:C,'TD-Lançamentos'!D:D,A134,'TD-Lançamentos'!B:B,\"c\")-SUMIFS('TD-Lançamentos'!C:C,'TD-Lançamentos'!D:D,A134,'TD-Lançamentos'!B:B,\"v\")","v":0},{"$f":"IF(D134=0,0,SUMIFS('TD-Lançamentos'!J:J,'TD-Lançamentos'!D:D,A134,'TD-Lançamentos'!B:B,\"c\")-SUMIFS('TD-Lançamentos'!J:J,'TD-Lançamentos'!D:D,A134,'TD-Lançamentos'!B:B,\"v\"))","v":0},0,null,{"$f":"IF(OR(A134=\"\",A134=\"(vazio)\"),\"\",tesourodireto(CONCATENATE(LEFT(A134,LEN(A134)-11),\" \",RIGHT(B134,4)),\"preço\"))","v":""},0,0,null,null,0,null,0,0,null,null,null,null,null,null,"",{"$error":"#REF!"}]
[null,"","",{"$f":"SUMIFS('TD-Lançamentos'!C:C,'TD-Lançamentos'!D:D,A135,'TD-Lançamentos'!B:B,\"c\")-SUMIFS('TD-Lançamentos'!C:C,'TD-Lançamentos'!D:D,A135,'TD-Lançamentos'!B:B,\"v\")","v":0},{"$f":"IF(D135=0,0,SUMIFS('TD-Lançamentos'!J:J,'TD-Lançamentos'!D:D,A135,'TD-Lançamentos'!B:B,\"c\")-SUMIFS('TD-Lançamentos'!J:J,'TD-Lançamentos'!D:D,A135,'TD-Lançamentos'!B:B,\"v\"))","v":0},0,null,{"$f":"IF(OR(A135=\"\",A135=\"(vazio)\"),\"\",tesourodireto(CONCATENATE(LEFT(A135,LEN(A135)-11),\" \",RIGHT(B135,4)),\"preço\"))","v":""},0,0,null,null,0,null,0,0,null,null,null,null,null,null,"",{"$error":"#REF!"}]
[null,"","",{"$f":"SUMIFS('TD-Lançamentos'!C:C,'TD-Lançamentos'!D:D,A136,'TD-Lançamentos'!B:B,\"c\")-SUMIFS('TD-Lançamentos'!C:C,'TD-Lançamentos'!D:D,A136,'TD-Lançamentos'!B:B,\"v\")","v":0},{"$f":"IF(D136=0,0,SUMIFS('TD-Lançamentos'!J:J,'TD-Lançamentos'!D:D,A136,'TD-Lançamentos'!B:B,\"c\")-SUMIFS('TD-Lançamentos'!J:J,'TD-Lançamentos'!D:D,A136,'TD-Lançamentos'!B:B,\"v\"))","v":0},0,null,{"$f":"IF(OR(A136=\"\",A136=\"(vazio)\"),\"\",tesourodireto(CONCATENATE(LEFT(A136,LEN(A136)-11),\" \",RIGHT(B136,4)),\"preço\"))","v":""},0,0,null,null,0,null,0,0,null,null,null,null,null,null,"",{"$error":"#REF!"}]
[null,"","",{"$f":"SUMIFS('TD-Lançamentos'!C:C,'TD-Lançamentos'!D:D,A137,'TD-Lançamentos'!B:B,\"c\")-SUMIFS('TD-Lançamentos'!C:C,'TD-Lançamentos'!D:D,A137,'TD-Lançamentos'!B:B,\"v\")","v":0},{"$f":"IF(D137=0,0,SUMIFS('TD-Lançamentos'!J:J,'TD-Lançamentos'!D:D,A137,'TD-Lançamentos'!B:B,\"c\")-SUMIFS('TD-Lançamentos'!J:J,'TD-Lançamentos'!D:D,A137,'TD-Lançamentos'!B:B,\"v\"))","v":0},0,null,{"$f":"IF(OR(A137=\"\",A137=\"(vazio)\"),\"\",tesourodireto(CONCATENATE(LEFT(A137,LEN(A137)-11),\" \",RIGHT(B137,4)),\"preço\"))","v":""},0,0,null,null,0,null,0,0,null,null,null,null,null,null,"",{"$error":"#REF!"}]
[null,"","",{"$f":"SUMIFS('TD-Lançamentos'!C:C,'TD-Lançamentos'!D:D,A138,'TD-Lançamentos'!B:B,\"c\")-SUMIFS('TD-Lançamentos'!C:C,'TD-Lançamentos'!D:D,A138,'TD-Lançamentos'!B:B,\"v\")","v":0},{"$f":"IF(D138=0,0,SUMIFS('TD-Lançamentos'!J:J,'TD-Lançamentos'!D:D,A138,'TD-Lançamentos'!B:B,\"c\")-SUMIFS('TD-Lançamentos'!J:J,'TD-Lançamentos'!D:D,A138,'TD-Lançamentos'!B:B,\"v\"))","v":0},0,null,{"$f":"IF(OR(A138=\"\",A138=\"(vazio)\"),\"\",tesourodireto(CONCATENATE(LEFT(A138,LEN(A138)-11),\" \",RIGHT(B138,4)),\"preço\"))","v":""},0,0,null,null,0,null,0,0,null,null,null,null,null,null,"",{"$error":"#REF!"}]
[null,"","",{"$f":"SUMIFS('TD-Lançamentos'!C:C,'TD-Lançamentos'!D:D,A139,'TD-Lançamentos'!B:B,\"c\")-SUMIFS('TD-Lançamentos'!C:C,'TD-Lançamentos'!D:D,A139,'TD-Lançamentos'!B:B,\"v\")","v":0},{"$f":"IF(D139=0,0,SUMIFS('TD-Lançamentos'!J:J,'TD-Lançamentos'!D:D,A139,'TD-Lançamentos'!B:B,\"c\")-SUMIFS('TD-Lançamentos'!J:J,'TD-Lançamentos'!D:D,A139,'TD-Lançamentos'!B:B,\"v\"))","v":0},0,null,{"$f":"IF(OR(A139=\"\",A139=\"(vazio)\"),\"\",tesourodireto(CONCATENATE(LEFT(A139,LEN(A139)-11),\" \",RIGHT(B139,4)),\"preço\"))","v":""},0,0,null,null,0,null,0,0,null,null,null,null,null,null,"",{"$error":"#REF!"}]
[null,"","",{"$f":"SUMIFS('TD-Lançamentos'!C:C,'TD-Lançamentos'!D:D,A140,'TD-Lançamentos'!B:B,\"c\")-SUMIFS('TD-Lançamentos'!C:C,'TD-Lançamentos'!D:D,A140,'TD-Lançamentos'!B:B,\"v\")","v":0},{"$f":"IF(D140=0,0,SUMIFS('TD-Lançamentos'!J:J,'TD-Lançamentos'!D:D,A140,'TD-Lançamentos'!B:B,\"c\")-SUMIFS('TD-Lançamentos'!J:J,'TD-Lançamentos'!D:D,A140,'TD-Lançamentos'!B:B,\"v\"))","v":0},0,null,{"$f":"IF(OR(A140=\"\",A140=\"(vazio)\"),\"\",tesourodireto(CONCATENATE(LEFT(A140,LEN(A140)-11),\" \",RIGHT(B140,4)),\"preço\"))","v":""},0,0,null,null,0,null,0,0,null,null,null,null,null,null,"",{"$error":"#REF!"}]
[null,"","",{"$f":"SUMIFS('TD-Lançamentos'!C:C,'TD-Lançamentos'!D:D,A141,'TD-Lançamentos'!B:B,\"c\")-SUMIFS('TD-Lançamentos'!C:C,'TD-Lançamentos'!D:D,A141,'TD-Lançamentos'!B:B,\"v\")","v":0},{"$f":"IF(D141=0,0,SUMIFS('TD-Lançamentos'!J:J,'TD-Lançamentos'!D:D,A141,'TD-Lançamentos'!B:B,\"c\")-SUMIFS('TD-Lançamentos'!J:J,'TD-Lançamentos'!D:D,A141,'TD-Lançamentos'!B:B,\"v\"))","v":0},0,null,{"$f":"IF(OR(A141=\"\",A141=\"(vazio)\"),\"\",tesourodireto(CONCATENATE(LEFT(A141,LEN(A141)-11),\" \",RIGHT(B141,4)),\"preço\"))","v":""},0,0,null,null,0,null,0,0,null,null,null,null,null,null,"",{"$error":"#REF!"}]
[null,"","",{"$f":"SUMIFS('TD-Lançamentos'!C:C,'TD-Lançamentos'!D:D,A142,'TD-Lançamentos'!B:B,\"c\")-SUMIFS('TD-Lançamentos'!C:C,'TD-Lançamentos'!D:D,A142,'TD-Lançamentos'!B:B,\"v\")","v":0},{"$f":"IF(D142=0,0,SUMIFS('TD-Lançamentos'!J:J,'TD-Lançamentos'!D:D,A142,'TD-Lançamentos'!B:B,\"c\")-SUMIFS('TD-Lançamentos'!J:J,'TD-Lançamentos'!D:D,A142,'TD-Lançamentos'!B:B,\"v\"))","v":0},0,null,{"$f":"IF(OR(A142=\"\",A142=\"(vazio)\"),\"\",tesourodireto(CONCATENATE(LEFT(A142,LEN(A142)-11),\" \",RIGHT(B142,4)),\"preço\"))","v":""},0,0,null,null,0,null,0,0,null,null,null,null,null,null,{"$f":"IF(L142=\"\",\"\",L142-J142)","v":""},{"$f":"IF(OR($A489=\"TOTAL\",$A489=\"\"),\"\",$A489)","v":{"$error":"#REF!"}}]
[null,"","",{"$f":"SUMIFS('TD-Lançamentos'!C:C,'TD-Lançamentos'!D:D,A143,'TD-Lançamentos'!B:B,\"c\")-SUMIFS('TD-Lançamentos'!C:C,'TD-Lançamentos'!D:D,A143,'TD-Lançamentos'!B:B,\"v\")","v":0},{"$f":"IF(D143=0,0,SUMIFS('TD-Lançamentos'!J:J,'TD-Lançamentos'!D:D,A143,'TD-Lançamentos'!B:B,\"c\")-SUMIFS('TD-Lançamentos'!J:J,'TD-Lançamentos'!D:D,A143,'TD-Lançamentos'!B:B,\"v\"))","v":0},0,null,{"$f":"IF(OR(A143=\"\",A143=\"(vazio)\"),\"\",tesourodireto(CONCATENATE(LEFT(A143,LEN(A143)-11),\" \",RIGHT(B143,4)),\"preço\"))","v":""},0,0,null,null,0,null,0,0,null,null,null,null,null,null,"",{"$error":"#REF!"}]
[null,"","",{"$f":"SUMIFS('TD-Lançamentos'!C:C,'TD-Lançamentos'!D:D,A144,'TD-Lançamentos'!B:B,\"c\")-SUMIFS('TD-Lançamentos'!C:C,'TD-Lançamentos'!D:D,A144,'TD-Lançamentos'!B:B,\"v\")","v":0},{"$f":"IF(D144=0,0,SUMIFS('TD-Lançamentos'!J:J,'TD-Lançamentos'!D:D,A144,'TD-Lançamentos'!B:B,\"c\")-SUMIFS('TD-Lançamentos'!J:J,'TD-Lançamentos'!D:D,A144,'TD-Lançamentos'!B:B,\"v\"))","v":0},0,null,{"$f":"IF(OR(A144=\"\",A144=\"(vazio)\"),\"\",tesourodireto(CONCATENATE(LEFT(A144,LEN(A144)-11),\" \",RIGHT(B144,4)),\"preço\"))","v":""},0,0,null,null,0,null,0,0,null,null,null,null,null,null,"",{"$error":"#REF!"}]
[null,"","",{"$f":"SUMIFS('TD-Lançamentos'!C:C,'TD-Lançamentos'!D:D,A145,'TD-Lançamentos'!B:B,\"c\")-SUMIFS('TD-Lançamentos'!C:C,'TD-Lançamentos'!D:D,A145,'TD-Lançamentos'!B:B,\"v\")","v":0},{"$f":"IF(D145=0,0,SUMIFS('TD-Lançamentos'!J:J,'TD-Lançamentos'!D:D,A145,'TD-Lançamentos'!B:B,\"c\")-SUMIFS('TD-Lançamentos'!J:J,'TD-Lançamentos'!D:D,A145,'TD-Lançamentos'!B:B,\"v\"))","v":0},0,null,{"$f":"IF(OR(A145=\"\",A145=\"(vazio)\"),\"\",tesourodireto(CONCATENATE(LEFT(A145,LEN(A145)-11),\" \",RIGHT(B145,4)),\"preço\"))","v":""},0,0,null,null,0,null,0,0,null,null,null,null,null,null,"",{"$error":"#REF!"}]
[null,"","",{"$f":"SUMIFS('TD-Lançamentos'!C:C,'TD-Lançamentos'!D:D,A146,'TD-Lançamentos'!B:B,\"c\")-SUMIFS('TD-Lançamentos'!C:C,'TD-Lançamentos'!D:D,A146,'TD-Lançamentos'!B:B,\"v\")","v":0},{"$f":"IF(D146=0,0,SUMIFS('TD-Lançamentos'!J:J,'TD-Lançamentos'!D:D,A146,'TD-Lançamentos'!B:B,\"c\")-SUMIFS('TD-Lançamentos'!J:J,'TD-Lançamentos'!D:D,A146,'TD-Lançamentos'!B:B,\"v\"))","v":0},0,null,{"$f":"IF(OR(A146=\"\",A146=\"(vazio)\"),\"\",tesourodireto(CONCATENATE(LEFT(A146,LEN(A146)-11),\" \",RIGHT(B146,4)),\"preço\"))","v":""},0,0,null,null,0,null,0,0,null,null,null,null,null,null,"",{"$error":"#REF!"}]
[null,"","",{"$f":"SUMIFS('TD-Lançamentos'!C:C,'TD-Lançamentos'!D:D,A147,'TD-Lançamentos'!B:B,\"c\")-SUMIFS('TD-Lançamentos'!C:C,'TD-Lançamentos'!D:D,A147,'TD-Lançamentos'!B:B,\"v\")","v":0},{"$f":"IF(D147=0,0,SUMIFS('TD-Lançamentos'!J:J,'TD-Lançamentos'!D:D,A147,'TD-Lançamentos'!B:B,\"c\")-SUMIFS('TD-Lançamentos'!J:J,'TD-Lançamentos'!D:D,A147,'TD-Lançamentos'!B:B,\"v\"))","v":0},0,null,{"$f":"IF(OR(A147=\"\",A147=\"(vazio)\"),\"\",tesourodireto(CONCATENATE(LEFT(A147,LEN(A147)-11),\" \",RIGHT(B147,4)),\"preço\"))","v":""},0,0,null,null,0,null,0,0,null,null,null,null,null,null,"",{"$error":"#REF!"}]
[null,"","",{"$f":"SUMIFS('TD-Lançamentos'!C:C,'TD-Lançamentos'!D:D,A148,'TD-Lançamentos'!B:B,\"c\")-SUMIFS('TD-Lançamentos'!C:C,'TD-Lançamentos'!D:D,A148,'TD-Lançamentos'!B:B,\"v\")","v":0},{"$f":"IF(D148=0,0,SUMIFS('TD-Lançamentos'!J:J,'TD-Lançamentos'!D:D,A148,'TD-Lançamentos'!B:B,\"c\")-SUMIFS('TD-Lançamentos'!J:J,'TD-Lançamentos'!D:D,A148,'TD-Lançamentos'!B:B,\"v\"))","v":0},0,null,{"$f":"IF(OR(A148=\"\",A148=\"(vazio)\"),\"\",tesourodireto(CONCATENATE(LEFT(A148,LEN(A148)-11),\" \",RIGHT(B148,4)),\"preço\"))","v":""},0,0,null,null,0,null,0,0,null,null,null,null,null,null,"",{"$error":"#REF!"}]
[null,"","",{"$f":"SUMIFS('TD-Lançamentos'!C:C,'TD-Lançamentos'!D:D,A149,'TD-Lançamentos'!B:B,\"c\")-SUMIFS('TD-Lançamentos'!C:C,'TD-Lançamentos'!D:D,A149,'TD-Lançamentos'!B:B,\"v\")","v":0},{"$f":"IF(D149=0,0,SUMIFS('TD-Lançamentos'!J:J,'TD-Lançamentos'!D:D,A149,'TD-Lançamentos'!B:B,\"c\")-SUMIFS('TD-Lançamentos'!J:J,'TD-Lançamentos'!D:D,A149,'TD-Lançamentos'!B:B,\"v\"))","v":0},0,null,{"$f":"IF(OR(A149=\"\",A149=\"(vazio)\"),\"\",tesourodireto(CONCATENATE(LEFT(A149,LEN(A149)-11),\" \",RIGHT(B149,4)),\"preço\"))","v":""},0,0,null,null,0,null,0,0,null,null,null,null,null,null,"",{"$error":"#REF!"}]
[null,"","",{"$f":"SUMIFS('TD-Lançamentos'!C:C,'TD-Lançamentos'!D:D,A150,'TD-Lançamentos'!B:B,\"c\")-SUMIFS('TD-Lançamentos'!C:C,'TD-Lançamentos'!D:D,A150,'TD-Lançamentos'!B:B,\"v\")","v":0},{"$f":"IF(D150=0,0,SUMIFS('TD-Lançamentos'!J:J,'TD-Lançamentos'!D:D,A150,'TD-Lançamentos'!B:B,\"c\")-SUMIFS('TD-Lançamentos'!J:J,'TD-Lançamentos'!D:D,A150,'TD-Lançamentos'!B:B,\"v\"))","v":0},0,null,{"$f":"IF(OR(A150=\"\",A150=\"(vazio)\"),\"\",tesourodireto(CONCATENATE(LEFT(A150,LEN(A150)-11),\" \",RIGHT(B150,4)),\"preço\"))","v":""},0,0,null,null,0,null,0,0,null,null,null,null,null,null,"",{"$error":"#REF!"}]
[null,"","",{"$f":"SUMIFS('TD-Lançamentos'!C:C,'TD-Lançamentos'!D:D,A151,'TD-Lançamentos'!B:B,\"c\")-SUMIFS('TD-Lançamentos'!C:C,'TD-Lançamentos'!D:D,A151,'TD-Lançamentos'!B:B,\"v\")","v":0},{"$f":"IF(D151=0,0,SUMIFS('TD-Lançamentos'!J:J,'TD-Lançamentos'!D:D,A151,'TD-Lançamentos'!B:B,\"c\")-SUMIFS('TD-Lançamentos'!J:J,'TD-Lançamentos'!D:D,A151,'TD-Lançamentos'!B:B,\"v\"))","v":0},0,null,{"$f":"IF(OR(A151=\"\",A151=\"(vazio)\"),\"\",tesourodireto(CONCATENATE(LEFT(A151,LEN(A151)-11),\" \",RIGHT(B151,4)),\"preço\"))","v":""},0,0,null,null,0,null,0,0,null,null,null,null,null,null,"",{"$error":"#REF!"}]
[null,"","",{"$f":"SUMIFS('TD-Lançamentos'!C:C,'TD-Lançamentos'!D:D,A152,'TD-Lançamentos'!B:B,\"c\")-SUMIFS('TD-Lançamentos'!C:C,'TD-Lançamentos'!D:D,A152,'TD-Lançamentos'!B:B,\"v\")","v":0},{"$f":"IF(D152=0,0,SUMIFS('TD-Lançamentos'!J:J,'TD-Lançamentos'!D:D,A152,'TD-Lançamentos'!B:B,\"c\")-SUMIFS('TD-Lançamentos'!J:J,'TD-Lançamentos'!D:D,A152,'TD-Lançamentos'!B:B,\"v\"))","v":0},0,null,{"$f":"IF(OR(A152=\"\",A152=\"(vazio)\"),\"\",tesourodireto(CONCATENATE(LEFT(A152,LEN(A152)-11),\" \",RIGHT(B152,4)),\"preço\"))","v":""},0,0,null,null,0,null,0,0,null,null,null,null,null,null,"",{"$error":"#REF!"}]
[null,"","",{"$f":"SUMIFS('TD-Lançamentos'!C:C,'TD-Lançamentos'!D:D,A153,'TD-Lançamentos'!B:B,\"c\")-SUMIFS('TD-Lançamentos'!C:C,'TD-Lançamentos'!D:D,A153,'TD-Lançamentos'!B:B,\"v\")","v":0},{"$f":"IF(D153=0,0,SUMIFS('TD-Lançamentos'!J:J,'TD-Lançamentos'!D:D,A153,'TD-Lançamentos'!B:B,\"c\")-SUMIFS('TD-Lançamentos'!J:J,'TD-Lançamentos'!D:D,A153,'TD-Lançamentos'!B:B,\"v\"))","v":0},0,null,{"$f":"IF(OR(A153=\"\",A153=\"(vazio)\"),\"\",tesourodireto(CONCATENATE(LEFT(A153,LEN(A153)-11),\" \",RIGHT(B153,4)),\"preço\"))","v":""},0,0,null,null,0,null,0,0,null,null,null,null,null,null,"",{"$error":"#REF!"}]
[null,"","",{"$f":"SUMIFS('TD-Lançamentos'!C:C,'TD-Lançamentos'!D:D,A154,'TD-Lançamentos'!B:B,\"c\")-SUMIFS('TD-Lançamentos'!C:C,'TD-Lançamentos'!D:D,A154,'TD-Lançamentos'!B:B,\"v\")","v":0},{"$f":"IF(D154=0,0,SUMIFS('TD-Lançamentos'!J:J,'TD-Lançamentos'!D:D,A154,'TD-Lançamentos'!B:B,\"c\")-SUMIFS('TD-Lançamentos'!J:J,'TD-Lançamentos'!D:D,A154,'TD-Lançamentos'!B:B,\"v\"))","v":0},0,null,{"$f":"IF(OR(A154=\"\",A154=\"(vazio)\"),\"\",tesourodireto(CONCATENATE(LEFT(A154,LEN(A154)-11),\" \",RIGHT(B154,4)),\"preço\"))","v":""},0,0,null,null,0,null,0,0,null,null,null,null,null,null,"",{"$error":"#REF!"}]
[null,"","",{"$f":"SUMIFS('TD-Lançamentos'!C:C,'TD-Lançamentos'!D:D,A155,'TD-Lançamentos'!B:B,\"c\")-SUMIFS('TD-Lançamentos'!C:C,'TD-Lançamentos'!D:D,A155,'TD-Lançamentos'!B:B,\"v\")","v":0},{"$f":"IF(D155=0,0,SUMIFS('TD-Lançamentos'!J:J,'TD-Lançamentos'!D:D,A155,'TD-Lançamentos'!B:B,\"c\")-SUMIFS('TD-Lançamentos'!J:J,'TD-Lançamentos'!D:D,A155,'TD-Lançamentos'!B:B,\"v\"))","v":0},0,null,{"$f":"IF(OR(A155=\"\",A155=\"(vazio)\"),\"\",tesourodireto(CONCATENATE(LEFT(A155,LEN(A155)-11),\" \",RIGHT(B155,4)),\"preço\"))","v":""},0,0,null,null,0,null,0,0,null,null,null,null,null,null,"",{"$error":"#REF!"}]
[null,"","",{"$f":"SUMIFS('TD-Lançamentos'!C:C,'TD-Lançamentos'!D:D,A156,'TD-Lançamentos'!B:B,\"c\")-SUMIFS('TD-Lançamentos'!C:C,'TD-Lançamentos'!D:D,A156,'TD-Lançamentos'!B:B,\"v\")","v":0},{"$f":"IF(D156=0,0,SUMIFS('TD-Lançamentos'!J:J,'TD-Lançamentos'!D:D,A156,'TD-Lançamentos'!B:B,\"c\")-SUMIFS('TD-Lançamentos'!J:J,'TD-Lançamentos'!D:D,A156,'TD-Lançamentos'!B:B,\"v\"))","v":0},0,null,{"$f":"IF(OR(A156=\"\",A156=\"(vazio)\"),\"\",tesourodireto(CONCATENATE(LEFT(A156,LEN(A156)-11),\" \",RIGHT(B156,4)),\"preço\"))","v":""},0,0,null,null,0,null,0,0,null,null,null,null,null,null,"",{"$error":"#REF!"}]
[null,"","",{"$f":"SUMIFS('TD-Lançamentos'!C:C,'TD-Lançamentos'!D:D,A157,'TD-Lançamentos'!B:B,\"c\")-SUMIFS('TD-Lançamentos'!C:C,'TD-Lançamentos'!D:D,A157,'TD-Lançamentos'!B:B,\"v\")","v":0},{"$f":"IF(D157=0,0,SUMIFS('TD-Lançamentos'!J:J,'TD-Lançamentos'!D:D,A157,'TD-Lançamentos'!B:B,\"c\")-SUMIFS('TD-Lançamentos'!J:J,'TD-Lançamentos'!D:D,A157,'TD-Lançamentos'!B:B,\"v\"))","v":0},0,null,{"$f":"IF(OR(A157=\"\",A157=\"(vazio)\"),\"\",tesourodireto(CONCATENATE(LEFT(A157,LEN(A157)-11),\" \",RIGHT(B157,4)),\"preço\"))","v":""},0,0,null,null,0,null,0,0,null,null,null,null,null,null,"",{"$error":"#REF!"}]
[null,"","",{"$f":"SUMIFS('TD-Lançamentos'!C:C,'TD-Lançamentos'!D:D,A158,'TD-Lançamentos'!B:B,\"c\")-SUMIFS('TD-Lançamentos'!C:C,'TD-Lançamentos'!D:D,A158,'TD-Lançamentos'!B:B,\"v\")","v":0},{"$f":"IF(D158=0,0,SUMIFS('TD-Lançamentos'!J:J,'TD-Lançamentos'!D:D,A158,'TD-Lançamentos'!B:B,\"c\")-SUMIFS('TD-Lançamentos'!J:J,'TD-Lançamentos'!D:D,A158,'TD-Lançamentos'!B:B,\"v\"))","v":0},0,null,{"$f":"IF(OR(A158=\"\",A158=\"(vazio)\"),\"\",tesourodireto(CONCATENATE(LEFT(A158,LEN(A158)-11),\" \",RIGHT(B158,4)),\"preço\"))","v":""},0,0,null,null,0,null,0,0,null,null,null,null,null,null,"",{"$error":"#REF!"}]
[null,"","",{"$f":"SUMIFS('TD-Lançamentos'!C:C,'TD-Lançamentos'!D:D,A159,'TD-Lançamentos'!B:B,\"c\")-SUMIFS('TD-Lançamentos'!C:C,'TD-Lançamentos'!D:D,A159,'TD-Lançamentos'!B:B,\"v\")","v":0},{"$f":"IF(D159=0,0,SUMIFS('TD-Lançamentos'!J:J,'TD-Lançamentos'!D:D,A159,'TD-Lançamentos'!B:B,\"c\")-SUMIFS('TD-Lançamentos'!J:J,'TD-Lançamentos'!D:D,A159,'TD-Lançamentos'!B:B,\"v\"))","v":0},0,null,{"$f":"IF(OR(A159=\"\",A159=\"(vazio)\"),\"\",tesourodireto(CONCATENATE(LEFT(A159,LEN(A159)-11),\" \",RIGHT(B159,4)),\"preço\"))","v":""},0,0,null,null,0,null,0,0,null,null,null,null,null,null,"",{"$error":"#REF!"}]
[null,"","",{"$f":"SUMIFS('TD-Lançamentos'!C:C,'TD-Lançamentos'!D:D,A160,'TD-Lançamentos'!B:B,\"c\")-SUMIFS('TD-Lançamentos'!C:C,'TD-Lançamentos'!D:D,A160,'TD-Lançamentos'!B:B,\"v\")","v":0},{"$f":"IF(D160=0,0,SUMIFS('TD-Lançamentos'!J:J,'TD-Lançamentos'!D:D,A160,'TD-Lançamentos'!B:B,\"c\")-SUMIFS('TD-Lançamentos'!J:J,'TD-Lançamentos'!D:D,A160,'TD-Lançamentos'!B:B,\"v\"))","v":0},0,null,{"$f":"IF(OR(A160=\"\",A160=\"(vazio)\"),\"\",tesourodireto(CONCATENATE(LEFT(A160,LEN(A160)-11),\" \",RIGHT(B160,4)),\"preço\"))","v":""},0,0,null,null,0,null,0,0,null,null,null,null,null,null,"",{"$error":"#REF!"}]
[null,"","",{"$f":"SUMIFS('TD-Lançamentos'!C:C,'TD-Lançamentos'!D:D,A161,'TD-Lançamentos'!B:B,\"c\")-SUMIFS('TD-Lançamentos'!C:C,'TD-Lançamentos'!D:D,A161,'TD-Lançamentos'!B:B,\"v\")","v":0},{"$f":"IF(D161=0,0,SUMIFS('TD-Lançamentos'!J:J,'TD-Lançamentos'!D:D,A161,'TD-Lançamentos'!B:B,\"c\")-SUMIFS('TD-Lançamentos'!J:J,'TD-Lançamentos'!D:D,A161,'TD-Lançamentos'!B:B,\"v\"))","v":0},0,null,{"$f":"IF(OR(A161=\"\",A161=\"(vazio)\"),\"\",tesourodireto(CONCATENATE(LEFT(A161,LEN(A161)-11),\" \",RIGHT(B161,4)),\"preço\"))","v":""},0,0,null,null,0,null,0,0,null,null,null,null,null,null,"",{"$error":"#REF!"}]
[null,"","",{"$f":"SUMIFS('TD-Lançamentos'!C:C,'TD-Lançamentos'!D:D,A162,'TD-Lançamentos'!B:B,\"c\")-SUMIFS('TD-Lançamentos'!C:C,'TD-Lançamentos'!D:D,A162,'TD-Lançamentos'!B:B,\"v\")","v":0},{"$f":"IF(D162=0,0,SUMIFS('TD-Lançamentos'!J:J,'TD-Lançamentos'!D:D,A162,'TD-Lançamentos'!B:B,\"c\")-SUMIFS('TD-Lançamentos'!J:J,'TD-Lançamentos'!D:D,A162,'TD-Lançamentos'!B:B,\"v\"))","v":0},0,null,{"$f":"IF(OR(A162=\"\",A162=\"(vazio)\"),\"\",tesourodireto(CONCATENATE(LEFT(A162,LEN(A162)-11),\" \",RIGHT(B162,4)),\"preço\"))","v":""},0,0,null,null,0,null,0,0,null,null,null,null,null,null,"",{"$error":"#REF!"}]
[null,"","",{"$f":"SUMIFS('TD-Lançamentos'!C:C,'TD-Lançamentos'!D:D,A163,'TD-Lançamentos'!B:B,\"c\")-SUMIFS('TD-Lançamentos'!C:C,'TD-Lançamentos'!D:D,A163,'TD-Lançamentos'!B:B,\"v\")","v":0},{"$f":"IF(D163=0,0,SUMIFS('TD-Lançamentos'!J:J,'TD-Lançamentos'!D:D,A163,'TD-Lançamentos'!B:B,\"c\")-SUMIFS('TD-Lançamentos'!J:J,'TD-Lançamentos'!D:D,A163,'TD-Lançamentos'!B:B,\"v\"))","v":0},0,null,{"$f":"IF(OR(A163=\"\",A163=\"(vazio)\"),\"\",tesourodireto(CONCATENATE(LEFT(A163,LEN(A163)-11),\" \",RIGHT(B163,4)),\"preço\"))","v":""},0,0,null,null,0,null,0,0,null,null,null,null,null,null,"",{"$error":"#REF!"}]
[null,"","",{"$f":"SUMIFS('TD-Lançamentos'!C:C,'TD-Lançamentos'!D:D,A164,'TD-Lançamentos'!B:B,\"c\")-SUMIFS('TD-Lançamentos'!C:C,'TD-Lançamentos'!D:D,A164,'TD-Lançamentos'!B:B,\"v\")","v":0},{"$f":"IF(D164=0,0,SUMIFS('TD-Lançamentos'!J:J,'TD-Lançamentos'!D:D,A164,'TD-Lançamentos'!B:B,\"c\")-SUMIFS('TD-Lançamentos'!J:J,'TD-Lançamentos'!D:D,A164,'TD-Lançamentos'!B:B,\"v\"))","v":0},0,null,{"$f":"IF(OR(A164=\"\",A164=\"(vazio)\"),\"\",tesourodireto(CONCATENATE(LEFT(A164,LEN(A164)-11),\" \",RIGHT(B164,4)),\"preço\"))","v":""},0,0,null,null,0,null,0,0,null,null,null,null,null,null,"",{"$error":"#REF!"}]
[null,"","",{"$f":"SUMIFS('TD-Lançamentos'!C:C,'TD-Lançamentos'!D:D,A165,'TD-Lançamentos'!B:B,\"c\")-SUMIFS('TD-Lançamentos'!C:C,'TD-Lançamentos'!D:D,A165,'TD-Lançamentos'!B:B,\"v\")","v":0},{"$f":"IF(D165=0,0,SUMIFS('TD-Lançamentos'!J:J,'TD-Lançamentos'!D:D,A165,'TD-Lançamentos'!B:B,\"c\")-SUMIFS('TD-Lançamentos'!J:J,'TD-Lançamentos'!D:D,A165,'TD-Lançamentos'!B:B,\"v\"))","v":0},0,null,{"$f":"IF(OR(A165=\"\",A165=\"(vazio)\"),\"\",tesourodireto(CONCATENATE(LEFT(A165,LEN(A165)-11),\" \",RIGHT(B165,4)),\"preço\"))","v":""},0,0,null,null,0,null,0,0,null,null,null,null,null,null,"",{"$error":"#REF!"}]
[null,"","",{"$f":"SUMIFS('TD-Lançamentos'!C:C,'TD-Lançamentos'!D:D,A166,'TD-Lançamentos'!B:B,\"c\")-SUMIFS('TD-Lançamentos'!C:C,'TD-Lançamentos'!D:D,A166,'TD-Lançamentos'!B:B,\"v\")","v":0},{"$f":"IF(D166=0,0,SUMIFS('TD-Lançamentos'!J:J,'TD-Lançamentos'!D:D,A166,'TD-Lançamentos'!B:B,\"c\")-SUMIFS('TD-Lançamentos'!J:J,'TD-Lançamentos'!D:D,A166,'TD-Lançamentos'!B:B,\"v\"))","v":0},0,null,{"$f":"IF(OR(A166=\"\",A166=\"(vazio)\"),\"\",tesourodireto(CONCATENATE(LEFT(A166,LEN(A166)-11),\" \",RIGHT(B166,4)),\"preço\"))","v":""},0,0,null,null,0,null,0,0,null,null,null,null,null,null,"",{"$error":"#REF!"}]
[null,"","",{"$f":"SUMIFS('TD-Lançamentos'!C:C,'TD-Lançamentos'!D:D,A167,'TD-Lançamentos'!B:B,\"c\")-SUMIFS('TD-Lançamentos'!C:C,'TD-Lançamentos'!D:D,A167,'TD-Lançamentos'!B:B,\"v\")","v":0},{"$f":"IF(D167=0,0,SUMIFS('TD-Lançamentos'!J:J,'TD-Lançamentos'!D:D,A167,'TD-Lançamentos'!B:B,\"c\")-SUMIFS('TD-Lançamentos'!J:J,'TD-Lançamentos'!D:D,A167,'TD-Lançamentos'!B:B,\"v\"))","v":0},0,null,{"$f":"IF(OR(A167=\"\",A167=\"(vazio)\"),\"\",tesourodireto(CONCATENATE(LEFT(A167,LEN(A167)-11),\" \",RIGHT(B167,4)),\"preço\"))","v":""},0,0,null,null,0,null,0,0,null,null,null,null,null,null,"",{"$error":"#REF!"}]
[null,"","",{"$f":"SUMIFS('TD-Lançamentos'!C:C,'TD-Lançamentos'!D:D,A168,'TD-Lançamentos'!B:B,\"c\")-SUMIFS('TD-Lançamentos'!C:C,'TD-Lançamentos'!D:D,A168,'TD-Lançamentos'!B:B,\"v\")","v":0},{"$f":"IF(D168=0,0,SUMIFS('TD-Lançamentos'!J:J,'TD-Lançamentos'!D:D,A168,'TD-Lançamentos'!B:B,\"c\")-SUMIFS('TD-Lançamentos'!J:J,'TD-Lançamentos'!D:D,A168,'TD-Lançamentos'!B:B,\"v\"))","v":0},0,null,{"$f":"IF(OR(A168=\"\",A168=\"(vazio)\"),\"\",tesourodireto(CONCATENATE(LEFT(A168,LEN(A168)-11),\" \",RIGHT(B168,4)),\"preço\"))","v":""},0,0,null,null,0,null,0,0,null,null,null,null,null,null,"",{"$error":"#REF!"}]
[null,"","",{"$f":"SUMIFS('TD-Lançamentos'!C:C,'TD-Lançamentos'!D:D,A169,'TD-Lançamentos'!B:B,\"c\")-SUMIFS('TD-Lançamentos'!C:C,'TD-Lançamentos'!D:D,A169,'TD-Lançamentos'!B:B,\"v\")","v":0},{"$f":"IF(D169=0,0,SUMIFS('TD-Lançamentos'!J:J,'TD-Lançamentos'!D:D,A169,'TD-Lançamentos'!B:B,\"c\")-SUMIFS('TD-Lançamentos'!J:J,'TD-Lançamentos'!D:D,A169,'TD-Lançamentos'!B:B,\"v\"))","v":0},0,null,{"$f":"IF(OR(A169=\"\",A169=\"(vazio)\"),\"\",tesourodireto(CONCATENATE(LEFT(A169,LEN(A169)-11),\" \",RIGHT(B169,4)),\"preço\"))","v":""},0,0,null,null,0,null,0,0,null,null,null,null,null,null,"",{"$error":"#REF!"}]
[null,"","",{"$f":"SUMIFS('TD-Lançamentos'!C:C,'TD-Lançamentos'!D:D,A170,'TD-Lançamentos'!B:B,\"c\")-SUMIFS('TD-Lançamentos'!C:C,'TD-Lançamentos'!D:D,A170,'TD-Lançamentos'!B:B,\"v\")","v":0},{"$f":"IF(D170=0,0,SUMIFS('TD-Lançamentos'!J:J,'TD-Lançamentos'!D:D,A170,'TD-Lançamentos'!B:B,\"c\")-SUMIFS('TD-Lançamentos'!J:J,'TD-Lançamentos'!D:D,A170,'TD-Lançamentos'!B:B,\"v\"))","v":0},0,null,{"$f":"IF(OR(A170=\"\",A170=\"(vazio)\"),\"\",tesourodireto(CONCATENATE(LEFT(A170,LEN(A170)-11),\" \",RIGHT(B170,4)),\"preço\"))","v":""},0,0,null,null,0,null,0,0,null,null,null,null,null,null,"",{"$error":"#REF!"}]
[null,"","",{"$f":"SUMIFS('TD-Lançamentos'!C:C,'TD-Lançamentos'!D:D,A171,'TD-Lançamentos'!B:B,\"c\")-SUMIFS('TD-Lançamentos'!C:C,'TD-Lançamentos'!D:D,A171,'TD-Lançamentos'!B:B,\"v\")","v":0},{"$f":"IF(D171=0,0,SUMIFS('TD-Lançamentos'!J:J,'TD-Lançamentos'!D:D,A171,'TD-Lançamentos'!B:B,\"c\")-SUMIFS('TD-Lançamentos'!J:J,'TD-Lançamentos'!D:D,A171,'TD-Lançamentos'!B:B,\"v\"))","v":0},0,null,{"$f":"IF(OR(A171=\"\",A171=\"(vazio)\"),\"\",tesourodireto(CONCATENATE(LEFT(A171,LEN(A171)-11),\" \",RIGHT(B171,4)),\"preço\"))","v":""},0,0,null,null,0,null,0,0,null,null,null,null,null,null,"",{"$error":"#REF!"}]
[null,"","",{"$f":"SUMIFS('TD-Lançamentos'!C:C,'TD-Lançamentos'!D:D,A172,'TD-Lançamentos'!B:B,\"c\")-SUMIFS('TD-Lançamentos'!C:C,'TD-Lançamentos'!D:D,A172,'TD-Lançamentos'!B:B,\"v\")","v":0},{"$f":"IF(D172=0,0,SUMIFS('TD-Lançamentos'!J:J,'TD-Lançamentos'!D:D,A172,'TD-Lançamentos'!B:B,\"c\")-SUMIFS('TD-Lançamentos'!J:J,'TD-Lançamentos'!D:D,A172,'TD-Lançamentos'!B:B,\"v\"))","v":0},0,null,{"$f":"IF(OR(A172=\"\",A172=\"(vazio)\"),\"\",tesourodireto(CONCATENATE(LEFT(A172,LEN(A172)-11),\" \",RIGHT(B172,4)),\"preço\"))","v":""},0,0,null,null,0,null,0,0,null,null,null,null,null,null,"",{"$error":"#REF!"}]
[null,"","",{"$f":"SUMIFS('TD-Lançamentos'!C:C,'TD-Lançamentos'!D:D,A173,'TD-Lançamentos'!B:B,\"c\")-SUMIFS('TD-Lançamentos'!C:C,'TD-Lançamentos'!D:D,A173,'TD-Lançamentos'!B:B,\"v\")","v":0},{"$f":"IF(D173=0,0,SUMIFS('TD-Lançamentos'!J:J,'TD-Lançamentos'!D:D,A173,'TD-Lançamentos'!B:B,\"c\")-SUMIFS('TD-Lançamentos'!J:J,'TD-Lançamentos'!D:D,A173,'TD-Lançamentos'!B:B,\"v\"))","v":0},0,null,{"$f":"IF(OR(A173=\"\",A173=\"(vazio)\"),\"\",tesourodireto(CONCATENATE(LEFT(A173,LEN(A173)-11),\" \",RIGHT(B173,4)),\"preço\"))","v":""},0,0,null,null,0,null,0,0,null,null,null,null,null,null,"",{"$error":"#REF!"}]
[null,"","",{"$f":"SUMIFS('TD-Lançamentos'!C:C,'TD-Lançamentos'!D:D,A174,'TD-Lançamentos'!B:B,\"c\")-SUMIFS('TD-Lançamentos'!C:C,'TD-Lançamentos'!D:D,A174,'TD-Lançamentos'!B:B,\"v\")","v":0},{"$f":"IF(D174=0,0,SUMIFS('TD-Lançamentos'!J:J,'TD-Lançamentos'!D:D,A174,'TD-Lançamentos'!B:B,\"c\")-SUMIFS('TD-Lançamentos'!J:J,'TD-Lançamentos'!D:D,A174,'TD-Lançamentos'!B:B,\"v\"))","v":0},0,null,{"$f":"IF(OR(A174=\"\",A174=\"(vazio)\"),\"\",tesourodireto(CONCATENATE(LEFT(A174,LEN(A174)-11),\" \",RIGHT(B174,4)),\"preço\"))","v":""},0,0,null,null,0,null,0,0,null,null,null,null,null,null,"",{"$error":"#REF!"}]
[null,"","",{"$f":"SUMIFS('TD-Lançamentos'!C:C,'TD-Lançamentos'!D:D,A175,'TD-Lançamentos'!B:B,\"c\")-SUMIFS('TD-Lançamentos'!C:C,'TD-Lançamentos'!D:D,A175,'TD-Lançamentos'!B:B,\"v\")","v":0},{"$f":"IF(D175=0,0,SUMIFS('TD-Lançamentos'!J:J,'TD-Lançamentos'!D:D,A175,'TD-Lançamentos'!B:B,\"c\")-SUMIFS('TD-Lançamentos'!J:J,'TD-Lançamentos'!D:D,A175,'TD-Lançamentos'!B:B,\"v\"))","v":0},0,null,{"$f":"IF(OR(A175=\"\",A175=\"(vazio)\"),\"\",tesourodireto(CONCATENATE(LEFT(A175,LEN(A175)-11),\" \",RIGHT(B175,4)),\"preço\"))","v":""},0,0,null,null,0,null,0,0,null,null,null,null,null,null,"",{"$error":"#REF!"}]
[null,"","",{"$f":"SUMIFS('TD-Lançamentos'!C:C,'TD-Lançamentos'!D:D,A176,'TD-Lançamentos'!B:B,\"c\")-SUMIFS('TD-Lançamentos'!C:C,'TD-Lançamentos'!D:D,A176,'TD-Lançamentos'!B:B,\"v\")","v":0},{"$f":"IF(D176=0,0,SUMIFS('TD-Lançamentos'!J:J,'TD-Lançamentos'!D:D,A176,'TD-Lançamentos'!B:B,\"c\")-SUMIFS('TD-Lançamentos'!J:J,'TD-Lançamentos'!D:D,A176,'TD-Lançamentos'!B:B,\"v\"))","v":0},0,null,{"$f":"IF(OR(A176=\"\",A176=\"(vazio)\"),\"\",tesourodireto(CONCATENATE(LEFT(A176,LEN(A176)-11),\" \",RIGHT(B176,4)),\"preço\"))","v":""},0,0,null,null,0,null,0,0,null,null,null,null,null,null,"",{"$error":"#REF!"}]
[null,"","",{"$f":"SUMIFS('TD-Lançamentos'!C:C,'TD-Lançamentos'!D:D,A177,'TD-Lançamentos'!B:B,\"c\")-SUMIFS('TD-Lançamentos'!C:C,'TD-Lançamentos'!D:D,A177,'TD-Lançamentos'!B:B,\"v\")","v":0},{"$f":"IF(D177=0,0,SUMIFS('TD-Lançamentos'!J:J,'TD-Lançamentos'!D:D,A177,'TD-Lançamentos'!B:B,\"c\")-SUMIFS('TD-Lançamentos'!J:J,'TD-Lançamentos'!D:D,A177,'TD-Lançamentos'!B:B,\"v\"))","v":0},0,null,{"$f":"IF(OR(A177=\"\",A177=\"(vazio)\"),\"\",tesourodireto(CONCATENATE(LEFT(A177,LEN(A177)-11),\" \",RIGHT(B177,4)),\"preço\"))","v":""},0,0,null,null,0,null,0,0,null,null,null,null,null,null,"",{"$error":"#REF!"}]
[null,"","",{"$f":"SUMIFS('TD-Lançamentos'!C:C,'TD-Lançamentos'!D:D,A178,'TD-Lançamentos'!B:B,\"c\")-SUMIFS('TD-Lançamentos'!C:C,'TD-Lançamentos'!D:D,A178,'TD-Lançamentos'!B:B,\"v\")","v":0},{"$f":"IF(D178=0,0,SUMIFS('TD-Lançamentos'!J:J,'TD-Lançamentos'!D:D,A178,'TD-Lançamentos'!B:B,\"c\")-SUMIFS('TD-Lançamentos'!J:J,'TD-Lançamentos'!D:D,A178,'TD-Lançamentos'!B:B,\"v\"))","v":0},0,null,{"$f":"IF(OR(A178=\"\",A178=\"(vazio)\"),\"\",tesourodireto(CONCATENATE(LEFT(A178,LEN(A178)-11),\" \",RIGHT(B178,4)),\"preço\"))","v":""},0,0,null,null,0,null,0,0,null,null,null,null,null,null,"",{"$error":"#REF!"}]
[null,"","",{"$f":"SUMIFS('TD-Lançamentos'!C:C,'TD-Lançamentos'!D:D,A179,'TD-Lançamentos'!B:B,\"c\")-SUMIFS('TD-Lançamentos'!C:C,'TD-Lançamentos'!D:D,A179,'TD-Lançamentos'!B:B,\"v\")","v":0},{"$f":"IF(D179=0,0,SUMIFS('TD-Lançamentos'!J:J,'TD-Lançamentos'!D:D,A179,'TD-Lançamentos'!B:B,\"c\")-SUMIFS('TD-Lançamentos'!J:J,'TD-Lançamentos'!D:D,A179,'TD-Lançamentos'!B:B,\"v\"))","v":0},0,null,{"$f":"IF(OR(A179=\"\",A179=\"(vazio)\"),\"\",tesourodireto(CONCATENATE(LEFT(A179,LEN(A179)-11),\" \",RIGHT(B179,4)),\"preço\"))","v":""},0,0,null,null,0,null,0,0,null,null,null,null,null,null,"",{"$error":"#REF!"}]
[null,"","",{"$f":"SUMIFS('TD-Lançamentos'!C:C,'TD-Lançamentos'!D:D,A180,'TD-Lançamentos'!B:B,\"c\")-SUMIFS('TD-Lançamentos'!C:C,'TD-Lançamentos'!D:D,A180,'TD-Lançamentos'!B:B,\"v\")","v":0},{"$f":"IF(D180=0,0,SUMIFS('TD-Lançamentos'!J:J,'TD-Lançamentos'!D:D,A180,'TD-Lançamentos'!B:B,\"c\")-SUMIFS('TD-Lançamentos'!J:J,'TD-Lançamentos'!D:D,A180,'TD-Lançamentos'!B:B,\"v\"))","v":0},0,null,{"$f":"IF(OR(A180=\"\",A180=\"(vazio)\"),\"\",tesourodireto(CONCATENATE(LEFT(A180,LEN(A180)-11),\" \",RIGHT(B180,4)),\"preço\"))","v":""},0,0,null,null,0,null,0,0,null,null,null,null,null,null,"",{"$error":"#REF!"}]
[null,"","",{"$f":"SUMIFS('TD-Lançamentos'!C:C,'TD-Lançamentos'!D:D,A181,'TD-Lançamentos'!B:B,\"c\")-SUMIFS('TD-Lançamentos'!C:C,'TD-Lançamentos'!D:D,A181,'TD-Lançamentos'!B:B,\"v\")","v":0},{"$f":"IF(D181=0,0,SUMIFS('TD-Lançamentos'!J:J,'TD-Lançamentos'!D:D,A181,'TD-Lançamentos'!B:B,\"c\")-SUMIFS('TD-Lançamentos'!J:J,'TD-Lançamentos'!D:D,A181,'TD-Lançamentos'!B:B,\"v\"))","v":0},0,null,{"$f":"IF(OR(A181=\"\",A181=\"(vazio)\"),\"\",tesourodireto(CONCATENATE(LEFT(A181,LEN(A181)-11),\" \",RIGHT(B181,4)),\"preço\"))","v":""},0,0,null,null,0,null,0,0,null,null,null,null,null,null,"",{"$error":"#REF!"}]
[null,"","",{"$f":"SUMIFS('TD-Lançamentos'!C:C,'TD-Lançamentos'!D:D,A182,'TD-Lançamentos'!B:B,\"c\")-SUMIFS('TD-Lançamentos'!C:C,'TD-Lançamentos'!D:D,A182,'TD-Lançamentos'!B:B,\"v\")","v":0},{"$f":"IF(D182=0,0,SUMIFS('TD-Lançamentos'!J:J,'TD-Lançamentos'!D:D,A182,'TD-Lançamentos'!B:B,\"c\")-SUMIFS('TD-Lançamentos'!J:J,'TD-Lançamentos'!D:D,A182,'TD-Lançamentos'!B:B,\"v\"))","v":0},0,null,{"$f":"IF(OR(A182=\"\",A182=\"(vazio)\"),\"\",tesourodireto(CONCATENATE(LEFT(A182,LEN(A182)-11),\" \",RIGHT(B182,4)),\"preço\"))","v":""},0,0,null,null,0,null,0,0,null,null,null,null,null,null,"",{"$error":"#REF!"}]
[null,"","",{"$f":"SUMIFS('TD-Lançamentos'!C:C,'TD-Lançamentos'!D:D,A183,'TD-Lançamentos'!B:B,\"c\")-SUMIFS('TD-Lançamentos'!C:C,'TD-Lançamentos'!D:D,A183,'TD-Lançamentos'!B:B,\"v\")","v":0},{"$f":"IF(D183=0,0,SUMIFS('TD-Lançamentos'!J:J,'TD-Lançamentos'!D:D,A183,'TD-Lançamentos'!B:B,\"c\")-SUMIFS('TD-Lançamentos'!J:J,'TD-Lançamentos'!D:D,A183,'TD-Lançamentos'!B:B,\"v\"))","v":0},0,null,{"$f":"IF(OR(A183=\"\",A183=\"(vazio)\"),\"\",tesourodireto(CONCATENATE(LEFT(A183,LEN(A183)-11),\" \",RIGHT(B183,4)),\"preço\"))","v":""},0,0,null,null,0,null,0,0,null,null,null,null,null,null,"",{"$error":"#REF!"}]
[null,"","",{"$f":"SUMIFS('TD-Lançamentos'!C:C,'TD-Lançamentos'!D:D,A184,'TD-Lançamentos'!B:B,\"c\")-SUMIFS('TD-Lançamentos'!C:C,'TD-Lançamentos'!D:D,A184,'TD-Lançamentos'!B:B,\"v\")","v":0},{"$f":"IF(D184=0,0,SUMIFS('TD-Lançamentos'!J:J,'TD-Lançamentos'!D:D,A184,'TD-Lançamentos'!B:B,\"c\")-SUMIFS('TD-Lançamentos'!J:J,'TD-Lançamentos'!D:D,A184,'TD-Lançamentos'!B:B,\"v\"))","v":0},0,null,{"$f":"IF(OR(A184=\"\",A184=\"(vazio)\"),\"\",tesourodireto(CONCATENATE(LEFT(A184,LEN(A184)-11),\" \",RIGHT(B184,4)),\"preço\"))","v":""},0,0,null,null,0,null,0,0,null,null,null,null,null,null,"",{"$error":"#REF!"}]
[null,"","",{"$f":"SUMIFS('TD-Lançamentos'!C:C,'TD-Lançamentos'!D:D,A185,'TD-Lançamentos'!B:B,\"c\")-SUMIFS('TD-Lançamentos'!C:C,'TD-Lançamentos'!D:D,A185,'TD-Lançamentos'!B:B,\"v\")","v":0},{"$f":"IF(D185=0,0,SUMIFS('TD-Lançamentos'!J:J,'TD-Lançamentos'!D:D,A185,'TD-Lançamentos'!B:B,\"c\")-SUMIFS('TD-Lançamentos'!J:J,'TD-Lançamentos'!D:D,A185,'TD-Lançamentos'!B:B,\"v\"))","v":0},0,null,{"$f":"IF(OR(A185=\"\",A185=\"(vazio)\"),\"\",tesourodireto(CONCATENATE(LEFT(A185,LEN(A185)-11),\" \",RIGHT(B185,4)),\"preço\"))","v":""},0,0,null,null,0,null,0,0,null,null,null,null,null,null,"",{"$error":"#REF!"}]
[null,"","",{"$f":"SUMIFS('TD-Lançamentos'!C:C,'TD-Lançamentos'!D:D,A186,'TD-Lançamentos'!B:B,\"c\")-SUMIFS('TD-Lançamentos'!C:C,'TD-Lançamentos'!D:D,A186,'TD-Lançamentos'!B:B,\"v\")","v":0},{"$f":"IF(D186=0,0,SUMIFS('TD-Lançamentos'!J:J,'TD-Lançamentos'!D:D,A186,'TD-Lançamentos'!B:B,\"c\")-SUMIFS('TD-Lançamentos'!J:J,'TD-Lançamentos'!D:D,A186,'TD-Lançamentos'!B:B,\"v\"))","v":0},0,null,{"$f":"IF(OR(A186=\"\",A186=\"(vazio)\"),\"\",tesourodireto(CONCATENATE(LEFT(A186,LEN(A186)-11),\" \",RIGHT(B186,4)),\"preço\"))","v":""},0,0,null,null,0,null,0,0,null,null,null,null,null,null,"",{"$error":"#REF!"}]
[null,"","",{"$f":"SUMIFS('TD-Lançamentos'!C:C,'TD-Lançamentos'!D:D,A187,'TD-Lançamentos'!B:B,\"c\")-SUMIFS('TD-Lançamentos'!C:C,'TD-Lançamentos'!D:D,A187,'TD-Lançamentos'!B:B,\"v\")","v":0},{"$f":"IF(D187=0,0,SUMIFS('TD-Lançamentos'!J:J,'TD-Lançamentos'!D:D,A187,'TD-Lançamentos'!B:B,\"c\")-SUMIFS('TD-Lançamentos'!J:J,'TD-Lançamentos'!D:D,A187,'TD-Lançamentos'!B:B,\"v\"))","v":0},0,null,{"$f":"IF(OR(A187=\"\",A187=\"(vazio)\"),\"\",tesourodireto(CONCATENATE(LEFT(A187,LEN(A187)-11),\" \",RIGHT(B187,4)),\"preço\"))","v":""},0,0,null,null,0,null,0,0,null,null,null,null,null,null,"",{"$error":"#REF!"}]
[null,"","",{"$f":"SUMIFS('TD-Lançamentos'!C:C,'TD-Lançamentos'!D:D,A188,'TD-Lançamentos'!B:B,\"c\")-SUMIFS('TD-Lançamentos'!C:C,'TD-Lançamentos'!D:D,A188,'TD-Lançamentos'!B:B,\"v\")","v":0},{"$f":"IF(D188=0,0,SUMIFS('TD-Lançamentos'!J:J,'TD-Lançamentos'!D:D,A188,'TD-Lançamentos'!B:B,\"c\")-SUMIFS('TD-Lançamentos'!J:J,'TD-Lançamentos'!D:D,A188,'TD-Lançamentos'!B:B,\"v\"))","v":0},0,null,{"$f":"IF(OR(A188=\"\",A188=\"(vazio)\"),\"\",tesourodireto(CONCATENATE(LEFT(A188,LEN(A188)-11),\" \",RIGHT(B188,4)),\"preço\"))","v":""},0,0,null,null,0,null,0,0,null,null,null,null,null,null,"",{"$error":"#REF!"}]
[null,"","",{"$f":"SUMIFS('TD-Lançamentos'!C:C,'TD-Lançamentos'!D:D,A189,'TD-Lançamentos'!B:B,\"c\")-SUMIFS('TD-Lançamentos'!C:C,'TD-Lançamentos'!D:D,A189,'TD-Lançamentos'!B:B,\"v\")","v":0},{"$f":"IF(D189=0,0,SUMIFS('TD-Lançamentos'!J:J,'TD-Lançamentos'!D:D,A189,'TD-Lançamentos'!B:B,\"c\")-SUMIFS('TD-Lançamentos'!J:J,'TD-Lançamentos'!D:D,A189,'TD-Lançamentos'!B:B,\"v\"))","v":0},0,null,{"$f":"IF(OR(A189=\"\",A189=\"(vazio)\"),\"\",tesourodireto(CONCATENATE(LEFT(A189,LEN(A189)-11),\" \",RIGHT(B189,4)),\"preço\"))","v":""},0,0,null,null,0,null,0,0,null,null,null,null,null,null,"",{"$error":"#REF!"}]
[null,"","",{"$f":"SUMIFS('TD-Lançamentos'!C:C,'TD-Lançamentos'!D:D,A190,'TD-Lançamentos'!B:B,\"c\")-SUMIFS('TD-Lançamentos'!C:C,'TD-Lançamentos'!D:D,A190,'TD-Lançamentos'!B:B,\"v\")","v":0},{"$f":"IF(D190=0,0,SUMIFS('TD-Lançamentos'!J:J,'TD-Lançamentos'!D:D,A190,'TD-Lançamentos'!B:B,\"c\")-SUMIFS('TD-Lançamentos'!J:J,'TD-Lançamentos'!D:D,A190,'TD-Lançamentos'!B:B,\"v\"))","v":0},0,null,{"$f":"IF(OR(A190=\"\",A190=\"(vazio)\"),\"\",tesourodireto(CONCATENATE(LEFT(A190,LEN(A190)-11),\" \",RIGHT(B190,4)),\"preço\"))","v":""},0,0,null,null,0,null,0,0,null,null,null,null,null,null,"",{"$error":"#REF!"}]
[null,"","",{"$f":"SUMIFS('TD-Lançamentos'!C:C,'TD-Lançamentos'!D:D,A191,'TD-Lançamentos'!B:B,\"c\")-SUMIFS('TD-Lançamentos'!C:C,'TD-Lançamentos'!D:D,A191,'TD-Lançamentos'!B:B,\"v\")","v":0},{"$f":"IF(D191=0,0,SUMIFS('TD-Lançamentos'!J:J,'TD-Lançamentos'!D:D,A191,'TD-Lançamentos'!B:B,\"c\")-SUMIFS('TD-Lançamentos'!J:J,'TD-Lançamentos'!D:D,A191,'TD-Lançamentos'!B:B,\"v\"))","v":0},0,null,{"$f":"IF(OR(A191=\"\",A191=\"(vazio)\"),\"\",tesourodireto(CONCATENATE(LEFT(A191,LEN(A191)-11),\" \",RIGHT(B191,4)),\"preço\"))","v":""},0,0,null,null,0,null,0,0,null,null,null,null,null,null,"",{"$error":"#REF!"}]
[null,"","",{"$f":"SUMIFS('TD-Lançamentos'!C:C,'TD-Lançamentos'!D:D,A192,'TD-Lançamentos'!B:B,\"c\")-SUMIFS('TD-Lançamentos'!C:C,'TD-Lançamentos'!D:D,A192,'TD-Lançamentos'!B:B,\"v\")","v":0},{"$f":"IF(D192=0,0,SUMIFS('TD-Lançamentos'!J:J,'TD-Lançamentos'!D:D,A192,'TD-Lançamentos'!B:B,\"c\")-SUMIFS('TD-Lançamentos'!J:J,'TD-Lançamentos'!D:D,A192,'TD-Lançamentos'!B:B,\"v\"))","v":0},0,null,{"$f":"IF(OR(A192=\"\",A192=\"(vazio)\"),\"\",tesourodireto(CONCATENATE(LEFT(A192,LEN(A192)-11),\" \",RIGHT(B192,4)),\"preço\"))","v":""},0,0,null,null,0,null,0,0,null,null,null,null,null,null,"",{"$error":"#REF!"}]
[null,"","",{"$f":"SUMIFS('TD-Lançamentos'!C:C,'TD-Lançamentos'!D:D,A193,'TD-Lançamentos'!B:B,\"c\")-SUMIFS('TD-Lançamentos'!C:C,'TD-Lançamentos'!D:D,A193,'TD-Lançamentos'!B:B,\"v\")","v":0},{"$f":"IF(D193=0,0,SUMIFS('TD-Lançamentos'!J:J,'TD-Lançamentos'!D:D,A193,'TD-Lançamentos'!B:B,\"c\")-SUMIFS('TD-Lançamentos'!J:J,'TD-Lançamentos'!D:D,A193,'TD-Lançamentos'!B:B,\"v\"))","v":0},0,null,{"$f":"IF(OR(A193=\"\",A193=\"(vazio)\"),\"\",tesourodireto(CONCATENATE(LEFT(A193,LEN(A193)-11),\" \",RIGHT(B193,4)),\"preço\"))","v":""},0,0,null,null,0,null,0,0,null,null,null,null,null,null,"",{"$error":"#REF!"}]
[null,"","",{"$f":"SUMIFS('TD-Lançamentos'!C:C,'TD-Lançamentos'!D:D,A194,'TD-Lançamentos'!B:B,\"c\")-SUMIFS('TD-Lançamentos'!C:C,'TD-Lançamentos'!D:D,A194,'TD-Lançamentos'!B:B,\"v\")","v":0},{"$f":"IF(D194=0,0,SUMIFS('TD-Lançamentos'!J:J,'TD-Lançamentos'!D:D,A194,'TD-Lançamentos'!B:B,\"c\")-SUMIFS('TD-Lançamentos'!J:J,'TD-Lançamentos'!D:D,A194,'TD-Lançamentos'!B:B,\"v\"))","v":0},0,null,{"$f":"IF(OR(A194=\"\",A194=\"(vazio)\"),\"\",tesourodireto(CONCATENATE(LEFT(A194,LEN(A194)-11),\" \",RIGHT(B194,4)),\"preço\"))","v":""},0,0,null,null,0,null,0,0,null,null,null,null,null,null,"",{"$error":"#REF!"}]
[null,"","",{"$f":"SUMIFS('TD-Lançamentos'!C:C,'TD-Lançamentos'!D:D,A195,'TD-Lançamentos'!B:B,\"c\")-SUMIFS('TD-Lançamentos'!C:C,'TD-Lançamentos'!D:D,A195,'TD-Lançamentos'!B:B,\"v\")","v":0},{"$f":"IF(D195=0,0,SUMIFS('TD-Lançamentos'!J:J,'TD-Lançamentos'!D:D,A195,'TD-Lançamentos'!B:B,\"c\")-SUMIFS('TD-Lançamentos'!J:J,'TD-Lançamentos'!D:D,A195,'TD-Lançamentos'!B:B,\"v\"))","v":0},0,null,{"$f":"IF(OR(A195=\"\",A195=\"(vazio)\"),\"\",tesourodireto(CONCATENATE(LEFT(A195,LEN(A195)-11),\" \",RIGHT(B195,4)),\"preço\"))","v":""},0,0,null,null,0,null,0,0,null,null,null,null,null,null,"",{"$error":"#REF!"}]
[null,{"$f":"IF(A196=\"\",\"\",RIGHT(A196,10))","v":""},{"$f":"IF(OR(A196=\"\",A196=\"(vazio)\"),\"\",LEFT(A196,LEN(A196)-11))","v":""},{"$f":"SUMIFS('TD-Lançamentos'!C:C,'TD-Lançamentos'!D:D,A196,'TD-Lançamentos'!B:B,\"c\")-SUMIFS('TD-Lançamentos'!C:C,'TD-Lançamentos'!D:D,A196,'TD-Lançamentos'!B:B,\"v\")","v":0},{"$f":"IF(D196=0,0,SUMIFS('TD-Lançamentos'!J:J,'TD-Lançamentos'!D:D,A196,'TD-Lançamentos'!B:B,\"c\")-SUMIFS('TD-Lançamentos'!J:J,'TD-Lançamentos'!D:D,A196,'TD-Lançamentos'!B:B,\"v\"))","v":0},{"$f":"IF(OR(E196=0,$S$9=0),0,E196/$S$9)","v":0},null,{"$f":"IF(OR(A196=\"\",A196=\"(vazio)\"),\"\",tesourodireto(CONCATENATE(LEFT(A196,LEN(A196)-11),\" \",RIGHT(B196,4)),\"preço\"))","v":""},{"$f":"IF(D196=\"\",0,IF(H196=\"\",E196,D196*H196))","v":0},{"$f":"IF($S$11=0,0,I196/$S$11)","v":0},null,null,{"$f":"IF(OR(L196=\"\",J196=\"\",F196=\"\"),0,IF($L$2=\"% ATUAL\",L196-J196,L196-F196))","v":0},null,{"$f":"IF(OR(E196=0,H196=\"\"),0,I196-E196)","v":0},{"$f":"IF(OR(E196=0,H196=\"\"),0,O196/E196)","v":0},null,null,null,null,null,null,"",{"$error":"#REF!"}]
[null,"","",{"$f":"SUMIFS('TD-Lançamentos'!C:C,'TD-Lançamentos'!D:D,A197,'TD-Lançamentos'!B:B,\"c\")-SUMIFS('TD-Lançamentos'!C:C,'TD-Lançamentos'!D:D,A197,'TD-Lançamentos'!B:B,\"v\")","v":0},{"$f":"IF(D197=0,0,SUMIFS('TD-Lançamentos'!J:J,'TD-Lançamentos'!D:D,A197,'TD-Lançamentos'!B:B,\"c\")-SUMIFS('TD-Lançamentos'!J:J,'TD-Lançamentos'!D:D,A197,'TD-Lançamentos'!B:B,\"v\"))","v":0},0,null,{"$f":"IF(OR(A197=\"\",A197=\"(vazio)\"),\"\",tesourodireto(CONCATENATE(LEFT(A197,LEN(A197)-11),\" \",RIGHT(B197,4)),\"preço\"))","v":""},0,0,null,null,0,null,0,0,null,null,null,null,null,null,"",{"$error":"#REF!"}]
[null,"","",{"$f":"SUMIFS('TD-Lançamentos'!C:C,'TD-Lançamentos'!D:D,A198,'TD-Lançamentos'!B:B,\"c\")-SUMIFS('TD-Lançamentos'!C:C,'TD-Lançamentos'!D:D,A198,'TD-Lançamentos'!B:B,\"v\")","v":0},{"$f":"IF(D198=0,0,SUMIFS('TD-Lançamentos'!J:J,'TD-Lançamentos'!D:D,A198,'TD-Lançamentos'!B:B,\"c\")-SUMIFS('TD-Lançamentos'!J:J,'TD-Lançamentos'!D:D,A198,'TD-Lançamentos'!B:B,\"v\"))","v":0},0,null,{"$f":"IF(OR(A198=\"\",A198=\"(vazio)\"),\"\",tesourodireto(CONCATENATE(LEFT(A198,LEN(A198)-11),\" \",RIGHT(B198,4)),\"preço\"))","v":""},0,0,null,null,0,null,0,0,null,null,null,null,null,null,"",{"$error":"#REF!"}]
[null,"","",{"$f":"SUMIFS('TD-Lançamentos'!C:C,'TD-Lançamentos'!D:D,A199,'TD-Lançamentos'!B:B,\"c\")-SUMIFS('TD-Lançamentos'!C:C,'TD-Lançamentos'!D:D,A199,'TD-Lançamentos'!B:B,\"v\")","v":0},{"$f":"IF(D199=0,0,SUMIFS('TD-Lançamentos'!J:J,'TD-Lançamentos'!D:D,A199,'TD-Lançamentos'!B:B,\"c\")-SUMIFS('TD-Lançamentos'!J:J,'TD-Lançamentos'!D:D,A199,'TD-Lançamentos'!B:B,\"v\"))","v":0},0,null,{"$f":"IF(OR(A199=\"\",A199=\"(vazio)\"),\"\",tesourodireto(CONCATENATE(LEFT(A199,LEN(A199)-11),\" \",RIGHT(B199,4)),\"preço\"))","v":""},0,0,null,null,0,null,0,0,null,null,null,null,null,null,"",{"$error":"#REF!"}]
[null,"","",{"$f":"SUMIFS('TD-Lançamentos'!C:C,'TD-Lançamentos'!D:D,A200,'TD-Lançamentos'!B:B,\"c\")-SUMIFS('TD-Lançamentos'!C:C,'TD-Lançamentos'!D:D,A200,'TD-Lançamentos'!B:B,\"v\")","v":0},{"$f":"IF(D200=0,0,SUMIFS('TD-Lançamentos'!J:J,'TD-Lançamentos'!D:D,A200,'TD-Lançamentos'!B:B,\"c\")-SUMIFS('TD-Lançamentos'!J:J,'TD-Lançamentos'!D:D,A200,'TD-Lançamentos'!B:B,\"v\"))","v":0},0,null,{"$f":"IF(OR(A200=\"\",A200=\"(vazio)\"),\"\",tesourodireto(CONCATENATE(LEFT(A200,LEN(A200)-11),\" \",RIGHT(B200,4)),\"preço\"))","v":""},0,0,null,null,0,null,0,0,null,null,null,null,null,null,"",{"$error":"#REF!"}]
[null,"","",{"$f":"SUMIFS('TD-Lançamentos'!C:C,'TD-Lançamentos'!D:D,A201,'TD-Lançamentos'!B:B,\"c\")-SUMIFS('TD-Lançamentos'!C:C,'TD-Lançamentos'!D:D,A201,'TD-Lançamentos'!B:B,\"v\")","v":0},{"$f":"IF(D201=0,0,SUMIFS('TD-Lançamentos'!J:J,'TD-Lançamentos'!D:D,A201,'TD-Lançamentos'!B:B,\"c\")-SUMIFS('TD-Lançamentos'!J:J,'TD-Lançamentos'!D:D,A201,'TD-Lançamentos'!B:B,\"v\"))","v":0},0,null,{"$f":"IF(OR(A201=\"\",A201=\"(vazio)\"),\"\",tesourodireto(CONCATENATE(LEFT(A201,LEN(A201)-11),\" \",RIGHT(B201,4)),\"preço\"))","v":""},0,0,null,null,0,null,0,0,null,null,null,null,null,null,"",{"$error":"#REF!"}]
[null,"","",{"$f":"SUMIFS('TD-Lançamentos'!C:C,'TD-Lançamentos'!D:D,A202,'TD-Lançamentos'!B:B,\"c\")-SUMIFS('TD-Lançamentos'!C:C,'TD-Lançamentos'!D:D,A202,'TD-Lançamentos'!B:B,\"v\")","v":0},{"$f":"IF(D202=0,0,SUMIFS('TD-Lançamentos'!J:J,'TD-Lançamentos'!D:D,A202,'TD-Lançamentos'!B:B,\"c\")-SUMIFS('TD-Lançamentos'!J:J,'TD-Lançamentos'!D:D,A202,'TD-Lançamentos'!B:B,\"v\"))","v":0},0,null,{"$f":"IF(OR(A202=\"\",A202=\"(vazio)\"),\"\",tesourodireto(CONCATENATE(LEFT(A202,LEN(A202)-11),\" \",RIGHT(B202,4)),\"preço\"))","v":""},0,0,null,null,0,null,0,0,null,null,null,null,null,null,"",{"$error":"#REF!"}]
[null,"","",{"$f":"SUMIFS('TD-Lançamentos'!C:C,'TD-Lançamentos'!D:D,A203,'TD-Lançamentos'!B:B,\"c\")-SUMIFS('TD-Lançamentos'!C:C,'TD-Lançamentos'!D:D,A203,'TD-Lançamentos'!B:B,\"v\")","v":0},{"$f":"IF(D203=0,0,SUMIFS('TD-Lançamentos'!J:J,'TD-Lançamentos'!D:D,A203,'TD-Lançamentos'!B:B,\"c\")-SUMIFS('TD-Lançamentos'!J:J,'TD-Lançamentos'!D:D,A203,'TD-Lançamentos'!B:B,\"v\"))","v":0},0,null,{"$f":"IF(OR(A203=\"\",A203=\"(vazio)\"),\"\",tesourodireto(CONCATENATE(LEFT(A203,LEN(A203)-11),\" \",RIGHT(B203,4)),\"preço\"))","v":""},0,0,null,null,0,null,0,0,null,null,null,null,null,null,"",{"$error":"#REF!"}]
[null,"","",{"$f":"SUMIFS('TD-Lançamentos'!C:C,'TD-Lançamentos'!D:D,A204,'TD-Lançamentos'!B:B,\"c\")-SUMIFS('TD-Lançamentos'!C:C,'TD-Lançamentos'!D:D,A204,'TD-Lançamentos'!B:B,\"v\")","v":0},{"$f":"IF(D204=0,0,SUMIFS('TD-Lançamentos'!J:J,'TD-Lançamentos'!D:D,A204,'TD-Lançamentos'!B:B,\"c\")-SUMIFS('TD-Lançamentos'!J:J,'TD-Lançamentos'!D:D,A204,'TD-Lançamentos'!B:B,\"v\"))","v":0},0,null,{"$f":"IF(OR(A204=\"\",A204=\"(vazio)\"),\"\",tesourodireto(CONCATENATE(LEFT(A204,LEN(A204)-11),\" \",RIGHT(B204,4)),\"preço\"))","v":""},0,0,null,null,0,null,0,0,null,null,null,null,null,null,"",{"$error":"#REF!"}]
[null,"","",{"$f":"SUMIFS('TD-Lançamentos'!C:C,'TD-Lançamentos'!D:D,A205,'TD-Lançamentos'!B:B,\"c\")-SUMIFS('TD-Lançamentos'!C:C,'TD-Lançamentos'!D:D,A205,'TD-Lançamentos'!B:B,\"v\")","v":0},{"$f":"IF(D205=0,0,SUMIFS('TD-Lançamentos'!J:J,'TD-Lançamentos'!D:D,A205,'TD-Lançamentos'!B:B,\"c\")-SUMIFS('TD-Lançamentos'!J:J,'TD-Lançamentos'!D:D,A205,'TD-Lançamentos'!B:B,\"v\"))","v":0},0,null,{"$f":"IF(OR(A205=\"\",A205=\"(vazio)\"),\"\",tesourodireto(CONCATENATE(LEFT(A205,LEN(A205)-11),\" \",RIGHT(B205,4)),\"preço\"))","v":""},0,0,null,null,0,null,0,0,null,null,null,null,null,null,"",{"$error":"#REF!"}]
[null,"","",{"$f":"SUMIFS('TD-Lançamentos'!C:C,'TD-Lançamentos'!D:D,A206,'TD-Lançamentos'!B:B,\"c\")-SUMIFS('TD-Lançamentos'!C:C,'TD-Lançamentos'!D:D,A206,'TD-Lançamentos'!B:B,\"v\")","v":0},{"$f":"IF(D206=0,0,SUMIFS('TD-Lançamentos'!J:J,'TD-Lançamentos'!D:D,A206,'TD-Lançamentos'!B:B,\"c\")-SUMIFS('TD-Lançamentos'!J:J,'TD-Lançamentos'!D:D,A206,'TD-Lançamentos'!B:B,\"v\"))","v":0},0,null,{"$f":"IF(OR(A206=\"\",A206=\"(vazio)\"),\"\",tesourodireto(CONCATENATE(LEFT(A206,LEN(A206)-11),\" \",RIGHT(B206,4)),\"preço\"))","v":""},0,0,null,null,0,null,0,0,null,null,null,null,null,null,{"$f":"IF(L206=\"\",\"\",L206-J206)","v":""},{"$f":"IF(OR($A553=\"TOTAL\",$A553=\"\"),\"\",$A553)","v":{"$error":"#REF!"}}]
[null,"","",{"$f":"SUMIFS('TD-Lançamentos'!C:C,'TD-Lançamentos'!D:D,A207,'TD-Lançamentos'!B:B,\"c\")-SUMIFS('TD-Lançamentos'!C:C,'TD-Lançamentos'!D:D,A207,'TD-Lançamentos'!B:B,\"v\")","v":0},{"$f":"IF(D207=0,0,SUMIFS('TD-Lançamentos'!J:J,'TD-Lançamentos'!D:D,A207,'TD-Lançamentos'!B:B,\"c\")-SUMIFS('TD-Lançamentos'!J:J,'TD-Lançamentos'!D:D,A207,'TD-Lançamentos'!B:B,\"v\"))","v":0},0,null,{"$f":"IF(OR(A207=\"\",A207=\"(vazio)\"),\"\",tesourodireto(CONCATENATE(LEFT(A207,LEN(A207)-11),\" \",RIGHT(B207,4)),\"preço\"))","v":""},0,0,null,null,0,null,0,0,null,null,null,null,null,null,"",{"$error":"#REF!"}]
[null,"","",{"$f":"SUMIFS('TD-Lançamentos'!C:C,'TD-Lançamentos'!D:D,A208,'TD-Lançamentos'!B:B,\"c\")-SUMIFS('TD-Lançamentos'!C:C,'TD-Lançamentos'!D:D,A208,'TD-Lançamentos'!B:B,\"v\")","v":0},{"$f":"IF(D208=0,0,SUMIFS('TD-Lançamentos'!J:J,'TD-Lançamentos'!D:D,A208,'TD-Lançamentos'!B:B,\"c\")-SUMIFS('TD-Lançamentos'!J:J,'TD-Lançamentos'!D:D,A208,'TD-Lançamentos'!B:B,\"v\"))","v":0},0,null,{"$f":"IF(OR(A208=\"\",A208=\"(vazio)\"),\"\",tesourodireto(CONCATENATE(LEFT(A208,LEN(A208)-11),\" \",RIGHT(B208,4)),\"preço\"))","v":""},0,0,null,null,0,null,0,0,null,null,null,null,null,null,"",{"$error":"#REF!"}]
[null,"","",{"$f":"SUMIFS('TD-Lançamentos'!C:C,'TD-Lançamentos'!D:D,A209,'TD-Lançamentos'!B:B,\"c\")-SUMIFS('TD-Lançamentos'!C:C,'TD-Lançamentos'!D:D,A209,'TD-Lançamentos'!B:B,\"v\")","v":0},{"$f":"IF(D209=0,0,SUMIFS('TD-Lançamentos'!J:J,'TD-Lançamentos'!D:D,A209,'TD-Lançamentos'!B:B,\"c\")-SUMIFS('TD-Lançamentos'!J:J,'TD-Lançamentos'!D:D,A209,'TD-Lançamentos'!B:B,\"v\"))","v":0},0,null,{"$f":"IF(OR(A209=\"\",A209=\"(vazio)\"),\"\",tesourodireto(CONCATENATE(LEFT(A209,LEN(A209)-11),\" \",RIGHT(B209,4)),\"preço\"))","v":""},0,0,null,null,0,null,0,0,null,null,null,null,null,null,"",{"$error":"#REF!"}]
[null,"","",{"$f":"SUMIFS('TD-Lançamentos'!C:C,'TD-Lançamentos'!D:D,A210,'TD-Lançamentos'!B:B,\"c\")-SUMIFS('TD-Lançamentos'!C:C,'TD-Lançamentos'!D:D,A210,'TD-Lançamentos'!B:B,\"v\")","v":0},{"$f":"IF(D210=0,0,SUMIFS('TD-Lançamentos'!J:J,'TD-Lançamentos'!D:D,A210,'TD-Lançamentos'!B:B,\"c\")-SUMIFS('TD-Lançamentos'!J:J,'TD-Lançamentos'!D:D,A210,'TD-Lançamentos'!B:B,\"v\"))","v":0},0,null,{"$f":"IF(OR(A210=\"\",A210=\"(vazio)\"),\"\",tesourodireto(CONCATENATE(LEFT(A210,LEN(A210)-11),\" \",RIGHT(B210,4)),\"preço\"))","v":""},0,0,null,null,0,null,0,0,null,null,null,null,null,null,"",{"$error":"#REF!"}]
[null,"","",{"$f":"SUMIFS('TD-Lançamentos'!C:C,'TD-Lançamentos'!D:D,A211,'TD-Lançamentos'!B:B,\"c\")-SUMIFS('TD-Lançamentos'!C:C,'TD-Lançamentos'!D:D,A211,'TD-Lançamentos'!B:B,\"v\")","v":0},{"$f":"IF(D211=0,0,SUMIFS('TD-Lançamentos'!J:J,'TD-Lançamentos'!D:D,A211,'TD-Lançamentos'!B:B,\"c\")-SUMIFS('TD-Lançamentos'!J:J,'TD-Lançamentos'!D:D,A211,'TD-Lançamentos'!B:B,\"v\"))","v":0},0,null,{"$f":"IF(OR(A211=\"\",A211=\"(vazio)\"),\"\",tesourodireto(CONCATENATE(LEFT(A211,LEN(A211)-11),\" \",RIGHT(B211,4)),\"preço\"))","v":""},0,0,null,null,0,null,0,0,null,null,null,null,null,null,"",{"$error":"#REF!"}]
[null,"","",{"$f":"SUMIFS('TD-Lançamentos'!C:C,'TD-Lançamentos'!D:D,A212,'TD-Lançamentos'!B:B,\"c\")-SUMIFS('TD-Lançamentos'!C:C,'TD-Lançamentos'!D:D,A212,'TD-Lançamentos'!B:B,\"v\")","v":0},{"$f":"IF(D212=0,0,SUMIFS('TD-Lançamentos'!J:J,'TD-Lançamentos'!D:D,A212,'TD-Lançamentos'!B:B,\"c\")-SUMIFS('TD-Lançamentos'!J:J,'TD-Lançamentos'!D:D,A212,'TD-Lançamentos'!B:B,\"v\"))","v":0},0,null,{"$f":"IF(OR(A212=\"\",A212=\"(vazio)\"),\"\",tesourodireto(CONCATENATE(LEFT(A212,LEN(A212)-11),\" \",RIGHT(B212,4)),\"preço\"))","v":""},0,0,null,null,0,null,0,0,null,null,null,null,null,null,"",{"$error":"#REF!"}]
[null,"","",{"$f":"SUMIFS('TD-Lançamentos'!C:C,'TD-Lançamentos'!D:D,A213,'TD-Lançamentos'!B:B,\"c\")-SUMIFS('TD-Lançamentos'!C:C,'TD-Lançamentos'!D:D,A213,'TD-Lançamentos'!B:B,\"v\")","v":0},{"$f":"IF(D213=0,0,SUMIFS('TD-Lançamentos'!J:J,'TD-Lançamentos'!D:D,A213,'TD-Lançamentos'!B:B,\"c\")-SUMIFS('TD-Lançamentos'!J:J,'TD-Lançamentos'!D:D,A213,'TD-Lançamentos'!B:B,\"v\"))","v":0},0,null,{"$f":"IF(OR(A213=\"\",A213=\"(vazio)\"),\"\",tesourodireto(CONCATENATE(LEFT(A213,LEN(A213)-11),\" \",RIGHT(B213,4)),\"preço\"))","v":""},0,0,null,null,0,null,0,0,null,null,null,null,null,null,"",{"$error":"#REF!"}]
[null,"","",{"$f":"SUMIFS('TD-Lançamentos'!C:C,'TD-Lançamentos'!D:D,A214,'TD-Lançamentos'!B:B,\"c\")-SUMIFS('TD-Lançamentos'!C:C,'TD-Lançamentos'!D:D,A214,'TD-Lançamentos'!B:B,\"v\")","v":0},{"$f":"IF(D214=0,0,SUMIFS('TD-Lançamentos'!J:J,'TD-Lançamentos'!D:D,A214,'TD-Lançamentos'!B:B,\"c\")-SUMIFS('TD-Lançamentos'!J:J,'TD-Lançamentos'!D:D,A214,'TD-Lançamentos'!B:B,\"v\"))","v":0},0,null,{"$f":"IF(OR(A214=\"\",A214=\"(vazio)\"),\"\",tesourodireto(CONCATENATE(LEFT(A214,LEN(A214)-11),\" \",RIGHT(B214,4)),\"preço\"))","v":""},0,0,null,null,0,null,0,0,null,null,null,null,null,null,"",{"$error":"#REF!"}]
[null,"","",{"$f":"SUMIFS('TD-Lançamentos'!C:C,'TD-Lançamentos'!D:D,A215,'TD-Lançamentos'!B:B,\"c\")-SUMIFS('TD-Lançamentos'!C:C,'TD-Lançamentos'!D:D,A215,'TD-Lançamentos'!B:B,\"v\")","v":0},{"$f":"IF(D215=0,0,SUMIFS('TD-Lançamentos'!J:J,'TD-Lançamentos'!D:D,A215,'TD-Lançamentos'!B:B,\"c\")-SUMIFS('TD-Lançamentos'!J:J,'TD-Lançamentos'!D:D,A215,'TD-Lançamentos'!B:B,\"v\"))","v":0},0,null,{"$f":"IF(OR(A215=\"\",A215=\"(vazio)\"),\"\",tesourodireto(CONCATENATE(LEFT(A215,LEN(A215)-11),\" \",RIGHT(B215,4)),\"preço\"))","v":""},0,0,null,null,0,null,0,0,null,null,null,null,null,null,"",{"$error":"#REF!"}]
[null,"","",{"$f":"SUMIFS('TD-Lançamentos'!C:C,'TD-Lançamentos'!D:D,A216,'TD-Lançamentos'!B:B,\"c\")-SUMIFS('TD-Lançamentos'!C:C,'TD-Lançamentos'!D:D,A216,'TD-Lançamentos'!B:B,\"v\")","v":0},{"$f":"IF(D216=0,0,SUMIFS('TD-Lançamentos'!J:J,'TD-Lançamentos'!D:D,A216,'TD-Lançamentos'!B:B,\"c\")-SUMIFS('TD-Lançamentos'!J:J,'TD-Lançamentos'!D:D,A216,'TD-Lançamentos'!B:B,\"v\"))","v":0},0,null,{"$f":"IF(OR(A216=\"\",A216=\"(vazio)\"),\"\",tesourodireto(CONCATENATE(LEFT(A216,LEN(A216)-11),\" \",RIGHT(B216,4)),\"preço\"))","v":""},0,0,null,null,0,null,0,0,null,null,null,null,null,null,"",{"$error":"#REF!"}]
[null,"","",{"$f":"SUMIFS('TD-Lançamentos'!C:C,'TD-Lançamentos'!D:D,A217,'TD-Lançamentos'!B:B,\"c\")-SUMIFS('TD-Lançamentos'!C:C,'TD-Lançamentos'!D:D,A217,'TD-Lançamentos'!B:B,\"v\")","v":0},{"$f":"IF(D217=0,0,SUMIFS('TD-Lançamentos'!J:J,'TD-Lançamentos'!D:D,A217,'TD-Lançamentos'!B:B,\"c\")-SUMIFS('TD-Lançamentos'!J:J,'TD-Lançamentos'!D:D,A217,'TD-Lançamentos'!B:B,\"v\"))","v":0},0,null,{"$f":"IF(OR(A217=\"\",A217=\"(vazio)\"),\"\",tesourodireto(CONCATENATE(LEFT(A217,LEN(A217)-11),\" \",RIGHT(B217,4)),\"preço\"))","v":""},0,0,null,null,0,null,0,0,null,null,null,null,null,null,"",{"$error":"#REF!"}]
[null,"","",{"$f":"SUMIFS('TD-Lançamentos'!C:C,'TD-Lançamentos'!D:D,A218,'TD-Lançamentos'!B:B,\"c\")-SUMIFS('TD-Lançamentos'!C:C,'TD-Lançamentos'!D:D,A218,'TD-Lançamentos'!B:B,\"v\")","v":0},{"$f":"IF(D218=0,0,SUMIFS('TD-Lançamentos'!J:J,'TD-Lançamentos'!D:D,A218,'TD-Lançamentos'!B:B,\"c\")-SUMIFS('TD-Lançamentos'!J:J,'TD-Lançamentos'!D:D,A218,'TD-Lançamentos'!B:B,\"v\"))","v":0},0,null,{"$f":"IF(OR(A218=\"\",A218=\"(vazio)\"),\"\",tesourodireto(CONCATENATE(LEFT(A218,LEN(A218)-11),\" \",RIGHT(B218,4)),\"preço\"))","v":""},0,0,null,null,0,null,0,0,null,null,null,null,null,null,"",{"$error":"#REF!"}]
[null,"","",{"$f":"SUMIFS('TD-Lançamentos'!C:C,'TD-Lançamentos'!D:D,A219,'TD-Lançamentos'!B:B,\"c\")-SUMIFS('TD-Lançamentos'!C:C,'TD-Lançamentos'!D:D,A219,'TD-Lançamentos'!B:B,\"v\")","v":0},{"$f":"IF(D219=0,0,SUMIFS('TD-Lançamentos'!J:J,'TD-Lançamentos'!D:D,A219,'TD-Lançamentos'!B:B,\"c\")-SUMIFS('TD-Lançamentos'!J:J,'TD-Lançamentos'!D:D,A219,'TD-Lançamentos'!B:B,\"v\"))","v":0},0,null,{"$f":"IF(OR(A219=\"\",A219=\"(vazio)\"),\"\",tesourodireto(CONCATENATE(LEFT(A219,LEN(A219)-11),\" \",RIGHT(B219,4)),\"preço\"))","v":""},0,0,null,null,0,null,0,0,null,null,null,null,null,null,"",{"$error":"#REF!"}]
[null,"","",{"$f":"SUMIFS('TD-Lançamentos'!C:C,'TD-Lançamentos'!D:D,A220,'TD-Lançamentos'!B:B,\"c\")-SUMIFS('TD-Lançamentos'!C:C,'TD-Lançamentos'!D:D,A220,'TD-Lançamentos'!B:B,\"v\")","v":0},{"$f":"IF(D220=0,0,SUMIFS('TD-Lançamentos'!J:J,'TD-Lançamentos'!D:D,A220,'TD-Lançamentos'!B:B,\"c\")-SUMIFS('TD-Lançamentos'!J:J,'TD-Lançamentos'!D:D,A220,'TD-Lançamentos'!B:B,\"v\"))","v":0},0,null,{"$f":"IF(OR(A220=\"\",A220=\"(vazio)\"),\"\",tesourodireto(CONCATENATE(LEFT(A220,LEN(A220)-11),\" \",RIGHT(B220,4)),\"preço\"))","v":""},0,0,null,null,0,null,0,0,null,null,null,null,null,null,"",{"$error":"#REF!"}]
[null,"","",{"$f":"SUMIFS('TD-Lançamentos'!C:C,'TD-Lançamentos'!D:D,A221,'TD-Lançamentos'!B:B,\"c\")-SUMIFS('TD-Lançamentos'!C:C,'TD-Lançamentos'!D:D,A221,'TD-Lançamentos'!B:B,\"v\")","v":0},{"$f":"IF(D221=0,0,SUMIFS('TD-Lançamentos'!J:J,'TD-Lançamentos'!D:D,A221,'TD-Lançamentos'!B:B,\"c\")-SUMIFS('TD-Lançamentos'!J:J,'TD-Lançamentos'!D:D,A221,'TD-Lançamentos'!B:B,\"v\"))","v":0},0,null,{"$f":"IF(OR(A221=\"\",A221=\"(vazio)\"),\"\",tesourodireto(CONCATENATE(LEFT(A221,LEN(A221)-11),\" \",RIGHT(B221,4)),\"preço\"))","v":""},0,0,null,null,0,null,0,0,null,null,null,null,null,null,"",{"$error":"#REF!"}]
[null,"","",{"$f":"SUMIFS('TD-Lançamentos'!C:C,'TD-Lançamentos'!D:D,A222,'TD-Lançamentos'!B:B,\"c\")-SUMIFS('TD-Lançamentos'!C:C,'TD-Lançamentos'!D:D,A222,'TD-Lançamentos'!B:B,\"v\")","v":0},{"$f":"IF(D222=0,0,SUMIFS('TD-Lançamentos'!J:J,'TD-Lançamentos'!D:D,A222,'TD-Lançamentos'!B:B,\"c\")-SUMIFS('TD-Lançamentos'!J:J,'TD-Lançamentos'!D:D,A222,'TD-Lançamentos'!B:B,\"v\"))","v":0},0,null,{"$f":"IF(OR(A222=\"\",A222=\"(vazio)\"),\"\",tesourodireto(CONCATENATE(LEFT(A222,LEN(A222)-11),\" \",RIGHT(B222,4)),\"preço\"))","v":""},0,0,null,null,0,null,0,0,null,null,null,null,null,null,"",{"$error":"#REF!"}]
[null,"","",{"$f":"SUMIFS('TD-Lançamentos'!C:C,'TD-Lançamentos'!D:D,A223,'TD-Lançamentos'!B:B,\"c\")-SUMIFS('TD-Lançamentos'!C:C,'TD-Lançamentos'!D:D,A223,'TD-Lançamentos'!B:B,\"v\")","v":0},{"$f":"IF(D223=0,0,SUMIFS('TD-Lançamentos'!J:J,'TD-Lançamentos'!D:D,A223,'TD-Lançamentos'!B:B,\"c\")-SUMIFS('TD-Lançamentos'!J:J,'TD-Lançamentos'!D:D,A223,'TD-Lançamentos'!B:B,\"v\"))","v":0},0,null,{"$f":"IF(OR(A223=\"\",A223=\"(vazio)\"),\"\",tesourodireto(CONCATENATE(LEFT(A223,LEN(A223)-11),\" \",RIGHT(B223,4)),\"preço\"))","v":""},0,0,null,null,0,null,0,0,null,null,null,null,null,null,"",{"$error":"#REF!"}]
[null,"","",{"$f":"SUMIFS('TD-Lançamentos'!C:C,'TD-Lançamentos'!D:D,A224,'TD-Lançamentos'!B:B,\"c\")-SUMIFS('TD-Lançamentos'!C:C,'TD-Lançamentos'!D:D,A224,'TD-Lançamentos'!B:B,\"v\")","v":0},{"$f":"IF(D224=0,0,SUMIFS('TD-Lançamentos'!J:J,'TD-Lançamentos'!D:D,A224,'TD-Lançamentos'!B:B,\"c\")-SUMIFS('TD-Lançamentos'!J:J,'TD-Lançamentos'!D:D,A224,'TD-Lançamentos'!B:B,\"v\"))","v":0},0,null,{"$f":"IF(OR(A224=\"\",A224=\"(vazio)\"),\"\",tesourodireto(CONCATENATE(LEFT(A224,LEN(A224)-11),\" \",RIGHT(B224,4)),\"preço\"))","v":""},0,0,null,null,0,null,0,0,null,null,null,null,null,null,"",{"$error":"#REF!"}]
[null,"","",{"$f":"SUMIFS('TD-Lançamentos'!C:C,'TD-Lançamentos'!D:D,A225,'TD-Lançamentos'!B:B,\"c\")-SUMIFS('TD-Lançamentos'!C:C,'TD-Lançamentos'!D:D,A225,'TD-Lançamentos'!B:B,\"v\")","v":0},{"$f":"IF(D225=0,0,SUMIFS('TD-Lançamentos'!J:J,'TD-Lançamentos'!D:D,A225,'TD-Lançamentos'!B:B,\"c\")-SUMIFS('TD-Lançamentos'!J:J,'TD-Lançamentos'!D:D,A225,'TD-Lançamentos'!B:B,\"v\"))","v":0},0,null,{"$f":"IF(OR(A225=\"\",A225=\"(vazio)\"),\"\",tesourodireto(CONCATENATE(LEFT(A225,LEN(A225)-11),\" \",RIGHT(B225,4)),\"preço\"))","v":""},0,0,null,null,0,null,0,0,null,null,null,null,null,null,"",{"$error":"#REF!"}]
[null,"","",{"$f":"SUMIFS('TD-Lançamentos'!C:C,'TD-Lançamentos'!D:D,A226,'TD-Lançamentos'!B:B,\"c\")-SUMIFS('TD-Lançamentos'!C:C,'TD-Lançamentos'!D:D,A226,'TD-Lançamentos'!B:B,\"v\")","v":0},{"$f":"IF(D226=0,0,SUMIFS('TD-Lançamentos'!J:J,'TD-Lançamentos'!D:D,A226,'TD-Lançamentos'!B:B,\"c\")-SUMIFS('TD-Lançamentos'!J:J,'TD-Lançamentos'!D:D,A226,'TD-Lançamentos'!B:B,\"v\"))","v":0},0,null,{"$f":"IF(OR(A226=\"\",A226=\"(vazio)\"),\"\",tesourodireto(CONCATENATE(LEFT(A226,LEN(A226)-11),\" \",RIGHT(B226,4)),\"preço\"))","v":""},0,0,null,null,0,null,0,0,null,null,null,null,null,null,"",{"$error":"#REF!"}]
[null,"","",{"$f":"SUMIFS('TD-Lançamentos'!C:C,'TD-Lançamentos'!D:D,A227,'TD-Lançamentos'!B:B,\"c\")-SUMIFS('TD-Lançamentos'!C:C,'TD-Lançamentos'!D:D,A227,'TD-Lançamentos'!B:B,\"v\")","v":0},{"$f":"IF(D227=0,0,SUMIFS('TD-Lançamentos'!J:J,'TD-Lançamentos'!D:D,A227,'TD-Lançamentos'!B:B,\"c\")-SUMIFS('TD-Lançamentos'!J:J,'TD-Lançamentos'!D:D,A227,'TD-Lançamentos'!B:B,\"v\"))","v":0},0,null,{"$f":"IF(OR(A227=\"\",A227=\"(vazio)\"),\"\",tesourodireto(CONCATENATE(LEFT(A227,LEN(A227)-11),\" \",RIGHT(B227,4)),\"preço\"))","v":""},0,0,null,null,0,null,0,0,null,null,null,null,null,null,"",{"$error":"#REF!"}]
[null,"","",{"$f":"SUMIFS('TD-Lançamentos'!C:C,'TD-Lançamentos'!D:D,A228,'TD-Lançamentos'!B:B,\"c\")-SUMIFS('TD-Lançamentos'!C:C,'TD-Lançamentos'!D:D,A228,'TD-Lançamentos'!B:B,\"v\")","v":0},{"$f":"IF(D228=0,0,SUMIFS('TD-Lançamentos'!J:J,'TD-Lançamentos'!D:D,A228,'TD-Lançamentos'!B:B,\"c\")-SUMIFS('TD-Lançamentos'!J:J,'TD-Lançamentos'!D:D,A228,'TD-Lançamentos'!B:B,\"v\"))","v":0},0,null,{"$f":"IF(OR(A228=\"\",A228=\"(vazio)\"),\"\",tesourodireto(CONCATENATE(LEFT(A228,LEN(A228)-11),\" \",RIGHT(B228,4)),\"preço\"))","v":""},0,0,null,null,0,null,0,0,null,null,null,null,null,null,"",{"$error":"#REF!"}]
[null,"","",{"$f":"SUMIFS('TD-Lançamentos'!C:C,'TD-Lançamentos'!D:D,A229,'TD-Lançamentos'!B:B,\"c\")-SUMIFS('TD-Lançamentos'!C:C,'TD-Lançamentos'!D:D,A229,'TD-Lançamentos'!B:B,\"v\")","v":0},{"$f":"IF(D229=0,0,SUMIFS('TD-Lançamentos'!J:J,'TD-Lançamentos'!D:D,A229,'TD-Lançamentos'!B:B,\"c\")-SUMIFS('TD-Lançamentos'!J:J,'TD-Lançamentos'!D:D,A229,'TD-Lançamentos'!B:B,\"v\"))","v":0},0,null,{"$f":"IF(OR(A229=\"\",A229=\"(vazio)\"),\"\",tesourodireto(CONCATENATE(LEFT(A229,LEN(A229)-11),\" \",RIGHT(B229,4)),\"preço\"))","v":""},0,0,null,null,0,null,0,0,null,null,null,null,null,null,"",{"$error":"#REF!"}]
[null,"","",{"$f":"SUMIFS('TD-Lançamentos'!C:C,'TD-Lançamentos'!D:D,A230,'TD-Lançamentos'!B:B,\"c\")-SUMIFS('TD-Lançamentos'!C:C,'TD-Lançamentos'!D:D,A230,'TD-Lançamentos'!B:B,\"v\")","v":0},{"$f":"IF(D230=0,0,SUMIFS('TD-Lançamentos'!J:J,'TD-Lançamentos'!D:D,A230,'TD-Lançamentos'!B:B,\"c\")-SUMIFS('TD-Lançamentos'!J:J,'TD-Lançamentos'!D:D,A230,'TD-Lançamentos'!B:B,\"v\"))","v":0},0,null,{"$f":"IF(OR(A230=\"\",A230=\"(vazio)\"),\"\",tesourodireto(CONCATENATE(LEFT(A230,LEN(A230)-11),\" \",RIGHT(B230,4)),\"preço\"))","v":""},0,0,null,null,0,null,0,0,null,null,null,null,null,null,"",{"$error":"#REF!"}]
[null,"","",{"$f":"SUMIFS('TD-Lançamentos'!C:C,'TD-Lançamentos'!D:D,A231,'TD-Lançamentos'!B:B,\"c\")-SUMIFS('TD-Lançamentos'!C:C,'TD-Lançamentos'!D:D,A231,'TD-Lançamentos'!B:B,\"v\")","v":0},{"$f":"IF(D231=0,0,SUMIFS('TD-Lançamentos'!J:J,'TD-Lançamentos'!D:D,A231,'TD-Lançamentos'!B:B,\"c\")-SUMIFS('TD-Lançamentos'!J:J,'TD-Lançamentos'!D:D,A231,'TD-Lançamentos'!B:B,\"v\"))","v":0},0,null,{"$f":"IF(OR(A231=\"\",A231=\"(vazio)\"),\"\",tesourodireto(CONCATENATE(LEFT(A231,LEN(A231)-11),\" \",RIGHT(B231,4)),\"preço\"))","v":""},0,0,null,null,0,null,0,0,null,null,null,null,null,null,"",{"$error":"#REF!"}]
[null,"","",{"$f":"SUMIFS('TD-Lançamentos'!C:C,'TD-Lançamentos'!D:D,A232,'TD-Lançamentos'!B:B,\"c\")-SUMIFS('TD-Lançamentos'!C:C,'TD-Lançamentos'!D:D,A232,'TD-Lançamentos'!B:B,\"v\")","v":0},{"$f":"IF(D232=0,0,SUMIFS('TD-Lançamentos'!J:J,'TD-Lançamentos'!D:D,A232,'TD-Lançamentos'!B:B,\"c\")-SUMIFS('TD-Lançamentos'!J:J,'TD-Lançamentos'!D:D,A232,'TD-Lançamentos'!B:B,\"v\"))","v":0},0,null,{"$f":"IF(OR(A232=\"\",A232=\"(vazio)\"),\"\",tesourodireto(CONCATENATE(LEFT(A232,LEN(A232)-11),\" \",RIGHT(B232,4)),\"preço\"))","v":""},0,0,null,null,0,null,0,0,null,null,null,null,null,null,"",{"$error":"#REF!"}]
[null,"","",{"$f":"SUMIFS('TD-Lançamentos'!C:C,'TD-Lançamentos'!D:D,A233,'TD-Lançamentos'!B:B,\"c\")-SUMIFS('TD-Lançamentos'!C:C,'TD-Lançamentos'!D:D,A233,'TD-Lançamentos'!B:B,\"v\")","v":0},{"$f":"IF(D233=0,0,SUMIFS('TD-Lançamentos'!J:J,'TD-Lançamentos'!D:D,A233,'TD-Lançamentos'!B:B,\"c\")-SUMIFS('TD-Lançamentos'!J:J,'TD-Lançamentos'!D:D,A233,'TD-Lançamentos'!B:B,\"v\"))","v":0},0,null,{"$f":"IF(OR(A233=\"\",A233=\"(vazio)\"),\"\",tesourodireto(CONCATENATE(LEFT(A233,LEN(A233)-11),\" \",RIGHT(B233,4)),\"preço\"))","v":""},0,0,null,null,0,null,0,0,null,null,null,null,null,null,"",{"$error":"#REF!"}]
[null,"","",{"$f":"SUMIFS('TD-Lançamentos'!C:C,'TD-Lançamentos'!D:D,A234,'TD-Lançamentos'!B:B,\"c\")-SUMIFS('TD-Lançamentos'!C:C,'TD-Lançamentos'!D:D,A234,'TD-Lançamentos'!B:B,\"v\")","v":0},{"$f":"IF(D234=0,0,SUMIFS('TD-Lançamentos'!J:J,'TD-Lançamentos'!D:D,A234,'TD-Lançamentos'!B:B,\"c\")-SUMIFS('TD-Lançamentos'!J:J,'TD-Lançamentos'!D:D,A234,'TD-Lançamentos'!B:B,\"v\"))","v":0},0,null,{"$f":"IF(OR(A234=\"\",A234=\"(vazio)\"),\"\",tesourodireto(CONCATENATE(LEFT(A234,LEN(A234)-11),\" \",RIGHT(B234,4)),\"preço\"))","v":""},0,0,null,null,0,null,0,0,null,null,null,null,null,null,"",{"$error":"#REF!"}]
[null,"","",{"$f":"SUMIFS('TD-Lançamentos'!C:C,'TD-Lançamentos'!D:D,A235,'TD-Lançamentos'!B:B,\"c\")-SUMIFS('TD-Lançamentos'!C:C,'TD-Lançamentos'!D:D,A235,'TD-Lançamentos'!B:B,\"v\")","v":0},{"$f":"IF(D235=0,0,SUMIFS('TD-Lançamentos'!J:J,'TD-Lançamentos'!D:D,A235,'TD-Lançamentos'!B:B,\"c\")-SUMIFS('TD-Lançamentos'!J:J,'TD-Lançamentos'!D:D,A235,'TD-Lançamentos'!B:B,\"v\"))","v":0},0,null,{"$f":"IF(OR(A235=\"\",A235=\"(vazio)\"),\"\",tesourodireto(CONCATENATE(LEFT(A235,LEN(A235)-11),\" \",RIGHT(B235,4)),\"preço\"))","v":""},0,0,null,null,0,null,0,0,null,null,null,null,null,null,"",{"$error":"#REF!"}]
[null,"","",{"$f":"SUMIFS('TD-Lançamentos'!C:C,'TD-Lançamentos'!D:D,A236,'TD-Lançamentos'!B:B,\"c\")-SUMIFS('TD-Lançamentos'!C:C,'TD-Lançamentos'!D:D,A236,'TD-Lançamentos'!B:B,\"v\")","v":0},{"$f":"IF(D236=0,0,SUMIFS('TD-Lançamentos'!J:J,'TD-Lançamentos'!D:D,A236,'TD-Lançamentos'!B:B,\"c\")-SUMIFS('TD-Lançamentos'!J:J,'TD-Lançamentos'!D:D,A236,'TD-Lançamentos'!B:B,\"v\"))","v":0},0,null,{"$f":"IF(OR(A236=\"\",A236=\"(vazio)\"),\"\",tesourodireto(CONCATENATE(LEFT(A236,LEN(A236)-11),\" \",RIGHT(B236,4)),\"preço\"))","v":""},0,0,null,null,0,null,0,0,null,null,null,null,null,null,"",{"$error":"#REF!"}]
[null,"","",{"$f":"SUMIFS('TD-Lançamentos'!C:C,'TD-Lançamentos'!D:D,A237,'TD-Lançamentos'!B:B,\"c\")-SUMIFS('TD-Lançamentos'!C:C,'TD-Lançamentos'!D:D,A237,'TD-Lançamentos'!B:B,\"v\")","v":0},{"$f":"IF(D237=0,0,SUMIFS('TD-Lançamentos'!J:J,'TD-Lançamentos'!D:D,A237,'TD-Lançamentos'!B:B,\"c\")-SUMIFS('TD-Lançamentos'!J:J,'TD-Lançamentos'!D:D,A237,'TD-Lançamentos'!B:B,\"v\"))","v":0},0,null,{"$f":"IF(OR(A237=\"\",A237=\"(vazio)\"),\"\",tesourodireto(CONCATENATE(LEFT(A237,LEN(A237)-11),\" \",RIGHT(B237,4)),\"preço\"))","v":""},0,0,null,null,0,null,0,0,null,null,null,null,null,null,"",{"$error":"#REF!"}]
[null,"","",{"$f":"SUMIFS('TD-Lançamentos'!C:C,'TD-Lançamentos'!D:D,A238,'TD-Lançamentos'!B:B,\"c\")-SUMIFS('TD-Lançamentos'!C:C,'TD-Lançamentos'!D:D,A238,'TD-Lançamentos'!B:B,\"v\")","v":0},{"$f":"IF(D238=0,0,SUMIFS('TD-Lançamentos'!J:J,'TD-Lançamentos'!D:D,A238,'TD-Lançamentos'!B:B,\"c\")-SUMIFS('TD-Lançamentos'!J:J,'TD-Lançamentos'!D:D,A238,'TD-Lançamentos'!B:B,\"v\"))","v":0},0,null,{"$f":"IF(OR(A238=\"\",A238=\"(vazio)\"),\"\",tesourodireto(CONCATENATE(LEFT(A238,LEN(A238)-11),\" \",RIGHT(B238,4)),\"preço\"))","v":""},0,0,null,null,0,null,0,0,null,null,null,null,null,null,"",{"$error":"#REF!"}]
[null,"","",{"$f":"SUMIFS('TD-Lançamentos'!C:C,'TD-Lançamentos'!D:D,A239,'TD-Lançamentos'!B:B,\"c\")-SUMIFS('TD-Lançamentos'!C:C,'TD-Lançamentos'!D:D,A239,'TD-Lançamentos'!B:B,\"v\")","v":0},{"$f":"IF(D239=0,0,SUMIFS('TD-Lançamentos'!J:J,'TD-Lançamentos'!D:D,A239,'TD-Lançamentos'!B:B,\"c\")-SUMIFS('TD-Lançamentos'!J:J,'TD-Lançamentos'!D:D,A239,'TD-Lançamentos'!B:B,\"v\"))","v":0},0,null,{"$f":"IF(OR(A239=\"\",A239=\"(vazio)\"),\"\",tesourodireto(CONCATENATE(LEFT(A239,LEN(A239)-11),\" \",RIGHT(B239,4)),\"preço\"))","v":""},0,0,null,null,0,null,0,0,null,null,null,null,null,null,"",{"$error":"#REF!"}]
[null,"","",{"$f":"SUMIFS('TD-Lançamentos'!C:C,'TD-Lançamentos'!D:D,A240,'TD-Lançamentos'!B:B,\"c\")-SUMIFS('TD-Lançamentos'!C:C,'TD-Lançamentos'!D:D,A240,'TD-Lançamentos'!B:B,\"v\")","v":0},{"$f":"IF(D240=0,0,SUMIFS('TD-Lançamentos'!J:J,'TD-Lançamentos'!D:D,A240,'TD-Lançamentos'!B:B,\"c\")-SUMIFS('TD-Lançamentos'!J:J,'TD-Lançamentos'!D:D,A240,'TD-Lançamentos'!B:B,\"v\"))","v":0},0,null,{"$f":"IF(OR(A240=\"\",A240=\"(vazio)\"),\"\",tesourodireto(CONCATENATE(LEFT(A240,LEN(A240)-11),\" \",RIGHT(B240,4)),\"preço\"))","v":""},0,0,null,null,0,null,0,0,null,null,null,null,null,null,"",{"$error":"#REF!"}]
[null,"","",{"$f":"SUMIFS('TD-Lançamentos'!C:C,'TD-Lançamentos'!D:D,A241,'TD-Lançamentos'!B:B,\"c\")-SUMIFS('TD-Lançamentos'!C:C,'TD-Lançamentos'!D:D,A241,'TD-Lançamentos'!B:B,\"v\")","v":0},{"$f":"IF(D241=0,0,SUMIFS('TD-Lançamentos'!J:J,'TD-Lançamentos'!D:D,A241,'TD-Lançamentos'!B:B,\"c\")-SUMIFS('TD-Lançamentos'!J:J,'TD-Lançamentos'!D:D,A241,'TD-Lançamentos'!B:B,\"v\"))","v":0},0,null,{"$f":"IF(OR(A241=\"\",A241=\"(vazio)\"),\"\",tesourodireto(CONCATENATE(LEFT(A241,LEN(A241)-11),\" \",RIGHT(B241,4)),\"preço\"))","v":""},0,0,null,null,0,null,0,0,null,null,null,null,null,null,"",{"$error":"#REF!"}]
[null,"","",{"$f":"SUMIFS('TD-Lançamentos'!C:C,'TD-Lançamentos'!D:D,A242,'TD-Lançamentos'!B:B,\"c\")-SUMIFS('TD-Lançamentos'!C:C,'TD-Lançamentos'!D:D,A242,'TD-Lançamentos'!B:B,\"v\")","v":0},{"$f":"IF(D242=0,0,SUMIFS('TD-Lançamentos'!J:J,'TD-Lançamentos'!D:D,A242,'TD-Lançamentos'!B:B,\"c\")-SUMIFS('TD-Lançamentos'!J:J,'TD-Lançamentos'!D:D,A242,'TD-Lançamentos'!B:B,\"v\"))","v":0},0,null,{"$f":"IF(OR(A242=\"\",A242=\"(vazio)\"),\"\",tesourodireto(CONCATENATE(LEFT(A242,LEN(A242)-11),\" \",RIGHT(B242,4)),\"preço\"))","v":""},0,0,null,null,0,null,0,0,null,null,null,null,null,null,"",{"$error":"#REF!"}]
[null,"","",{"$f":"SUMIFS('TD-Lançamentos'!C:C,'TD-Lançamentos'!D:D,A243,'TD-Lançamentos'!B:B,\"c\")-SUMIFS('TD-Lançamentos'!C:C,'TD-Lançamentos'!D:D,A243,'TD-Lançamentos'!B:B,\"v\")","v":0},{"$f":"IF(D243=0,0,SUMIFS('TD-Lançamentos'!J:J,'TD-Lançamentos'!D:D,A243,'TD-Lançamentos'!B:B,\"c\")-SUMIFS('TD-Lançamentos'!J:J,'TD-Lançamentos'!D:D,A243,'TD-Lançamentos'!B:B,\"v\"))","v":0},0,null,{"$f":"IF(OR(A243=\"\",A243=\"(vazio)\"),\"\",tesourodireto(CONCATENATE(LEFT(A243,LEN(A243)-11),\" \",RIGHT(B243,4)),\"preço\"))","v":""},0,0,null,null,0,null,0,0,null,null,null,null,null,null,"",{"$error":"#REF!"}]
[null,"","",{"$f":"SUMIFS('TD-Lançamentos'!C:C,'TD-Lançamentos'!D:D,A244,'TD-Lançamentos'!B:B,\"c\")-SUMIFS('TD-Lançamentos'!C:C,'TD-Lançamentos'!D:D,A244,'TD-Lançamentos'!B:B,\"v\")","v":0},{"$f":"IF(D244=0,0,SUMIFS('TD-Lançamentos'!J:J,'TD-Lançamentos'!D:D,A244,'TD-Lançamentos'!B:B,\"c\")-SUMIFS('TD-Lançamentos'!J:J,'TD-Lançamentos'!D:D,A244,'TD-Lançamentos'!B:B,\"v\"))","v":0},0,null,{"$f":"IF(OR(A244=\"\",A244=\"(vazio)\"),\"\",tesourodireto(CONCATENATE(LEFT(A244,LEN(A244)-11),\" \",RIGHT(B244,4)),\"preço\"))","v":""},0,0,null,null,0,null,0,0,null,null,null,null,null,null,"",{"$error":"#REF!"}]
[null,"","",{"$f":"SUMIFS('TD-Lançamentos'!C:C,'TD-Lançamentos'!D:D,A245,'TD-Lançamentos'!B:B,\"c\")-SUMIFS('TD-Lançamentos'!C:C,'TD-Lançamentos'!D:D,A245,'TD-Lançamentos'!B:B,\"v\")","v":0},{"$f":"IF(D245=0,0,SUMIFS('TD-Lançamentos'!J:J,'TD-Lançamentos'!D:D,A245,'TD-Lançamentos'!B:B,\"c\")-SUMIFS('TD-Lançamentos'!J:J,'TD-Lançamentos'!D:D,A245,'TD-Lançamentos'!B:B,\"v\"))","v":0},0,null,{"$f":"IF(OR(A245=\"\",A245=\"(vazio)\"),\"\",tesourodireto(CONCATENATE(LEFT(A245,LEN(A245)-11),\" \",RIGHT(B245,4)),\"preço\"))","v":""},0,0,null,null,0,null,0,0,null,null,null,null,null,null,"",{"$error":"#REF!"}]
[null,"","",{"$f":"SUMIFS('TD-Lançamentos'!C:C,'TD-Lançamentos'!D:D,A246,'TD-Lançamentos'!B:B,\"c\")-SUMIFS('TD-Lançamentos'!C:C,'TD-Lançamentos'!D:D,A246,'TD-Lançamentos'!B:B,\"v\")","v":0},{"$f":"IF(D246=0,0,SUMIFS('TD-Lançamentos'!J:J,'TD-Lançamentos'!D:D,A246,'TD-Lançamentos'!B:B,\"c\")-SUMIFS('TD-Lançamentos'!J:J,'TD-Lançamentos'!D:D,A246,'TD-Lançamentos'!B:B,\"v\"))","v":0},0,null,{"$f":"IF(OR(A246=\"\",A246=\"(vazio)\"),\"\",tesourodireto(CONCATENATE(LEFT(A246,LEN(A246)-11),\" \",RIGHT(B246,4)),\"preço\"))","v":""},0,0,null,null,0,null,0,0,null,null,null,null,null,null,"",{"$error":"#REF!"}]
[null,"","",{"$f":"SUMIFS('TD-Lançamentos'!C:C,'TD-Lançamentos'!D:D,A247,'TD-Lançamentos'!B:B,\"c\")-SUMIFS('TD-Lançamentos'!C:C,'TD-Lançamentos'!D:D,A247,'TD-Lançamentos'!B:B,\"v\")","v":0},{"$f":"IF(D247=0,0,SUMIFS('TD-Lançamentos'!J:J,'TD-Lançamentos'!D:D,A247,'TD-Lançamentos'!B:B,\"c\")-SUMIFS('TD-Lançamentos'!J:J,'TD-Lançamentos'!D:D,A247,'TD-Lançamentos'!B:B,\"v\"))","v":0},0,null,{"$f":"IF(OR(A247=\"\",A247=\"(vazio)\"),\"\",tesourodireto(CONCATENATE(LEFT(A247,LEN(A247)-11),\" \",RIGHT(B247,4)),\"preço\"))","v":""},0,0,null,null,0,null,0,0,null,null,null,null,null,null,"",{"$error":"#REF!"}]
[null,"","",{"$f":"SUMIFS('TD-Lançamentos'!C:C,'TD-Lançamentos'!D:D,A248,'TD-Lançamentos'!B:B,\"c\")-SUMIFS('TD-Lançamentos'!C:C,'TD-Lançamentos'!D:D,A248,'TD-Lançamentos'!B:B,\"v\")","v":0},{"$f":"IF(D248=0,0,SUMIFS('TD-Lançamentos'!J:J,'TD-Lançamentos'!D:D,A248,'TD-Lançamentos'!B:B,\"c\")-SUMIFS('TD-Lançamentos'!J:J,'TD-Lançamentos'!D:D,A248,'TD-Lançamentos'!B:B,\"v\"))","v":0},0,null,{"$f":"IF(OR(A248=\"\",A248=\"(vazio)\"),\"\",tesourodireto(CONCATENATE(LEFT(A248,LEN(A248)-11),\" \",RIGHT(B248,4)),\"preço\"))","v":""},0,0,null,null,0,null,0,0,null,null,null,null,null,null,"",{"$error":"#REF!"}]
[null,"","",{"$f":"SUMIFS('TD-Lançamentos'!C:C,'TD-Lançamentos'!D:D,A249,'TD-Lançamentos'!B:B,\"c\")-SUMIFS('TD-Lançamentos'!C:C,'TD-Lançamentos'!D:D,A249,'TD-Lançamentos'!B:B,\"v\")","v":0},{"$f":"IF(D249=0,0,SUMIFS('TD-Lançamentos'!J:J,'TD-Lançamentos'!D:D,A249,'TD-Lançamentos'!B:B,\"c\")-SUMIFS('TD-Lançamentos'!J:J,'TD-Lançamentos'!D:D,A249,'TD-Lançamentos'!B:B,\"v\"))","v":0},0,null,{"$f":"IF(OR(A249=\"\",A249=\"(vazio)\"),\"\",tesourodireto(CONCATENATE(LEFT(A249,LEN(A249)-11),\" \",RIGHT(B249,4)),\"preço\"))","v":""},0,0,null,null,0,null,0,0,null,null,null,null,null,null,"",{"$error":"#REF!"}]
[null,"","",{"$f":"SUMIFS('TD-Lançamentos'!C:C,'TD-Lançamentos'!D:D,A250,'TD-Lançamentos'!B:B,\"c\")-SUMIFS('TD-Lançamentos'!C:C,'TD-Lançamentos'!D:D,A250,'TD-Lançamentos'!B:B,\"v\")","v":0},{"$f":"IF(D250=0,0,SUMIFS('TD-Lançamentos'!J:J,'TD-Lançamentos'!D:D,A250,'TD-Lançamentos'!B:B,\"c\")-SUMIFS('TD-Lançamentos'!J:J,'TD-Lançamentos'!D:D,A250,'TD-Lançamentos'!B:B,\"v\"))","v":0},0,null,{"$f":"IF(OR(A250=\"\",A250=\"(vazio)\"),\"\",tesourodireto(CONCATENATE(LEFT(A250,LEN(A250)-11),\" \",RIGHT(B250,4)),\"preço\"))","v":""},0,0,null,null,0,null,0,0,null,null,null,null,null,null,"",{"$error":"#REF!"}]
[null,"","",{"$f":"SUMIFS('TD-Lançamentos'!C:C,'TD-Lançamentos'!D:D,A251,'TD-Lançamentos'!B:B,\"c\")-SUMIFS('TD-Lançamentos'!C:C,'TD-Lançamentos'!D:D,A251,'TD-Lançamentos'!B:B,\"v\")","v":0},{"$f":"IF(D251=0,0,SUMIFS('TD-Lançamentos'!J:J,'TD-Lançamentos'!D:D,A251,'TD-Lançamentos'!B:B,\"c\")-SUMIFS('TD-Lançamentos'!J:J,'TD-Lançamentos'!D:D,A251,'TD-Lançamentos'!B:B,\"v\"))","v":0},0,null,{"$f":"IF(OR(A251=\"\",A251=\"(vazio)\"),\"\",tesourodireto(CONCATENATE(LEFT(A251,LEN(A251)-11),\" \",RIGHT(B251,4)),\"preço\"))","v":""},0,0,null,null,0,null,0,0,null,null,null,null,null,null,"",{"$error":"#REF!"}]
[null,"","",{"$f":"SUMIFS('TD-Lançamentos'!C:C,'TD-Lançamentos'!D:D,A252,'TD-Lançamentos'!B:B,\"c\")-SUMIFS('TD-Lançamentos'!C:C,'TD-Lançamentos'!D:D,A252,'TD-Lançamentos'!B:B,\"v\")","v":0},{"$f":"IF(D252=0,0,SUMIFS('TD-Lançamentos'!J:J,'TD-Lançamentos'!D:D,A252,'TD-Lançamentos'!B:B,\"c\")-SUMIFS('TD-Lançamentos'!J:J,'TD-Lançamentos'!D:D,A252,'TD-Lançamentos'!B:B,\"v\"))","v":0},0,null,{"$f":"IF(OR(A252=\"\",A252=\"(vazio)\"),\"\",tesourodireto(CONCATENATE(LEFT(A252,LEN(A252)-11),\" \",RIGHT(B252,4)),\"preço\"))","v":""},0,0,null,null,0,null,0,0,null,null,null,null,null,null,"",{"$error":"#REF!"}]
[null,"","",{"$f":"SUMIFS('TD-Lançamentos'!C:C,'TD-Lançamentos'!D:D,A253,'TD-Lançamentos'!B:B,\"c\")-SUMIFS('TD-Lançamentos'!C:C,'TD-Lançamentos'!D:D,A253,'TD-Lançamentos'!B:B,\"v\")","v":0},{"$f":"IF(D253=0,0,SUMIFS('TD-Lançamentos'!J:J,'TD-Lançamentos'!D:D,A253,'TD-Lançamentos'!B:B,\"c\")-SUMIFS('TD-Lançamentos'!J:J,'TD-Lançamentos'!D:D,A253,'TD-Lançamentos'!B:B,\"v\"))","v":0},0,null,{"$f":"IF(OR(A253=\"\",A253=\"(vazio)\"),\"\",tesourodireto(CONCATENATE(LEFT(A253,LEN(A253)-11),\" \",RIGHT(B253,4)),\"preço\"))","v":""},0,0,null,null,0,null,0,0,null,null,null,null,null,null,"",{"$error":"#REF!"}]
[null,"","",{"$f":"SUMIFS('TD-Lançamentos'!C:C,'TD-Lançamentos'!D:D,A254,'TD-Lançamentos'!B:B,\"c\")-SUMIFS('TD-Lançamentos'!C:C,'TD-Lançamentos'!D:D,A254,'TD-Lançamentos'!B:B,\"v\")","v":0},{"$f":"IF(D254=0,0,SUMIFS('TD-Lançamentos'!J:J,'TD-Lançamentos'!D:D,A254,'TD-Lançamentos'!B:B,\"c\")-SUMIFS('TD-Lançamentos'!J:J,'TD-Lançamentos'!D:D,A254,'TD-Lançamentos'!B:B,\"v\"))","v":0},0,null,{"$f":"IF(OR(A254=\"\",A254=\"(vazio)\"),\"\",tesourodireto(CONCATENATE(LEFT(A254,LEN(A254)-11),\" \",RIGHT(B254,4)),\"preço\"))","v":""},0,0,null,null,0,null,0,0,null,null,null,null,null,null,"",{"$error":"#REF!"}]
[null,"","",{"$f":"SUMIFS('TD-Lançamentos'!C:C,'TD-Lançamentos'!D:D,A255,'TD-Lançamentos'!B:B,\"c\")-SUMIFS('TD-Lançamentos'!C:C,'TD-Lançamentos'!D:D,A255,'TD-Lançamentos'!B:B,\"v\")","v":0},{"$f":"IF(D255=0,0,SUMIFS('TD-Lançamentos'!J:J,'TD-Lançamentos'!D:D,A255,'TD-Lançamentos'!B:B,\"c\")-SUMIFS('TD-Lançamentos'!J:J,'TD-Lançamentos'!D:D,A255,'TD-Lançamentos'!B:B,\"v\"))","v":0},0,null,{"$f":"IF(OR(A255=\"\",A255=\"(vazio)\"),\"\",tesourodireto(CONCATENATE(LEFT(A255,LEN(A255)-11),\" \",RIGHT(B255,4)),\"preço\"))","v":""},0,0,null,null,0,null,0,0,null,null,null,null,null,null,"",{"$error":"#REF!"}]
[null,"","",{"$f":"SUMIFS('TD-Lançamentos'!C:C,'TD-Lançamentos'!D:D,A256,'TD-Lançamentos'!B:B,\"c\")-SUMIFS('TD-Lançamentos'!C:C,'TD-Lançamentos'!D:D,A256,'TD-Lançamentos'!B:B,\"v\")","v":0},{"$f":"IF(D256=0,0,SUMIFS('TD-Lançamentos'!J:J,'TD-Lançamentos'!D:D,A256,'TD-Lançamentos'!B:B,\"c\")-SUMIFS('TD-Lançamentos'!J:J,'TD-Lançamentos'!D:D,A256,'TD-Lançamentos'!B:B,\"v\"))","v":0},0,null,{"$f":"IF(OR(A256=\"\",A256=\"(vazio)\"),\"\",tesourodireto(CONCATENATE(LEFT(A256,LEN(A256)-11),\" \",RIGHT(B256,4)),\"preço\"))","v":""},0,0,null,null,0,null,0,0,null,null,null,null,null,null,"",{"$error":"#REF!"}]
[null,"","",{"$f":"SUMIFS('TD-Lançamentos'!C:C,'TD-Lançamentos'!D:D,A257,'TD-Lançamentos'!B:B,\"c\")-SUMIFS('TD-Lançamentos'!C:C,'TD-Lançamentos'!D:D,A257,'TD-Lançamentos'!B:B,\"v\")","v":0},{"$f":"IF(D257=0,0,SUMIFS('TD-Lançamentos'!J:J,'TD-Lançamentos'!D:D,A257,'TD-Lançamentos'!B:B,\"c\")-SUMIFS('TD-Lançamentos'!J:J,'TD-Lançamentos'!D:D,A257,'TD-Lançamentos'!B:B,\"v\"))","v":0},0,null,{"$f":"IF(OR(A257=\"\",A257=\"(vazio)\"),\"\",tesourodireto(CONCATENATE(LEFT(A257,LEN(A257)-11),\" \",RIGHT(B257,4)),\"preço\"))","v":""},0,0,null,null,0,null,0,0,null,null,null,null,null,null,"",{"$error":"#REF!"}]
[null,"","",{"$f":"SUMIFS('TD-Lançamentos'!C:C,'TD-Lançamentos'!D:D,A258,'TD-Lançamentos'!B:B,\"c\")-SUMIFS('TD-Lançamentos'!C:C,'TD-Lançamentos'!D:D,A258,'TD-Lançamentos'!B:B,\"v\")","v":0},{"$f":"IF(D258=0,0,SUMIFS('TD-Lançamentos'!J:J,'TD-Lançamentos'!D:D,A258,'TD-Lançamentos'!B:B,\"c\")-SUMIFS('TD-Lançamentos'!J:J,'TD-Lançamentos'!D:D,A258,'TD-Lançamentos'!B:B,\"v\"))","v":0},0,null,{"$f":"IF(OR(A258=\"\",A258=\"(vazio)\"),\"\",tesourodireto(CONCATENATE(LEFT(A258,LEN(A258)-11),\" \",RIGHT(B258,4)),\"preço\"))","v":""},0,0,null,null,0,null,0,0,null,null,null,null,null,null,"",{"$error":"#REF!"}]
[null,"","",{"$f":"SUMIFS('TD-Lançamentos'!C:C,'TD-Lançamentos'!D:D,A259,'TD-Lançamentos'!B:B,\"c\")-SUMIFS('TD-Lançamentos'!C:C,'TD-Lançamentos'!D:D,A259,'TD-Lançamentos'!B:B,\"v\")","v":0},{"$f":"IF(D259=0,0,SUMIFS('TD-Lançamentos'!J:J,'TD-Lançamentos'!D:D,A259,'TD-Lançamentos'!B:B,\"c\")-SUMIFS('TD-Lançamentos'!J:J,'TD-Lançamentos'!D:D,A259,'TD-Lançamentos'!B:B,\"v\"))","v":0},0,null,{"$f":"IF(OR(A259=\"\",A259=\"(vazio)\"),\"\",tesourodireto(CONCATENATE(LEFT(A259,LEN(A259)-11),\" \",RIGHT(B259,4)),\"preço\"))","v":""},0,0,null,null,0,null,0,0,null,null,null,null,null,null,"",{"$error":"#REF!"}]
[null,{"$f":"IF(A260=\"\",\"\",RIGHT(A260,10))","v":""},{"$f":"IF(OR(A260=\"\",A260=\"(vazio)\"),\"\",LEFT(A260,LEN(A260)-11))","v":""},{"$f":"SUMIFS('TD-Lançamentos'!C:C,'TD-Lançamentos'!D:D,A260,'TD-Lançamentos'!B:B,\"c\")-SUMIFS('TD-Lançamentos'!C:C,'TD-Lançamentos'!D:D,A260,'TD-Lançamentos'!B:B,\"v\")","v":0},{"$f":"IF(D260=0,0,SUMIFS('TD-Lançamentos'!J:J,'TD-Lançamentos'!D:D,A260,'TD-Lançamentos'!B:B,\"c\")-SUMIFS('TD-Lançamentos'!J:J,'TD-Lançamentos'!D:D,A260,'TD-Lançamentos'!B:B,\"v\"))","v":0},{"$f":"IF(OR(E260=0,$S$9=0),0,E260/$S$9)","v":0},null,{"$f":"IF(OR(A260=\"\",A260=\"(vazio)\"),\"\",tesourodireto(CONCATENATE(LEFT(A260,LEN(A260)-11),\" \",RIGHT(B260,4)),\"preço\"))","v":""},{"$f":"IF(D260=\"\",0,IF(H260=\"\",E260,D260*H260))","v":0},{"$f":"IF($S$11=0,0,I260/$S$11)","v":0},null,null,{"$f":"IF(OR(L260=\"\",J260=\"\",F260=\"\"),0,IF($L$2=\"% ATUAL\",L260-J260,L260-F260))","v":0},null,{"$f":"IF(OR(E260=0,H260=\"\"),0,I260-E260)","v":0},{"$f":"IF(OR(E260=0,H260=\"\"),0,O260/E260)","v":0},null,null,null,null,null,null,"",{"$error":"#REF!"}]
[null,"","",{"$f":"SUMIFS('TD-Lançamentos'!C:C,'TD-Lançamentos'!D:D,A261,'TD-Lançamentos'!B:B,\"c\")-SUMIFS('TD-Lançamentos'!C:C,'TD-Lançamentos'!D:D,A261,'TD-Lançamentos'!B:B,\"v\")","v":0},{"$f":"IF(D261=0,0,SUMIFS('TD-Lançamentos'!J:J,'TD-Lançamentos'!D:D,A261,'TD-Lançamentos'!B:B,\"c\")-SUMIFS('TD-Lançamentos'!J:J,'TD-Lançamentos'!D:D,A261,'TD-Lançamentos'!B:B,\"v\"))","v":0},0,null,{"$f":"IF(OR(A261=\"\",A261=\"(vazio)\"),\"\",tesourodireto(CONCATENATE(LEFT(A261,LEN(A261)-11),\" \",RIGHT(B261,4)),\"preço\"))","v":""},0,0,null,null,0,null,0,0,null,null,null,null,null,null,"",{"$error":"#REF!"}]
[null,"","",{"$f":"SUMIFS('TD-Lançamentos'!C:C,'TD-Lançamentos'!D:D,A262,'TD-Lançamentos'!B:B,\"c\")-SUMIFS('TD-Lançamentos'!C:C,'TD-Lançamentos'!D:D,A262,'TD-Lançamentos'!B:B,\"v\")","v":0},{"$f":"IF(D262=0,0,SUMIFS('TD-Lançamentos'!J:J,'TD-Lançamentos'!D:D,A262,'TD-Lançamentos'!B:B,\"c\")-SUMIFS('TD-Lançamentos'!J:J,'TD-Lançamentos'!D:D,A262,'TD-Lançamentos'!B:B,\"v\"))","v":0},0,null,{"$f":"IF(OR(A262=\"\",A262=\"(vazio)\"),\"\",tesourodireto(CONCATENATE(LEFT(A262,LEN(A262)-11),\" \",RIGHT(B262,4)),\"preço\"))","v":""},0,0,null,null,0,null,0,0,null,null,null,null,null,null,"",{"$error":"#REF!"}]
[null,"","",{"$f":"SUMIFS('TD-Lançamentos'!C:C,'TD-Lançamentos'!D:D,A263,'TD-Lançamentos'!B:B,\"c\")-SUMIFS('TD-Lançamentos'!C:C,'TD-Lançamentos'!D:D,A263,'TD-Lançamentos'!B:B,\"v\")","v":0},{"$f":"IF(D263=0,0,SUMIFS('TD-Lançamentos'!J:J,'TD-Lançamentos'!D:D,A263,'TD-Lançamentos'!B:B,\"c\")-SUMIFS('TD-Lançamentos'!J:J,'TD-Lançamentos'!D:D,A263,'TD-Lançamentos'!B:B,\"v\"))","v":0},0,null,{"$f":"IF(OR(A263=\"\",A263=\"(vazio)\"),\"\",tesourodireto(CONCATENATE(LEFT(A263,LEN(A263)-11),\" \",RIGHT(B263,4)),\"preço\"))","v":""},0,0,null,null,0,null,0,0,null,null,null,null,null,null,"",{"$error":"#REF!"}]
[null,"","",{"$f":"SUMIFS('TD-Lançamentos'!C:C,'TD-Lançamentos'!D:D,A264,'TD-Lançamentos'!B:B,\"c\")-SUMIFS('TD-Lançamentos'!C:C,'TD-Lançamentos'!D:D,A264,'TD-Lançamentos'!B:B,\"v\")","v":0},{"$f":"IF(D264=0,0,SUMIFS('TD-Lançamentos'!J:J,'TD-Lançamentos'!D:D,A264,'TD-Lançamentos'!B:B,\"c\")-SUMIFS('TD-Lançamentos'!J:J,'TD-Lançamentos'!D:D,A264,'TD-Lançamentos'!B:B,\"v\"))","v":0},0,null,{"$f":"IF(OR(A264=\"\",A264=\"(vazio)\"),\"\",tesourodireto(CONCATENATE(LEFT(A264,LEN(A264)-11),\" \",RIGHT(B264,4)),\"preço\"))","v":""},0,0,null,null,0,null,0,0,null,null,null,null,null,null,"",{"$error":"#REF!"}]
[null,"","",{"$f":"SUMIFS('TD-Lançamentos'!C:C,'TD-Lançamentos'!D:D,A265,'TD-Lançamentos'!B:B,\"c\")-SUMIFS('TD-Lançamentos'!C:C,'TD-Lançamentos'!D:D,A265,'TD-Lançamentos'!B:B,\"v\")","v":0},{"$f":"IF(D265=0,0,SUMIFS('TD-Lançamentos'!J:J,'TD-Lançamentos'!D:D,A265,'TD-Lançamentos'!B:B,\"c\")-SUMIFS('TD-Lançamentos'!J:J,'TD-Lançamentos'!D:D,A265,'TD-Lançamentos'!B:B,\"v\"))","v":0},0,null,{"$f":"IF(OR(A265=\"\",A265=\"(vazio)\"),\"\",tesourodireto(CONCATENATE(LEFT(A265,LEN(A265)-11),\" \",RIGHT(B265,4)),\"preço\"))","v":""},0,0,null,null,0,null,0,0,null,null,null,null,null,null,"",{"$error":"#REF!"}]
[null,"","",{"$f":"SUMIFS('TD-Lançamentos'!C:C,'TD-Lançamentos'!D:D,A266,'TD-Lançamentos'!B:B,\"c\")-SUMIFS('TD-Lançamentos'!C:C,'TD-Lançamentos'!D:D,A266,'TD-Lançamentos'!B:B,\"v\")","v":0},{"$f":"IF(D266=0,0,SUMIFS('TD-Lançamentos'!J:J,'TD-Lançamentos'!D:D,A266,'TD-Lançamentos'!B:B,\"c\")-SUMIFS('TD-Lançamentos'!J:J,'TD-Lançamentos'!D:D,A266,'TD-Lançamentos'!B:B,\"v\"))","v":0},0,null,{"$f":"IF(OR(A266=\"\",A266=\"(vazio)\"),\"\",tesourodireto(CONCATENATE(LEFT(A266,LEN(A266)-11),\" \",RIGHT(B266,4)),\"preço\"))","v":""},0,0,null,null,0,null,0,0,null,null,null,null,null,null,"",{"$error":"#REF!"}]
[null,"","",{"$f":"SUMIFS('TD-Lançamentos'!C:C,'TD-Lançamentos'!D:D,A267,'TD-Lançamentos'!B:B,\"c\")-SUMIFS('TD-Lançamentos'!C:C,'TD-Lançamentos'!D:D,A267,'TD-Lançamentos'!B:B,\"v\")","v":0},{"$f":"IF(D267=0,0,SUMIFS('TD-Lançamentos'!J:J,'TD-Lançamentos'!D:D,A267,'TD-Lançamentos'!B:B,\"c\")-SUMIFS('TD-Lançamentos'!J:J,'TD-Lançamentos'!D:D,A267,'TD-Lançamentos'!B:B,\"v\"))","v":0},0,null,{"$f":"IF(OR(A267=\"\",A267=\"(vazio)\"),\"\",tesourodireto(CONCATENATE(LEFT(A267,LEN(A267)-11),\" \",RIGHT(B267,4)),\"preço\"))","v":""},0,0,null,null,0,null,0,0,null,null,null,null,null,null,"",{"$error":"#REF!"}]
[null,"","",{"$f":"SUMIFS('TD-Lançamentos'!C:C,'TD-Lançamentos'!D:D,A268,'TD-Lançamentos'!B:B,\"c\")-SUMIFS('TD-Lançamentos'!C:C,'TD-Lançamentos'!D:D,A268,'TD-Lançamentos'!B:B,\"v\")","v":0},{"$f":"IF(D268=0,0,SUMIFS('TD-Lançamentos'!J:J,'TD-Lançamentos'!D:D,A268,'TD-Lançamentos'!B:B,\"c\")-SUMIFS('TD-Lançamentos'!J:J,'TD-Lançamentos'!D:D,A268,'TD-Lançamentos'!B:B,\"v\"))","v":0},0,null,{"$f":"IF(OR(A268=\"\",A268=\"(vazio)\"),\"\",tesourodireto(CONCATENATE(LEFT(A268,LEN(A268)-11),\" \",RIGHT(B268,4)),\"preço\"))","v":""},0,0,null,null,0,null,0,0,null,null,null,null,null,null,"",{"$error":"#REF!"}]
[null,"","",{"$f":"SUMIFS('TD-Lançamentos'!C:C,'TD-Lançamentos'!D:D,A269,'TD-Lançamentos'!B:B,\"c\")-SUMIFS('TD-Lançamentos'!C:C,'TD-Lançamentos'!D:D,A269,'TD-Lançamentos'!B:B,\"v\")","v":0},{"$f":"IF(D269=0,0,SUMIFS('TD-Lançamentos'!J:J,'TD-Lançamentos'!D:D,A269,'TD-Lançamentos'!B:B,\"c\")-SUMIFS('TD-Lançamentos'!J:J,'TD-Lançamentos'!D:D,A269,'TD-Lançamentos'!B:B,\"v\"))","v":0},0,null,{"$f":"IF(OR(A269=\"\",A269=\"(vazio)\"),\"\",tesourodireto(CONCATENATE(LEFT(A269,LEN(A269)-11),\" \",RIGHT(B269,4)),\"preço\"))","v":""},0,0,null,null,0,null,0,0,null,null,null,null,null,null,"",{"$error":"#REF!"}]
[null,"","",{"$f":"SUMIFS('TD-Lançamentos'!C:C,'TD-Lançamentos'!D:D,A270,'TD-Lançamentos'!B:B,\"c\")-SUMIFS('TD-Lançamentos'!C:C,'TD-Lançamentos'!D:D,A270,'TD-Lançamentos'!B:B,\"v\")","v":0},{"$f":"IF(D270=0,0,SUMIFS('TD-Lançamentos'!J:J,'TD-Lançamentos'!D:D,A270,'TD-Lançamentos'!B:B,\"c\")-SUMIFS('TD-Lançamentos'!J:J,'TD-Lançamentos'!D:D,A270,'TD-Lançamentos'!B:B,\"v\"))","v":0},0,null,{"$f":"IF(OR(A270=\"\",A270=\"(vazio)\"),\"\",tesourodireto(CONCATENATE(LEFT(A270,LEN(A270)-11),\" \",RIGHT(B270,4)),\"preço\"))","v":""},0,0,null,null,0,null,0,0,null,null,null,null,null,null,{"$f":"IF(L270=\"\",\"\",L270-J270)","v":""},{"$f":"IF(OR($A617=\"TOTAL\",$A617=\"\"),\"\",$A617)","v":{"$error":"#REF!"}}]
[null,"","",{"$f":"SUMIFS('TD-Lançamentos'!C:C,'TD-Lançamentos'!D:D,A271,'TD-Lançamentos'!B:B,\"c\")-SUMIFS('TD-Lançamentos'!C:C,'TD-Lançamentos'!D:D,A271,'TD-Lançamentos'!B:B,\"v\")","v":0},{"$f":"IF(D271=0,0,SUMIFS('TD-Lançamentos'!J:J,'TD-Lançamentos'!D:D,A271,'TD-Lançamentos'!B:B,\"c\")-SUMIFS('TD-Lançamentos'!J:J,'TD-Lançamentos'!D:D,A271,'TD-Lançamentos'!B:B,\"v\"))","v":0},0,null,{"$f":"IF(OR(A271=\"\",A271=\"(vazio)\"),\"\",tesourodireto(CONCATENATE(LEFT(A271,LEN(A271)-11),\" \",RIGHT(B271,4)),\"preço\"))","v":""},0,0,null,null,0,null,0,0,null,null,null,null,null,null,"",{"$error":"#REF!"}]
[null,"","",{"$f":"SUMIFS('TD-Lançamentos'!C:C,'TD-Lançamentos'!D:D,A272,'TD-Lançamentos'!B:B,\"c\")-SUMIFS('TD-Lançamentos'!C:C,'TD-Lançamentos'!D:D,A272,'TD-Lançamentos'!B:B,\"v\")","v":0},{"$f":"IF(D272=0,0,SUMIFS('TD-Lançamentos'!J:J,'TD-Lançamentos'!D:D,A272,'TD-Lançamentos'!B:B,\"c\")-SUMIFS('TD-Lançamentos'!J:J,'TD-Lançamentos'!D:D,A272,'TD-Lançamentos'!B:B,\"v\"))","v":0},0,null,{"$f":"IF(OR(A272=\"\",A272=\"(vazio)\"),\"\",tesourodireto(CONCATENATE(LEFT(A272,LEN(A272)-11),\" \",RIGHT(B272,4)),\"preço\"))","v":""},0,0,null,null,0,null,0,0,null,null,null,null,null,null,"",{"$error":"#REF!"}]
[null,"","",{"$f":"SUMIFS('TD-Lançamentos'!C:C,'TD-Lançamentos'!D:D,A273,'TD-Lançamentos'!B:B,\"c\")-SUMIFS('TD-Lançamentos'!C:C,'TD-Lançamentos'!D:D,A273,'TD-Lançamentos'!B:B,\"v\")","v":0},{"$f":"IF(D273=0,0,SUMIFS('TD-Lançamentos'!J:J,'TD-Lançamentos'!D:D,A273,'TD-Lançamentos'!B:B,\"c\")-SUMIFS('TD-Lançamentos'!J:J,'TD-Lançamentos'!D:D,A273,'TD-Lançamentos'!B:B,\"v\"))","v":0},0,null,{"$f":"IF(OR(A273=\"\",A273=\"(vazio)\"),\"\",tesourodireto(CONCATENATE(LEFT(A273,LEN(A273)-11),\" \",RIGHT(B273,4)),\"preço\"))","v":""},0,0,null,null,0,null,0,0,null,null,null,null,null,null,"",{"$error":"#REF!"}]
[null,"","",{"$f":"SUMIFS('TD-Lançamentos'!C:C,'TD-Lançamentos'!D:D,A274,'TD-Lançamentos'!B:B,\"c\")-SUMIFS('TD-Lançamentos'!C:C,'TD-Lançamentos'!D:D,A274,'TD-Lançamentos'!B:B,\"v\")","v":0},{"$f":"IF(D274=0,0,SUMIFS('TD-Lançamentos'!J:J,'TD-Lançamentos'!D:D,A274,'TD-Lançamentos'!B:B,\"c\")-SUMIFS('TD-Lançamentos'!J:J,'TD-Lançamentos'!D:D,A274,'TD-Lançamentos'!B:B,\"v\"))","v":0},0,null,{"$f":"IF(OR(A274=\"\",A274=\"(vazio)\"),\"\",tesourodireto(CONCATENATE(LEFT(A274,LEN(A274)-11),\" \",RIGHT(B274,4)),\"preço\"))","v":""},0,0,null,null,0,null,0,0,null,null,null,null,null,null,"",{"$error":"#REF!"}]
[null,"","",{"$f":"SUMIFS('TD-Lançamentos'!C:C,'TD-Lançamentos'!D:D,A275,'TD-Lançamentos'!B:B,\"c\")-SUMIFS('TD-Lançamentos'!C:C,'TD-Lançamentos'!D:D,A275,'TD-Lançamentos'!B:B,\"v\")","v":0},{"$f":"IF(D275=0,0,SUMIFS('TD-Lançamentos'!J:J,'TD-Lançamentos'!D:D,A275,'TD-Lançamentos'!B:B,\"c\")-SUMIFS('TD-Lançamentos'!J:J,'TD-Lançamentos'!D:D,A275,'TD-Lançamentos'!B:B,\"v\"))","v":0},0,null,{"$f":"IF(OR(A275=\"\",A275=\"(vazio)\"),\"\",tesourodireto(CONCATENATE(LEFT(A275,LEN(A275)-11),\" \",RIGHT(B275,4)),\"preço\"))","v":""},0,0,null,null,0,null,0,0,null,null,null,null,null,null,"",{"$error":"#REF!"}]
[null,"","",{"$f":"SUMIFS('TD-Lançamentos'!C:C,'TD-Lançamentos'!D:D,A276,'TD-Lançamentos'!B:B,\"c\")-SUMIFS('TD-Lançamentos'!C:C,'TD-Lançamentos'!D:D,A276,'TD-Lançamentos'!B:B,\"v\")","v":0},{"$f":"IF(D276=0,0,SUMIFS('TD-Lançamentos'!J:J,'TD-Lançamentos'!D:D,A276,'TD-Lançamentos'!B:B,\"c\")-SUMIFS('TD-Lançamentos'!J:J,'TD-Lançamentos'!D:D,A276,'TD-Lançamentos'!B:B,\"v\"))","v":0},0,null,{"$f":"IF(OR(A276=\"\",A276=\"(vazio)\"),\"\",tesourodireto(CONCATENATE(LEFT(A276,LEN(A276)-11),\" \",RIGHT(B276,4)),\"preço\"))","v":""},0,0,null,null,0,null,0,0,null,null,null,null,null,null,"",{"$error":"#REF!"}]
[null,"","",{"$f":"SUMIFS('TD-Lançamentos'!C:C,'TD-Lançamentos'!D:D,A277,'TD-Lançamentos'!B:B,\"c\")-SUMIFS('TD-Lançamentos'!C:C,'TD-Lançamentos'!D:D,A277,'TD-Lançamentos'!B:B,\"v\")","v":0},{"$f":"IF(D277=0,0,SUMIFS('TD-Lançamentos'!J:J,'TD-Lançamentos'!D:D,A277,'TD-Lançamentos'!B:B,\"c\")-SUMIFS('TD-Lançamentos'!J:J,'TD-Lançamentos'!D:D,A277,'TD-Lançamentos'!B:B,\"v\"))","v":0},0,null,{"$f":"IF(OR(A277=\"\",A277=\"(vazio)\"),\"\",tesourodireto(CONCATENATE(LEFT(A277,LEN(A277)-11),\" \",RIGHT(B277,4)),\"preço\"))","v":""},0,0,null,null,0,null,0,0,null,null,null,null,null,null,"",{"$error":"#REF!"}]
[null,"","",{"$f":"SUMIFS('TD-Lançamentos'!C:C,'TD-Lançamentos'!D:D,A278,'TD-Lançamentos'!B:B,\"c\")-SUMIFS('TD-Lançamentos'!C:C,'TD-Lançamentos'!D:D,A278,'TD-Lançamentos'!B:B,\"v\")","v":0},{"$f":"IF(D278=0,0,SUMIFS('TD-Lançamentos'!J:J,'TD-Lançamentos'!D:D,A278,'TD-Lançamentos'!B:B,\"c\")-SUMIFS('TD-Lançamentos'!J:J,'TD-Lançamentos'!D:D,A278,'TD-Lançamentos'!B:B,\"v\"))","v":0},0,null,{"$f":"IF(OR(A278=\"\",A278=\"(vazio)\"),\"\",tesourodireto(CONCATENATE(LEFT(A278,LEN(A278)-11),\" \",RIGHT(B278,4)),\"preço\"))","v":""},0,0,null,null,0,null,0,0,null,null,null,null,null,null,"",{"$error":"#REF!"}]
[null,"","",{"$f":"SUMIFS('TD-Lançamentos'!C:C,'TD-Lançamentos'!D:D,A279,'TD-Lançamentos'!B:B,\"c\")-SUMIFS('TD-Lançamentos'!C:C,'TD-Lançamentos'!D:D,A279,'TD-Lançamentos'!B:B,\"v\")","v":0},{"$f":"IF(D279=0,0,SUMIFS('TD-Lançamentos'!J:J,'TD-Lançamentos'!D:D,A279,'TD-Lançamentos'!B:B,\"c\")-SUMIFS('TD-Lançamentos'!J:J,'TD-Lançamentos'!D:D,A279,'TD-Lançamentos'!B:B,\"v\"))","v":0},0,null,{"$f":"IF(OR(A279=\"\",A279=\"(vazio)\"),\"\",tesourodireto(CONCATENATE(LEFT(A279,LEN(A279)-11),\" \",RIGHT(B279,4)),\"preço\"))","v":""},0,0,null,null,0,null,0,0,null,null,null,null,null,null,"",{"$error":"#REF!"}]
[null,"","",{"$f":"SUMIFS('TD-Lançamentos'!C:C,'TD-Lançamentos'!D:D,A280,'TD-Lançamentos'!B:B,\"c\")-SUMIFS('TD-Lançamentos'!C:C,'TD-Lançamentos'!D:D,A280,'TD-Lançamentos'!B:B,\"v\")","v":0},{"$f":"IF(D280=0,0,SUMIFS('TD-Lançamentos'!J:J,'TD-Lançamentos'!D:D,A280,'TD-Lançamentos'!B:B,\"c\")-SUMIFS('TD-Lançamentos'!J:J,'TD-Lançamentos'!D:D,A280,'TD-Lançamentos'!B:B,\"v\"))","v":0},0,null,{"$f":"IF(OR(A280=\"\",A280=\"(vazio)\"),\"\",tesourodireto(CONCATENATE(LEFT(A280,LEN(A280)-11),\" \",RIGHT(B280,4)),\"preço\"))","v":""},0,0,null,null,0,null,0,0,null,null,null,null,null,null,"",{"$error":"#REF!"}]
[null,"","",{"$f":"SUMIFS('TD-Lançamentos'!C:C,'TD-Lançamentos'!D:D,A281,'TD-Lançamentos'!B:B,\"c\")-SUMIFS('TD-Lançamentos'!C:C,'TD-Lançamentos'!D:D,A281,'TD-Lançamentos'!B:B,\"v\")","v":0},{"$f":"IF(D281=0,0,SUMIFS('TD-Lançamentos'!J:J,'TD-Lançamentos'!D:D,A281,'TD-Lançamentos'!B:B,\"c\")-SUMIFS('TD-Lançamentos'!J:J,'TD-Lançamentos'!D:D,A281,'TD-Lançamentos'!B:B,\"v\"))","v":0},0,null,{"$f":"IF(OR(A281=\"\",A281=\"(vazio)\"),\"\",tesourodireto(CONCATENATE(LEFT(A281,LEN(A281)-11),\" \",RIGHT(B281,4)),\"preço\"))","v":""},0,0,null,null,0,null,0,0,null,null,null,null,null,null,"",{"$error":"#REF!"}]
[null,"","",{"$f":"SUMIFS('TD-Lançamentos'!C:C,'TD-Lançamentos'!D:D,A282,'TD-Lançamentos'!B:B,\"c\")-SUMIFS('TD-Lançamentos'!C:C,'TD-Lançamentos'!D:D,A282,'TD-Lançamentos'!B:B,\"v\")","v":0},{"$f":"IF(D282=0,0,SUMIFS('TD-Lançamentos'!J:J,'TD-Lançamentos'!D:D,A282,'TD-Lançamentos'!B:B,\"c\")-SUMIFS('TD-Lançamentos'!J:J,'TD-Lançamentos'!D:D,A282,'TD-Lançamentos'!B:B,\"v\"))","v":0},0,null,{"$f":"IF(OR(A282=\"\",A282=\"(vazio)\"),\"\",tesourodireto(CONCATENATE(LEFT(A282,LEN(A282)-11),\" \",RIGHT(B282,4)),\"preço\"))","v":""},0,0,null,null,0,null,0,0,null,null,null,null,null,null,"",{"$error":"#REF!"}]
[null,"","",{"$f":"SUMIFS('TD-Lançamentos'!C:C,'TD-Lançamentos'!D:D,A283,'TD-Lançamentos'!B:B,\"c\")-SUMIFS('TD-Lançamentos'!C:C,'TD-Lançamentos'!D:D,A283,'TD-Lançamentos'!B:B,\"v\")","v":0},{"$f":"IF(D283=0,0,SUMIFS('TD-Lançamentos'!J:J,'TD-Lançamentos'!D:D,A283,'TD-Lançamentos'!B:B,\"c\")-SUMIFS('TD-Lançamentos'!J:J,'TD-Lançamentos'!D:D,A283,'TD-Lançamentos'!B:B,\"v\"))","v":0},0,null,{"$f":"IF(OR(A283=\"\",A283=\"(vazio)\"),\"\",tesourodireto(CONCATENATE(LEFT(A283,LEN(A283)-11),\" \",RIGHT(B283,4)),\"preço\"))","v":""},0,0,null,null,0,null,0,0,null,null,null,null,null,null,"",{"$error":"#REF!"}]
[null,"","",{"$f":"SUMIFS('TD-Lançamentos'!C:C,'TD-Lançamentos'!D:D,A284,'TD-Lançamentos'!B:B,\"c\")-SUMIFS('TD-Lançamentos'!C:C,'TD-Lançamentos'!D:D,A284,'TD-Lançamentos'!B:B,\"v\")","v":0},{"$f":"IF(D284=0,0,SUMIFS('TD-Lançamentos'!J:J,'TD-Lançamentos'!D:D,A284,'TD-Lançamentos'!B:B,\"c\")-SUMIFS('TD-Lançamentos'!J:J,'TD-Lançamentos'!D:D,A284,'TD-Lançamentos'!B:B,\"v\"))","v":0},0,null,{"$f":"IF(OR(A284=\"\",A284=\"(vazio)\"),\"\",tesourodireto(CONCATENATE(LEFT(A284,LEN(A284)-11),\" \",RIGHT(B284,4)),\"preço\"))","v":""},0,0,null,null,0,null,0,0,null,null,null,null,null,null,"",{"$error":"#REF!"}]
[null,"","",{"$f":"SUMIFS('TD-Lançamentos'!C:C,'TD-Lançamentos'!D:D,A285,'TD-Lançamentos'!B:B,\"c\")-SUMIFS('TD-Lançamentos'!C:C,'TD-Lançamentos'!D:D,A285,'TD-Lançamentos'!B:B,\"v\")","v":0},{"$f":"IF(D285=0,0,SUMIFS('TD-Lançamentos'!J:J,'TD-Lançamentos'!D:D,A285,'TD-Lançamentos'!B:B,\"c\")-SUMIFS('TD-Lançamentos'!J:J,'TD-Lançamentos'!D:D,A285,'TD-Lançamentos'!B:B,\"v\"))","v":0},0,null,{"$f":"IF(OR(A285=\"\",A285=\"(vazio)\"),\"\",tesourodireto(CONCATENATE(LEFT(A285,LEN(A285)-11),\" \",RIGHT(B285,4)),\"preço\"))","v":""},0,0,null,null,0,null,0,0,null,null,null,null,null,null,"",{"$error":"#REF!"}]
[null,"","",{"$f":"SUMIFS('TD-Lançamentos'!C:C,'TD-Lançamentos'!D:D,A286,'TD-Lançamentos'!B:B,\"c\")-SUMIFS('TD-Lançamentos'!C:C,'TD-Lançamentos'!D:D,A286,'TD-Lançamentos'!B:B,\"v\")","v":0},{"$f":"IF(D286=0,0,SUMIFS('TD-Lançamentos'!J:J,'TD-Lançamentos'!D:D,A286,'TD-Lançamentos'!B:B,\"c\")-SUMIFS('TD-Lançamentos'!J:J,'TD-Lançamentos'!D:D,A286,'TD-Lançamentos'!B:B,\"v\"))","v":0},0,null,{"$f":"IF(OR(A286=\"\",A286=\"(vazio)\"),\"\",tesourodireto(CONCATENATE(LEFT(A286,LEN(A286)-11),\" \",RIGHT(B286,4)),\"preço\"))","v":""},0,0,null,null,0,null,0,0,null,null,null,null,null,null,"",{"$error":"#REF!"}]
[null,"","",{"$f":"SUMIFS('TD-Lançamentos'!C:C,'TD-Lançamentos'!D:D,A287,'TD-Lançamentos'!B:B,\"c\")-SUMIFS('TD-Lançamentos'!C:C,'TD-Lançamentos'!D:D,A287,'TD-Lançamentos'!B:B,\"v\")","v":0},{"$f":"IF(D287=0,0,SUMIFS('TD-Lançamentos'!J:J,'TD-Lançamentos'!D:D,A287,'TD-Lançamentos'!B:B,\"c\")-SUMIFS('TD-Lançamentos'!J:J,'TD-Lançamentos'!D:D,A287,'TD-Lançamentos'!B:B,\"v\"))","v":0},0,null,{"$f":"IF(OR(A287=\"\",A287=\"(vazio)\"),\"\",tesourodireto(CONCATENATE(LEFT(A287,LEN(A287)-11),\" \",RIGHT(B287,4)),\"preço\"))","v":""},0,0,null,null,0,null,0,0,null,null,null,null,null,null,"",{"$error":"#REF!"}]
[null,"","",{"$f":"SUMIFS('TD-Lançamentos'!C:C,'TD-Lançamentos'!D:D,A288,'TD-Lançamentos'!B:B,\"c\")-SUMIFS('TD-Lançamentos'!C:C,'TD-Lançamentos'!D:D,A288,'TD-Lançamentos'!B:B,\"v\")","v":0},{"$f":"IF(D288=0,0,SUMIFS('TD-Lançamentos'!J:J,'TD-Lançamentos'!D:D,A288,'TD-Lançamentos'!B:B,\"c\")-SUMIFS('TD-Lançamentos'!J:J,'TD-Lançamentos'!D:D,A288,'TD-Lançamentos'!B:B,\"v\"))","v":0},0,null,{"$f":"IF(OR(A288=\"\",A288=\"(vazio)\"),\"\",tesourodireto(CONCATENATE(LEFT(A288,LEN(A288)-11),\" \",RIGHT(B288,4)),\"preço\"))","v":""},0,0,null,null,0,null,0,0,null,null,null,null,null,null,"",{"$error":"#REF!"}]
[null,"","",{"$f":"SUMIFS('TD-Lançamentos'!C:C,'TD-Lançamentos'!D:D,A289,'TD-Lançamentos'!B:B,\"c\")-SUMIFS('TD-Lançamentos'!C:C,'TD-Lançamentos'!D:D,A289,'TD-Lançamentos'!B:B,\"v\")","v":0},{"$f":"IF(D289=0,0,SUMIFS('TD-Lançamentos'!J:J,'TD-Lançamentos'!D:D,A289,'TD-Lançamentos'!B:B,\"c\")-SUMIFS('TD-Lançamentos'!J:J,'TD-Lançamentos'!D:D,A289,'TD-Lançamentos'!B:B,\"v\"))","v":0},0,null,{"$f":"IF(OR(A289=\"\",A289=\"(vazio)\"),\"\",tesourodireto(CONCATENATE(LEFT(A289,LEN(A289)-11),\" \",RIGHT(B289,4)),\"preço\"))","v":""},0,0,null,null,0,null,0,0,null,null,null,null,null,null,"",{"$error":"#REF!"}]
[null,"","",{"$f":"SUMIFS('TD-Lançamentos'!C:C,'TD-Lançamentos'!D:D,A290,'TD-Lançamentos'!B:B,\"c\")-SUMIFS('TD-Lançamentos'!C:C,'TD-Lançamentos'!D:D,A290,'TD-Lançamentos'!B:B,\"v\")","v":0},{"$f":"IF(D290=0,0,SUMIFS('TD-Lançamentos'!J:J,'TD-Lançamentos'!D:D,A290,'TD-Lançamentos'!B:B,\"c\")-SUMIFS('TD-Lançamentos'!J:J,'TD-Lançamentos'!D:D,A290,'TD-Lançamentos'!B:B,\"v\"))","v":0},0,null,{"$f":"IF(OR(A290=\"\",A290=\"(vazio)\"),\"\",tesourodireto(CONCATENATE(LEFT(A290,LEN(A290)-11),\" \",RIGHT(B290,4)),\"preço\"))","v":""},0,0,null,null,0,null,0,0,null,null,null,null,null,null,"",{"$error":"#REF!"}]
[null,"","",{"$f":"SUMIFS('TD-Lançamentos'!C:C,'TD-Lançamentos'!D:D,A291,'TD-Lançamentos'!B:B,\"c\")-SUMIFS('TD-Lançamentos'!C:C,'TD-Lançamentos'!D:D,A291,'TD-Lançamentos'!B:B,\"v\")","v":0},{"$f":"IF(D291=0,0,SUMIFS('TD-Lançamentos'!J:J,'TD-Lançamentos'!D:D,A291,'TD-Lançamentos'!B:B,\"c\")-SUMIFS('TD-Lançamentos'!J:J,'TD-Lançamentos'!D:D,A291,'TD-Lançamentos'!B:B,\"v\"))","v":0},0,null,{"$f":"IF(OR(A291=\"\",A291=\"(vazio)\"),\"\",tesourodireto(CONCATENATE(LEFT(A291,LEN(A291)-11),\" \",RIGHT(B291,4)),\"preço\"))","v":""},0,0,null,null,0,null,0,0,null,null,null,null,null,null,"",{"$error":"#REF!"}]
[null,"","",{"$f":"SUMIFS('TD-Lançamentos'!C:C,'TD-Lançamentos'!D:D,A292,'TD-Lançamentos'!B:B,\"c\")-SUMIFS('TD-Lançamentos'!C:C,'TD-Lançamentos'!D:D,A292,'TD-Lançamentos'!B:B,\"v\")","v":0},{"$f":"IF(D292=0,0,SUMIFS('TD-Lançamentos'!J:J,'TD-Lançamentos'!D:D,A292,'TD-Lançamentos'!B:B,\"c\")-SUMIFS('TD-Lançamentos'!J:J,'TD-Lançamentos'!D:D,A292,'TD-Lançamentos'!B:B,\"v\"))","v":0},0,null,{"$f":"IF(OR(A292=\"\",A292=\"(vazio)\"),\"\",tesourodireto(CONCATENATE(LEFT(A292,LEN(A292)-11),\" \",RIGHT(B292,4)),\"preço\"))","v":""},0,0,null,null,0,null,0,0,null,null,null,null,null,null,"",{"$error":"#REF!"}]
[null,"","",{"$f":"SUMIFS('TD-Lançamentos'!C:C,'TD-Lançamentos'!D:D,A293,'TD-Lançamentos'!B:B,\"c\")-SUMIFS('TD-Lançamentos'!C:C,'TD-Lançamentos'!D:D,A293,'TD-Lançamentos'!B:B,\"v\")","v":0},{"$f":"IF(D293=0,0,SUMIFS('TD-Lançamentos'!J:J,'TD-Lançamentos'!D:D,A293,'TD-Lançamentos'!B:B,\"c\")-SUMIFS('TD-Lançamentos'!J:J,'TD-Lançamentos'!D:D,A293,'TD-Lançamentos'!B:B,\"v\"))","v":0},0,null,{"$f":"IF(OR(A293=\"\",A293=\"(vazio)\"),\"\",tesourodireto(CONCATENATE(LEFT(A293,LEN(A293)-11),\" \",RIGHT(B293,4)),\"preço\"))","v":""},0,0,null,null,0,null,0,0,null,null,null,null,null,null,"",{"$error":"#REF!"}]
[null,"","",{"$f":"SUMIFS('TD-Lançamentos'!C:C,'TD-Lançamentos'!D:D,A294,'TD-Lançamentos'!B:B,\"c\")-SUMIFS('TD-Lançamentos'!C:C,'TD-Lançamentos'!D:D,A294,'TD-Lançamentos'!B:B,\"v\")","v":0},{"$f":"IF(D294=0,0,SUMIFS('TD-Lançamentos'!J:J,'TD-Lançamentos'!D:D,A294,'TD-Lançamentos'!B:B,\"c\")-SUMIFS('TD-Lançamentos'!J:J,'TD-Lançamentos'!D:D,A294,'TD-Lançamentos'!B:B,\"v\"))","v":0},0,null,{"$f":"IF(OR(A294=\"\",A294=\"(vazio)\"),\"\",tesourodireto(CONCATENATE(LEFT(A294,LEN(A294)-11),\" \",RIGHT(B294,4)),\"preço\"))","v":""},0,0,null,null,0,null,0,0,null,null,null,null,null,null,"",{"$error":"#REF!"}]
[null,"","",{"$f":"SUMIFS('TD-Lançamentos'!C:C,'TD-Lançamentos'!D:D,A295,'TD-Lançamentos'!B:B,\"c\")-SUMIFS('TD-Lançamentos'!C:C,'TD-Lançamentos'!D:D,A295,'TD-Lançamentos'!B:B,\"v\")","v":0},{"$f":"IF(D295=0,0,SUMIFS('TD-Lançamentos'!J:J,'TD-Lançamentos'!D:D,A295,'TD-Lançamentos'!B:B,\"c\")-SUMIFS('TD-Lançamentos'!J:J,'TD-Lançamentos'!D:D,A295,'TD-Lançamentos'!B:B,\"v\"))","v":0},0,null,{"$f":"IF(OR(A295=\"\",A295=\"(vazio)\"),\"\",tesourodireto(CONCATENATE(LEFT(A295,LEN(A295)-11),\" \",RIGHT(B295,4)),\"preço\"))","v":""},0,0,null,null,0,null,0,0,null,null,null,null,null,null,"",{"$error":"#REF!"}]
[null,"","",{"$f":"SUMIFS('TD-Lançamentos'!C:C,'TD-Lançamentos'!D:D,A296,'TD-Lançamentos'!B:B,\"c\")-SUMIFS('TD-Lançamentos'!C:C,'TD-Lançamentos'!D:D,A296,'TD-Lançamentos'!B:B,\"v\")","v":0},{"$f":"IF(D296=0,0,SUMIFS('TD-Lançamentos'!J:J,'TD-Lançamentos'!D:D,A296,'TD-Lançamentos'!B:B,\"c\")-SUMIFS('TD-Lançamentos'!J:J,'TD-Lançamentos'!D:D,A296,'TD-Lançamentos'!B:B,\"v\"))","v":0},0,null,{"$f":"IF(OR(A296=\"\",A296=\"(vazio)\"),\"\",tesourodireto(CONCATENATE(LEFT(A296,LEN(A296)-11),\" \",RIGHT(B296,4)),\"preço\"))","v":""},0,0,null,null,0,null,0,0,null,null,null,null,null,null,"",{"$error":"#REF!"}]
[null,"","",{"$f":"SUMIFS('TD-Lançamentos'!C:C,'TD-Lançamentos'!D:D,A297,'TD-Lançamentos'!B:B,\"c\")-SUMIFS('TD-Lançamentos'!C:C,'TD-Lançamentos'!D:D,A297,'TD-Lançamentos'!B:B,\"v\")","v":0},{"$f":"IF(D297=0,0,SUMIFS('TD-Lançamentos'!J:J,'TD-Lançamentos'!D:D,A297,'TD-Lançamentos'!B:B,\"c\")-SUMIFS('TD-Lançamentos'!J:J,'TD-Lançamentos'!D:D,A297,'TD-Lançamentos'!B:B,\"v\"))","v":0},0,null,{"$f":"IF(OR(A297=\"\",A297=\"(vazio)\"),\"\",tesourodireto(CONCATENATE(LEFT(A297,LEN(A297)-11),\" \",RIGHT(B297,4)),\"preço\"))","v":""},0,0,null,null,0,null,0,0,null,null,null,null,null,null,"",{"$error":"#REF!"}]
[null,"","",{"$f":"SUMIFS('TD-Lançamentos'!C:C,'TD-Lançamentos'!D:D,A298,'TD-Lançamentos'!B:B,\"c\")-SUMIFS('TD-Lançamentos'!C:C,'TD-Lançamentos'!D:D,A298,'TD-Lançamentos'!B:B,\"v\")","v":0},{"$f":"IF(D298=0,0,SUMIFS('TD-Lançamentos'!J:J,'TD-Lançamentos'!D:D,A298,'TD-Lançamentos'!B:B,\"c\")-SUMIFS('TD-Lançamentos'!J:J,'TD-Lançamentos'!D:D,A298,'TD-Lançamentos'!B:B,\"v\"))","v":0},0,null,{"$f":"IF(OR(A298=\"\",A298=\"(vazio)\"),\"\",tesourodireto(CONCATENATE(LEFT(A298,LEN(A298)-11),\" \",RIGHT(B298,4)),\"preço\"))","v":""},0,0,null,null,0,null,0,0,null,null,null,null,null,null,"",{"$error":"#REF!"}]
[null,"","",{"$f":"SUMIFS('TD-Lançamentos'!C:C,'TD-Lançamentos'!D:D,A299,'TD-Lançamentos'!B:B,\"c\")-SUMIFS('TD-Lançamentos'!C:C,'TD-Lançamentos'!D:D,A299,'TD-Lançamentos'!B:B,\"v\")","v":0},{"$f":"IF(D299=0,0,SUMIFS('TD-Lançamentos'!J:J,'TD-Lançamentos'!D:D,A299,'TD-Lançamentos'!B:B,\"c\")-SUMIFS('TD-Lançamentos'!J:J,'TD-Lançamentos'!D:D,A299,'TD-Lançamentos'!B:B,\"v\"))","v":0},0,null,{"$f":"IF(OR(A299=\"\",A299=\"(vazio)\"),\"\",tesourodireto(CONCATENATE(LEFT(A299,LEN(A299)-11),\" \",RIGHT(B299,4)),\"preço\"))","v":""},0,0,null,null,0,null,0,0,null,null,null,null,null,null,"",{"$error":"#REF!"}]
[null,"","",{"$f":"SUMIFS('TD-Lançamentos'!C:C,'TD-Lançamentos'!D:D,A300,'TD-Lançamentos'!B:B,\"c\")-SUMIFS('TD-Lançamentos'!C:C,'TD-Lançamentos'!D:D,A300,'TD-Lançamentos'!B:B,\"v\")","v":0},{"$f":"IF(D300=0,0,SUMIFS('TD-Lançamentos'!J:J,'TD-Lançamentos'!D:D,A300,'TD-Lançamentos'!B:B,\"c\")-SUMIFS('TD-Lançamentos'!J:J,'TD-Lançamentos'!D:D,A300,'TD-Lançamentos'!B:B,\"v\"))","v":0},0,null,{"$f":"IF(OR(A300=\"\",A300=\"(vazio)\"),\"\",tesourodireto(CONCATENATE(LEFT(A300,LEN(A300)-11),\" \",RIGHT(B300,4)),\"preço\"))","v":""},0,0,null,null,0,null,0,0,null,null,null,null,null,null,"",{"$error":"#REF!"}]
[null,"","",{"$f":"SUMIFS('TD-Lançamentos'!C:C,'TD-Lançamentos'!D:D,A301,'TD-Lançamentos'!B:B,\"c\")-SUMIFS('TD-Lançamentos'!C:C,'TD-Lançamentos'!D:D,A301,'TD-Lançamentos'!B:B,\"v\")","v":0},{"$f":"IF(D301=0,0,SUMIFS('TD-Lançamentos'!J:J,'TD-Lançamentos'!D:D,A301,'TD-Lançamentos'!B:B,\"c\")-SUMIFS('TD-Lançamentos'!J:J,'TD-Lançamentos'!D:D,A301,'TD-Lançamentos'!B:B,\"v\"))","v":0},0,null,{"$f":"IF(OR(A301=\"\",A301=\"(vazio)\"),\"\",tesourodireto(CONCATENATE(LEFT(A301,LEN(A301)-11),\" \",RIGHT(B301,4)),\"preço\"))","v":""},0,0,null,null,0,null,0,0,null,null,null,null,null,null,"",{"$error":"#REF!"}]
[null,"","",{"$f":"SUMIFS('TD-Lançamentos'!C:C,'TD-Lançamentos'!D:D,A302,'TD-Lançamentos'!B:B,\"c\")-SUMIFS('TD-Lançamentos'!C:C,'TD-Lançamentos'!D:D,A302,'TD-Lançamentos'!B:B,\"v\")","v":0},{"$f":"IF(D302=0,0,SUMIFS('TD-Lançamentos'!J:J,'TD-Lançamentos'!D:D,A302,'TD-Lançamentos'!B:B,\"c\")-SUMIFS('TD-Lançamentos'!J:J,'TD-Lançamentos'!D:D,A302,'TD-Lançamentos'!B:B,\"v\"))","v":0},0,null,{"$f":"IF(OR(A302=\"\",A302=\"(vazio)\"),\"\",tesourodireto(CONCATENATE(LEFT(A302,LEN(A302)-11),\" \",RIGHT(B302,4)),\"preço\"))","v":""},0,0,null,null,0,null,0,0,null,null,null,null,null,null,"",{"$error":"#REF!"}]
[null,"","",{"$f":"SUMIFS('TD-Lançamentos'!C:C,'TD-Lançamentos'!D:D,A303,'TD-Lançamentos'!B:B,\"c\")-SUMIFS('TD-Lançamentos'!C:C,'TD-Lançamentos'!D:D,A303,'TD-Lançamentos'!B:B,\"v\")","v":0},{"$f":"IF(D303=0,0,SUMIFS('TD-Lançamentos'!J:J,'TD-Lançamentos'!D:D,A303,'TD-Lançamentos'!B:B,\"c\")-SUMIFS('TD-Lançamentos'!J:J,'TD-Lançamentos'!D:D,A303,'TD-Lançamentos'!B:B,\"v\"))","v":0},0,null,{"$f":"IF(OR(A303=\"\",A303=\"(vazio)\"),\"\",tesourodireto(CONCATENATE(LEFT(A303,LEN(A303)-11),\" \",RIGHT(B303,4)),\"preço\"))","v":""},0,0,null,null,0,null,0,0,null,null,null,null,null,null,"",{"$error":"#REF!"}]
[null,"","",{"$f":"SUMIFS('TD-Lançamentos'!C:C,'TD-Lançamentos'!D:D,A304,'TD-Lançamentos'!B:B,\"c\")-SUMIFS('TD-Lançamentos'!C:C,'TD-Lançamentos'!D:D,A304,'TD-Lançamentos'!B:B,\"v\")","v":0},{"$f":"IF(D304=0,0,SUMIFS('TD-Lançamentos'!J:J,'TD-Lançamentos'!D:D,A304,'TD-Lançamentos'!B:B,\"c\")-SUMIFS('TD-Lançamentos'!J:J,'TD-Lançamentos'!D:D,A304,'TD-Lançamentos'!B:B,\"v\"))","v":0},0,null,{"$f":"IF(OR(A304=\"\",A304=\"(vazio)\"),\"\",tesourodireto(CONCATENATE(LEFT(A304,LEN(A304)-11),\" \",RIGHT(B304,4)),\"preço\"))","v":""},0,0,null,null,0,null,0,0,null,null,null,null,null,null,"",{"$error":"#REF!"}]
[null,"","",{"$f":"SUMIFS('TD-Lançamentos'!C:C,'TD-Lançamentos'!D:D,A305,'TD-Lançamentos'!B:B,\"c\")-SUMIFS('TD-Lançamentos'!C:C,'TD-Lançamentos'!D:D,A305,'TD-Lançamentos'!B:B,\"v\")","v":0},{"$f":"IF(D305=0,0,SUMIFS('TD-Lançamentos'!J:J,'TD-Lançamentos'!D:D,A305,'TD-Lançamentos'!B:B,\"c\")-SUMIFS('TD-Lançamentos'!J:J,'TD-Lançamentos'!D:D,A305,'TD-Lançamentos'!B:B,\"v\"))","v":0},0,null,{"$f":"IF(OR(A305=\"\",A305=\"(vazio)\"),\"\",tesourodireto(CONCATENATE(LEFT(A305,LEN(A305)-11),\" \",RIGHT(B305,4)),\"preço\"))","v":""},0,0,null,null,0,null,0,0,null,null,null,null,null,null,"",{"$error":"#REF!"}]
[null,"","",{"$f":"SUMIFS('TD-Lançamentos'!C:C,'TD-Lançamentos'!D:D,A306,'TD-Lançamentos'!B:B,\"c\")-SUMIFS('TD-Lançamentos'!C:C,'TD-Lançamentos'!D:D,A306,'TD-Lançamentos'!B:B,\"v\")","v":0},{"$f":"IF(D306=0,0,SUMIFS('TD-Lançamentos'!J:J,'TD-Lançamentos'!D:D,A306,'TD-Lançamentos'!B:B,\"c\")-SUMIFS('TD-Lançamentos'!J:J,'TD-Lançamentos'!D:D,A306,'TD-Lançamentos'!B:B,\"v\"))","v":0},0,null,{"$f":"IF(OR(A306=\"\",A306=\"(vazio)\"),\"\",tesourodireto(CONCATENATE(LEFT(A306,LEN(A306)-11),\" \",RIGHT(B306,4)),\"preço\"))","v":""},0,0,null,null,0,null,0,0,null,null,null,null,null,null,"",{"$error":"#REF!"}]
[null,"","",{"$f":"SUMIFS('TD-Lançamentos'!C:C,'TD-Lançamentos'!D:D,A307,'TD-Lançamentos'!B:B,\"c\")-SUMIFS('TD-Lançamentos'!C:C,'TD-Lançamentos'!D:D,A307,'TD-Lançamentos'!B:B,\"v\")","v":0},{"$f":"IF(D307=0,0,SUMIFS('TD-Lançamentos'!J:J,'TD-Lançamentos'!D:D,A307,'TD-Lançamentos'!B:B,\"c\")-SUMIFS('TD-Lançamentos'!J:J,'TD-Lançamentos'!D:D,A307,'TD-Lançamentos'!B:B,\"v\"))","v":0},0,null,{"$f":"IF(OR(A307=\"\",A307=\"(vazio)\"),\"\",tesourodireto(CONCATENATE(LEFT(A307,LEN(A307)-11),\" \",RIGHT(B307,4)),\"preço\"))","v":""},0,0,null,null,0,null,0,0,null,null,null,null,null,null,"",{"$error":"#REF!"}]
[null,"","",{"$f":"SUMIFS('TD-Lançamentos'!C:C,'TD-Lançamentos'!D:D,A308,'TD-Lançamentos'!B:B,\"c\")-SUMIFS('TD-Lançamentos'!C:C,'TD-Lançamentos'!D:D,A308,'TD-Lançamentos'!B:B,\"v\")","v":0},{"$f":"IF(D308=0,0,SUMIFS('TD-Lançamentos'!J:J,'TD-Lançamentos'!D:D,A308,'TD-Lançamentos'!B:B,\"c\")-SUMIFS('TD-Lançamentos'!J:J,'TD-Lançamentos'!D:D,A308,'TD-Lançamentos'!B:B,\"v\"))","v":0},0,null,{"$f":"IF(OR(A308=\"\",A308=\"(vazio)\"),\"\",tesourodireto(CONCATENATE(LEFT(A308,LEN(A308)-11),\" \",RIGHT(B308,4)),\"preço\"))","v":""},0,0,null,null,0,null,0,0,null,null,null,null,null,null,"",{"$error":"#REF!"}]
[null,"","",{"$f":"SUMIFS('TD-Lançamentos'!C:C,'TD-Lançamentos'!D:D,A309,'TD-Lançamentos'!B:B,\"c\")-SUMIFS('TD-Lançamentos'!C:C,'TD-Lançamentos'!D:D,A309,'TD-Lançamentos'!B:B,\"v\")","v":0},{"$f":"IF(D309=0,0,SUMIFS('TD-Lançamentos'!J:J,'TD-Lançamentos'!D:D,A309,'TD-Lançamentos'!B:B,\"c\")-SUMIFS('TD-Lançamentos'!J:J,'TD-Lançamentos'!D:D,A309,'TD-Lançamentos'!B:B,\"v\"))","v":0},0,null,{"$f":"IF(OR(A309=\"\",A309=\"(vazio)\"),\"\",tesourodireto(CONCATENATE(LEFT(A309,LEN(A309)-11),\" \",RIGHT(B309,4)),\"preço\"))","v":""},0,0,null,null,0,null,0,0,null,null,null,null,null,null,"",{"$error":"#REF!"}]
[null,"","",{"$f":"SUMIFS('TD-Lançamentos'!C:C,'TD-Lançamentos'!D:D,A310,'TD-Lançamentos'!B:B,\"c\")-SUMIFS('TD-Lançamentos'!C:C,'TD-Lançamentos'!D:D,A310,'TD-Lançamentos'!B:B,\"v\")","v":0},{"$f":"IF(D310=0,0,SUMIFS('TD-Lançamentos'!J:J,'TD-Lançamentos'!D:D,A310,'TD-Lançamentos'!B:B,\"c\")-SUMIFS('TD-Lançamentos'!J:J,'TD-Lançamentos'!D:D,A310,'TD-Lançamentos'!B:B,\"v\"))","v":0},0,null,{"$f":"IF(OR(A310=\"\",A310=\"(vazio)\"),\"\",tesourodireto(CONCATENATE(LEFT(A310,LEN(A310)-11),\" \",RIGHT(B310,4)),\"preço\"))","v":""},0,0,null,null,0,null,0,0,null,null,null,null,null,null,"",{"$error":"#REF!"}]
[null,"","",{"$f":"SUMIFS('TD-Lançamentos'!C:C,'TD-Lançamentos'!D:D,A311,'TD-Lançamentos'!B:B,\"c\")-SUMIFS('TD-Lançamentos'!C:C,'TD-Lançamentos'!D:D,A311,'TD-Lançamentos'!B:B,\"v\")","v":0},{"$f":"IF(D311=0,0,SUMIFS('TD-Lançamentos'!J:J,'TD-Lançamentos'!D:D,A311,'TD-Lançamentos'!B:B,\"c\")-SUMIFS('TD-Lançamentos'!J:J,'TD-Lançamentos'!D:D,A311,'TD-Lançamentos'!B:B,\"v\"))","v":0},0,null,{"$f":"IF(OR(A311=\"\",A311=\"(vazio)\"),\"\",tesourodireto(CONCATENATE(LEFT(A311,LEN(A311)-11),\" \",RIGHT(B311,4)),\"preço\"))","v":""},0,0,null,null,0,null,0,0,null,null,null,null,null,null,"",{"$error":"#REF!"}]
[null,"","",{"$f":"SUMIFS('TD-Lançamentos'!C:C,'TD-Lançamentos'!D:D,A312,'TD-Lançamentos'!B:B,\"c\")-SUMIFS('TD-Lançamentos'!C:C,'TD-Lançamentos'!D:D,A312,'TD-Lançamentos'!B:B,\"v\")","v":0},{"$f":"IF(D312=0,0,SUMIFS('TD-Lançamentos'!J:J,'TD-Lançamentos'!D:D,A312,'TD-Lançamentos'!B:B,\"c\")-SUMIFS('TD-Lançamentos'!J:J,'TD-Lançamentos'!D:D,A312,'TD-Lançamentos'!B:B,\"v\"))","v":0},0,null,{"$f":"IF(OR(A312=\"\",A312=\"(vazio)\"),\"\",tesourodireto(CONCATENATE(LEFT(A312,LEN(A312)-11),\" \",RIGHT(B312,4)),\"preço\"))","v":""},0,0,null,null,0,null,0,0,null,null,null,null,null,null,"",{"$error":"#REF!"}]
[null,"","",{"$f":"SUMIFS('TD-Lançamentos'!C:C,'TD-Lançamentos'!D:D,A313,'TD-Lançamentos'!B:B,\"c\")-SUMIFS('TD-Lançamentos'!C:C,'TD-Lançamentos'!D:D,A313,'TD-Lançamentos'!B:B,\"v\")","v":0},{"$f":"IF(D313=0,0,SUMIFS('TD-Lançamentos'!J:J,'TD-Lançamentos'!D:D,A313,'TD-Lançamentos'!B:B,\"c\")-SUMIFS('TD-Lançamentos'!J:J,'TD-Lançamentos'!D:D,A313,'TD-Lançamentos'!B:B,\"v\"))","v":0},0,null,{"$f":"IF(OR(A313=\"\",A313=\"(vazio)\"),\"\",tesourodireto(CONCATENATE(LEFT(A313,LEN(A313)-11),\" \",RIGHT(B313,4)),\"preço\"))","v":""},0,0,null,null,0,null,0,0,null,null,null,null,null,null,"",{"$error":"#REF!"}]
[null,"","",{"$f":"SUMIFS('TD-Lançamentos'!C:C,'TD-Lançamentos'!D:D,A314,'TD-Lançamentos'!B:B,\"c\")-SUMIFS('TD-Lançamentos'!C:C,'TD-Lançamentos'!D:D,A314,'TD-Lançamentos'!B:B,\"v\")","v":0},{"$f":"IF(D314=0,0,SUMIFS('TD-Lançamentos'!J:J,'TD-Lançamentos'!D:D,A314,'TD-Lançamentos'!B:B,\"c\")-SUMIFS('TD-Lançamentos'!J:J,'TD-Lançamentos'!D:D,A314,'TD-Lançamentos'!B:B,\"v\"))","v":0},0,null,{"$f":"IF(OR(A314=\"\",A314=\"(vazio)\"),\"\",tesourodireto(CONCATENATE(LEFT(A314,LEN(A314)-11),\" \",RIGHT(B314,4)),\"preço\"))","v":""},0,0,null,null,0,null,0,0,null,null,null,null,null,null,"",{"$error":"#REF!"}]
[null,"","",{"$f":"SUMIFS('TD-Lançamentos'!C:C,'TD-Lançamentos'!D:D,A315,'TD-Lançamentos'!B:B,\"c\")-SUMIFS('TD-Lançamentos'!C:C,'TD-Lançamentos'!D:D,A315,'TD-Lançamentos'!B:B,\"v\")","v":0},{"$f":"IF(D315=0,0,SUMIFS('TD-Lançamentos'!J:J,'TD-Lançamentos'!D:D,A315,'TD-Lançamentos'!B:B,\"c\")-SUMIFS('TD-Lançamentos'!J:J,'TD-Lançamentos'!D:D,A315,'TD-Lançamentos'!B:B,\"v\"))","v":0},0,null,{"$f":"IF(OR(A315=\"\",A315=\"(vazio)\"),\"\",tesourodireto(CONCATENATE(LEFT(A315,LEN(A315)-11),\" \",RIGHT(B315,4)),\"preço\"))","v":""},0,0,null,null,0,null,0,0,null,null,null,null,null,null,"",{"$error":"#REF!"}]
[null,"","",{"$f":"SUMIFS('TD-Lançamentos'!C:C,'TD-Lançamentos'!D:D,A316,'TD-Lançamentos'!B:B,\"c\")-SUMIFS('TD-Lançamentos'!C:C,'TD-Lançamentos'!D:D,A316,'TD-Lançamentos'!B:B,\"v\")","v":0},{"$f":"IF(D316=0,0,SUMIFS('TD-Lançamentos'!J:J,'TD-Lançamentos'!D:D,A316,'TD-Lançamentos'!B:B,\"c\")-SUMIFS('TD-Lançamentos'!J:J,'TD-Lançamentos'!D:D,A316,'TD-Lançamentos'!B:B,\"v\"))","v":0},0,null,{"$f":"IF(OR(A316=\"\",A316=\"(vazio)\"),\"\",tesourodireto(CONCATENATE(LEFT(A316,LEN(A316)-11),\" \",RIGHT(B316,4)),\"preço\"))","v":""},0,0,null,null,0,null,0,0,null,null,null,null,null,null,"",{"$error":"#REF!"}]
[null,"","",{"$f":"SUMIFS('TD-Lançamentos'!C:C,'TD-Lançamentos'!D:D,A317,'TD-Lançamentos'!B:B,\"c\")-SUMIFS('TD-Lançamentos'!C:C,'TD-Lançamentos'!D:D,A317,'TD-Lançamentos'!B:B,\"v\")","v":0},{"$f":"IF(D317=0,0,SUMIFS('TD-Lançamentos'!J:J,'TD-Lançamentos'!D:D,A317,'TD-Lançamentos'!B:B,\"c\")-SUMIFS('TD-Lançamentos'!J:J,'TD-Lançamentos'!D:D,A317,'TD-Lançamentos'!B:B,\"v\"))","v":0},0,null,{"$f":"IF(OR(A317=\"\",A317=\"(vazio)\"),\"\",tesourodireto(CONCATENATE(LEFT(A317,LEN(A317)-11),\" \",RIGHT(B317,4)),\"preço\"))","v":""},0,0,null,null,0,null,0,0,null,null,null,null,null,null,"",{"$error":"#REF!"}]
[null,"","",{"$f":"SUMIFS('TD-Lançamentos'!C:C,'TD-Lançamentos'!D:D,A318,'TD-Lançamentos'!B:B,\"c\")-SUMIFS('TD-Lançamentos'!C:C,'TD-Lançamentos'!D:D,A318,'TD-Lançamentos'!B:B,\"v\")","v":0},{"$f":"IF(D318=0,0,SUMIFS('TD-Lançamentos'!J:J,'TD-Lançamentos'!D:D,A318,'TD-Lançamentos'!B:B,\"c\")-SUMIFS('TD-Lançamentos'!J:J,'TD-Lançamentos'!D:D,A318,'TD-Lançamentos'!B:B,\"v\"))","v":0},0,null,{"$f":"IF(OR(A318=\"\",A318=\"(vazio)\"),\"\",tesourodireto(CONCATENATE(LEFT(A318,LEN(A318)-11),\" \",RIGHT(B318,4)),\"preço\"))","v":""},0,0,null,null,0,null,0,0,null,null,null,null,null,null,"",{"$error":"#REF!"}]
[null,"","",{"$f":"SUMIFS('TD-Lançamentos'!C:C,'TD-Lançamentos'!D:D,A319,'TD-Lançamentos'!B:B,\"c\")-SUMIFS('TD-Lançamentos'!C:C,'TD-Lançamentos'!D:D,A319,'TD-Lançamentos'!B:B,\"v\")","v":0},{"$f":"IF(D319=0,0,SUMIFS('TD-Lançamentos'!J:J,'TD-Lançamentos'!D:D,A319,'TD-Lançamentos'!B:B,\"c\")-SUMIFS('TD-Lançamentos'!J:J,'TD-Lançamentos'!D:D,A319,'TD-Lançamentos'!B:B,\"v\"))","v":0},0,null,{"$f":"IF(OR(A319=\"\",A319=\"(vazio)\"),\"\",tesourodireto(CONCATENATE(LEFT(A319,LEN(A319)-11),\" \",RIGHT(B319,4)),\"preço\"))","v":""},0,0,null,null,0,null,0,0,null,null,null,null,null,null,"",{"$error":"#REF!"}]
[null,"","",{"$f":"SUMIFS('TD-Lançamentos'!C:C,'TD-Lançamentos'!D:D,A320,'TD-Lançamentos'!B:B,\"c\")-SUMIFS('TD-Lançamentos'!C:C,'TD-Lançamentos'!D:D,A320,'TD-Lançamentos'!B:B,\"v\")","v":0},{"$f":"IF(D320=0,0,SUMIFS('TD-Lançamentos'!J:J,'TD-Lançamentos'!D:D,A320,'TD-Lançamentos'!B:B,\"c\")-SUMIFS('TD-Lançamentos'!J:J,'TD-Lançamentos'!D:D,A320,'TD-Lançamentos'!B:B,\"v\"))","v":0},0,null,{"$f":"IF(OR(A320=\"\",A320=\"(vazio)\"),\"\",tesourodireto(CONCATENATE(LEFT(A320,LEN(A320)-11),\" \",RIGHT(B320,4)),\"preço\"))","v":""},0,0,null,null,0,null,0,0,null,null,null,null,null,null,"",{"$error":"#REF!"}]
[null,"","",{"$f":"SUMIFS('TD-Lançamentos'!C:C,'TD-Lançamentos'!D:D,A321,'TD-Lançamentos'!B:B,\"c\")-SUMIFS('TD-Lançamentos'!C:C,'TD-Lançamentos'!D:D,A321,'TD-Lançamentos'!B:B,\"v\")","v":0},{"$f":"IF(D321=0,0,SUMIFS('TD-Lançamentos'!J:J,'TD-Lançamentos'!D:D,A321,'TD-Lançamentos'!B:B,\"c\")-SUMIFS('TD-Lançamentos'!J:J,'TD-Lançamentos'!D:D,A321,'TD-Lançamentos'!B:B,\"v\"))","v":0},0,null,{"$f":"IF(OR(A321=\"\",A321=\"(vazio)\"),\"\",tesourodireto(CONCATENATE(LEFT(A321,LEN(A321)-11),\" \",RIGHT(B321,4)),\"preço\"))","v":""},0,0,null,null,0,null,0,0,null,null,null,null,null,null,"",{"$error":"#REF!"}]
[null,"","",{"$f":"SUMIFS('TD-Lançamentos'!C:C,'TD-Lançamentos'!D:D,A322,'TD-Lançamentos'!B:B,\"c\")-SUMIFS('TD-Lançamentos'!C:C,'TD-Lançamentos'!D:D,A322,'TD-Lançamentos'!B:B,\"v\")","v":0},{"$f":"IF(D322=0,0,SUMIFS('TD-Lançamentos'!J:J,'TD-Lançamentos'!D:D,A322,'TD-Lançamentos'!B:B,\"c\")-SUMIFS('TD-Lançamentos'!J:J,'TD-Lançamentos'!D:D,A322,'TD-Lançamentos'!B:B,\"v\"))","v":0},0,null,{"$f":"IF(OR(A322=\"\",A322=\"(vazio)\"),\"\",tesourodireto(CONCATENATE(LEFT(A322,LEN(A322)-11),\" \",RIGHT(B322,4)),\"preço\"))","v":""},0,0,null,null,0,null,0,0,null,null,null,null,null,null,"",{"$error":"#REF!"}]
[null,"","",{"$f":"SUMIFS('TD-Lançamentos'!C:C,'TD-Lançamentos'!D:D,A323,'TD-Lançamentos'!B:B,\"c\")-SUMIFS('TD-Lançamentos'!C:C,'TD-Lançamentos'!D:D,A323,'TD-Lançamentos'!B:B,\"v\")","v":0},{"$f":"IF(D323=0,0,SUMIFS('TD-Lançamentos'!J:J,'TD-Lançamentos'!D:D,A323,'TD-Lançamentos'!B:B,\"c\")-SUMIFS('TD-Lançamentos'!J:J,'TD-Lançamentos'!D:D,A323,'TD-Lançamentos'!B:B,\"v\"))","v":0},0,null,{"$f":"IF(OR(A323=\"\",A323=\"(vazio)\"),\"\",tesourodireto(CONCATENATE(LEFT(A323,LEN(A323)-11),\" \",RIGHT(B323,4)),\"preço\"))","v":""},0,0,null,null,0,null,0,0,null,null,null,null,null,null,"",{"$error":"#REF!"}]
[null,{"$f":"IF(A324=\"\",\"\",RIGHT(A324,10))","v":""},{"$f":"IF(OR(A324=\"\",A324=\"(vazio)\"),\"\",LEFT(A324,LEN(A324)-11))","v":""},{"$f":"SUMIFS('TD-Lançamentos'!C:C,'TD-Lançamentos'!D:D,A324,'TD-Lançamentos'!B:B,\"c\")-SUMIFS('TD-Lançamentos'!C:C,'TD-Lançamentos'!D:D,A324,'TD-Lançamentos'!B:B,\"v\")","v":0},{"$f":"IF(D324=0,0,SUMIFS('TD-Lançamentos'!J:J,'TD-Lançamentos'!D:D,A324,'TD-Lançamentos'!B:B,\"c\")-SUMIFS('TD-Lançamentos'!J:J,'TD-Lançamentos'!D:D,A324,'TD-Lançamentos'!B:B,\"v\"))","v":0},{"$f":"IF(OR(E324=0,$S$9=0),0,E324/$S$9)","v":0},null,{"$f":"IF(OR(A324=\"\",A324=\"(vazio)\"),\"\",tesourodireto(CONCATENATE(LEFT(A324,LEN(A324)-11),\" \",RIGHT(B324,4)),\"preço\"))","v":""},{"$f":"IF(D324=\"\",0,IF(H324=\"\",E324,D324*H324))","v":0},{"$f":"IF($S$11=0,0,I324/$S$11)","v":0},null,null,{"$f":"IF(OR(L324=\"\",J324=\"\",F324=\"\"),0,IF($L$2=\"% ATUAL\",L324-J324,L324-F324))","v":0},null,{"$f":"IF(OR(E324=0,H324=\"\"),0,I324-E324)","v":0},{"$f":"IF(OR(E324=0,H324=\"\"),0,O324/E324)","v":0},null,null,null,null,null,null,"",{"$error":"#REF!"}]
[null,"","",{"$f":"SUMIFS('TD-Lançamentos'!C:C,'TD-Lançamentos'!D:D,A325,'TD-Lançamentos'!B:B,\"c\")-SUMIFS('TD-Lançamentos'!C:C,'TD-Lançamentos'!D:D,A325,'TD-Lançamentos'!B:B,\"v\")","v":0},{"$f":"IF(D325=0,0,SUMIFS('TD-Lançamentos'!J:J,'TD-Lançamentos'!D:D,A325,'TD-Lançamentos'!B:B,\"c\")-SUMIFS('TD-Lançamentos'!J:J,'TD-Lançamentos'!D:D,A325,'TD-Lançamentos'!B:B,\"v\"))","v":0},0,null,{"$f":"IF(OR(A325=\"\",A325=\"(vazio)\"),\"\",tesourodireto(CONCATENATE(LEFT(A325,LEN(A325)-11),\" \",RIGHT(B325,4)),\"preço\"))","v":""},0,0,null,null,0,null,0,0,null,null,null,null,null,null,"",{"$error":"#REF!"}]
[null,"","",{"$f":"SUMIFS('TD-Lançamentos'!C:C,'TD-Lançamentos'!D:D,A326,'TD-Lançamentos'!B:B,\"c\")-SUMIFS('TD-Lançamentos'!C:C,'TD-Lançamentos'!D:D,A326,'TD-Lançamentos'!B:B,\"v\")","v":0},{"$f":"IF(D326=0,0,SUMIFS('TD-Lançamentos'!J:J,'TD-Lançamentos'!D:D,A326,'TD-Lançamentos'!B:B,\"c\")-SUMIFS('TD-Lançamentos'!J:J,'TD-Lançamentos'!D:D,A326,'TD-Lançamentos'!B:B,\"v\"))","v":0},0,null,{"$f":"IF(OR(A326=\"\",A326=\"(vazio)\"),\"\",tesourodireto(CONCATENATE(LEFT(A326,LEN(A326)-11),\" \",RIGHT(B326,4)),\"preço\"))","v":""},0,0,null,null,0,null,0,0,null,null,null,null,null,null,"",{"$error":"#REF!"}]
[null,"","",{"$f":"SUMIFS('TD-Lançamentos'!C:C,'TD-Lançamentos'!D:D,A327,'TD-Lançamentos'!B:B,\"c\")-SUMIFS('TD-Lançamentos'!C:C,'TD-Lançamentos'!D:D,A327,'TD-Lançamentos'!B:B,\"v\")","v":0},{"$f":"IF(D327=0,0,SUMIFS('TD-Lançamentos'!J:J,'TD-Lançamentos'!D:D,A327,'TD-Lançamentos'!B:B,\"c\")-SUMIFS('TD-Lançamentos'!J:J,'TD-Lançamentos'!D:D,A327,'TD-Lançamentos'!B:B,\"v\"))","v":0},0,null,{"$f":"IF(OR(A327=\"\",A327=\"(vazio)\"),\"\",tesourodireto(CONCATENATE(LEFT(A327,LEN(A327)-11),\" \",RIGHT(B327,4)),\"preço\"))","v":""},0,0,null,null,0,null,0,0,null,null,null,null,null,null,"",{"$error":"#REF!"}]
[null,"","",{"$f":"SUMIFS('TD-Lançamentos'!C:C,'TD-Lançamentos'!D:D,A328,'TD-Lançamentos'!B:B,\"c\")-SUMIFS('TD-Lançamentos'!C:C,'TD-Lançamentos'!D:D,A328,'TD-Lançamentos'!B:B,\"v\")","v":0},{"$f":"IF(D328=0,0,SUMIFS('TD-Lançamentos'!J:J,'TD-Lançamentos'!D:D,A328,'TD-Lançamentos'!B:B,\"c\")-SUMIFS('TD-Lançamentos'!J:J,'TD-Lançamentos'!D:D,A328,'TD-Lançamentos'!B:B,\"v\"))","v":0},0,null,{"$f":"IF(OR(A328=\"\",A328=\"(vazio)\"),\"\",tesourodireto(CONCATENATE(LEFT(A328,LEN(A328)-11),\" \",RIGHT(B328,4)),\"preço\"))","v":""},0,0,null,null,0,null,0,0,null,null,null,null,null,null,"",{"$error":"#REF!"}]
[null,"","",{"$f":"SUMIFS('TD-Lançamentos'!C:C,'TD-Lançamentos'!D:D,A329,'TD-Lançamentos'!B:B,\"c\")-SUMIFS('TD-Lançamentos'!C:C,'TD-Lançamentos'!D:D,A329,'TD-Lançamentos'!B:B,\"v\")","v":0},{"$f":"IF(D329=0,0,SUMIFS('TD-Lançamentos'!J:J,'TD-Lançamentos'!D:D,A329,'TD-Lançamentos'!B:B,\"c\")-SUMIFS('TD-Lançamentos'!J:J,'TD-Lançamentos'!D:D,A329,'TD-Lançamentos'!B:B,\"v\"))","v":0},0,null,{"$f":"IF(OR(A329=\"\",A329=\"(vazio)\"),\"\",tesourodireto(CONCATENATE(LEFT(A329,LEN(A329)-11),\" \",RIGHT(B329,4)),\"preço\"))","v":""},0,0,null,null,0,null,0,0,null,null,null,null,null,null,"",{"$error":"#REF!"}]
[null,"","",{"$f":"SUMIFS('TD-Lançamentos'!C:C,'TD-Lançamentos'!D:D,A330,'TD-Lançamentos'!B:B,\"c\")-SUMIFS('TD-Lançamentos'!C:C,'TD-Lançamentos'!D:D,A330,'TD-Lançamentos'!B:B,\"v\")","v":0},{"$f":"IF(D330=0,0,SUMIFS('TD-Lançamentos'!J:J,'TD-Lançamentos'!D:D,A330,'TD-Lançamentos'!B:B,\"c\")-SUMIFS('TD-Lançamentos'!J:J,'TD-Lançamentos'!D:D,A330,'TD-Lançamentos'!B:B,\"v\"))","v":0},0,null,{"$f":"IF(OR(A330=\"\",A330=\"(vazio)\"),\"\",tesourodireto(CONCATENATE(LEFT(A330,LEN(A330)-11),\" \",RIGHT(B330,4)),\"preço\"))","v":""},0,0,null,null,0,null,0,0,null,null,null,null,null,null,"",{"$error":"#REF!"}]
[null,"","",{"$f":"SUMIFS('TD-Lançamentos'!C:C,'TD-Lançamentos'!D:D,A331,'TD-Lançamentos'!B:B,\"c\")-SUMIFS('TD-Lançamentos'!C:C,'TD-Lançamentos'!D:D,A331,'TD-Lançamentos'!B:B,\"v\")","v":0},{"$f":"IF(D331=0,0,SUMIFS('TD-Lançamentos'!J:J,'TD-Lançamentos'!D:D,A331,'TD-Lançamentos'!B:B,\"c\")-SUMIFS('TD-Lançamentos'!J:J,'TD-Lançamentos'!D:D,A331,'TD-Lançamentos'!B:B,\"v\"))","v":0},0,null,{"$f":"IF(OR(A331=\"\",A331=\"(vazio)\"),\"\",tesourodireto(CONCATENATE(LEFT(A331,LEN(A331)-11),\" \",RIGHT(B331,4)),\"preço\"))","v":""},0,0,null,null,0,null,0,0,null,null,null,null,null,null,"",{"$error":"#REF!"}]
[null,"","",{"$f":"SUMIFS('TD-Lançamentos'!C:C,'TD-Lançamentos'!D:D,A332,'TD-Lançamentos'!B:B,\"c\")-SUMIFS('TD-Lançamentos'!C:C,'TD-Lançamentos'!D:D,A332,'TD-Lançamentos'!B:B,\"v\")","v":0},{"$f":"IF(D332=0,0,SUMIFS('TD-Lançamentos'!J:J,'TD-Lançamentos'!D:D,A332,'TD-Lançamentos'!B:B,\"c\")-SUMIFS('TD-Lançamentos'!J:J,'TD-Lançamentos'!D:D,A332,'TD-Lançamentos'!B:B,\"v\"))","v":0},0,null,{"$f":"IF(OR(A332=\"\",A332=\"(vazio)\"),\"\",tesourodireto(CONCATENATE(LEFT(A332,LEN(A332)-11),\" \",RIGHT(B332,4)),\"preço\"))","v":""},0,0,null,null,0,null,0,0,null,null,null,null,null,null,"",{"$error":"#REF!"}]
[null,"","",{"$f":"SUMIFS('TD-Lançamentos'!C:C,'TD-Lançamentos'!D:D,A333,'TD-Lançamentos'!B:B,\"c\")-SUMIFS('TD-Lançamentos'!C:C,'TD-Lançamentos'!D:D,A333,'TD-Lançamentos'!B:B,\"v\")","v":0},{"$f":"IF(D333=0,0,SUMIFS('TD-Lançamentos'!J:J,'TD-Lançamentos'!D:D,A333,'TD-Lançamentos'!B:B,\"c\")-SUMIFS('TD-Lançamentos'!J:J,'TD-Lançamentos'!D:D,A333,'TD-Lançamentos'!B:B,\"v\"))","v":0},0,null,{"$f":"IF(OR(A333=\"\",A333=\"(vazio)\"),\"\",tesourodireto(CONCATENATE(LEFT(A333,LEN(A333)-11),\" \",RIGHT(B333,4)),\"preço\"))","v":""},0,0,null,null,0,null,0,0,null,null,null,null,null,null,"",{"$error":"#REF!"}]
[null,"","",{"$f":"SUMIFS('TD-Lançamentos'!C:C,'TD-Lançamentos'!D:D,A334,'TD-Lançamentos'!B:B,\"c\")-SUMIFS('TD-Lançamentos'!C:C,'TD-Lançamentos'!D:D,A334,'TD-Lançamentos'!B:B,\"v\")","v":0},{"$f":"IF(D334=0,0,SUMIFS('TD-Lançamentos'!J:J,'TD-Lançamentos'!D:D,A334,'TD-Lançamentos'!B:B,\"c\")-SUMIFS('TD-Lançamentos'!J:J,'TD-Lançamentos'!D:D,A334,'TD-Lançamentos'!B:B,\"v\"))","v":0},0,null,{"$f":"IF(OR(A334=\"\",A334=\"(vazio)\"),\"\",tesourodireto(CONCATENATE(LEFT(A334,LEN(A334)-11),\" \",RIGHT(B334,4)),\"preço\"))","v":""},0,0,null,null,0,null,0,0,null,null,null,null,null,null,{"$f":"IF(L334=\"\",\"\",L334-J334)","v":""},{"$f":"IF(OR($A681=\"TOTAL\",$A681=\"\"),\"\",$A681)","v":{"$error":"#REF!"}}]
[null,"","",{"$f":"SUMIFS('TD-Lançamentos'!C:C,'TD-Lançamentos'!D:D,A335,'TD-Lançamentos'!B:B,\"c\")-SUMIFS('TD-Lançamentos'!C:C,'TD-Lançamentos'!D:D,A335,'TD-Lançamentos'!B:B,\"v\")","v":0},{"$f":"IF(D335=0,0,SUMIFS('TD-Lançamentos'!J:J,'TD-Lançamentos'!D:D,A335,'TD-Lançamentos'!B:B,\"c\")-SUMIFS('TD-Lançamentos'!J:J,'TD-Lançamentos'!D:D,A335,'TD-Lançamentos'!B:B,\"v\"))","v":0},0,null,{"$f":"IF(OR(A335=\"\",A335=\"(vazio)\"),\"\",tesourodireto(CONCATENATE(LEFT(A335,LEN(A335)-11),\" \",RIGHT(B335,4)),\"preço\"))","v":""},0,0,null,null,0,null,0,0,null,null,null,null,null,null,"",{"$error":"#REF!"}]
[null,"","",{"$f":"SUMIFS('TD-Lançamentos'!C:C,'TD-Lançamentos'!D:D,A336,'TD-Lançamentos'!B:B,\"c\")-SUMIFS('TD-Lançamentos'!C:C,'TD-Lançamentos'!D:D,A336,'TD-Lançamentos'!B:B,\"v\")","v":0},{"$f":"IF(D336=0,0,SUMIFS('TD-Lançamentos'!J:J,'TD-Lançamentos'!D:D,A336,'TD-Lançamentos'!B:B,\"c\")-SUMIFS('TD-Lançamentos'!J:J,'TD-Lançamentos'!D:D,A336,'TD-Lançamentos'!B:B,\"v\"))","v":0},0,null,{"$f":"IF(OR(A336=\"\",A336=\"(vazio)\"),\"\",tesourodireto(CONCATENATE(LEFT(A336,LEN(A336)-11),\" \",RIGHT(B336,4)),\"preço\"))","v":""},0,0,null,null,0,null,0,0,null,null,null,null,null,null,"",{"$error":"#REF!"}]
[null,"","",{"$f":"SUMIFS('TD-Lançamentos'!C:C,'TD-Lançamentos'!D:D,A337,'TD-Lançamentos'!B:B,\"c\")-SUMIFS('TD-Lançamentos'!C:C,'TD-Lançamentos'!D:D,A337,'TD-Lançamentos'!B:B,\"v\")","v":0},{"$f":"IF(D337=0,0,SUMIFS('TD-Lançamentos'!J:J,'TD-Lançamentos'!D:D,A337,'TD-Lançamentos'!B:B,\"c\")-SUMIFS('TD-Lançamentos'!J:J,'TD-Lançamentos'!D:D,A337,'TD-Lançamentos'!B:B,\"v\"))","v":0},0,null,{"$f":"IF(OR(A337=\"\",A337=\"(vazio)\"),\"\",tesourodireto(CONCATENATE(LEFT(A337,LEN(A337)-11),\" \",RIGHT(B337,4)),\"preço\"))","v":""},0,0,null,null,0,null,0,0,null,null,null,null,null,null,"",{"$error":"#REF!"}]
[null,"","",{"$f":"SUMIFS('TD-Lançamentos'!C:C,'TD-Lançamentos'!D:D,A338,'TD-Lançamentos'!B:B,\"c\")-SUMIFS('TD-Lançamentos'!C:C,'TD-Lançamentos'!D:D,A338,'TD-Lançamentos'!B:B,\"v\")","v":0},{"$f":"IF(D338=0,0,SUMIFS('TD-Lançamentos'!J:J,'TD-Lançamentos'!D:D,A338,'TD-Lançamentos'!B:B,\"c\")-SUMIFS('TD-Lançamentos'!J:J,'TD-Lançamentos'!D:D,A338,'TD-Lançamentos'!B:B,\"v\"))","v":0},0,null,{"$f":"IF(OR(A338=\"\",A338=\"(vazio)\"),\"\",tesourodireto(CONCATENATE(LEFT(A338,LEN(A338)-11),\" \",RIGHT(B338,4)),\"preço\"))","v":""},0,0,null,null,0,null,0,0,null,null,null,null,null,null,"",{"$error":"#REF!"}]
[null,"","",{"$f":"SUMIFS('TD-Lançamentos'!C:C,'TD-Lançamentos'!D:D,A339,'TD-Lançamentos'!B:B,\"c\")-SUMIFS('TD-Lançamentos'!C:C,'TD-Lançamentos'!D:D,A339,'TD-Lançamentos'!B:B,\"v\")","v":0},{"$f":"IF(D339=0,0,SUMIFS('TD-Lançamentos'!J:J,'TD-Lançamentos'!D:D,A339,'TD-Lançamentos'!B:B,\"c\")-SUMIFS('TD-Lançamentos'!J:J,'TD-Lançamentos'!D:D,A339,'TD-Lançamentos'!B:B,\"v\"))","v":0},0,null,{"$f":"IF(OR(A339=\"\",A339=\"(vazio)\"),\"\",tesourodireto(CONCATENATE(LEFT(A339,LEN(A339)-11),\" \",RIGHT(B339,4)),\"preço\"))","v":""},0,0,null,null,0,null,0,0,null,null,null,null,null,null,"",{"$error":"#REF!"}]
[null,"","",{"$f":"SUMIFS('TD-Lançamentos'!C:C,'TD-Lançamentos'!D:D,A340,'TD-Lançamentos'!B:B,\"c\")-SUMIFS('TD-Lançamentos'!C:C,'TD-Lançamentos'!D:D,A340,'TD-Lançamentos'!B:B,\"v\")","v":0},{"$f":"IF(D340=0,0,SUMIFS('TD-Lançamentos'!J:J,'TD-Lançamentos'!D:D,A340,'TD-Lançamentos'!B:B,\"c\")-SUMIFS('TD-Lançamentos'!J:J,'TD-Lançamentos'!D:D,A340,'TD-Lançamentos'!B:B,\"v\"))","v":0},0,null,{"$f":"IF(OR(A340=\"\",A340=\"(vazio)\"),\"\",tesourodireto(CONCATENATE(LEFT(A340,LEN(A340)-11),\" \",RIGHT(B340,4)),\"preço\"))","v":""},0,0,null,null,0,null,0,0,null,null,null,null,null,null,"",{"$error":"#REF!"}]
[null,"","",{"$f":"SUMIFS('TD-Lançamentos'!C:C,'TD-Lançamentos'!D:D,A341,'TD-Lançamentos'!B:B,\"c\")-SUMIFS('TD-Lançamentos'!C:C,'TD-Lançamentos'!D:D,A341,'TD-Lançamentos'!B:B,\"v\")","v":0},{"$f":"IF(D341=0,0,SUMIFS('TD-Lançamentos'!J:J,'TD-Lançamentos'!D:D,A341,'TD-Lançamentos'!B:B,\"c\")-SUMIFS('TD-Lançamentos'!J:J,'TD-Lançamentos'!D:D,A341,'TD-Lançamentos'!B:B,\"v\"))","v":0},0,null,{"$f":"IF(OR(A341=\"\",A341=\"(vazio)\"),\"\",tesourodireto(CONCATENATE(LEFT(A341,LEN(A341)-11),\" \",RIGHT(B341,4)),\"preço\"))","v":""},0,0,null,null,0,null,0,0,null,null,null,null,null,null,"",{"$error":"#REF!"}]
[null,"","",{"$f":"SUMIFS('TD-Lançamentos'!C:C,'TD-Lançamentos'!D:D,A342,'TD-Lançamentos'!B:B,\"c\")-SUMIFS('TD-Lançamentos'!C:C,'TD-Lançamentos'!D:D,A342,'TD-Lançamentos'!B:B,\"v\")","v":0},{"$f":"IF(D342=0,0,SUMIFS('TD-Lançamentos'!J:J,'TD-Lançamentos'!D:D,A342,'TD-Lançamentos'!B:B,\"c\")-SUMIFS('TD-Lançamentos'!J:J,'TD-Lançamentos'!D:D,A342,'TD-Lançamentos'!B:B,\"v\"))","v":0},0,null,{"$f":"IF(OR(A342=\"\",A342=\"(vazio)\"),\"\",tesourodireto(CONCATENATE(LEFT(A342,LEN(A342)-11),\" \",RIGHT(B342,4)),\"preço\"))","v":""},0,0,null,null,0,null,0,0,null,null,null,null,null,null,"",{"$error":"#REF!"}]
[null,"","",{"$f":"SUMIFS('TD-Lançamentos'!C:C,'TD-Lançamentos'!D:D,A343,'TD-Lançamentos'!B:B,\"c\")-SUMIFS('TD-Lançamentos'!C:C,'TD-Lançamentos'!D:D,A343,'TD-Lançamentos'!B:B,\"v\")","v":0},{"$f":"IF(D343=0,0,SUMIFS('TD-Lançamentos'!J:J,'TD-Lançamentos'!D:D,A343,'TD-Lançamentos'!B:B,\"c\")-SUMIFS('TD-Lançamentos'!J:J,'TD-Lançamentos'!D:D,A343,'TD-Lançamentos'!B:B,\"v\"))","v":0},0,null,{"$f":"IF(OR(A343=\"\",A343=\"(vazio)\"),\"\",tesourodireto(CONCATENATE(LEFT(A343,LEN(A343)-11),\" \",RIGHT(B343,4)),\"preço\"))","v":""},0,0,null,null,0,null,0,0,null,null,null,null,null,null,"",{"$error":"#REF!"}]
[null,"","",{"$f":"SUMIFS('TD-Lançamentos'!C:C,'TD-Lançamentos'!D:D,A344,'TD-Lançamentos'!B:B,\"c\")-SUMIFS('TD-Lançamentos'!C:C,'TD-Lançamentos'!D:D,A344,'TD-Lançamentos'!B:B,\"v\")","v":0},{"$f":"IF(D344=0,0,SUMIFS('TD-Lançamentos'!J:J,'TD-Lançamentos'!D:D,A344,'TD-Lançamentos'!B:B,\"c\")-SUMIFS('TD-Lançamentos'!J:J,'TD-Lançamentos'!D:D,A344,'TD-Lançamentos'!B:B,\"v\"))","v":0},0,null,{"$f":"IF(OR(A344=\"\",A344=\"(vazio)\"),\"\",tesourodireto(CONCATENATE(LEFT(A344,LEN(A344)-11),\" \",RIGHT(B344,4)),\"preço\"))","v":""},0,0,null,null,0,null,0,0,null,null,null,null,null,null,"",{"$error":"#REF!"}]
[null,"","",{"$f":"SUMIFS('TD-Lançamentos'!C:C,'TD-Lançamentos'!D:D,A345,'TD-Lançamentos'!B:B,\"c\")-SUMIFS('TD-Lançamentos'!C:C,'TD-Lançamentos'!D:D,A345,'TD-Lançamentos'!B:B,\"v\")","v":0},{"$f":"IF(D345=0,0,SUMIFS('TD-Lançamentos'!J:J,'TD-Lançamentos'!D:D,A345,'TD-Lançamentos'!B:B,\"c\")-SUMIFS('TD-Lançamentos'!J:J,'TD-Lançamentos'!D:D,A345,'TD-Lançamentos'!B:B,\"v\"))","v":0},0,null,{"$f":"IF(OR(A345=\"\",A345=\"(vazio)\"),\"\",tesourodireto(CONCATENATE(LEFT(A345,LEN(A345)-11),\" \",RIGHT(B345,4)),\"preço\"))","v":""},0,0,null,null,0,null,0,0,null,null,null,null,null,null,"",{"$error":"#REF!"}]
[null,"","",{"$f":"SUMIFS('TD-Lançamentos'!C:C,'TD-Lançamentos'!D:D,A346,'TD-Lançamentos'!B:B,\"c\")-SUMIFS('TD-Lançamentos'!C:C,'TD-Lançamentos'!D:D,A346,'TD-Lançamentos'!B:B,\"v\")","v":0},{"$f":"IF(D346=0,0,SUMIFS('TD-Lançamentos'!J:J,'TD-Lançamentos'!D:D,A346,'TD-Lançamentos'!B:B,\"c\")-SUMIFS('TD-Lançamentos'!J:J,'TD-Lançamentos'!D:D,A346,'TD-Lançamentos'!B:B,\"v\"))","v":0},0,null,{"$f":"IF(OR(A346=\"\",A346=\"(vazio)\"),\"\",tesourodireto(CONCATENATE(LEFT(A346,LEN(A346)-11),\" \",RIGHT(B346,4)),\"preço\"))","v":""},0,0,null,null,0,null,0,0,null,null,null,null,null,null,"",{"$error":"#REF!"}]
[null,"","",{"$f":"SUMIFS('TD-Lançamentos'!C:C,'TD-Lançamentos'!D:D,A347,'TD-Lançamentos'!B:B,\"c\")-SUMIFS('TD-Lançamentos'!C:C,'TD-Lançamentos'!D:D,A347,'TD-Lançamentos'!B:B,\"v\")","v":0},{"$f":"IF(D347=0,0,SUMIFS('TD-Lançamentos'!J:J,'TD-Lançamentos'!D:D,A347,'TD-Lançamentos'!B:B,\"c\")-SUMIFS('TD-Lançamentos'!J:J,'TD-Lançamentos'!D:D,A347,'TD-Lançamentos'!B:B,\"v\"))","v":0},0,null,{"$f":"IF(OR(A347=\"\",A347=\"(vazio)\"),\"\",tesourodireto(CONCATENATE(LEFT(A347,LEN(A347)-11),\" \",RIGHT(B347,4)),\"preço\"))","v":""},0,0,null,null,0,null,0,0,null,null,null,null,null,null,"",{"$error":"#REF!"}]
[null,"","",{"$f":"SUMIFS('TD-Lançamentos'!C:C,'TD-Lançamentos'!D:D,A348,'TD-Lançamentos'!B:B,\"c\")-SUMIFS('TD-Lançamentos'!C:C,'TD-Lançamentos'!D:D,A348,'TD-Lançamentos'!B:B,\"v\")","v":0},{"$f":"IF(D348=0,0,SUMIFS('TD-Lançamentos'!J:J,'TD-Lançamentos'!D:D,A348,'TD-Lançamentos'!B:B,\"c\")-SUMIFS('TD-Lançamentos'!J:J,'TD-Lançamentos'!D:D,A348,'TD-Lançamentos'!B:B,\"v\"))","v":0},0,null,{"$f":"IF(OR(A348=\"\",A348=\"(vazio)\"),\"\",tesourodireto(CONCATENATE(LEFT(A348,LEN(A348)-11),\" \",RIGHT(B348,4)),\"preço\"))","v":""},0,0,null,null,0,null,0,0,null,null,null,null,null,null,"",{"$error":"#REF!"}]
[null,"","",{"$f":"SUMIFS('TD-Lançamentos'!C:C,'TD-Lançamentos'!D:D,A349,'TD-Lançamentos'!B:B,\"c\")-SUMIFS('TD-Lançamentos'!C:C,'TD-Lançamentos'!D:D,A349,'TD-Lançamentos'!B:B,\"v\")","v":0},{"$f":"IF(D349=0,0,SUMIFS('TD-Lançamentos'!J:J,'TD-Lançamentos'!D:D,A349,'TD-Lançamentos'!B:B,\"c\")-SUMIFS('TD-Lançamentos'!J:J,'TD-Lançamentos'!D:D,A349,'TD-Lançamentos'!B:B,\"v\"))","v":0},0,null,{"$f":"IF(OR(A349=\"\",A349=\"(vazio)\"),\"\",tesourodireto(CONCATENATE(LEFT(A349,LEN(A349)-11),\" \",RIGHT(B349,4)),\"preço\"))","v":""},0,0,null,null,0,null,0,0,null,null,null,null,null,null,"",{"$error":"#REF!"}]
[null,"","",{"$f":"SUMIFS('TD-Lançamentos'!C:C,'TD-Lançamentos'!D:D,A350,'TD-Lançamentos'!B:B,\"c\")-SUMIFS('TD-Lançamentos'!C:C,'TD-Lançamentos'!D:D,A350,'TD-Lançamentos'!B:B,\"v\")","v":0},{"$f":"IF(D350=0,0,SUMIFS('TD-Lançamentos'!J:J,'TD-Lançamentos'!D:D,A350,'TD-Lançamentos'!B:B,\"c\")-SUMIFS('TD-Lançamentos'!J:J,'TD-Lançamentos'!D:D,A350,'TD-Lançamentos'!B:B,\"v\"))","v":0},0,null,{"$f":"IF(OR(A350=\"\",A350=\"(vazio)\"),\"\",tesourodireto(CONCATENATE(LEFT(A350,LEN(A350)-11),\" \",RIGHT(B350,4)),\"preço\"))","v":""},0,0,null,null,0,null,0,0,null,null,null,null,null,null,"",{"$error":"#REF!"}]
[{"$f":"IF('TD-Lançamentos'!#REF!=\"\",\"\",LEFT('TD-Lançamentos'!#REF!,LEN('TD-Lançamentos'!#REF!)-11))","v":{"$error":"#REF!"}}]
[{"$f":"IF('TD-Lançamentos'!#REF!=\"\",\"\",LEFT('TD-Lançamentos'!#REF!,LEN('TD-Lançamentos'!#REF!)-11))","v":{"$error":"#REF!"}}]
[{"$f":"IF('TD-Lançamentos'!#REF!=\"\",\"\",LEFT('TD-Lançamentos'!#REF!,LEN('TD-Lançamentos'!#REF!)-11))","v":{"$error":"#REF!"}}]
[{"$f":"IF('TD-Lançamentos'!#REF!=\"\",\"\",LEFT('TD-Lançamentos'!#REF!,LEN('TD-Lançamentos'!#REF!)-11))","v":{"$error":"#REF!"}}]
[{"$f":"IF('TD-Lançamentos'!#REF!=\"\",\"\",LEFT('TD-Lançamentos'!#REF!,LEN('TD-Lançamentos'!#REF!)-11))","v":{"$error":"#REF!"}}]
[{"$f":"IF('TD-Lançamentos'!#REF!=\"\",\"\",LEFT('TD-Lançamentos'!#REF!,LEN('TD-Lançamentos'!#REF!)-11))","v":{"$error":"#REF!"}}]
[{"$f":"IF('TD-Lançamentos'!#REF!=\"\",\"\",LEFT('TD-Lançamentos'!#REF!,LEN('TD-Lançamentos'!#REF!)-11))","v":{"$error":"#REF!"}}]
[{"$f":"IF('TD-Lançamentos'!#REF!=\"\",\"\",LEFT('TD-Lançamentos'!#REF!,LEN('TD-Lançamentos'!#REF!)-11))","v":{"$error":"#REF!"}}]
[{"$f":"IF('TD-Lançamentos'!#REF!=\"\",\"\",LEFT('TD-Lançamentos'!#REF!,LEN('TD-Lançamentos'!#REF!)-11))","v":{"$error":"#REF!"}}]
[{"$f":"IF('TD-Lançamentos'!#REF!=\"\",\"\",LEFT('TD-Lançamentos'!#REF!,LEN('TD-Lançamentos'!#REF!)-11))","v":{"$error":"#REF!"}}]
[{"$f":"IF('TD-Lançamentos'!#REF!=\"\",\"\",LEFT('TD-Lançamentos'!#REF!,LEN('TD-Lançamentos'!#REF!)-11))","v":{"$error":"#REF!"}}]
[{"$f":"IF('TD-Lançamentos'!#REF!=\"\",\"\",LEFT('TD-Lançamentos'!#REF!,LEN('TD-Lançamentos'!#REF!)-11))","v":{"$error":"#REF!"}}]
[{"$f":"IF('TD-Lançamentos'!#REF!=\"\",\"\",LEFT('TD-Lançamentos'!#REF!,LEN('TD-Lançamentos'!#REF!)-11))","v":{"$error":"#REF!"}}]
[{"$f":"IF('TD-Lançamentos'!#REF!=\"\",\"\",LEFT('TD-Lançamentos'!#REF!,LEN('TD-Lançamentos'!#REF!)-11))","v":{"$error":"#REF!"}}]
[{"$f":"IF('TD-Lançamentos'!#REF!=\"\",\"\",LEFT('TD-Lançamentos'!#REF!,LEN('TD-Lançamentos'!#REF!)-11))","v":{"$error":"#REF!"}}]
[{"$f":"IF('TD-Lançamentos'!#REF!=\"\",\"\",LEFT('TD-Lançamentos'!#REF!,LEN('TD-Lançamentos'!#REF!)-11))","v":{"$error":"#REF!"}}]
[{"$f":"IF('TD-Lançamentos'!#REF!=\"\",\"\",LEFT('TD-Lançamentos'!#REF!,LEN('TD-Lançamentos'!#REF!)-11))","v":{"$error":"#REF!"}}]
[{"$f":"IF('TD-Lançamentos'!#REF!=\"\",\"\",LEFT('TD-Lançamentos'!#REF!,LEN('TD-Lançamentos'!#REF!)-11))","v":{"$error":"#REF!"}}]
[{"$f":"IF('TD-Lançamentos'!#REF!=\"\",\"\",LEFT('TD-Lançamentos'!#REF!,LEN('TD-Lançamentos'!#REF!)-11))","v":{"$error":"#REF!"}}]
[{"$f":"IF('TD-Lançamentos'!#REF!=\"\",\"\",LEFT('TD-Lançamentos'!#REF!,LEN('TD-Lançamentos'!#REF!)-11))","v":{"$error":"#REF!"}}]
[{"$f":"IF('TD-Lançamentos'!#REF!=\"\",\"\",LEFT('TD-Lançamentos'!#REF!,LEN('TD-Lançamentos'!#REF!)-11))","v":{"$error":"#REF!"}}]
[{"$f":"IF('TD-Lançamentos'!#REF!=\"\",\"\",LEFT('TD-Lançamentos'!#REF!,LEN('TD-Lançamentos'!#REF!)-11))","v":{"$error":"#REF!"}}]
[{"$f":"IF('TD-Lançamentos'!#REF!=\"\",\"\",LEFT('TD-Lançamentos'!#REF!,LEN('TD-Lançamentos'!#REF!)-11))","v":{"$error":"#REF!"}}]
[{"$f":"IF('TD-Lançamentos'!#REF!=\"\",\"\",LEFT('TD-Lançamentos'!#REF!,LEN('TD-Lançamentos'!#REF!)-11))","v":{"$error":"#REF!"}}]
[{"$f":"IF('TD-Lançamentos'!#REF!=\"\",\"\",LEFT('TD-Lançamentos'!#REF!,LEN('TD-Lançamentos'!#REF!)-11))","v":{"$error":"#REF!"}}]
[{"$f":"IF('TD-Lançamentos'!#REF!=\"\",\"\",LEFT('TD-Lançamentos'!#REF!,LEN('TD-Lançamentos'!#REF!)-11))","v":{"$error":"#REF!"}}]
[{"$f":"IF('TD-Lançamentos'!#REF!=\"\",\"\",LEFT('TD-Lançamentos'!#REF!,LEN('TD-Lançamentos'!#REF!)-11))","v":{"$error":"#REF!"}}]
[{"$f":"IF('TD-Lançamentos'!#REF!=\"\",\"\",LEFT('TD-Lançamentos'!#REF!,LEN('TD-Lançamentos'!#REF!)-11))","v":{"$error":"#REF!"}}]
[{"$f":"IF('TD-Lançamentos'!#REF!=\"\",\"\",LEFT('TD-Lançamentos'!#REF!,LEN('TD-Lançamentos'!#REF!)-11))","v":{"$error":"#REF!"}}]
[{"$f":"IF('TD-Lançamentos'!#REF!=\"\",\"\",LEFT('TD-Lançamentos'!#REF!,LEN('TD-Lançamentos'!#REF!)-11))","v":{"$error":"#REF!"}}]
[{"$f":"IF('TD-Lançamentos'!#REF!=\"\",\"\",LEFT('TD-Lançamentos'!#REF!,LEN('TD-Lançamentos'!#REF!)-11))","v":{"$error":"#REF!"}}]
[{"$f":"IF('TD-Lançamentos'!#REF!=\"\",\"\",LEFT('TD-Lançamentos'!#REF!,LEN('TD-Lançamentos'!#REF!)-11))","v":{"$error":"#REF!"}}]
[{"$f":"IF('TD-Lançamentos'!#REF!=\"\",\"\",LEFT('TD-Lançamentos'!#REF!,LEN('TD-Lançamentos'!#REF!)-11))","v":{"$error":"#REF!"}}]
[{"$f":"IF('TD-Lançamentos'!#REF!=\"\",\"\",LEFT('TD-Lançamentos'!#REF!,LEN('TD-Lançamentos'!#REF!)-11))","v":{"$error":"#REF!"}}]
[{"$f":"IF('TD-Lançamentos'!#REF!=\"\",\"\",LEFT('TD-Lançamentos'!#REF!,LEN('TD-Lançamentos'!#REF!)-11))","v":{"$error":"#REF!"}}]
[{"$f":"IF('TD-Lançamentos'!#REF!=\"\",\"\",LEFT('TD-Lançamentos'!#REF!,LEN('TD-Lançamentos'!#REF!)-11))","v":{"$error":"#REF!"}}]
[{"$f":"IF('TD-Lançamentos'!#REF!=\"\",\"\",LEFT('TD-Lançamentos'!#REF!,LEN('TD-Lançamentos'!#REF!)-11))","v":{"$error":"#REF!"}}]
[{"$f":"IF('TD-Lançamentos'!#REF!=\"\",\"\",LEFT('TD-Lançamentos'!#REF!,LEN('TD-Lançamentos'!#REF!)-11))","v":{"$error":"#REF!"}}]
[{"$f":"IF('TD-Lançamentos'!#REF!=\"\",\"\",LEFT('TD-Lançamentos'!#REF!,LEN('TD-Lançamentos'!#REF!)-11))","v":{"$error":"#REF!"}}]
[{"$f":"IF('TD-Lançamentos'!#REF!=\"\",\"\",LEFT('TD-Lançamentos'!#REF!,LEN('TD-Lançamentos'!#REF!)-11))","v":{"$error":"#REF!"}}]
[{"$f":"IF('TD-Lançamentos'!#REF!=\"\",\"\",LEFT('TD-Lançamentos'!#REF!,LEN('TD-Lançamentos'!#REF!)-11))","v":{"$error":"#REF!"}}]
[{"$f":"IF('TD-Lançamentos'!#REF!=\"\",\"\",LEFT('TD-Lançamentos'!#REF!,LEN('TD-Lançamentos'!#REF!)-11))","v":{"$error":"#REF!"}}]
[{"$f":"IF('TD-Lançamentos'!#REF!=\"\",\"\",LEFT('TD-Lançamentos'!#REF!,LEN('TD-Lançamentos'!#REF!)-11))","v":{"$error":"#REF!"}}]
[{"$f":"IF('TD-Lançamentos'!#REF!=\"\",\"\",LEFT('TD-Lançamentos'!#REF!,LEN('TD-Lançamentos'!#REF!)-11))","v":{"$error":"#REF!"}}]
[{"$f":"IF('TD-Lançamentos'!#REF!=\"\",\"\",LEFT('TD-Lançamentos'!#REF!,LEN('TD-Lançamentos'!#REF!)-11))","v":{"$error":"#REF!"}}]
[{"$f":"IF('TD-Lançamentos'!#REF!=\"\",\"\",LEFT('TD-Lançamentos'!#REF!,LEN('TD-Lançamentos'!#REF!)-11))","v":{"$error":"#REF!"}}]
[{"$f":"IF('TD-Lançamentos'!#REF!=\"\",\"\",LEFT('TD-Lançamentos'!#REF!,LEN('TD-Lançamentos'!#REF!)-11))","v":{"$error":"#REF!"}}]
[{"$f":"IF('TD-Lançamentos'!#REF!=\"\",\"\",LEFT('TD-Lançamentos'!#REF!,LEN('TD-Lançamentos'!#REF!)-11))","v":{"$error":"#REF!"}}]
[{"$f":"IF('TD-Lançamentos'!#REF!=\"\",\"\",LEFT('TD-Lançamentos'!#REF!,LEN('TD-Lançamentos'!#REF!)-11))","v":{"$error":"#REF!"}}]
[{"$f":"IF('TD-Lançamentos'!#REF!=\"\",\"\",LEFT('TD-Lançamentos'!#REF!,LEN('TD-Lançamentos'!#REF!)-11))","v":{"$error":"#REF!"}}]
[{"$f":"IF('TD-Lançamentos'!#REF!=\"\",\"\",LEFT('TD-Lançamentos'!#REF!,LEN('TD-Lançamentos'!#REF!)-11))","v":{"$error":"#REF!"}}]
[{"$f":"IF('TD-Lançamentos'!#REF!=\"\",\"\",LEFT('TD-Lançamentos'!#REF!,LEN('TD-Lançamentos'!#REF!)-11))","v":{"$error":"#REF!"}}]
[{"$f":"IF('TD-Lançamentos'!#REF!=\"\",\"\",LEFT('TD-Lançamentos'!#REF!,LEN('TD-Lançamentos'!#REF!)-11))","v":{"$error":"#REF!"}}]
[{"$f":"IF('TD-Lançamentos'!#REF!=\"\",\"\",LEFT('TD-Lançamentos'!#REF!,LEN('TD-Lançamentos'!#REF!)-11))","v":{"$error":"#REF!"}}]
[{"$f":"IF('TD-Lançamentos'!#REF!=\"\",\"\",LEFT('TD-Lançamentos'!#REF!,LEN('TD-Lançamentos'!#REF!)-11))","v":{"$error":"#REF!"}}]
[{"$f":"IF('TD-Lançamentos'!#REF!=\"\",\"\",LEFT('TD-Lançamentos'!#REF!,LEN('TD-Lançamentos'!#REF!)-11))","v":{"$error":"#REF!"}}]
[{"$f":"IF('TD-Lançamentos'!#REF!=\"\",\"\",LEFT('TD-Lançamentos'!#REF!,LEN('TD-Lançamentos'!#REF!)-11))","v":{"$error":"#REF!"}}]
[{"$f":"IF('TD-Lançamentos'!#REF!=\"\",\"\",LEFT('TD-Lançamentos'!#REF!,LEN('TD-Lançamentos'!#REF!)-11))","v":{"$error":"#REF!"}}]
[{"$f":"IF('TD-Lançamentos'!#REF!=\"\",\"\",LEFT('TD-Lançamentos'!#REF!,LEN('TD-Lançamentos'!#REF!)-11))","v":{"$error":"#REF!"}}]
[{"$f":"IF('TD-Lançamentos'!#REF!=\"\",\"\",LEFT('TD-Lançamentos'!#REF!,LEN('TD-Lançamentos'!#REF!)-11))","v":{"$error":"#REF!"}}]
[{"$f":"IF('TD-Lançamentos'!#REF!=\"\",\"\",LEFT('TD-Lançamentos'!#REF!,LEN('TD-Lançamentos'!#REF!)-11))","v":{"$error":"#REF!"}}]
[{"$f":"IF('TD-Lançamentos'!#REF!=\"\",\"\",LEFT('TD-Lançamentos'!#REF!,LEN('TD-Lançamentos'!#REF!)-11))","v":{"$error":"#REF!"}}]
[{"$f":"IF('TD-Lançamentos'!#REF!=\"\",\"\",LEFT('TD-Lançamentos'!#REF!,LEN('TD-Lançamentos'!#REF!)-11))","v":{"$error":"#REF!"}}]
[{"$f":"IF('TD-Lançamentos'!#REF!=\"\",\"\",LEFT('TD-Lançamentos'!#REF!,LEN('TD-Lançamentos'!#REF!)-11))","v":{"$error":"#REF!"}}]
[{"$f":"IF('TD-Lançamentos'!#REF!=\"\",\"\",LEFT('TD-Lançamentos'!#REF!,LEN('TD-Lançamentos'!#REF!)-11))","v":{"$error":"#REF!"}}]
[{"$f":"IF('TD-Lançamentos'!#REF!=\"\",\"\",LEFT('TD-Lançamentos'!#REF!,LEN('TD-Lançamentos'!#REF!)-11))","v":{"$error":"#REF!"}}]
[{"$f":"IF('TD-Lançamentos'!#REF!=\"\",\"\",LEFT('TD-Lançamentos'!#REF!,LEN('TD-Lançamentos'!#REF!)-11))","v":{"$error":"#REF!"}}]
[{"$f":"IF('TD-Lançamentos'!#REF!=\"\",\"\",LEFT('TD-Lançamentos'!#REF!,LEN('TD-Lançamentos'!#REF!)-11))","v":{"$error":"#REF!"}}]
[{"$f":"IF('TD-Lançamentos'!#REF!=\"\",\"\",LEFT('TD-Lançamentos'!#REF!,LEN('TD-Lançamentos'!#REF!)-11))","v":{"$error":"#REF!"}}]
[{"$f":"IF('TD-Lançamentos'!#REF!=\"\",\"\",LEFT('TD-Lançamentos'!#REF!,LEN('TD-Lançamentos'!#REF!)-11))","v":{"$error":"#REF!"}}]
[{"$f":"IF('TD-Lançamentos'!#REF!=\"\",\"\",LEFT('TD-Lançamentos'!#REF!,LEN('TD-Lançamentos'!#REF!)-11))","v":{"$error":"#REF!"}}]
[{"$f":"IF('TD-Lançamentos'!#REF!=\"\",\"\",LEFT('TD-Lançamentos'!#REF!,LEN('TD-Lançamentos'!#REF!)-11))","v":{"$error":"#REF!"}}]
[{"$f":"IF('TD-Lançamentos'!#REF!=\"\",\"\",LEFT('TD-Lançamentos'!#REF!,LEN('TD-Lançamentos'!#REF!)-11))","v":{"$error":"#REF!"}}]
[{"$f":"IF('TD-Lançamentos'!#REF!=\"\",\"\",LEFT('TD-Lançamentos'!#REF!,LEN('TD-Lançamentos'!#REF!)-11))","v":{"$error":"#REF!"}}]
[{"$f":"IF('TD-Lançamentos'!#REF!=\"\",\"\",LEFT('TD-Lançamentos'!#REF!,LEN('TD-Lançamentos'!#REF!)-11))","v":{"$error":"#REF!"}}]
[{"$f":"IF('TD-Lançamentos'!#REF!=\"\",\"\",LEFT('TD-Lançamentos'!#REF!,LEN('TD-Lançamentos'!#REF!)-11))","v":{"$error":"#REF!"}}]
[{"$f":"IF('TD-Lançamentos'!#REF!=\"\",\"\",LEFT('TD-Lançamentos'!#REF!,LEN('TD-Lançamentos'!#REF!)-11))","v":{"$error":"#REF!"}}]
[{"$f":"IF('TD-Lançamentos'!#REF!=\"\",\"\",LEFT('TD-Lançamentos'!#REF!,LEN('TD-Lançamentos'!#REF!)-11))","v":{"$error":"#REF!"}}]
[{"$f":"IF('TD-Lançamentos'!#REF!=\"\",\"\",LEFT('TD-Lançamentos'!#REF!,LEN('TD-Lançamentos'!#REF!)-11))","v":{"$error":"#REF!"}}]
[{"$f":"IF('TD-Lançamentos'!#REF!=\"\",\"\",LEFT('TD-Lançamentos'!#REF!,LEN('TD-Lançamentos'!#REF!)-11))","v":{"$error":"#REF!"}}]
[{"$f":"IF('TD-Lançamentos'!#REF!=\"\",\"\",LEFT('TD-Lançamentos'!#REF!,LEN('TD-Lançamentos'!#REF!)-11))","v":{"$error":"#REF!"}}]
[{"$f":"IF('TD-Lançamentos'!#REF!=\"\",\"\",LEFT('TD-Lançamentos'!#REF!,LEN('TD-Lançamentos'!#REF!)-11))","v":{"$error":"#REF!"}}]
[{"$f":"IF('TD-Lançamentos'!#REF!=\"\",\"\",LEFT('TD-Lançamentos'!#REF!,LEN('TD-Lançamentos'!#REF!)-11))","v":{"$error":"#REF!"}}]
[{"$f":"IF('TD-Lançamentos'!#REF!=\"\",\"\",LEFT('TD-Lançamentos'!#REF!,LEN('TD-Lançamentos'!#REF!)-11))","v":{"$error":"#REF!"}}]
[{"$f":"IF('TD-Lançamentos'!#REF!=\"\",\"\",LEFT('TD-Lançamentos'!#REF!,LEN('TD-Lançamentos'!#REF!)-11))","v":{"$error":"#REF!"}}]
[{"$f":"IF('TD-Lançamentos'!#REF!=\"\",\"\",LEFT('TD-Lançamentos'!#REF!,LEN('TD-Lançamentos'!#REF!)-11))","v":{"$error":"#REF!"}}]
[{"$f":"IF('TD-Lançamentos'!#REF!=\"\",\"\",LEFT('TD-Lançamentos'!#REF!,LEN('TD-Lançamentos'!#REF!)-11))","v":{"$error":"#REF!"}}]
[{"$f":"IF('TD-Lançamentos'!#REF!=\"\",\"\",LEFT('TD-Lançamentos'!#REF!,LEN('TD-Lançamentos'!#REF!)-11))","v":{"$error":"#REF!"}}]
[{"$f":"IF('TD-Lançamentos'!#REF!=\"\",\"\",LEFT('TD-Lançamentos'!#REF!,LEN('TD-Lançamentos'!#REF!)-11))","v":{"$error":"#REF!"}}]
[{"$f":"IF('TD-Lançamentos'!#REF!=\"\",\"\",LEFT('TD-Lançamentos'!#REF!,LEN('TD-Lançamentos'!#REF!)-11))","v":{"$error":"#REF!"}}]
[{"$f":"IF('TD-Lançamentos'!#REF!=\"\",\"\",LEFT('TD-Lançamentos'!#REF!,LEN('TD-Lançamentos'!#REF!)-11))","v":{"$error":"#REF!"}}]
[{"$f":"IF('TD-Lançamentos'!#REF!=\"\",\"\",LEFT('TD-Lançamentos'!#REF!,LEN('TD-Lançamentos'!#REF!)-11))","v":{"$error":"#REF!"}}]
[{"$f":"IF('TD-Lançamentos'!#REF!=\"\",\"\",LEFT('TD-Lançamentos'!#REF!,LEN('TD-Lançamentos'!#REF!)-11))","v":{"$error":"#REF!"}}]
[{"$f":"IF('TD-Lançamentos'!#REF!=\"\",\"\",LEFT('TD-Lançamentos'!#REF!,LEN('TD-Lançamentos'!#REF!)-11))","v":{"$error":"#REF!"}}]
[{"$f":"IF('TD-Lançamentos'!#REF!=\"\",\"\",LEFT('TD-Lançamentos'!#REF!,LEN('TD-Lançamentos'!#REF!)-11))","v":{"$error":"#REF!"}}]
[{"$f":"IF('TD-Lançamentos'!#REF!=\"\",\"\",LEFT('TD-Lançamentos'!#REF!,LEN('TD-Lançamentos'!#REF!)-11))","v":{"$error":"#REF!"}}]
[{"$f":"IF('TD-Lançamentos'!#REF!=\"\",\"\",LEFT('TD-Lançamentos'!#REF!,LEN('TD-Lançamentos'!#REF!)-11))","v":{"$error":"#REF!"}}]
[{"$f":"IF('TD-Lançamentos'!#REF!=\"\",\"\",LEFT('TD-Lançamentos'!#REF!,LEN('TD-Lançamentos'!#REF!)-11))","v":{"$error":"#REF!"}}]
[{"$f":"IF('TD-Lançamentos'!#REF!=\"\",\"\",LEFT('TD-Lançamentos'!#REF!,LEN('TD-Lançamentos'!#REF!)-11))","v":{"$error":"#REF!"}}]
[{"$f":"IF('TD-Lançamentos'!#REF!=\"\",\"\",LEFT('TD-Lançamentos'!#REF!,LEN('TD-Lançamentos'!#REF!)-11))","v":{"$error":"#REF!"}}]
[{"$f":"IF('TD-Lançamentos'!#REF!=\"\",\"\",LEFT('TD-Lançamentos'!#REF!,LEN('TD-Lançamentos'!#REF!)-11))","v":{"$error":"#REF!"}}]
[{"$f":"IF('TD-Lançamentos'!#REF!=\"\",\"\",LEFT('TD-Lançamentos'!#REF!,LEN('TD-Lançamentos'!#REF!)-11))","v":{"$error":"#REF!"}}]
[{"$f":"IF('TD-Lançamentos'!#REF!=\"\",\"\",LEFT('TD-Lançamentos'!#REF!,LEN('TD-Lançamentos'!#REF!)-11))","v":{"$error":"#REF!"}}]
[{"$f":"IF('TD-Lançamentos'!#REF!=\"\",\"\",LEFT('TD-Lançamentos'!#REF!,LEN('TD-Lançamentos'!#REF!)-11))","v":{"$error":"#REF!"}}]
[{"$f":"IF('TD-Lançamentos'!#REF!=\"\",\"\",LEFT('TD-Lançamentos'!#REF!,LEN('TD-Lançamentos'!#REF!)-11))","v":{"$error":"#REF!"}}]
[{"$f":"IF('TD-Lançamentos'!#REF!=\"\",\"\",LEFT('TD-Lançamentos'!#REF!,LEN('TD-Lançamentos'!#REF!)-11))","v":{"$error":"#REF!"}}]
[{"$f":"IF('TD-Lançamentos'!#REF!=\"\",\"\",LEFT('TD-Lançamentos'!#REF!,LEN('TD-Lançamentos'!#REF!)-11))","v":{"$error":"#REF!"}}]
[{"$f":"IF('TD-Lançamentos'!#REF!=\"\",\"\",LEFT('TD-Lançamentos'!#REF!,LEN('TD-Lançamentos'!#REF!)-11))","v":{"$error":"#REF!"}}]
[{"$f":"IF('TD-Lançamentos'!#REF!=\"\",\"\",LEFT('TD-Lançamentos'!#REF!,LEN('TD-Lançamentos'!#REF!)-11))","v":{"$error":"#REF!"}}]
[{"$f":"IF('TD-Lançamentos'!#REF!=\"\",\"\",LEFT('TD-Lançamentos'!#REF!,LEN('TD-Lançamentos'!#REF!)-11))","v":{"$error":"#REF!"}}]
[{"$f":"IF('TD-Lançamentos'!#REF!=\"\",\"\",LEFT('TD-Lançamentos'!#REF!,LEN('TD-Lançamentos'!#REF!)-11))","v":{"$error":"#REF!"}}]
[{"$f":"IF('TD-Lançamentos'!#REF!=\"\",\"\",LEFT('TD-Lançamentos'!#REF!,LEN('TD-Lançamentos'!#REF!)-11))","v":{"$error":"#REF!"}}]
[{"$f":"IF('TD-Lançamentos'!#REF!=\"\",\"\",LEFT('TD-Lançamentos'!#REF!,LEN('TD-Lançamentos'!#REF!)-11))","v":{"$error":"#REF!"}}]
[{"$f":"IF('TD-Lançamentos'!#REF!=\"\",\"\",LEFT('TD-Lançamentos'!#REF!,LEN('TD-Lançamentos'!#REF!)-11))","v":{"$error":"#REF!"}}]
[{"$f":"IF('TD-Lançamentos'!#REF!=\"\",\"\",LEFT('TD-Lançamentos'!#REF!,LEN('TD-Lançamentos'!#REF!)-11))","v":{"$error":"#REF!"}}]
[{"$f":"IF('TD-Lançamentos'!#REF!=\"\",\"\",LEFT('TD-Lançamentos'!#REF!,LEN('TD-Lançamentos'!#REF!)-11))","v":{"$error":"#REF!"}}]
[{"$f":"IF('TD-Lançamentos'!#REF!=\"\",\"\",LEFT('TD-Lançamentos'!#REF!,LEN('TD-Lançamentos'!#REF!)-11))","v":{"$error":"#REF!"}}]
[{"$f":"IF('TD-Lançamentos'!#REF!=\"\",\"\",LEFT('TD-Lançamentos'!#REF!,LEN('TD-Lançamentos'!#REF!)-11))","v":{"$error":"#REF!"}}]
[{"$f":"IF('TD-Lançamentos'!#REF!=\"\",\"\",LEFT('TD-Lançamentos'!#REF!,LEN('TD-Lançamentos'!#REF!)-11))","v":{"$error":"#REF!"}}]
[{"$f":"IF('TD-Lançamentos'!#REF!=\"\",\"\",LEFT('TD-Lançamentos'!#REF!,LEN('TD-Lançamentos'!#REF!)-11))","v":{"$error":"#REF!"}}]
[{"$f":"IF('TD-Lançamentos'!#REF!=\"\",\"\",LEFT('TD-Lançamentos'!#REF!,LEN('TD-Lançamentos'!#REF!)-11))","v":{"$error":"#REF!"}}]
[{"$f":"IF('TD-Lançamentos'!#REF!=\"\",\"\",LEFT('TD-Lançamentos'!#REF!,LEN('TD-Lançamentos'!#REF!)-11))","v":{"$error":"#REF!"}}]
[{"$f":"IF('TD-Lançamentos'!#REF!=\"\",\"\",LEFT('TD-Lançamentos'!#REF!,LEN('TD-Lançamentos'!#REF!)-11))","v":{"$error":"#REF!"}}]
[{"$f":"IF('TD-Lançamentos'!#REF!=\"\",\"\",LEFT('TD-Lançamentos'!#REF!,LEN('TD-Lançamentos'!#REF!)-11))","v":{"$error":"#REF!"}}]
[{"$f":"IF('TD-Lançamentos'!#REF!=\"\",\"\",LEFT('TD-Lançamentos'!#REF!,LEN('TD-Lançamentos'!#REF!)-11))","v":{"$error":"#REF!"}}]
[{"$f":"IF('TD-Lançamentos'!#REF!=\"\",\"\",LEFT('TD-Lançamentos'!#REF!,LEN('TD-Lançamentos'!#REF!)-11))","v":{"$error":"#REF!"}}]
[{"$f":"IF('TD-Lançamentos'!#REF!=\"\",\"\",LEFT('TD-Lançamentos'!#REF!,LEN('TD-Lançamentos'!#REF!)-11))","v":{"$error":"#REF!"}}]
[{"$f":"IF('TD-Lançamentos'!#REF!=\"\",\"\",LEFT('TD-Lançamentos'!#REF!,LEN('TD-Lançamentos'!#REF!)-11))","v":{"$error":"#REF!"}}]
[{"$f":"IF('TD-Lançamentos'!#REF!=\"\",\"\",LEFT('TD-Lançamentos'!#REF!,LEN('TD-Lançamentos'!#REF!)-11))","v":{"$error":"#REF!"}}]
[{"$f":"IF('TD-Lançamentos'!#REF!=\"\",\"\",LEFT('TD-Lançamentos'!#REF!,LEN('TD-Lançamentos'!#REF!)-11))","v":{"$error":"#REF!"}}]
[{"$f":"IF('TD-Lançamentos'!#REF!=\"\",\"\",LEFT('TD-Lançamentos'!#REF!,LEN('TD-Lançamentos'!#REF!)-11))","v":{"$error":"#REF!"}}]
[{"$f":"IF('TD-Lançamentos'!#REF!=\"\",\"\",LEFT('TD-Lançamentos'!#REF!,LEN('TD-Lançamentos'!#REF!)-11))","v":{"$error":"#REF!"}}]
[{"$f":"IF('TD-Lançamentos'!#REF!=\"\",\"\",LEFT('TD-Lançamentos'!#REF!,LEN('TD-Lançamentos'!#REF!)-11))","v":{"$error":"#REF!"}}]
[{"$f":"IF('TD-Lançamentos'!#REF!=\"\",\"\",LEFT('TD-Lançamentos'!#REF!,LEN('TD-Lançamentos'!#REF!)-11))","v":{"$error":"#REF!"}}]
[{"$f":"IF('TD-Lançamentos'!#REF!=\"\",\"\",LEFT('TD-Lançamentos'!#REF!,LEN('TD-Lançamentos'!#REF!)-11))","v":{"$error":"#REF!"}}]
[{"$f":"IF('TD-Lançamentos'!#REF!=\"\",\"\",LEFT('TD-Lançamentos'!#REF!,LEN('TD-Lançamentos'!#REF!)-11))","v":{"$error":"#REF!"}}]
[{"$f":"IF('TD-Lançamentos'!#REF!=\"\",\"\",LEFT('TD-Lançamentos'!#REF!,LEN('TD-Lançamentos'!#REF!)-11))","v":{"$error":"#REF!"}}]
[{"$f":"IF('TD-Lançamentos'!#REF!=\"\",\"\",LEFT('TD-Lançamentos'!#REF!,LEN('TD-Lançamentos'!#REF!)-11))","v":{"$error":"#REF!"}}]
[{"$f":"IF('TD-Lançamentos'!#REF!=\"\",\"\",LEFT('TD-Lançamentos'!#REF!,LEN('TD-Lançamentos'!#REF!)-11))","v":{"$error":"#REF!"}}]
[{"$f":"IF('TD-Lançamentos'!#REF!=\"\",\"\",LEFT('TD-Lançamentos'!#REF!,LEN('TD-Lançamentos'!#REF!)-11))","v":{"$error":"#REF!"}}]
[{"$f":"IF('TD-Lançamentos'!#REF!=\"\",\"\",LEFT('TD-Lançamentos'!#REF!,LEN('TD-Lançamentos'!#REF!)-11))","v":{"$error":"#REF!"}}]
[{"$f":"IF('TD-Lançamentos'!#REF!=\"\",\"\",LEFT('TD-Lançamentos'!#REF!,LEN('TD-Lançamentos'!#REF!)-11))","v":{"$error":"#REF!"}}]
[{"$f":"IF('TD-Lançamentos'!#REF!=\"\",\"\",LEFT('TD-Lançamentos'!#REF!,LEN('TD-Lançamentos'!#REF!)-11))","v":{"$error":"#REF!"}}]
[{"$f":"IF('TD-Lançamentos'!#REF!=\"\",\"\",LEFT('TD-Lançamentos'!#REF!,LEN('TD-Lançamentos'!#REF!)-11))","v":{"$error":"#REF!"}}]
[{"$f":"IF('TD-Lançamentos'!#REF!=\"\",\"\",LEFT('TD-Lançamentos'!#REF!,LEN('TD-Lançamentos'!#REF!)-11))","v":{"$error":"#REF!"}}]
[{"$f":"IF('TD-Lançamentos'!#REF!=\"\",\"\",LEFT('TD-Lançamentos'!#REF!,LEN('TD-Lançamentos'!#REF!)-11))","v":{"$error":"#REF!"}}]
[{"$f":"IF('TD-Lançamentos'!#REF!=\"\",\"\",LEFT('TD-Lançamentos'!#REF!,LEN('TD-Lançamentos'!#REF!)-11))","v":{"$error":"#REF!"}}]
[{"$f":"IF('TD-Lançamentos'!#REF!=\"\",\"\",LEFT('TD-Lançamentos'!#REF!,LEN('TD-Lançamentos'!#REF!)-11))","v":{"$error":"#REF!"}}]
[{"$f":"IF('TD-Lançamentos'!#REF!=\"\",\"\",LEFT('TD-Lançamentos'!#REF!,LEN('TD-Lançamentos'!#REF!)-11))","v":{"$error":"#REF!"}}]
[{"$f":"IF('TD-Lançamentos'!#REF!=\"\",\"\",LEFT('TD-Lançamentos'!#REF!,LEN('TD-Lançamentos'!#REF!)-11))","v":{"$error":"#REF!"}}]
[{"$f":"IF('TD-Lançamentos'!#REF!=\"\",\"\",LEFT('TD-Lançamentos'!#REF!,LEN('TD-Lançamentos'!#REF!)-11))","v":{"$error":"#REF!"}}]
[{"$f":"IF('TD-Lançamentos'!#REF!=\"\",\"\",LEFT('TD-Lançamentos'!#REF!,LEN('TD-Lançamentos'!#REF!)-11))","v":{"$error":"#REF!"}}]
[{"$f":"IF('TD-Lançamentos'!#REF!=\"\",\"\",LEFT('TD-Lançamentos'!#REF!,LEN('TD-Lançamentos'!#REF!)-11))","v":{"$error":"#REF!"}}]
[{"$f":"IF('TD-Lançamentos'!#REF!=\"\",\"\",LEFT('TD-Lançamentos'!#REF!,LEN('TD-Lançamentos'!#REF!)-11))","v":{"$error":"#REF!"}}]
[{"$f":"IF('TD-Lançamentos'!#REF!=\"\",\"\",LEFT('TD-Lançamentos'!#REF!,LEN('TD-Lançamentos'!#REF!)-11))","v":{"$error":"#REF!"}}]
[{"$f":"IF('TD-Lançamentos'!#REF!=\"\",\"\",LEFT('TD-Lançamentos'!#REF!,LEN('TD-Lançamentos'!#REF!)-11))","v":{"$error":"#REF!"}}]
[{"$f":"IF('TD-Lançamentos'!#REF!=\"\",\"\",LEFT('TD-Lançamentos'!#REF!,LEN('TD-Lançamentos'!#REF!)-11))","v":{"$error":"#REF!"}}]
[{"$f":"IF('TD-Lançamentos'!#REF!=\"\",\"\",LEFT('TD-Lançamentos'!#REF!,LEN('TD-Lançamentos'!#REF!)-11))","v":{"$error":"#REF!"}}]
[{"$f":"IF('TD-Lançamentos'!#REF!=\"\",\"\",LEFT('TD-Lançamentos'!#REF!,LEN('TD-Lançamentos'!#REF!)-11))","v":{"$error":"#REF!"}}]
[{"$f":"IF('TD-Lançamentos'!#REF!=\"\",\"\",LEFT('TD-Lançamentos'!#REF!,LEN('TD-Lançamentos'!#REF!)-11))","v":{"$error":"#REF!"}}]
[{"$f":"IF('TD-Lançamentos'!#REF!=\"\",\"\",LEFT('TD-Lançamentos'!#REF!,LEN('TD-Lançamentos'!#REF!)-11))","v":{"$error":"#REF!"}}]
[{"$f":"IF('TD-Lançamentos'!#REF!=\"\",\"\",LEFT('TD-Lançamentos'!#REF!,LEN('TD-Lançamentos'!#REF!)-11))","v":{"$error":"#REF!"}}]
[{"$f":"IF('TD-Lançamentos'!#REF!=\"\",\"\",LEFT('TD-Lançamentos'!#REF!,LEN('TD-Lançamentos'!#REF!)-11))","v":{"$error":"#REF!"}}]
[{"$f":"IF('TD-Lançamentos'!#REF!=\"\",\"\",LEFT('TD-Lançamentos'!#REF!,LEN('TD-Lançamentos'!#REF!)-11))","v":{"$error":"#REF!"}}]
[{"$f":"IF('TD-Lançamentos'!#REF!=\"\",\"\",LEFT('TD-Lançamentos'!#REF!,LEN('TD-Lançamentos'!#REF!)-11))","v":{"$error":"#REF!"}}]
[{"$f":"IF('TD-Lançamentos'!#REF!=\"\",\"\",LEFT('TD-Lançamentos'!#REF!,LEN('TD-Lançamentos'!#REF!)-11))","v":{"$error":"#REF!"}}]
[{"$f":"IF('TD-Lançamentos'!#REF!=\"\",\"\",LEFT('TD-Lançamentos'!#REF!,LEN('TD-Lançamentos'!#REF!)-11))","v":{"$error":"#REF!"}}]
[{"$f":"IF('TD-Lançamentos'!#REF!=\"\",\"\",LEFT('TD-Lançamentos'!#REF!,LEN('TD-Lançamentos'!#REF!)-11))","v":{"$error":"#REF!"}}]
[{"$f":"IF('TD-Lançamentos'!#REF!=\"\",\"\",LEFT('TD-Lançamentos'!#REF!,LEN('TD-Lançamentos'!#REF!)-11))","v":{"$error":"#REF!"}}]
[{"$f":"IF('TD-Lançamentos'!#REF!=\"\",\"\",LEFT('TD-Lançamentos'!#REF!,LEN('TD-Lançamentos'!#REF!)-11))","v":{"$error":"#REF!"}}]
[{"$f":"IF('TD-Lançamentos'!#REF!=\"\",\"\",LEFT('TD-Lançamentos'!#REF!,LEN('TD-Lançamentos'!#REF!)-11))","v":{"$error":"#REF!"}}]
[{"$f":"IF('TD-Lançamentos'!#REF!=\"\",\"\",LEFT('TD-Lançamentos'!#REF!,LEN('TD-Lançamentos'!#REF!)-11))","v":{"$error":"#REF!"}}]
[{"$f":"IF('TD-Lançamentos'!#REF!=\"\",\"\",LEFT('TD-Lançamentos'!#REF!,LEN('TD-Lançamentos'!#REF!)-11))","v":{"$error":"#REF!"}}]
[{"$f":"IF('TD-Lançamentos'!#REF!=\"\",\"\",LEFT('TD-Lançamentos'!#REF!,LEN('TD-Lançamentos'!#REF!)-11))","v":{"$error":"#REF!"}}]
[{"$f":"IF('TD-Lançamentos'!#REF!=\"\",\"\",LEFT('TD-Lançamentos'!#REF!,LEN('TD-Lançamentos'!#REF!)-11))","v":{"$error":"#REF!"}}]
[{"$f":"IF('TD-Lançamentos'!#REF!=\"\",\"\",LEFT('TD-Lançamentos'!#REF!,LEN('TD-Lançamentos'!#REF!)-11))","v":{"$error":"#REF!"}}]
[{"$f":"IF('TD-Lançamentos'!#REF!=\"\",\"\",LEFT('TD-Lançamentos'!#REF!,LEN('TD-Lançamentos'!#REF!)-11))","v":{"$error":"#REF!"}}]
[{"$f":"IF('TD-Lançamentos'!#REF!=\"\",\"\",LEFT('TD-Lançamentos'!#REF!,LEN('TD-Lançamentos'!#REF!)-11))","v":{"$error":"#REF!"}}]
[{"$f":"IF('TD-Lançamentos'!#REF!=\"\",\"\",LEFT('TD-Lançamentos'!#REF!,LEN('TD-Lançamentos'!#REF!)-11))","v":{"$error":"#REF!"}}]
[{"$f":"IF('TD-Lançamentos'!#REF!=\"\",\"\",LEFT('TD-Lançamentos'!#REF!,LEN('TD-Lançamentos'!#REF!)-11))","v":{"$error":"#REF!"}}]
[{"$f":"IF('TD-Lançamentos'!#REF!=\"\",\"\",LEFT('TD-Lançamentos'!#REF!,LEN('TD-Lançamentos'!#REF!)-11))","v":{"$error":"#REF!"}}]
[{"$f":"IF('TD-Lançamentos'!#REF!=\"\",\"\",LEFT('TD-Lançamentos'!#REF!,LEN('TD-Lançamentos'!#REF!)-11))","v":{"$error":"#REF!"}}]
[{"$f":"IF('TD-Lançamentos'!#REF!=\"\",\"\",LEFT('TD-Lançamentos'!#REF!,LEN('TD-Lançamentos'!#REF!)-11))","v":{"$error":"#REF!"}}]
[{"$f":"IF('TD-Lançamentos'!#REF!=\"\",\"\",LEFT('TD-Lançamentos'!#REF!,LEN('TD-Lançamentos'!#REF!)-11))","v":{"$error":"#REF!"}}]
[{"$f":"IF('TD-Lançamentos'!#REF!=\"\",\"\",LEFT('TD-Lançamentos'!#REF!,LEN('TD-Lançamentos'!#REF!)-11))","v":{"$error":"#REF!"}}]
[{"$f":"IF('TD-Lançamentos'!#REF!=\"\",\"\",LEFT('TD-Lançamentos'!#REF!,LEN('TD-Lançamentos'!#REF!)-11))","v":{"$error":"#REF!"}}]
[{"$f":"IF('TD-Lançamentos'!#REF!=\"\",\"\",LEFT('TD-Lançamentos'!#REF!,LEN('TD-Lançamentos'!#REF!)-11))","v":{"$error":"#REF!"}}]
[{"$f":"IF('TD-Lançamentos'!#REF!=\"\",\"\",LEFT('TD-Lançamentos'!#REF!,LEN('TD-Lançamentos'!#REF!)-11))","v":{"$error":"#REF!"}}]
[{"$f":"IF('TD-Lançamentos'!#REF!=\"\",\"\",LEFT('TD-Lançamentos'!#REF!,LEN('TD-Lançamentos'!#REF!)-11))","v":{"$error":"#REF!"}}]
[{"$f":"IF('TD-Lançamentos'!#REF!=\"\",\"\",LEFT('TD-Lançamentos'!#REF!,LEN('TD-Lançamentos'!#REF!)-11))","v":{"$error":"#REF!"}}]
[{"$f":"IF('TD-Lançamentos'!#REF!=\"\",\"\",LEFT('TD-Lançamentos'!#REF!,LEN('TD-Lançamentos'!#REF!)-11))","v":{"$error":"#REF!"}}]
[{"$f":"IF('TD-Lançamentos'!#REF!=\"\",\"\",LEFT('TD-Lançamentos'!#REF!,LEN('TD-Lançamentos'!#REF!)-11))","v":{"$error":"#REF!"}}]
[{"$f":"IF('TD-Lançamentos'!#REF!=\"\",\"\",LEFT('TD-Lançamentos'!#REF!,LEN('TD-Lançamentos'!#REF!)-11))","v":{"$error":"#REF!"}}]
[{"$f":"IF('TD-Lançamentos'!#REF!=\"\",\"\",LEFT('TD-Lançamentos'!#REF!,LEN('TD-Lançamentos'!#REF!)-11))","v":{"$error":"#REF!"}}]
[{"$f":"IF('TD-Lançamentos'!#REF!=\"\",\"\",LEFT('TD-Lançamentos'!#REF!,LEN('TD-Lançamentos'!#REF!)-11))","v":{"$error":"#REF!"}}]
[{"$f":"IF('TD-Lançamentos'!#REF!=\"\",\"\",LEFT('TD-Lançamentos'!#REF!,LEN('TD-Lançamentos'!#REF!)-11))","v":{"$error":"#REF!"}}]
[{"$f":"IF('TD-Lançamentos'!#REF!=\"\",\"\",LEFT('TD-Lançamentos'!#REF!,LEN('TD-Lançamentos'!#REF!)-11))","v":{"$error":"#REF!"}}]
[{"$f":"IF('TD-Lançamentos'!#REF!=\"\",\"\",LEFT('TD-Lançamentos'!#REF!,LEN('TD-Lançamentos'!#REF!)-11))","v":{"$error":"#REF!"}}]
[{"$f":"IF('TD-Lançamentos'!#REF!=\"\",\"\",LEFT('TD-Lançamentos'!#REF!,LEN('TD-Lançamentos'!#REF!)-11))","v":{"$error":"#REF!"}}]
[{"$f":"IF('TD-Lançamentos'!#REF!=\"\",\"\",LEFT('TD-Lançamentos'!#REF!,LEN('TD-Lançamentos'!#REF!)-11))","v":{"$error":"#REF!"}}]
[{"$f":"IF('TD-Lançamentos'!#REF!=\"\",\"\",LEFT('TD-Lançamentos'!#REF!,LEN('TD-Lançamentos'!#REF!)-11))","v":{"$error":"#REF!"}}]
[{"$f":"IF('TD-Lançamentos'!#REF!=\"\",\"\",LEFT('TD-Lançamentos'!#REF!,LEN('TD-Lançamentos'!#REF!)-11))","v":{"$error":"#REF!"}}]
[{"$f":"IF('TD-Lançamentos'!#REF!=\"\",\"\",LEFT('TD-Lançamentos'!#REF!,LEN('TD-Lançamentos'!#REF!)-11))","v":{"$error":"#REF!"}}]
[{"$f":"IF('TD-Lançamentos'!#REF!=\"\",\"\",LEFT('TD-Lançamentos'!#REF!,LEN('TD-Lançamentos'!#REF!)-11))","v":{"$error":"#REF!"}}]
[{"$f":"IF('TD-Lançamentos'!#REF!=\"\",\"\",LEFT('TD-Lançamentos'!#REF!,LEN('TD-Lançamentos'!#REF!)-11))","v":{"$error":"#REF!"}}]
[{"$f":"IF('TD-Lançamentos'!#REF!=\"\",\"\",LEFT('TD-Lançamentos'!#REF!,LEN('TD-Lançamentos'!#REF!)-11))","v":{"$error":"#REF!"}}]
[{"$f":"IF('TD-Lançamentos'!#REF!=\"\",\"\",LEFT('TD-Lançamentos'!#REF!,LEN('TD-Lançamentos'!#REF!)-11))","v":{"$error":"#REF!"}}]
[{"$f":"IF('TD-Lançamentos'!#REF!=\"\",\"\",LEFT('TD-Lançamentos'!#REF!,LEN('TD-Lançamentos'!#REF!)-11))","v":{"$error":"#REF!"}}]
[{"$f":"IF('TD-Lançamentos'!#REF!=\"\",\"\",LEFT('TD-Lançamentos'!#REF!,LEN('TD-Lançamentos'!#REF!)-11))","v":{"$error":"#REF!"}}]
[{"$f":"IF('TD-Lançamentos'!#REF!=\"\",\"\",LEFT('TD-Lançamentos'!#REF!,LEN('TD-Lançamentos'!#REF!)-11))","v":{"$error":"#REF!"}}]
[{"$f":"IF('TD-Lançamentos'!#REF!=\"\",\"\",LEFT('TD-Lançamentos'!#REF!,LEN('TD-Lançamentos'!#REF!)-11))","v":{"$error":"#REF!"}}]
[{"$f":"IF('TD-Lançamentos'!#REF!=\"\",\"\",LEFT('TD-Lançamentos'!#REF!,LEN('TD-Lançamentos'!#REF!)-11))","v":{"$error":"#REF!"}}]
[{"$f":"IF('TD-Lançamentos'!#REF!=\"\",\"\",LEFT('TD-Lançamentos'!#REF!,LEN('TD-Lançamentos'!#REF!)-11))","v":{"$error":"#REF!"}}]
[{"$f":"IF('TD-Lançamentos'!#REF!=\"\",\"\",LEFT('TD-Lançamentos'!#REF!,LEN('TD-Lançamentos'!#REF!)-11))","v":{"$error":"#REF!"}}]
[{"$f":"IF('TD-Lançamentos'!#REF!=\"\",\"\",LEFT('TD-Lançamentos'!#REF!,LEN('TD-Lançamentos'!#REF!)-11))","v":{"$error":"#REF!"}}]
[{"$f":"IF('TD-Lançamentos'!#REF!=\"\",\"\",LEFT('TD-Lançamentos'!#REF!,LEN('TD-Lançamentos'!#REF!)-11))","v":{"$error":"#REF!"}}]
[{"$f":"IF('TD-Lançamentos'!#REF!=\"\",\"\",LEFT('TD-Lançamentos'!#REF!,LEN('TD-Lançamentos'!#REF!)-11))","v":{"$error":"#REF!"}}]
[{"$f":"IF('TD-Lançamentos'!#REF!=\"\",\"\",LEFT('TD-Lançamentos'!#REF!,LEN('TD-Lançamentos'!#REF!)-11))","v":{"$error":"#REF!"}}]
[{"$f":"IF('TD-Lançamentos'!#REF!=\"\",\"\",LEFT('TD-Lançamentos'!#REF!,LEN('TD-Lançamentos'!#REF!)-11))","v":{"$error":"#REF!"}}]
[{"$f":"IF('TD-Lançamentos'!#REF!=\"\",\"\",LEFT('TD-Lançamentos'!#REF!,LEN('TD-Lançamentos'!#REF!)-11))","v":{"$error":"#REF!"}}]
[{"$f":"IF('TD-Lançamentos'!#REF!=\"\",\"\",LEFT('TD-Lançamentos'!#REF!,LEN('TD-Lançamentos'!#REF!)-11))","v":{"$error":"#REF!"}}]
[{"$f":"IF('TD-Lançamentos'!#REF!=\"\",\"\",LEFT('TD-Lançamentos'!#REF!,LEN('TD-Lançamentos'!#REF!)-11))","v":{"$error":"#REF!"}}]
[{"$f":"IF('TD-Lançamentos'!#REF!=\"\",\"\",LEFT('TD-Lançamentos'!#REF!,LEN('TD-Lançamentos'!#REF!)-11))","v":{"$error":"#REF!"}}]
[{"$f":"IF('TD-Lançamentos'!#REF!=\"\",\"\",LEFT('TD-Lançamentos'!#REF!,LEN('TD-Lançamentos'!#REF!)-11))","v":{"$error":"#REF!"}}]
[{"$f":"IF('TD-Lançamentos'!#REF!=\"\",\"\",LEFT('TD-Lançamentos'!#REF!,LEN('TD-Lançamentos'!#REF!)-11))","v":{"$error":"#REF!"}}]
[{"$f":"IF('TD-Lançamentos'!#REF!=\"\",\"\",LEFT('TD-Lançamentos'!#REF!,LEN('TD-Lançamentos'!#REF!)-11))","v":{"$error":"#REF!"}}]
[{"$f":"IF('TD-Lançamentos'!#REF!=\"\",\"\",LEFT('TD-Lançamentos'!#REF!,LEN('TD-Lançamentos'!#REF!)-11))","v":{"$error":"#REF!"}}]
[{"$f":"IF('TD-Lançamentos'!#REF!=\"\",\"\",LEFT('TD-Lançamentos'!#REF!,LEN('TD-Lançamentos'!#REF!)-11))","v":{"$error":"#REF!"}}]
[{"$f":"IF('TD-Lançamentos'!#REF!=\"\",\"\",LEFT('TD-Lançamentos'!#REF!,LEN('TD-Lançamentos'!#REF!)-11))","v":{"$error":"#REF!"}}]
[{"$f":"IF('TD-Lançamentos'!#REF!=\"\",\"\",LEFT('TD-Lançamentos'!#REF!,LEN('TD-Lançamentos'!#REF!)-11))","v":{"$error":"#REF!"}}]
[{"$f":"IF('TD-Lançamentos'!#REF!=\"\",\"\",LEFT('TD-Lançamentos'!#REF!,LEN('TD-Lançamentos'!#REF!)-11))","v":{"$error":"#REF!"}}]
[{"$f":"IF('TD-Lançamentos'!#REF!=\"\",\"\",LEFT('TD-Lançamentos'!#REF!,LEN('TD-Lançamentos'!#REF!)-11))","v":{"$error":"#REF!"}}]
[{"$f":"IF('TD-Lançamentos'!#REF!=\"\",\"\",LEFT('TD-Lançamentos'!#REF!,LEN('TD-Lançamentos'!#REF!)-11))","v":{"$error":"#REF!"}}]
[{"$f":"IF('TD-Lançamentos'!#REF!=\"\",\"\",LEFT('TD-Lançamentos'!#REF!,LEN('TD-Lançamentos'!#REF!)-11))","v":{"$error":"#REF!"}}]
[{"$f":"IF('TD-Lançamentos'!#REF!=\"\",\"\",LEFT('TD-Lançamentos'!#REF!,LEN('TD-Lançamentos'!#REF!)-11))","v":{"$error":"#REF!"}}]
[{"$f":"IF('TD-Lançamentos'!#REF!=\"\",\"\",LEFT('TD-Lançamentos'!#REF!,LEN('TD-Lançamentos'!#REF!)-11))","v":{"$error":"#REF!"}}]
[{"$f":"IF('TD-Lançamentos'!#REF!=\"\",\"\",LEFT('TD-Lançamentos'!#REF!,LEN('TD-Lançamentos'!#REF!)-11))","v":{"$error":"#REF!"}}]
[{"$f":"IF('TD-Lançamentos'!#REF!=\"\",\"\",LEFT('TD-Lançamentos'!#REF!,LEN('TD-Lançamentos'!#REF!)-11))","v":{"$error":"#REF!"}}]
[{"$f":"IF('TD-Lançamentos'!#REF!=\"\",\"\",LEFT('TD-Lançamentos'!#REF!,LEN('TD-Lançamentos'!#REF!)-11))","v":{"$error":"#REF!"}}]
[{"$f":"IF('TD-Lançamentos'!#REF!=\"\",\"\",LEFT('TD-Lançamentos'!#REF!,LEN('TD-Lançamentos'!#REF!)-11))","v":{"$error":"#REF!"}}]
[{"$f":"IF('TD-Lançamentos'!#REF!=\"\",\"\",LEFT('TD-Lançamentos'!#REF!,LEN('TD-Lançamentos'!#REF!)-11))","v":{"$error":"#REF!"}}]
[{"$f":"IF('TD-Lançamentos'!#REF!=\"\",\"\",LEFT('TD-Lançamentos'!#REF!,LEN('TD-Lançamentos'!#REF!)-11))","v":{"$error":"#REF!"}}]
[{"$f":"IF('TD-Lançamentos'!#REF!=\"\",\"\",LEFT('TD-Lançamentos'!#REF!,LEN('TD-Lançamentos'!#REF!)-11))","v":{"$error":"#REF!"}}]
[{"$f":"IF('TD-Lançamentos'!#REF!=\"\",\"\",LEFT('TD-Lançamentos'!#REF!,LEN('TD-Lançamentos'!#REF!)-11))","v":{"$error":"#REF!"}}]
[{"$f":"IF('TD-Lançamentos'!#REF!=\"\",\"\",LEFT('TD-Lançamentos'!#REF!,LEN('TD-Lançamentos'!#REF!)-11))","v":{"$error":"#REF!"}}]
[{"$f":"IF('TD-Lançamentos'!#REF!=\"\",\"\",LEFT('TD-Lançamentos'!#REF!,LEN('TD-Lançamentos'!#REF!)-11))","v":{"$error":"#REF!"}}]
[{"$f":"IF('TD-Lançamentos'!#REF!=\"\",\"\",LEFT('TD-Lançamentos'!#REF!,LEN('TD-Lançamentos'!#REF!)-11))","v":{"$error":"#REF!"}}]
[{"$f":"IF('TD-Lançamentos'!#REF!=\"\",\"\",LEFT('TD-Lançamentos'!#REF!,LEN('TD-Lançamentos'!#REF!)-11))","v":{"$error":"#REF!"}}]
[{"$f":"IF('TD-Lançamentos'!#REF!=\"\",\"\",LEFT('TD-Lançamentos'!#REF!,LEN('TD-Lançamentos'!#REF!)-11))","v":{"$error":"#REF!"}}]
[{"$f":"IF('TD-Lançamentos'!#REF!=\"\",\"\",LEFT('TD-Lançamentos'!#REF!,LEN('TD-Lançamentos'!#REF!)-11))","v":{"$error":"#REF!"}}]
[{"$f":"IF('TD-Lançamentos'!#REF!=\"\",\"\",LEFT('TD-Lançamentos'!#REF!,LEN('TD-Lançamentos'!#REF!)-11))","v":{"$error":"#REF!"}}]
[{"$f":"IF('TD-Lançamentos'!#REF!=\"\",\"\",LEFT('TD-Lançamentos'!#REF!,LEN('TD-Lançamentos'!#REF!)-11))","v":{"$error":"#REF!"}}]
[{"$f":"IF('TD-Lançamentos'!#REF!=\"\",\"\",LEFT('TD-Lançamentos'!#REF!,LEN('TD-Lançamentos'!#REF!)-11))","v":{"$error":"#REF!"}}]
[{"$f":"IF('TD-Lançamentos'!#REF!=\"\",\"\",LEFT('TD-Lançamentos'!#REF!,LEN('TD-Lançamentos'!#REF!)-11))","v":{"$error":"#REF!"}}]
[{"$f":"IF('TD-Lançamentos'!#REF!=\"\",\"\",LEFT('TD-Lançamentos'!#REF!,LEN('TD-Lançamentos'!#REF!)-11))","v":{"$error":"#REF!"}}]
[{"$f":"IF('TD-Lançamentos'!#REF!=\"\",\"\",LEFT('TD-Lançamentos'!#REF!,LEN('TD-Lançamentos'!#REF!)-11))","v":{"$error":"#REF!"}}]
[{"$f":"IF('TD-Lançamentos'!#REF!=\"\",\"\",LEFT('TD-Lançamentos'!#REF!,LEN('TD-Lançamentos'!#REF!)-11))","v":{"$error":"#REF!"}}]
[{"$f":"IF('TD-Lançamentos'!#REF!=\"\",\"\",LEFT('TD-Lançamentos'!#REF!,LEN('TD-Lançamentos'!#REF!)-11))","v":{"$error":"#REF!"}}]
[{"$f":"IF('TD-Lançamentos'!#REF!=\"\",\"\",LEFT('TD-Lançamentos'!#REF!,LEN('TD-Lançamentos'!#REF!)-11))","v":{"$error":"#REF!"}}]
[{"$f":"IF('TD-Lançamentos'!#REF!=\"\",\"\",LEFT('TD-Lançamentos'!#REF!,LEN('TD-Lançamentos'!#REF!)-11))","v":{"$error":"#REF!"}}]
[{"$f":"IF('TD-Lançamentos'!#REF!=\"\",\"\",LEFT('TD-Lançamentos'!#REF!,LEN('TD-Lançamentos'!#REF!)-11))","v":{"$error":"#REF!"}}]
[{"$f":"IF('TD-Lançamentos'!#REF!=\"\",\"\",LEFT('TD-Lançamentos'!#REF!,LEN('TD-Lançamentos'!#REF!)-11))","v":{"$error":"#REF!"}}]
[{"$f":"IF('TD-Lançamentos'!#REF!=\"\",\"\",LEFT('TD-Lançamentos'!#REF!,LEN('TD-Lançamentos'!#REF!)-11))","v":{"$error":"#REF!"}}]
[{"$f":"IF('TD-Lançamentos'!#REF!=\"\",\"\",LEFT('TD-Lançamentos'!#REF!,LEN('TD-Lançamentos'!#REF!)-11))","v":{"$error":"#REF!"}}]
[{"$f":"IF('TD-Lançamentos'!#REF!=\"\",\"\",LEFT('TD-Lançamentos'!#REF!,LEN('TD-Lançamentos'!#REF!)-11))","v":{"$error":"#REF!"}}]
[{"$f":"IF('TD-Lançamentos'!#REF!=\"\",\"\",LEFT('TD-Lançamentos'!#REF!,LEN('TD-Lançamentos'!#REF!)-11))","v":{"$error":"#REF!"}}]
[{"$f":"IF('TD-Lançamentos'!#REF!=\"\",\"\",LEFT('TD-Lançamentos'!#REF!,LEN('TD-Lançamentos'!#REF!)-11))","v":{"$error":"#REF!"}}]
[{"$f":"IF('TD-Lançamentos'!#REF!=\"\",\"\",LEFT('TD-Lançamentos'!#REF!,LEN('TD-Lançamentos'!#REF!)-11))","v":{"$error":"#REF!"}}]
[{"$f":"IF('TD-Lançamentos'!#REF!=\"\",\"\",LEFT('TD-Lançamentos'!#REF!,LEN('TD-Lançamentos'!#REF!)-11))","v":{"$error":"#REF!"}}]
[{"$f":"IF('TD-Lançamentos'!#REF!=\"\",\"\",LEFT('TD-Lançamentos'!#REF!,LEN('TD-Lançamentos'!#REF!)-11))","v":{"$error":"#REF!"}}]
[{"$f":"IF('TD-Lançamentos'!#REF!=\"\",\"\",LEFT('TD-Lançamentos'!#REF!,LEN('TD-Lançamentos'!#REF!)-11))","v":{"$error":"#REF!"}}]
[{"$f":"IF('TD-Lançamentos'!#REF!=\"\",\"\",LEFT('TD-Lançamentos'!#REF!,LEN('TD-Lançamentos'!#REF!)-11))","v":{"$error":"#REF!"}}]
[{"$f":"IF('TD-Lançamentos'!#REF!=\"\",\"\",LEFT('TD-Lançamentos'!#REF!,LEN('TD-Lançamentos'!#REF!)-11))","v":{"$error":"#REF!"}}]
[{"$f":"IF('TD-Lançamentos'!#REF!=\"\",\"\",LEFT('TD-Lançamentos'!#REF!,LEN('TD-Lançamentos'!#REF!)-11))","v":{"$error":"#REF!"}}]
[{"$f":"IF('TD-Lançamentos'!#REF!=\"\",\"\",LEFT('TD-Lançamentos'!#REF!,LEN('TD-Lançamentos'!#REF!)-11))","v":{"$error":"#REF!"}}]
[{"$f":"IF('TD-Lançamentos'!#REF!=\"\",\"\",LEFT('TD-Lançamentos'!#REF!,LEN('TD-Lançamentos'!#REF!)-11))","v":{"$error":"#REF!"}}]
[{"$f":"IF('TD-Lançamentos'!#REF!=\"\",\"\",LEFT('TD-Lançamentos'!#REF!,LEN('TD-Lançamentos'!#REF!)-11))","v":{"$error":"#REF!"}}]
[{"$f":"IF('TD-Lançamentos'!#REF!=\"\",\"\",LEFT('TD-Lançamentos'!#REF!,LEN('TD-Lançamentos'!#REF!)-11))","v":{"$error":"#REF!"}}]
[{"$f":"IF('TD-Lançamentos'!#REF!=\"\",\"\",LEFT('TD-Lançamentos'!#REF!,LEN('TD-Lançamentos'!#REF!)-11))","v":{"$error":"#REF!"}}]
[{"$f":"IF('TD-Lançamentos'!#REF!=\"\",\"\",LEFT('TD-Lançamentos'!#REF!,LEN('TD-Lançamentos'!#REF!)-11))","v":{"$error":"#REF!"}}]
[{"$f":"IF('TD-Lançamentos'!#REF!=\"\",\"\",LEFT('TD-Lançamentos'!#REF!,LEN('TD-Lançamentos'!#REF!)-11))","v":{"$error":"#REF!"}}]
[{"$f":"IF('TD-Lançamentos'!#REF!=\"\",\"\",LEFT('TD-Lançamentos'!#REF!,LEN('TD-Lançamentos'!#REF!)-11))","v":{"$error":"#REF!"}}]
[{"$f":"IF('TD-Lançamentos'!#REF!=\"\",\"\",LEFT('TD-Lançamentos'!#REF!,LEN('TD-Lançamentos'!#REF!)-11))","v":{"$error":"#REF!"}}]
[{"$f":"IF('TD-Lançamentos'!#REF!=\"\",\"\",LEFT('TD-Lançamentos'!#REF!,LEN('TD-Lançamentos'!#REF!)-11))","v":{"$error":"#REF!"}}]
[{"$f":"IF('TD-Lançamentos'!#REF!=\"\",\"\",LEFT('TD-Lançamentos'!#REF!,LEN('TD-Lançamentos'!#REF!)-11))","v":{"$error":"#REF!"}}]
[{"$f":"IF('TD-Lançamentos'!#REF!=\"\",\"\",LEFT('TD-Lançamentos'!#REF!,LEN('TD-Lançamentos'!#REF!)-11))","v":{"$error":"#REF!"}}]
[{"$f":"IF('TD-Lançamentos'!#REF!=\"\",\"\",LEFT('TD-Lançamentos'!#REF!,LEN('TD-Lançamentos'!#REF!)-11))","v":{"$error":"#REF!"}}]
[{"$f":"IF('TD-Lançamentos'!#REF!=\"\",\"\",LEFT('TD-Lançamentos'!#REF!,LEN('TD-Lançamentos'!#REF!)-11))","v":{"$error":"#REF!"}}]
[{"$f":"IF('TD-Lançamentos'!#REF!=\"\",\"\",LEFT('TD-Lançamentos'!#REF!,LEN('TD-Lançamentos'!#REF!)-11))","v":{"$error":"#REF!"}}]
[{"$f":"IF('TD-Lançamentos'!#REF!=\"\",\"\",LEFT('TD-Lançamentos'!#REF!,LEN('TD-Lançamentos'!#REF!)-11))","v":{"$error":"#REF!"}}]
[{"$f":"IF('TD-Lançamentos'!#REF!=\"\",\"\",LEFT('TD-Lançamentos'!#REF!,LEN('TD-Lançamentos'!#REF!)-11))","v":{"$error":"#REF!"}}]
[{"$f":"IF('TD-Lançamentos'!#REF!=\"\",\"\",LEFT('TD-Lançamentos'!#REF!,LEN('TD-Lançamentos'!#REF!)-11))","v":{"$error":"#REF!"}}]
[{"$f":"IF('TD-Lançamentos'!#REF!=\"\",\"\",LEFT('TD-Lançamentos'!#REF!,LEN('TD-Lançamentos'!#REF!)-11))","v":{"$error":"#REF!"}}]
[{"$f":"IF('TD-Lançamentos'!#REF!=\"\",\"\",LEFT('TD-Lançamentos'!#REF!,LEN('TD-Lançamentos'!#REF!)-11))","v":{"$error":"#REF!"}}]
[{"$f":"IF('TD-Lançamentos'!#REF!=\"\",\"\",LEFT('TD-Lançamentos'!#REF!,LEN('TD-Lançamentos'!#REF!)-11))","v":{"$error":"#REF!"}}]
[{"$f":"IF('TD-Lançamentos'!#REF!=\"\",\"\",LEFT('TD-Lançamentos'!#REF!,LEN('TD-Lançamentos'!#REF!)-11))","v":{"$error":"#REF!"}}]
[{"$f":"IF('TD-Lançamentos'!#REF!=\"\",\"\",LEFT('TD-Lançamentos'!#REF!,LEN('TD-Lançamentos'!#REF!)-11))","v":{"$error":"#REF!"}}]
[{"$f":"IF('TD-Lançamentos'!#REF!=\"\",\"\",LEFT('TD-Lançamentos'!#REF!,LEN('TD-Lançamentos'!#REF!)-11))","v":{"$error":"#REF!"}}]
[{"$f":"IF('TD-Lançamentos'!#REF!=\"\",\"\",LEFT('TD-Lançamentos'!#REF!,LEN('TD-Lançamentos'!#REF!)-11))","v":{"$error":"#REF!"}}]
[{"$f":"IF('TD-Lançamentos'!#REF!=\"\",\"\",LEFT('TD-Lançamentos'!#REF!,LEN('TD-Lançamentos'!#REF!)-11))","v":{"$error":"#REF!"}}]
[{"$f":"IF('TD-Lançamentos'!#REF!=\"\",\"\",LEFT('TD-Lançamentos'!#REF!,LEN('TD-Lançamentos'!#REF!)-11))","v":{"$error":"#REF!"}}]
[{"$f":"IF('TD-Lançamentos'!#REF!=\"\",\"\",LEFT('TD-Lançamentos'!#REF!,LEN('TD-Lançamentos'!#REF!)-11))","v":{"$error":"#REF!"}}]
[{"$f":"IF('TD-Lançamentos'!#REF!=\"\",\"\",LEFT('TD-Lançamentos'!#REF!,LEN('TD-Lançamentos'!#REF!)-11))","v":{"$error":"#REF!"}}]
[{"$f":"IF('TD-Lançamentos'!#REF!=\"\",\"\",LEFT('TD-Lançamentos'!#REF!,LEN('TD-Lançamentos'!#REF!)-11))","v":{"$error":"#REF!"}}]
[{"$f":"IF('TD-Lançamentos'!#REF!=\"\",\"\",LEFT('TD-Lançamentos'!#REF!,LEN('TD-Lançamentos'!#REF!)-11))","v":{"$error":"#REF!"}}]
[{"$f":"IF('TD-Lançamentos'!#REF!=\"\",\"\",LEFT('TD-Lançamentos'!#REF!,LEN('TD-Lançamentos'!#REF!)-11))","v":{"$error":"#REF!"}}]
[{"$f":"IF('TD-Lançamentos'!#REF!=\"\",\"\",LEFT('TD-Lançamentos'!#REF!,LEN('TD-Lançamentos'!#REF!)-11))","v":{"$error":"#REF!"}}]
[{"$f":"IF('TD-Lançamentos'!#REF!=\"\",\"\",LEFT('TD-Lançamentos'!#REF!,LEN('TD-Lançamentos'!#REF!)-11))","v":{"$error":"#REF!"}}]
[{"$f":"IF('TD-Lançamentos'!#REF!=\"\",\"\",LEFT('TD-Lançamentos'!#REF!,LEN('TD-Lançamentos'!#REF!)-11))","v":{"$error":"#REF!"}}]
[{"$f":"IF('TD-Lançamentos'!#REF!=\"\",\"\",LEFT('TD-Lançamentos'!#REF!,LEN('TD-Lançamentos'!#REF!)-11))","v":{"$error":"#REF!"}}]
[{"$f":"IF('TD-Lançamentos'!#REF!=\"\",\"\",LEFT('TD-Lançamentos'!#REF!,LEN('TD-Lançamentos'!#REF!)-11))","v":{"$error":"#REF!"}}]
[{"$f":"IF('TD-Lançamentos'!#REF!=\"\",\"\",LEFT('TD-Lançamentos'!#REF!,LEN('TD-Lançamentos'!#REF!)-11))","v":{"$error":"#REF!"}}]
[{"$f":"IF('TD-Lançamentos'!#REF!=\"\",\"\",LEFT('TD-Lançamentos'!#REF!,LEN('TD-Lançamentos'!#REF!)-11))","v":{"$error":"#REF!"}}]
[{"$f":"IF('TD-Lançamentos'!#REF!=\"\",\"\",LEFT('TD-Lançamentos'!#REF!,LEN('TD-Lançamentos'!#REF!)-11))","v":{"$error":"#REF!"}}]
[{"$f":"IF('TD-Lançamentos'!#REF!=\"\",\"\",LEFT('TD-Lançamentos'!#REF!,LEN('TD-Lançamentos'!#REF!)-11))","v":{"$error":"#REF!"}}]
[{"$f":"IF('TD-Lançamentos'!#REF!=\"\",\"\",LEFT('TD-Lançamentos'!#REF!,LEN('TD-Lançamentos'!#REF!)-11))","v":{"$error":"#REF!"}}]
[{"$f":"IF('TD-Lançamentos'!#REF!=\"\",\"\",LEFT('TD-Lançamentos'!#REF!,LEN('TD-Lançamentos'!#REF!)-11))","v":{"$error":"#REF!"}}]
[{"$f":"IF('TD-Lançamentos'!#REF!=\"\",\"\",LEFT('TD-Lançamentos'!#REF!,LEN('TD-Lançamentos'!#REF!)-11))","v":{"$error":"#REF!"}}]
[{"$f":"IF('TD-Lançamentos'!#REF!=\"\",\"\",LEFT('TD-Lançamentos'!#REF!,LEN('TD-Lançamentos'!#REF!)-11))","v":{"$error":"#REF!"}}]
[{"$f":"IF('TD-Lançamentos'!#REF!=\"\",\"\",LEFT('TD-Lançamentos'!#REF!,LEN('TD-Lançamentos'!#REF!)-11))","v":{"$error":"#REF!"}}]
[{"$f":"IF('TD-Lançamentos'!#REF!=\"\",\"\",LEFT('TD-Lançamentos'!#REF!,LEN('TD-Lançamentos'!#REF!)-11))","v":{"$error":"#REF!"}}]
[{"$f":"IF('TD-Lançamentos'!#REF!=\"\",\"\",LEFT('TD-Lançamentos'!#REF!,LEN('TD-Lançamentos'!#REF!)-11))","v":{"$error":"#REF!"}}]
[{"$f":"IF('TD-Lançamentos'!#REF!=\"\",\"\",LEFT('TD-Lançamentos'!#REF!,LEN('TD-Lançamentos'!#REF!)-11))","v":{"$error":"#REF!"}}]
[{"$f":"IF('TD-Lançamentos'!#REF!=\"\",\"\",LEFT('TD-Lançamentos'!#REF!,LEN('TD-Lançamentos'!#REF!)-11))","v":{"$error":"#REF!"}}]
[{"$f":"IF('TD-Lançamentos'!#REF!=\"\",\"\",LEFT('TD-Lançamentos'!#REF!,LEN('TD-Lançamentos'!#REF!)-11))","v":{"$error":"#REF!"}}]
[{"$f":"IF('TD-Lançamentos'!#REF!=\"\",\"\",LEFT('TD-Lançamentos'!#REF!,LEN('TD-Lançamentos'!#REF!)-11))","v":{"$error":"#REF!"}}]
[{"$f":"IF('TD-Lançamentos'!#REF!=\"\",\"\",LEFT('TD-Lançamentos'!#REF!,LEN('TD-Lançamentos'!#REF!)-11))","v":{"$error":"#REF!"}}]
[{"$f":"IF('TD-Lançamentos'!#REF!=\"\",\"\",LEFT('TD-Lançamentos'!#REF!,LEN('TD-Lançamentos'!#REF!)-11))","v":{"$error":"#REF!"}}]
[{"$f":"IF('TD-Lançamentos'!#REF!=\"\",\"\",LEFT('TD-Lançamentos'!#REF!,LEN('TD-Lançamentos'!#REF!)-11))","v":{"$error":"#REF!"}}]
[{"$f":"IF('TD-Lançamentos'!#REF!=\"\",\"\",LEFT('TD-Lançamentos'!#REF!,LEN('TD-Lançamentos'!#REF!)-11))","v":{"$error":"#REF!"}}]
[{"$f":"IF('TD-Lançamentos'!#REF!=\"\",\"\",LEFT('TD-Lançamentos'!#REF!,LEN('TD-Lançamentos'!#REF!)-11))","v":{"$error":"#REF!"}}]
[{"$f":"IF('TD-Lançamentos'!#REF!=\"\",\"\",LEFT('TD-Lançamentos'!#REF!,LEN('TD-Lançamentos'!#REF!)-11))","v":{"$error":"#REF!"}}]
[{"$f":"IF('TD-Lançamentos'!#REF!=\"\",\"\",LEFT('TD-Lançamentos'!#REF!,LEN('TD-Lançamentos'!#REF!)-11))","v":{"$error":"#REF!"}}]
[{"$f":"IF('TD-Lançamentos'!#REF!=\"\",\"\",LEFT('TD-Lançamentos'!#REF!,LEN('TD-Lançamentos'!#REF!)-11))","v":{"$error":"#REF!"}}]
[{"$f":"IF('TD-Lançamentos'!#REF!=\"\",\"\",LEFT('TD-Lançamentos'!#REF!,LEN('TD-Lançamentos'!#REF!)-11))","v":{"$error":"#REF!"}}]
[{"$f":"IF('TD-Lançamentos'!#REF!=\"\",\"\",LEFT('TD-Lançamentos'!#REF!,LEN('TD-Lançamentos'!#REF!)-11))","v":{"$error":"#REF!"}}]
[{"$f":"IF('TD-Lançamentos'!#REF!=\"\",\"\",LEFT('TD-Lançamentos'!#REF!,LEN('TD-Lançamentos'!#REF!)-11))","v":{"$error":"#REF!"}}]
[{"$f":"IF('TD-Lançamentos'!#REF!=\"\",\"\",LEFT('TD-Lançamentos'!#REF!,LEN('TD-Lançamentos'!#REF!)-11))","v":{"$error":"#REF!"}}]
[{"$f":"IF('TD-Lançamentos'!#REF!=\"\",\"\",LEFT('TD-Lançamentos'!#REF!,LEN('TD-Lançamentos'!#REF!)-11))","v":{"$error":"#REF!"}}]
[{"$f":"IF('TD-Lançamentos'!#REF!=\"\",\"\",LEFT('TD-Lançamentos'!#REF!,LEN('TD-Lançamentos'!#REF!)-11))","v":{"$error":"#REF!"}}]
[{"$f":"IF('TD-Lançamentos'!#REF!=\"\",\"\",LEFT('TD-Lançamentos'!#REF!,LEN('TD-Lançamentos'!#REF!)-11))","v":{"$error":"#REF!"}}]
[{"$f":"IF('TD-Lançamentos'!#REF!=\"\",\"\",LEFT('TD-Lançamentos'!#REF!,LEN('TD-Lançamentos'!#REF!)-11))","v":{"$error":"#REF!"}}]
[{"$f":"IF('TD-Lançamentos'!#REF!=\"\",\"\",LEFT('TD-Lançamentos'!#REF!,LEN('TD-Lançamentos'!#REF!)-11))","v":{"$error":"#REF!"}}]
[{"$f":"IF('TD-Lançamentos'!#REF!=\"\",\"\",LEFT('TD-Lançamentos'!#REF!,LEN('TD-Lançamentos'!#REF!)-11))","v":{"$error":"#REF!"}}]
[{"$f":"IF('TD-Lançamentos'!#REF!=\"\",\"\",LEFT('TD-Lançamentos'!#REF!,LEN('TD-Lançamentos'!#REF!)-11))","v":{"$error":"#REF!"}}]
[{"$f":"IF('TD-Lançamentos'!#REF!=\"\",\"\",LEFT('TD-Lançamentos'!#REF!,LEN('TD-Lançamentos'!#REF!)-11))","v":{"$error":"#REF!"}}]
[{"$f":"IF('TD-Lançamentos'!#REF!=\"\",\"\",LEFT('TD-Lançamentos'!#REF!,LEN('TD-Lançamentos'!#REF!)-11))","v":{"$error":"#REF!"}}]

{"sheet":"TD-Recebidos","index":9,"n_rows":1,"n_cols":5,"rows_kept":1,"cut":false,"hidden":false,"merged":[]}
["DATA","TIPO","VALOR","TÍTULO","IRRF"]

{"sheet":"RF-Lançamentos","index":10,"n_rows":1,"n_cols":11,"rows_kept":1,"cut":false,"hidden":false,"merged":[]}
["DATA","D/R","TIPO","DESCRIÇÃO","TAXAS","VALOR","IRRF","ÍNDICE","\"+/x\"","%","VENCIMENTO"]

{"sheet":"RF-Custódia","index":11,"n_rows":697,"n_cols":22,"rows_kept":697,"cut":false,"hidden":false,"merged":[[0,16,0,18],[0,0,0,1],[0,3,0,4],[0,6,0,7],[0,9,0,10],[0,12,0,13],[13,16,13,18],[14,16,14,18],[16,16,16,18],[7,16,7,18],[8,16,8,18],[9,16,9,18],[10,16,10,18],[11,16,11,18],[12,16,12,18]]}
["TIPO",null,null,"VALORES APLICADOS",null,null,"VALOR ATUAIS",null,null,"OBJETIVO",null,null,"RESULTADO",null,null,null,"COMPRAR MAIS"]
["ATIVO","TIPO",null,"R$","%",null,"R$","%",null,"% ATUAL","DIFERENÇA",null,"R$","%",null,null,"PRIORIDADE","TIPO","DIFERENCIAL"]
["(vazio)",{"$f":"IF(A3=\"\",\"\",INDEX('RF-Lançamentos'!C:C,MATCH(A3,'RF-Lançamentos'!D:D,0)))","v":{"$error":"#N/A"}},null,{"$f":"SUMIFS('RF-Lançamentos'!F:F,'RF-Lançamentos'!D:D,A3,'RF-Lançamentos'!B:B,\"d\")-SUMIFS('RF-Lançamentos'!F:F,'RF-Lançamentos'!D:D,A3,'RF-Lançamentos'!B:B,\"r\")","v":0},{"$f":"IF(OR(D3=\"\",$Q$9=0),0,D3/$Q$9)","v":0},null,null,{"$f":"IF(OR(G3=\"\",$Q$11=0),0,G3/$Q$11)","v":0},null,null,{"$f":"IF(OR(J3=\"\",H3=\"\",E3=\"\"),0,IF($J$2=\"% ATUAL\",J3-H3,J3-E3))","v":0},null,{"$f":"IF(G3=\"\",0,G3-D3)","v":0},{"$f":"IF(OR(D3=0),0,M3/D3)","v":0},null,null,"1º",{"$f":"IF(OR(S3=0,S3=\"\"),\"\",INDIRECT(CONCATENATE(\"a\",MATCH(S3,K:K,0))))","v":""},{"$f":"IF(MAX(K$3:K$350)<=0,\"\",MAX(K$3:K$350))","v":""}]
[null,{"$f":"IF(A4=\"\",\"\",INDEX('RF-Lançamentos'!C:C,MATCH(A4,'RF-Lançamentos'!D:D,0)))","v":""},null,{"$f":"SUMIFS('RF-Lançamentos'!F:F,'RF-Lançamentos'!D:D,A4,'RF-Lançamentos'!B:B,\"d\")-SUMIFS('RF-Lançamentos'!F:F,'RF-Lançamentos'!D:D,A4,'RF-Lançamentos'!B:B,\"r\")","v":0},{"$f":"IF(OR(D4=\"\",$Q$9=0),0,D4/$Q$9)","v":0},null,null,{"$f":"IF(OR(G4=\"\",$Q$11=0),0,G4/$Q$11)","v":0},null,null,{"$f":"IF(OR(J4=\"\",H4=\"\",E4=\"\"),0,IF($J$2=\"% ATUAL\",J4-H4,J4-E4))","v":0},null,{"$f":"IF(G4=\"\",0,G4-D4)","v":0},{"$f":"IF(OR(D4=0),0,M4/D4)","v":0},null,null,"2º",{"$f":"IF(OR(S4=0,S4=\"\"),\"\",INDIRECT(CONCATENATE(\"a\",MATCH(S4,K:K,0))))","v":""},{"$f":"IF(LARGE(K$3:K$350,2)<=0,\"\",LARGE(K$3:K$350,2))","v":""}]
[null,{"$f":"IF(A5=\"\",\"\",INDEX('RF-Lançamentos'!C:C,MATCH(A5,'RF-Lançamentos'!D:D,0)))","v":""},null,{"$f":"SUMIFS('RF-Lançamentos'!F:F,'RF-Lançamentos'!D:D,A5,'RF-Lançamentos'!B:B,\"d\")-SUMIFS('RF-Lançamentos'!F:F,'RF-Lançamentos'!D:D,A5,'RF-Lançamentos'!B:B,\"r\")","v":0},0,null,null,0,null,null,0,null,0,0,null,null,"3º",{"$f":"IF(OR(S5=0,S5=\"\"),\"\",INDIRECT(CONCATENATE(\"a\",MATCH(S5,K:K,0))))","v":""},{"$f":"IF(LARGE(K$3:K$350,3)<=0,\"\",LARGE(K$3:K$350,3))","v":""}]
[null,{"$f":"IF(A6=\"\",\"\",INDEX('RF-Lançamentos'!C:C,MATCH(A6,'RF-Lançamentos'!D:D,0)))","v":""},null,{"$f":"SUMIFS('RF-Lançamentos'!F:F,'RF-Lançamentos'!D:D,A6,'RF-Lançamentos'!B:B,\"d\")-SUMIFS('RF-Lançamentos'!F:F,'RF-Lançamentos'!D:D,A6,'RF-Lançamentos'!B:B,\"r\")","v":0},0,null,null,0,null,null,0,null,0,0]
[null,{"$f":"IF(A7=\"\",\"\",INDEX('RF-Lançamentos'!C:C,MATCH(A7,'RF-Lançamentos'!D:D,0)))","v":""},null,{"$f":"SUMIFS('RF-Lançamentos'!F:F,'RF-Lançamentos'!D:D,A7,'RF-Lançamentos'!B:B,\"d\")-SUMIFS('RF-Lançamentos'!F:F,'RF-Lançamentos'!D:D,A7,'RF-Lançamentos'!B:B,\"r\")","v":0},0,null,null,0,null,null,0,null,0,0]
[null,{"$f":"IF(A8=\"\",\"\",INDEX('RF-Lançamentos'!C:C,MATCH(A8,'RF-Lançamentos'!D:D,0)))","v":""},null,{"$f":"SUMIFS('RF-Lançamentos'!F:F,'RF-Lançamentos'!D:D,A8,'RF-Lançamentos'!B:B,\"d\")-SUMIFS('RF-Lançamentos'!F:F,'RF-Lançamentos'!D:D,A8,'RF-Lançamentos'!B:B,\"r\")","v":0},0,null,null,0,null,null,0,null,0,0,null,null,"TOTAL INVESTIDO"]
[null,{"$f":"IF(A9=\"\",\"\",INDEX('RF-Lançamentos'!C:C,MATCH(A9,'RF-Lançamentos'!D:D,0)))","v":""},null,{"$f":"SUMIFS('RF-Lançamentos'!F:F,'RF-Lançamentos'!D:D,A9,'RF-Lançamentos'!B:B,\"d\")-SUMIFS('RF-Lançamentos'!F:F,'RF-Lançamentos'!D:D,A9,'RF-Lançamentos'!B:B,\"r\")","v":0},0,null,null,0,null,null,0,null,0,0,null,null,{"$f":"SUM(D3:D350)","v":0}]
[null,{"$f":"IF(A10=\"\",\"\",INDEX('RF-Lançamentos'!C:C,MATCH(A10,'RF-Lançamentos'!D:D,0)))","v":""},null,{"$f":"SUMIFS('RF-Lançamentos'!F:F,'RF-Lançamentos'!D:D,A10,'RF-Lançamentos'!B:B,\"d\")-SUMIFS('RF-Lançamentos'!F:F,'RF-Lançamentos'!D:D,A10,'RF-Lançamentos'!B:B,\"r\")","v":0},0,null,null,0,null,null,0,null,0,0,null,null,"TOTAL ATUAL"]
[null,{"$f":"IF(A11=\"\",\"\",INDEX('RF-Lançamentos'!C:C,MATCH(A11,'RF-Lançamentos'!D:D,0)))","v":""},null,{"$f":"SUMIFS('RF-Lançamentos'!F:F,'RF-Lançamentos'!D:D,A11,'RF-Lançamentos'!B:B,\"d\")-SUMIFS('RF-Lançamentos'!F:F,'RF-Lançamentos'!D:D,A11,'RF-Lançamentos'!B:B,\"r\")","v":0},0,null,null,0,null,null,0,null,0,0,null,null,{"$f":"SUM(D3:D350)+SUM(M3:M350)","v":0}]
[null,{"$f":"IF(A12=\"\",\"\",INDEX('RF-Lançamentos'!C:C,MATCH(A12,'RF-Lançamentos'!D:D,0)))","v":""},null,{"$f":"SUMIFS('RF-Lançamentos'!F:F,'RF-Lançamentos'!D:D,A12,'RF-Lançamentos'!B:B,\"d\")-SUMIFS('RF-Lançamentos'!F:F,'RF-Lançamentos'!D:D,A12,'RF-Lançamentos'!B:B,\"r\")","v":0},0,null,null,0,null,null,0,null,0,0,null,null,"RESULTADO EM REAIS"]
[null,{"$f":"IF(A13=\"\",\"\",INDEX('RF-Lançamentos'!C:C,MATCH(A13,'RF-Lançamentos'!D:D,0)))","v":""},null,{"$f":"SUMIFS('RF-Lançamentos'!F:F,'RF-Lançamentos'!D:D,A13,'RF-Lançamentos'!B:B,\"d\")-SUMIFS('RF-Lançamentos'!F:F,'RF-Lançamentos'!D:D,A13,'RF-Lançamentos'!B:B,\"r\")","v":0},0,null,null,0,null,null,0,null,0,0,null,null,{"$f":"SUM(M3:M350)","v":0}]
[null,{"$f":"IF(A14=\"\",\"\",INDEX('RF-Lançamentos'!C:C,MATCH(A14,'RF-Lançamentos'!D:D,0)))","v":""},null,{"$f":"SUMIFS('RF-Lançamentos'!F:F,'RF-Lançamentos'!D:D,A14,'RF-Lançamentos'!B:B,\"d\")-SUMIFS('RF-Lançamentos'!F:F,'RF-Lançamentos'!D:D,A14,'RF-Lançamentos'!B:B,\"r\")","v":0},0,null,null,0,null,null,0,null,0,0,null,null,"RESULTADO EM PERCENTUAL",null,null,null,{"$f":"IF(J14=\"\",\"\",J14-H14)","v":""},{"$f":"IF(OR($A361=\"TOTAL\",$A361=\"\"),\"\",$A361)","v":{"$error":"#REF!"}}]
[null,{"$f":"IF(A15=\"\",\"\",INDEX('RF-Lançamentos'!C:C,MATCH(A15,'RF-Lançamentos'!D:D,0)))","v":""},null,{"$f":"SUMIFS('RF-Lançamentos'!F:F,'RF-Lançamentos'!D:D,A15,'RF-Lançamentos'!B:B,\"d\")-SUMIFS('RF-Lançamentos'!F:F,'RF-Lançamentos'!D:D,A15,'RF-Lançamentos'!B:B,\"r\")","v":0},0,null,null,0,null,null,0,null,0,0,null,null,{"$f":"IFERROR((Q11/Q9)-1,0)","v":0},null,null,null,"",{"$error":"#REF!"}]
[null,{"$f":"IF(A16=\"\",\"\",INDEX('RF-Lançamentos'!C:C,MATCH(A16,'RF-Lançamentos'!D:D,0)))","v":""},null,{"$f":"SUMIFS('RF-Lançamentos'!F:F,'RF-Lançamentos'!D:D,A16,'RF-Lançamentos'!B:B,\"d\")-SUMIFS('RF-Lançamentos'!F:F,'RF-Lançamentos'!D:D,A16,'RF-Lançamentos'!B:B,\"r\")","v":0},0,null,null,0,null,null,0,null,0,0,null,null,null,null,null,null,"",{"$error":"#REF!"}]
[null,{"$f":"IF(A17=\"\",\"\",INDEX('RF-Lançamentos'!C:C,MATCH(A17,'RF-Lançamentos'!D:D,0)))","v":""},null,{"$f":"SUMIFS('RF-Lançamentos'!F:F,'RF-Lançamentos'!D:D,A17,'RF-Lançamentos'!B:B,\"d\")-SUMIFS('RF-Lançamentos'!F:F,'RF-Lançamentos'!D:D,A17,'RF-Lançamentos'!B:B,\"r\")","v":0},0,null,null,0,null,null,0,null,0,0,null,null,"POR TIPO DE TÍTULO",null,null,null,"",{"$error":"#REF!"}]
[null,{"$f":"IF(A18=\"\",\"\",INDEX('RF-Lançamentos'!C:C,MATCH(A18,'RF-Lançamentos'!D:D,0)))","v":""},null,{"$f":"SUMIFS('RF-Lançamentos'!F:F,'RF-Lançamentos'!D:D,A18,'RF-Lançamentos'!B:B,\"d\")-SUMIFS('RF-Lançamentos'!F:F,'RF-Lançamentos'!D:D,A18,'RF-Lançamentos'!B:B,\"r\")","v":0},0,null,null,0,null,null,0,null,0,0,null,null,"TÍTULO","INVESTIDO","ATUAL",null,"",{"$error":"#REF!"}]
[null,{"$f":"IF(A19=\"\",\"\",INDEX('RF-Lançamentos'!C:C,MATCH(A19,'RF-Lançamentos'!D:D,0)))","v":""},null,{"$f":"SUMIFS('RF-Lançamentos'!F:F,'RF-Lançamentos'!D:D,A19,'RF-Lançamentos'!B:B,\"d\")-SUMIFS('RF-Lançamentos'!F:F,'RF-Lançamentos'!D:D,A19,'RF-Lançamentos'!B:B,\"r\")","v":0},0,null,null,0,null,null,0,null,0,0,null,null,"LCI",{"$f":"SUMIF(B:B,Q19,D:D)","v":0},{"$f":"SUMIF(B:B,Q19,D:D)+SUMIF(B:B,Q19,M:M)","v":0},null,"",{"$error":"#REF!"}]
[null,{"$f":"IF(A20=\"\",\"\",INDEX('RF-Lançamentos'!C:C,MATCH(A20,'RF-Lançamentos'!D:D,0)))","v":""},null,{"$f":"SUMIFS('RF-Lançamentos'!F:F,'RF-Lançamentos'!D:D,A20,'RF-Lançamentos'!B:B,\"d\")-SUMIFS('RF-Lançamentos'!F:F,'RF-Lançamentos'!D:D,A20,'RF-Lançamentos'!B:B,\"r\")","v":0},0,null,null,0,null,null,0,null,0,0,null,null,"LCA",0,0,null,"",{"$error":"#REF!"}]
[null,{"$f":"IF(A21=\"\",\"\",INDEX('RF-Lançamentos'!C:C,MATCH(A21,'RF-Lançamentos'!D:D,0)))","v":""},null,{"$f":"SUMIFS('RF-Lançamentos'!F:F,'RF-Lançamentos'!D:D,A21,'RF-Lançamentos'!B:B,\"d\")-SUMIFS('RF-Lançamentos'!F:F,'RF-Lançamentos'!D:D,A21,'RF-Lançamentos'!B:B,\"r\")","v":0},0,null,null,0,null,null,0,null,0,0,null,null,"POUPANÇA",0,0,null,"",{"$error":"#REF!"}]
[null,{"$f":"IF(A22=\"\",\"\",INDEX('RF-Lançamentos'!C:C,MATCH(A22,'RF-Lançamentos'!D:D,0)))","v":""},null,{"$f":"SUMIFS('RF-Lançamentos'!F:F,'RF-Lançamentos'!D:D,A22,'RF-Lançamentos'!B:B,\"d\")-SUMIFS('RF-Lançamentos'!F:F,'RF-Lançamentos'!D:D,A22,'RF-Lançamentos'!B:B,\"r\")","v":0},0,null,null,0,null,null,0,null,0,0,null,null,"DEBENTURE",0,0,null,"",{"$error":"#REF!"}]
[null,{"$f":"IF(A23=\"\",\"\",INDEX('RF-Lançamentos'!C:C,MATCH(A23,'RF-Lançamentos'!D:D,0)))","v":""},null,{"$f":"SUMIFS('RF-Lançamentos'!F:F,'RF-Lançamentos'!D:D,A23,'RF-Lançamentos'!B:B,\"d\")-SUMIFS('RF-Lançamentos'!F:F,'RF-Lançamentos'!D:D,A23,'RF-Lançamentos'!B:B,\"r\")","v":0},0,null,null,0,null,null,0,null,0,0,null,null,"CRI",0,0,null,"",{"$error":"#REF!"}]
[null,{"$f":"IF(A24=\"\",\"\",INDEX('RF-Lançamentos'!C:C,MATCH(A24,'RF-Lançamentos'!D:D,0)))","v":""},null,{"$f":"SUMIFS('RF-Lançamentos'!F:F,'RF-Lançamentos'!D:D,A24,'RF-Lançamentos'!B:B,\"d\")-SUMIFS('RF-Lançamentos'!F:F,'RF-Lançamentos'!D:D,A24,'RF-Lançamentos'!B:B,\"r\")","v":0},0,null,null,0,null,null,0,null,0,0,null,null,"CDB",0,0,null,"",{"$error":"#REF!"}]
[null,{"$f":"IF(A25=\"\",\"\",INDEX('RF-Lançamentos'!C:C,MATCH(A25,'RF-Lançamentos'!D:D,0)))","v":""},null,{"$f":"SUMIFS('RF-Lançamentos'!F:F,'RF-Lançamentos'!D:D,A25,'RF-Lançamentos'!B:B,\"d\")-SUMIFS('RF-Lançamentos'!F:F,'RF-Lançamentos'!D:D,A25,'RF-Lançamentos'!B:B,\"r\")","v":0},0,null,null,0,null,null,0,null,0,0,null,null,"OUTROS RF",0,0,null,"",{"$error":"#REF!"}]
[null,{"$f":"IF(A26=\"\",\"\",INDEX('RF-Lançamentos'!C:C,MATCH(A26,'RF-Lançamentos'!D:D,0)))","v":""},null,{"$f":"SUMIFS('RF-Lançamentos'!F:F,'RF-Lançamentos'!D:D,A26,'RF-Lançamentos'!B:B,\"d\")-SUMIFS('RF-Lançamentos'!F:F,'RF-Lançamentos'!D:D,A26,'RF-Lançamentos'!B:B,\"r\")","v":0},0,null,null,0,null,null,0,null,0,0,null,null,"RDB",0,0,null,"",{"$error":"#REF!"}]
[null,{"$f":"IF(A27=\"\",\"\",INDEX('RF-Lançamentos'!C:C,MATCH(A27,'RF-Lançamentos'!D:D,0)))","v":""},null,{"$f":"SUMIFS('RF-Lançamentos'!F:F,'RF-Lançamentos'!D:D,A27,'RF-Lançamentos'!B:B,\"d\")-SUMIFS('RF-Lançamentos'!F:F,'RF-Lançamentos'!D:D,A27,'RF-Lançamentos'!B:B,\"r\")","v":0},0,null,null,0,null,null,0,null,0,0,null,null,null,"% ATUAL",null,null,"",{"$error":"#REF!"}]
[null,{"$f":"IF(A28=\"\",\"\",INDEX('RF-Lançamentos'!C:C,MATCH(A28,'RF-Lançamentos'!D:D,0)))","v":""},null,{"$f":"SUMIFS('RF-Lançamentos'!F:F,'RF-Lançamentos'!D:D,A28,'RF-Lançamentos'!B:B,\"d\")-SUMIFS('RF-Lançamentos'!F:F,'RF-Lançamentos'!D:D,A28,'RF-Lançamentos'!B:B,\"r\")","v":0},0,null,null,0,null,null,0,null,0,0,null,null,null,"% INVESTIDO",null,null,"",{"$error":"#REF!"}]
[null,{"$f":"IF(A29=\"\",\"\",INDEX('RF-Lançamentos'!C:C,MATCH(A29,'RF-Lançamentos'!D:D,0)))","v":""},null,{"$f":"SUMIFS('RF-Lançamentos'!F:F,'RF-Lançamentos'!D:D,A29,'RF-Lançamentos'!B:B,\"d\")-SUMIFS('RF-Lançamentos'!F:F,'RF-Lançamentos'!D:D,A29,'RF-Lançamentos'!B:B,\"r\")","v":0},0,null,null,0,null,null,0,null,0,0,null,null,null,null,null,null,"",{"$error":"#REF!"}]
[null,{"$f":"IF(A30=\"\",\"\",INDEX('RF-Lançamentos'!C:C,MATCH(A30,'RF-Lançamentos'!D:D,0)))","v":""},null,{"$f":"SUMIFS('RF-Lançamentos'!F:F,'RF-Lançamentos'!D:D,A30,'RF-Lançamentos'!B:B,\"d\")-SUMIFS('RF-Lançamentos'!F:F,'RF-Lançamentos'!D:D,A30,'RF-Lançamentos'!B:B,\"r\")","v":0},0,null,null,0,null,null,0,null,0,0,null,null,null,null,null,null,"",{"$error":"#REF!"}]
[null,{"$f":"IF(A31=\"\",\"\",INDEX('RF-Lançamentos'!C:C,MATCH(A31,'RF-Lançamentos'!D:D,0)))","v":""},null,{"$f":"SUMIFS('RF-Lançamentos'!F:F,'RF-Lançamentos'!D:D,A31,'RF-Lançamentos'!B:B,\"d\")-SUMIFS('RF-Lançamentos'!F:F,'RF-Lançamentos'!D:D,A31,'RF-Lançamentos'!B:B,\"r\")","v":0},0,null,null,0,null,null,0,null,0,0,null,null,null,null,null,null,"",{"$error":"#REF!"}]
[null,{"$f":"IF(A32=\"\",\"\",INDEX('RF-Lançamentos'!C:C,MATCH(A32,'RF-Lançamentos'!D:D,0)))","v":""},null,{"$f":"SUMIFS('RF-Lançamentos'!F:F,'RF-Lançamentos'!D:D,A32,'RF-Lançamentos'!B:B,\"d\")-SUMIFS('RF-Lançamentos'!F:F,'RF-Lançamentos'!D:D,A32,'RF-Lançamentos'!B:B,\"r\")","v":0},0,null,null,0,null,null,0,null,0,0,null,null,null,null,null,null,"",{"$error":"#REF!"}]
[null,{"$f":"IF(A33=\"\",\"\",INDEX('RF-Lançamentos'!C:C,MATCH(A33,'RF-Lançamentos'!D:D,0)))","v":""},null,{"$f":"SUMIFS('RF-Lançamentos'!F:F,'RF-Lançamentos'!D:D,A33,'RF-Lançamentos'!B:B,\"d\")-SUMIFS('RF-Lançamentos'!F:F,'RF-Lançamentos'!D:D,A33,'RF-Lançamentos'!B:B,\"r\")","v":0},0,null,null,0,null,null,0,null,0,0,null,null,null,null,null,null,"",{"$error":"#REF!"}]
[null,{"$f":"IF(A34=\"\",\"\",INDEX('RF-Lançamentos'!C:C,MATCH(A34,'RF-Lançamentos'!D:D,0)))","v":""},null,{"$f":"SUMIFS('RF-Lançamentos'!F:F,'RF-Lançamentos'!D:D,A34,'RF-Lançamentos'!B:B,\"d\")-SUMIFS('RF-Lançamentos'!F:F,'RF-Lançamentos'!D:D,A34,'RF-Lançamentos'!B:B,\"r\")","v":0},0,null,null,0,null,null,0,null,0,0,null,null,null,null,null,null,"",{"$error":"#REF!"}]
[null,{"$f":"IF(A35=\"\",\"\",INDEX('RF-Lançamentos'!C:C,MATCH(A35,'RF-Lançamentos'!D:D,0)))","v":""},null,{"$f":"SUMIFS('RF-Lançamentos'!F:F,'RF-Lançamentos'!D:D,A35,'RF-Lançamentos'!B:B,\"d\")-SUMIFS('RF-Lançamentos'!F:F,'RF-Lançamentos'!D:D,A35,'RF-Lançamentos'!B:B,\"r\")","v":0},0,null,null,0,null,null,0,null,0,0,null,null,null,null,null,null,"",{"$error":"#REF!"}]
[null,{"$f":"IF(A36=\"\",\"\",INDEX('RF-Lançamentos'!C:C,MATCH(A36,'RF-Lançamentos'!D:D,0)))","v":""},null,{"$f":"SUMIFS('RF-Lançamentos'!F:F,'RF-Lançamentos'!D:D,A36,'RF-Lançamentos'!B:B,\"d\")-SUMIFS('RF-Lançamentos'!F:F,'RF-Lançamentos'!D:D,A36,'RF-Lançamentos'!B:B,\"r\")","v":0},0,null,null,0,null,null,0,null,0,0,null,null,null,null,null,null,"",{"$error":"#REF!"}]
[null,{"$f":"IF(A37=\"\",\"\",INDEX('RF-Lançamentos'!C:C,MATCH(A37,'RF-Lançamentos'!D:D,0)))","v":""},null,{"$f":"SUMIFS('RF-Lançamentos'!F:F,'RF-Lançamentos'!D:D,A37,'RF-Lançamentos'!B:B,\"d\")-SUMIFS('RF-Lançamentos'!F:F,'RF-Lançamentos'!D:D,A37,'RF-Lançamentos'!B:B,\"r\")","v":0},0,null,null,0,null,null,0,null,0,0,null,null,null,null,null,null,"",{"$error":"#REF!"}]
[null,{"$f":"IF(A38=\"\",\"\",INDEX('RF-Lançamentos'!C:C,MATCH(A38,'RF-Lançamentos'!D:D,0)))","v":""},null,{"$f":"SUMIFS('RF-Lançamentos'!F:F,'RF-Lançamentos'!D:D,A38,'RF-Lançamentos'!B:B,\"d\")-SUMIFS('RF-Lançamentos'!F:F,'RF-Lançamentos'!D:D,A38,'RF-Lançamentos'!B:B,\"r\")","v":0},0,null,null,0,null,null,0,null,0,0,null,null,null,null,null,null,"",{"$error":"#REF!"}]
[null,{"$f":"IF(A39=\"\",\"\",INDEX('RF-Lançamentos'!C:C,MATCH(A39,'RF-Lançamentos'!D:D,0)))","v":""},null,{"$f":"SUMIFS('RF-Lançamentos'!F:F,'RF-Lançamentos'!D:D,A39,'RF-Lançamentos'!B:B,\"d\")-SUMIFS('RF-Lançamentos'!F:F,'RF-Lançamentos'!D:D,A39,'RF-Lançamentos'!B:B,\"r\")","v":0},0,null,null,0,null,null,0,null,0,0,null,null,null,null,null,null,"",{"$error":"#REF!"}]
[null,{"$f":"IF(A40=\"\",\"\",INDEX('RF-Lançamentos'!C:C,MATCH(A40,'RF-Lançamentos'!D:D,0)))","v":""},null,{"$f":"SUMIFS('RF-Lançamentos'!F:F,'RF-Lançamentos'!D:D,A40,'RF-Lançamentos'!B:B,\"d\")-SUMIFS('RF-Lançamentos'!F:F,'RF-Lançamentos'!D:D,A40,'RF-Lançamentos'!B:B,\"r\")","v":0},0,null,null,0,null,null,0,null,0,0,null,null,null,null,null,null,"",{"$error":"#REF!"}]
[null,{"$f":"IF(A41=\"\",\"\",INDEX('RF-Lançamentos'!C:C,MATCH(A41,'RF-Lançamentos'!D:D,0)))","v":""},null,{"$f":"SUMIFS('RF-Lançamentos'!F:F,'RF-Lançamentos'!D:D,A41,'RF-Lançamentos'!B:B,\"d\")-SUMIFS('RF-Lançamentos'!F:F,'RF-Lançamentos'!D:D,A41,'RF-Lançamentos'!B:B,\"r\")","v":0},0,null,null,0,null,null,0,null,0,0,null,null,null,null,null,null,"",{"$error":"#REF!"}]
[null,{"$f":"IF(A42=\"\",\"\",INDEX('RF-Lançamentos'!C:C,MATCH(A42,'RF-Lançamentos'!D:D,0)))","v":""},null,{"$f":"SUMIFS('RF-Lançamentos'!F:F,'RF-Lançamentos'!D:D,A42,'RF-Lançamentos'!B:B,\"d\")-SUMIFS('RF-Lançamentos'!F:F,'RF-Lançamentos'!D:D,A42,'RF-Lançamentos'!B:B,\"r\")","v":0},0,null,null,0,null,null,0,null,0,0,null,null,null,null,null,null,"",{"$error":"#REF!"}]
[null,{"$f":"IF(A43=\"\",\"\",INDEX('RF-Lançamentos'!C:C,MATCH(A43,'RF-Lançamentos'!D:D,0)))","v":""},null,{"$f":"SUMIFS('RF-Lançamentos'!F:F,'RF-Lançamentos'!D:D,A43,'RF-Lançamentos'!B:B,\"d\")-SUMIFS('RF-Lançamentos'!F:F,'RF-Lançamentos'!D:D,A43,'RF-Lançamentos'!B:B,\"r\")","v":0},0,null,null,0,null,null,0,null,0,0,null,null,null,null,null,null,"",{"$error":"#REF!"}]
[null,{"$f":"IF(A44=\"\",\"\",INDEX('RF-Lançamentos'!C:C,MATCH(A44,'RF-Lançamentos'!D:D,0)))","v":""},null,{"$f":"SUMIFS('RF-Lançamentos'!F:F,'RF-Lançamentos'!D:D,A44,'RF-Lançamentos'!B:B,\"d\")-SUMIFS('RF-Lançamentos'!F:F,'RF-Lançamentos'!D:D,A44,'RF-Lançamentos'!B:B,\"r\")","v":0},0,null,null,0,null,null,0,null,0,0,null,null,null,null,null,null,"",{"$error":"#REF!"}]
[null,{"$f":"IF(A45=\"\",\"\",INDEX('RF-Lançamentos'!C:C,MATCH(A45,'RF-Lançamentos'!D:D,0)))","v":""},null,{"$f":"SUMIFS('RF-Lançamentos'!F:F,'RF-Lançamentos'!D:D,A45,'RF-Lançamentos'!B:B,\"d\")-SUMIFS('RF-Lançamentos'!F:F,'RF-Lançamentos'!D:D,A45,'RF-Lançamentos'!B:B,\"r\")","v":0},0,null,null,0,null,null,0,null,0,0,null,null,null,null,null,null,"",{"$error":"#REF!"}]
[null,{"$f":"IF(A46=\"\",\"\",INDEX('RF-Lançamentos'!C:C,MATCH(A46,'RF-Lançamentos'!D:D,0)))","v":""},null,{"$f":"SUMIFS('RF-Lançamentos'!F:F,'RF-Lançamentos'!D:D,A46,'RF-Lançamentos'!B:B,\"d\")-SUMIFS('RF-Lançamentos'!F:F,'RF-Lançamentos'!D:D,A46,'RF-Lançamentos'!B:B,\"r\")","v":0},0,null,null,0,null,null,0,null,0,0,null,null,null,null,null,null,"",{"$error":"#REF!"}]
[null,{"$f":"IF(A47=\"\",\"\",INDEX('RF-Lançamentos'!C:C,MATCH(A47,'RF-Lançamentos'!D:D,0)))","v":""},null,{"$f":"SUMIFS('RF-Lançamentos'!F:F,'RF-Lançamentos'!D:D,A47,'RF-Lançamentos'!B:B,\"d\")-SUMIFS('RF-Lançamentos'!F:F,'RF-Lançamentos'!D:D,A47,'RF-Lançamentos'!B:B,\"r\")","v":0},0,null,null,0,null,null,0,null,0,0,null,null,null,null,null,null,"",{"$error":"#REF!"}]
[null,{"$f":"IF(A48=\"\",\"\",INDEX('RF-Lançamentos'!C:C,MATCH(A48,'RF-Lançamentos'!D:D,0)))","v":""},null,{"$f":"SUMIFS('RF-Lançamentos'!F:F,'RF-Lançamentos'!D:D,A48,'RF-Lançamentos'!B:B,\"d\")-SUMIFS('RF-Lançamentos'!F:F,'RF-Lançamentos'!D:D,A48,'RF-Lançamentos'!B:B,\"r\")","v":0},0,null,null,0,null,null,0,null,0,0,null,null,null,null,null,null,"",{"$error":"#REF!"}]
[null,{"$f":"IF(A49=\"\",\"\",INDEX('RF-Lançamentos'!C:C,MATCH(A49,'RF-Lançamentos'!D:D,0)))","v":""},null,{"$f":"SUMIFS('RF-Lançamentos'!F:F,'RF-Lançamentos'!D:D,A49,'RF-Lançamentos'!B:B,\"d\")-SUMIFS('RF-Lançamentos'!F:F,'RF-Lançamentos'!D:D,A49,'RF-Lançamentos'!B:B,\"r\")","v":0},0,null,null,0,null,null,0,null,0,0,null,null,null,null,null,null,"",{"$error":"#REF!"}]
[null,{"$f":"IF(A50=\"\",\"\",INDEX('RF-Lançamentos'!C:C,MATCH(A50,'RF-Lançamentos'!D:D,0)))","v":""},null,{"$f":"SUMIFS('RF-Lançamentos'!F:F,'RF-Lançamentos'!D:D,A50,'RF-Lançamentos'!B:B,\"d\")-SUMIFS('RF-Lançamentos'!F:F,'RF-Lançamentos'!D:D,A50,'RF-Lançamentos'!B:B,\"r\")","v":0},0,null,null,0,null,null,0,null,0,0,null,null,null,null,null,null,"",{"$error":"#REF!"}]
[null,{"$f":"IF(A51=\"\",\"\",INDEX('RF-Lançamentos'!C:C,MATCH(A51,'RF-Lançamentos'!D:D,0)))","v":""},null,{"$f":"SUMIFS('RF-Lançamentos'!F:F,'RF-Lançamentos'!D:D,A51,'RF-Lançamentos'!B:B,\"d\")-SUMIFS('RF-Lançamentos'!F:F,'RF-Lançamentos'!D:D,A51,'RF-Lançamentos'!B:B,\"r\")","v":0},0,null,null,0,null,null,0,null,0,0,null,null,null,null,null,null,"",{"$error":"#REF!"}]
[null,{"$f":"IF(A52=\"\",\"\",INDEX('RF-Lançamentos'!C:C,MATCH(A52,'RF-Lançamentos'!D:D,0)))","v":""},null,{"$f":"SUMIFS('RF-Lançamentos'!F:F,'RF-Lançamentos'!D:D,A52,'RF-Lançamentos'!B:B,\"d\")-SUMIFS('RF-Lançamentos'!F:F,'RF-Lançamentos'!D:D,A52,'RF-Lançamentos'!B:B,\"r\")","v":0},0,null,null,0,null,null,0,null,0,0,null,null,null,null,null,null,"",{"$error":"#REF!"}]
[null,{"$f":"IF(A53=\"\",\"\",INDEX('RF-Lançamentos'!C:C,MATCH(A53,'RF-Lançamentos'!D:D,0)))","v":""},null,{"$f":"SUMIFS('RF-Lançamentos'!F:F,'RF-Lançamentos'!D:D,A53,'RF-Lançamentos'!B:B,\"d\")-SUMIFS('RF-Lançamentos'!F:F,'RF-Lançamentos'!D:D,A53,'RF-Lançamentos'!B:B,\"r\")","v":0},0,null,null,0,null,null,0,null,0,0,null,null,null,null,null,null,"",{"$error":"#REF!"}]
[null,{"$f":"IF(A54=\"\",\"\",INDEX('RF-Lançamentos'!C:C,MATCH(A54,'RF-Lançamentos'!D:D,0)))","v":""},null,{"$f":"SUMIFS('RF-Lançamentos'!F:F,'RF-Lançamentos'!D:D,A54,'RF-Lançamentos'!B:B,\"d\")-SUMIFS('RF-Lançamentos'!F:F,'RF-Lançamentos'!D:D,A54,'RF-Lançamentos'!B:B,\"r\")","v":0},0,null,null,0,null,null,0,null,0,0,null,null,null,null,null,null,"",{"$error":"#REF!"}]
[null,{"$f":"IF(A55=\"\",\"\",INDEX('RF-Lançamentos'!C:C,MATCH(A55,'RF-Lançamentos'!D:D,0)))","v":""},null,{"$f":"SUMIFS('RF-Lançamentos'!F:F,'RF-Lançamentos'!D:D,A55,'RF-Lançamentos'!B:B,\"d\")-SUMIFS('RF-Lançamentos'!F:F,'RF-Lançamentos'!D:D,A55,'RF-Lançamentos'!B:B,\"r\")","v":0},0,null,null,0,null,null,0,null,0,0,null,null,null,null,null,null,"",{"$error":"#REF!"}]
[null,{"$f":"IF(A56=\"\",\"\",INDEX('RF-Lançamentos'!C:C,MATCH(A56,'RF-Lançamentos'!D:D,0)))","v":""},null,{"$f":"SUMIFS('RF-Lançamentos'!F:F,'RF-Lançamentos'!D:D,A56,'RF-Lançamentos'!B:B,\"d\")-SUMIFS('RF-Lançamentos'!F:F,'RF-Lançamentos'!D:D,A56,'RF-Lançamentos'!B:B,\"r\")","v":0},0,null,null,0,null,null,0,null,0,0,null,null,null,null,null,null,"",{"$error":"#REF!"}]
[null,{"$f":"IF(A57=\"\",\"\",INDEX('RF-Lançamentos'!C:C,MATCH(A57,'RF-Lançamentos'!D:D,0)))","v":""},null,{"$f":"SUMIFS('RF-Lançamentos'!F:F,'RF-Lançamentos'!D:D,A57,'RF-Lançamentos'!B:B,\"d\")-SUMIFS('RF-Lançamentos'!F:F,'RF-Lançamentos'!D:D,A57,'RF-Lançamentos'!B:B,\"r\")","v":0},0,null,null,0,null,null,0,null,0,0,null,null,null,null,null,null,"",{"$error":"#REF!"}]
[null,{"$f":"IF(A58=\"\",\"\",INDEX('RF-Lançamentos'!C:C,MATCH(A58,'RF-Lançamentos'!D:D,0)))","v":""},null,{"$f":"SUMIFS('RF-Lançamentos'!F:F,'RF-Lançamentos'!D:D,A58,'RF-Lançamentos'!B:B,\"d\")-SUMIFS('RF-Lançamentos'!F:F,'RF-Lançamentos'!D:D,A58,'RF-Lançamentos'!B:B,\"r\")","v":0},0,null,null,0,null,null,0,null,0,0,null,null,null,null,null,null,"",{"$error":"#REF!"}]
[null,{"$f":"IF(A59=\"\",\"\",INDEX('RF-Lançamentos'!C:C,MATCH(A59,'RF-Lançamentos'!D:D,0)))","v":""},null,{"$f":"SUMIFS('RF-Lançamentos'!F:F,'RF-Lançamentos'!D:D,A59,'RF-Lançamentos'!B:B,\"d\")-SUMIFS('RF-Lançamentos'!F:F,'RF-Lançamentos'!D:D,A59,'RF-Lançamentos'!B:B,\"r\")","v":0},0,null,null,0,null,null,0,null,0,0,null,null,null,null,null,null,"",{"$error":"#REF!"}]
[null,{"$f":"IF(A60=\"\",\"\",INDEX('RF-Lançamentos'!C:C,MATCH(A60,'RF-Lançamentos'!D:D,0)))","v":""},null,{"$f":"SUMIFS('RF-Lançamentos'!F:F,'RF-Lançamentos'!D:D,A60,'RF-Lançamentos'!B:B,\"d\")-SUMIFS('RF-Lançamentos'!F:F,'RF-Lançamentos'!D:D,A60,'RF-Lançamentos'!B:B,\"r\")","v":0},0,null,null,0,null,null,0,null,0,0,null,null,null,null,null,null,"",{"$error":"#REF!"}]
[null,{"$f":"IF(A61=\"\",\"\",INDEX('RF-Lançamentos'!C:C,MATCH(A61,'RF-Lançamentos'!D:D,0)))","v":""},null,{"$f":"SUMIFS('RF-Lançamentos'!F:F,'RF-Lançamentos'!D:D,A61,'RF-Lançamentos'!B:B,\"d\")-SUMIFS('RF-Lançamentos'!F:F,'RF-Lançamentos'!D:D,A61,'RF-Lançamentos'!B:B,\"r\")","v":0},0,null,null,0,null,null,0,null,0,0,null,null,null,null,null,null,"",{"$error":"#REF!"}]
[null,{"$f":"IF(A62=\"\",\"\",INDEX('RF-Lançamentos'!C:C,MATCH(A62,'RF-Lançamentos'!D:D,0)))","v":""},null,{"$f":"SUMIFS('RF-Lançamentos'!F:F,'RF-Lançamentos'!D:D,A62,'RF-Lançamentos'!B:B,\"d\")-SUMIFS('RF-Lançamentos'!F:F,'RF-Lançamentos'!D:D,A62,'RF-Lançamentos'!B:B,\"r\")","v":0},0,null,null,0,null,null,0,null,0,0,null,null,null,null,null,null,"",{"$error":"#REF!"}]
[null,{"$f":"IF(A63=\"\",\"\",INDEX('RF-Lançamentos'!C:C,MATCH(A63,'RF-Lançamentos'!D:D,0)))","v":""},null,{"$f":"SUMIFS('RF-Lançamentos'!F:F,'RF-Lançamentos'!D:D,A63,'RF-Lançamentos'!B:B,\"d\")-SUMIFS('RF-Lançamentos'!F:F,'RF-Lançamentos'!D:D,A63,'RF-Lançamentos'!B:B,\"r\")","v":0},0,null,null,0,null,null,0,null,0,0,null,null,null,null,null,null,"",{"$error":"#REF!"}]
[null,{"$f":"IF(A64=\"\",\"\",INDEX('RF-Lançamentos'!C:C,MATCH(A64,'RF-Lançamentos'!D:D,0)))","v":""},null,{"$f":"SUMIFS('RF-Lançamentos'!F:F,'RF-Lançamentos'!D:D,A64,'RF-Lançamentos'!B:B,\"d\")-SUMIFS('RF-Lançamentos'!F:F,'RF-Lançamentos'!D:D,A64,'RF-Lançamentos'!B:B,\"r\")","v":0},0,null,null,0,null,null,0,null,0,0,null,null,null,null,null,null,"",{"$error":"#REF!"}]
[null,{"$f":"IF(A65=\"\",\"\",INDEX('RF-Lançamentos'!C:C,MATCH(A65,'RF-Lançamentos'!D:D,0)))","v":""},null,{"$f":"SUMIFS('RF-Lançamentos'!F:F,'RF-Lançamentos'!D:D,A65,'RF-Lançamentos'!B:B,\"d\")-SUMIFS('RF-Lançamentos'!F:F,'RF-Lançamentos'!D:D,A65,'RF-Lançamentos'!B:B,\"r\")","v":0},0,null,null,0,null,null,0,null,0,0,null,null,null,null,null,null,"",{"$error":"#REF!"}]
[null,{"$f":"IF(A66=\"\",\"\",INDEX('RF-Lançamentos'!C:C,MATCH(A66,'RF-Lançamentos'!D:D,0)))","v":""},null,{"$f":"SUMIFS('RF-Lançamentos'!F:F,'RF-Lançamentos'!D:D,A66,'RF-Lançamentos'!B:B,\"d\")-SUMIFS('RF-Lançamentos'!F:F,'RF-Lançamentos'!D:D,A66,'RF-Lançamentos'!B:B,\"r\")","v":0},0,null,null,0,null,null,0,null,0,0,null,null,null,null,null,null,"",{"$error":"#REF!"}]
[null,{"$f":"IF(A67=\"\",\"\",INDEX('RF-Lançamentos'!C:C,MATCH(A67,'RF-Lançamentos'!D:D,0)))","v":""},null,{"$f":"SUMIFS('RF-Lançamentos'!F:F,'RF-Lançamentos'!D:D,A67,'RF-Lançamentos'!B:B,\"d\")-SUMIFS('RF-Lançamentos'!F:F,'RF-Lançamentos'!D:D,A67,'RF-Lançamentos'!B:B,\"r\")","v":0},0,null,null,0,null,null,0,null,0,0,null,null,null,null,null,null,"",{"$error":"#REF!"}]
[null,{"$f":"IF(A68=\"\",\"\",INDEX('RF-Lançamentos'!C:C,MATCH(A68,'RF-Lançamentos'!D:D,0)))","v":""},null,{"$f":"SUMIFS('RF-Lançamentos'!F:F,'RF-Lançamentos'!D:D,A68,'RF-Lançamentos'!B:B,\"d\")-SUMIFS('RF-Lançamentos'!F:F,'RF-Lançamentos'!D:D,A68,'RF-Lançamentos'!B:B,\"r\")","v":0},{"$f":"IF(OR(D68=\"\",$Q$9=0),0,D68/$Q$9)","v":0},null,null,{"$f":"IF(OR(G68=\"\",$Q$11=0),0,G68/$Q$11)","v":0},null,null,{"$f":"IF(OR(J68=\"\",H68=\"\",E68=\"\"),0,IF($J$2=\"% ATUAL\",J68-H68,J68-E68))","v":0},null,{"$f":"IF(G68=\"\",0,G68-D68)","v":0},{"$f":"IF(OR(D68=0),0,M68/D68)","v":0},null,null,null,null,null,null,"",{"$error":"#REF!"}]
[null,{"$f":"IF(A69=\"\",\"\",INDEX('RF-Lançamentos'!C:C,MATCH(A69,'RF-Lançamentos'!D:D,0)))","v":""},null,{"$f":"SUMIFS('RF-Lançamentos'!F:F,'RF-Lançamentos'!D:D,A69,'RF-Lançamentos'!B:B,\"d\")-SUMIFS('RF-Lançamentos'!F:F,'RF-Lançamentos'!D:D,A69,'RF-Lançamentos'!B:B,\"r\")","v":0},0,null,null,0,null,null,0,null,0,0,null,null,null,null,null,null,"",{"$error":"#REF!"}]
[null,{"$f":"IF(A70=\"\",\"\",INDEX('RF-Lançamentos'!C:C,MATCH(A70,'RF-Lançamentos'!D:D,0)))","v":""},null,{"$f":"SUMIFS('RF-Lançamentos'!F:F,'RF-Lançamentos'!D:D,A70,'RF-Lançamentos'!B:B,\"d\")-SUMIFS('RF-Lançamentos'!F:F,'RF-Lançamentos'!D:D,A70,'RF-Lançamentos'!B:B,\"r\")","v":0},0,null,null,0,null,null,0,null,0,0,null,null,null,null,null,null,"",{"$error":"#REF!"}]
[null,{"$f":"IF(A71=\"\",\"\",INDEX('RF-Lançamentos'!C:C,MATCH(A71,'RF-Lançamentos'!D:D,0)))","v":""},null,{"$f":"SUMIFS('RF-Lançamentos'!F:F,'RF-Lançamentos'!D:D,A71,'RF-Lançamentos'!B:B,\"d\")-SUMIFS('RF-Lançamentos'!F:F,'RF-Lançamentos'!D:D,A71,'RF-Lançamentos'!B:B,\"r\")","v":0},0,null,null,0,null,null,0,null,0,0,null,null,null,null,null,null,"",{"$error":"#REF!"}]
[null,{"$f":"IF(A72=\"\",\"\",INDEX('RF-Lançamentos'!C:C,MATCH(A72,'RF-Lançamentos'!D:D,0)))","v":""},null,{"$f":"SUMIFS('RF-Lançamentos'!F:F,'RF-Lançamentos'!D:D,A72,'RF-Lançamentos'!B:B,\"d\")-SUMIFS('RF-Lançamentos'!F:F,'RF-Lançamentos'!D:D,A72,'RF-Lançamentos'!B:B,\"r\")","v":0},0,null,null,0,null,null,0,null,0,0,null,null,null,null,null,null,"",{"$error":"#REF!"}]
[null,{"$f":"IF(A73=\"\",\"\",INDEX('RF-Lançamentos'!C:C,MATCH(A73,'RF-Lançamentos'!D:D,0)))","v":""},null,{"$f":"SUMIFS('RF-Lançamentos'!F:F,'RF-Lançamentos'!D:D,A73,'RF-Lançamentos'!B:B,\"d\")-SUMIFS('RF-Lançamentos'!F:F,'RF-Lançamentos'!D:D,A73,'RF-Lançamentos'!B:B,\"r\")","v":0},0,null,null,0,null,null,0,null,0,0,null,null,null,null,null,null,"",{"$error":"#REF!"}]
[null,{"$f":"IF(A74=\"\",\"\",INDEX('RF-Lançamentos'!C:C,MATCH(A74,'RF-Lançamentos'!D:D,0)))","v":""},null,{"$f":"SUMIFS('RF-Lançamentos'!F:F,'RF-Lançamentos'!D:D,A74,'RF-Lançamentos'!B:B,\"d\")-SUMIFS('RF-Lançamentos'!F:F,'RF-Lançamentos'!D:D,A74,'RF-Lançamentos'!B:B,\"r\")","v":0},0,null,null,0,null,null,0,null,0,0,null,null,null,null,null,null,"",{"$error":"#REF!"}]
[null,{"$f":"IF(A75=\"\",\"\",INDEX('RF-Lançamentos'!C:C,MATCH(A75,'RF-Lançamentos'!D:D,0)))","v":""},null,{"$f":"SUMIFS('RF-Lançamentos'!F:F,'RF-Lançamentos'!D:D,A75,'RF-Lançamentos'!B:B,\"d\")-SUMIFS('RF-Lançamentos'!F:F,'RF-Lançamentos'!D:D,A75,'RF-Lançamentos'!B:B,\"r\")","v":0},0,null,null,0,null,null,0,null,0,0,null,null,null,null,null,null,"",{"$error":"#REF!"}]
[null,{"$f":"IF(A76=\"\",\"\",INDEX('RF-Lançamentos'!C:C,MATCH(A76,'RF-Lançamentos'!D:D,0)))","v":""},null,{"$f":"SUMIFS('RF-Lançamentos'!F:F,'RF-Lançamentos'!D:D,A76,'RF-Lançamentos'!B:B,\"d\")-SUMIFS('RF-Lançamentos'!F:F,'RF-Lançamentos'!D:D,A76,'RF-Lançamentos'!B:B,\"r\")","v":0},0,null,null,0,null,null,0,null,0,0,null,null,null,null,null,null,"",{"$error":"#REF!"}]
[null,{"$f":"IF(A77=\"\",\"\",INDEX('RF-Lançamentos'!C:C,MATCH(A77,'RF-Lançamentos'!D:D,0)))","v":""},null,{"$f":"SUMIFS('RF-Lançamentos'!F:F,'RF-Lançamentos'!D:D,A77,'RF-Lançamentos'!B:B,\"d\")-SUMIFS('RF-Lançamentos'!F:F,'RF-Lançamentos'!D:D,A77,'RF-Lançamentos'!B:B,\"r\")","v":0},0,null,null,0,null,null,0,null,0,0,null,null,null,null,null,null,"",{"$error":"#REF!"}]
[null,{"$f":"IF(A78=\"\",\"\",INDEX('RF-Lançamentos'!C:C,MATCH(A78,'RF-Lançamentos'!D:D,0)))","v":""},null,{"$f":"SUMIFS('RF-Lançamentos'!F:F,'RF-Lançamentos'!D:D,A78,'RF-Lançamentos'!B:B,\"d\")-SUMIFS('RF-Lançamentos'!F:F,'RF-Lançamentos'!D:D,A78,'RF-Lançamentos'!B:B,\"r\")","v":0},0,null,null,0,null,null,0,null,0,0,null,null,null,null,null,null,{"$f":"IF(J78=\"\",\"\",J78-H78)","v":""},{"$f":"IF(OR($A425=\"TOTAL\",$A425=\"\"),\"\",$A425)","v":{"$error":"#REF!"}}]
[null,{"$f":"IF(A79=\"\",\"\",INDEX('RF-Lançamentos'!C:C,MATCH(A79,'RF-Lançamentos'!D:D,0)))","v":""},null,{"$f":"SUMIFS('RF-Lançamentos'!F:F,'RF-Lançamentos'!D:D,A79,'RF-Lançamentos'!B:B,\"d\")-SUMIFS('RF-Lançamentos'!F:F,'RF-Lançamentos'!D:D,A79,'RF-Lançamentos'!B:B,\"r\")","v":0},0,null,null,0,null,null,0,null,0,0,null,null,null,null,null,null,"",{"$error":"#REF!"}]
[null,{"$f":"IF(A80=\"\",\"\",INDEX('RF-Lançamentos'!C:C,MATCH(A80,'RF-Lançamentos'!D:D,0)))","v":""},null,{"$f":"SUMIFS('RF-Lançamentos'!F:F,'RF-Lançamentos'!D:D,A80,'RF-Lançamentos'!B:B,\"d\")-SUMIFS('RF-Lançamentos'!F:F,'RF-Lançamentos'!D:D,A80,'RF-Lançamentos'!B:B,\"r\")","v":0},0,null,null,0,null,null,0,null,0,0,null,null,null,null,null,null,"",{"$error":"#REF!"}]
[null,{"$f":"IF(A81=\"\",\"\",INDEX('RF-Lançamentos'!C:C,MATCH(A81,'RF-Lançamentos'!D:D,0)))","v":""},null,{"$f":"SUMIFS('RF-Lançamentos'!F:F,'RF-Lançamentos'!D:D,A81,'RF-Lançamentos'!B:B,\"d\")-SUMIFS('RF-Lançamentos'!F:F,'RF-Lançamentos'!D:D,A81,'RF-Lançamentos'!B:B,\"r\")","v":0},0,null,null,0,null,null,0,null,0,0,null,null,null,null,null,null,"",{"$error":"#REF!"}]
[null,{"$f":"IF(A82=\"\",\"\",INDEX('RF-Lançamentos'!C:C,MATCH(A82,'RF-Lançamentos'!D:D,0)))","v":""},null,{"$f":"SUMIFS('RF-Lançamentos'!F:F,'RF-Lançamentos'!D:D,A82,'RF-Lançamentos'!B:B,\"d\")-SUMIFS('RF-Lançamentos'!F:F,'RF-Lançamentos'!D:D,A82,'RF-Lançamentos'!B:B,\"r\")","v":0},0,null,null,0,null,null,0,null,0,0,null,null,null,null,null,null,"",{"$error":"#REF!"}]
[null,{"$f":"IF(A83=\"\",\"\",INDEX('RF-Lançamentos'!C:C,MATCH(A83,'RF-Lançamentos'!D:D,0)))","v":""},null,{"$f":"SUMIFS('RF-Lançamentos'!F:F,'RF-Lançamentos'!D:D,A83,'RF-Lançamentos'!B:B,\"d\")-SUMIFS('RF-Lançamentos'!F:F,'RF-Lançamentos'!D:D,A83,'RF-Lançamentos'!B:B,\"r\")","v":0},0,null,null,0,null,null,0,null,0,0,null,null,null,null,null,null,"",{"$error":"#REF!"}]
[null,{"$f":"IF(A84=\"\",\"\",INDEX('RF-Lançamentos'!C:C,MATCH(A84,'RF-Lançamentos'!D:D,0)))","v":""},null,{"$f":"SUMIFS('RF-Lançamentos'!F:F,'RF-Lançamentos'!D:D,A84,'RF-Lançamentos'!B:B,\"d\")-SUMIFS('RF-Lançamentos'!F:F,'RF-Lançamentos'!D:D,A84,'RF-Lançamentos'!B:B,\"r\")","v":0},0,null,null,0,null,null,0,null,0,0,null,null,null,null,null,null,"",{"$error":"#REF!"}]
[null,{"$f":"IF(A85=\"\",\"\",INDEX('RF-Lançamentos'!C:C,MATCH(A85,'RF-Lançamentos'!D:D,0)))","v":""},null,{"$f":"SUMIFS('RF-Lançamentos'!F:F,'RF-Lançamentos'!D:D,A85,'RF-Lançamentos'!B:B,\"d\")-SUMIFS('RF-Lançamentos'!F:F,'RF-Lançamentos'!D:D,A85,'RF-Lançamentos'!B:B,\"r\")","v":0},0,null,null,0,null,null,0,null,0,0,null,null,null,null,null,null,"",{"$error":"#REF!"}]
[null,{"$f":"IF(A86=\"\",\"\",INDEX('RF-Lançamentos'!C:C,MATCH(A86,'RF-Lançamentos'!D:D,0)))","v":""},null,{"$f":"SUMIFS('RF-Lançamentos'!F:F,'RF-Lançamentos'!D:D,A86,'RF-Lançamentos'!B:B,\"d\")-SUMIFS('RF-Lançamentos'!F:F,'RF-Lançamentos'!D:D,A86,'RF-Lançamentos'!B:B,\"r\")","v":0},0,null,null,0,null,null,0,null,0,0,null,null,null,null,null,null,"",{"$error":"#REF!"}]
[null,{"$f":"IF(A87=\"\",\"\",INDEX('RF-Lançamentos'!C:C,MATCH(A87,'RF-Lançamentos'!D:D,0)))","v":""},null,{"$f":"SUMIFS('RF-Lançamentos'!F:F,'RF-Lançamentos'!D:D,A87,'RF-Lançamentos'!B:B,\"d\")-SUMIFS('RF-Lançamentos'!F:F,'RF-Lançamentos'!D:D,A87,'RF-Lançamentos'!B:B,\"r\")","v":0},0,null,null,0,null,null,0,null,0,0,null,null,null,null,null,null,"",{"$error":"#REF!"}]
[null,{"$f":"IF(A88=\"\",\"\",INDEX('RF-Lançamentos'!C:C,MATCH(A88,'RF-Lançamentos'!D:D,0)))","v":""},null,{"$f":"SUMIFS('RF-Lançamentos'!F:F,'RF-Lançamentos'!D:D,A88,'RF-Lançamentos'!B:B,\"d\")-SUMIFS('RF-Lançamentos'!F:F,'RF-Lançamentos'!D:D,A88,'RF-Lançamentos'!B:B,\"r\")","v":0},0,null,null,0,null,null,0,null,0,0,null,null,null,null,null,null,"",{"$error":"#REF!"}]
[null,{"$f":"IF(A89=\"\",\"\",INDEX('RF-Lançamentos'!C:C,MATCH(A89,'RF-Lançamentos'!D:D,0)))","v":""},null,{"$f":"SUMIFS('RF-Lançamentos'!F:F,'RF-Lançamentos'!D:D,A89,'RF-Lançamentos'!B:B,\"d\")-SUMIFS('RF-Lançamentos'!F:F,'RF-Lançamentos'!D:D,A89,'RF-Lançamentos'!B:B,\"r\")","v":0},0,null,null,0,null,null,0,null,0,0,null,null,null,null,null,null,"",{"$error":"#REF!"}]
[null,{"$f":"IF(A90=\"\",\"\",INDEX('RF-Lançamentos'!C:C,MATCH(A90,'RF-Lançamentos'!D:D,0)))","v":""},null,{"$f":"SUMIFS('RF-Lançamentos'!F:F,'RF-Lançamentos'!D:D,A90,'RF-Lançamentos'!B:B,\"d\")-SUMIFS('RF-Lançamentos'!F:F,'RF-Lançamentos'!D:D,A90,'RF-Lançamentos'!B:B,\"r\")","v":0},0,null,null,0,null,null,0,null,0,0,null,null,null,null,null,null,"",{"$error":"#REF!"}]
[null,{"$f":"IF(A91=\"\",\"\",INDEX('RF-Lançamentos'!C:C,MATCH(A91,'RF-Lançamentos'!D:D,0)))","v":""},null,{"$f":"SUMIFS('RF-Lançamentos'!F:F,'RF-Lançamentos'!D:D,A91,'RF-Lançamentos'!B:B,\"d\")-SUMIFS('RF-Lançamentos'!F:F,'RF-Lançamentos'!D:D,A91,'RF-Lançamentos'!B:B,\"r\")","v":0},0,null,null,0,null,null,0,null,0,0,null,null,null,null,null,null,"",{"$error":"#REF!"}]
[null,{"$f":"IF(A92=\"\",\"\",INDEX('RF-Lançamentos'!C:C,MATCH(A92,'RF-Lançamentos'!D:D,0)))","v":""},null,{"$f":"SUMIFS('RF-Lançamentos'!F:F,'RF-Lançamentos'!D:D,A92,'RF-Lançamentos'!B:B,\"d\")-SUMIFS('RF-Lançamentos'!F:F,'RF-Lançamentos'!D:D,A92,'RF-Lançamentos'!B:B,\"r\")","v":0},0,null,null,0,null,null,0,null,0,0,null,null,null,null,null,null,"",{"$error":"#REF!"}]
[null,{"$f":"IF(A93=\"\",\"\",INDEX('RF-Lançamentos'!C:C,MATCH(A93,'RF-Lançamentos'!D:D,0)))","v":""},null,{"$f":"SUMIFS('RF-Lançamentos'!F:F,'RF-Lançamentos'!D:D,A93,'RF-Lançamentos'!B:B,\"d\")-SUMIFS('RF-Lançamentos'!F:F,'RF-Lançamentos'!D:D,A93,'RF-Lançamentos'!B:B,\"r\")","v":0},0,null,null,0,null,null,0,null,0,0,null,null,null,null,null,null,"",{"$error":"#REF!"}]
[null,{"$f":"IF(A94=\"\",\"\",INDEX('RF-Lançamentos'!C:C,MATCH(A94,'RF-Lançamentos'!D:D,0)))","v":""},null,{"$f":"SUMIFS('RF-Lançamentos'!F:F,'RF-Lançamentos'!D:D,A94,'RF-Lançamentos'!B:B,\"d\")-SUMIFS('RF-Lançamentos'!F:F,'RF-Lançamentos'!D:D,A94,'RF-Lançamentos'!B:B,\"r\")","v":0},0,null,null,0,null,null,0,null,0,0,null,null,null,null,null,null,"",{"$error":"#REF!"}]
[null,{"$f":"IF(A95=\"\",\"\",INDEX('RF-Lançamentos'!C:C,MATCH(A95,'RF-Lançamentos'!D:D,0)))","v":""},null,{"$f":"SUMIFS('RF-Lançamentos'!F:F,'RF-Lançamentos'!D:D,A95,'RF-Lançamentos'!B:B,\"d\")-SUMIFS('RF-Lançamentos'!F:F,'RF-Lançamentos'!D:D,A95,'RF-Lançamentos'!B:B,\"r\")","v":0},0,null,null,0,null,null,0,null,0,0,null,null,null,null,null,null,"",{"$error":"#REF!"}]
[null,{"$f":"IF(A96=\"\",\"\",INDEX('RF-Lançamentos'!C:C,MATCH(A96,'RF-Lançamentos'!D:D,0)))","v":""},null,{"$f":"SUMIFS('RF-Lançamentos'!F:F,'RF-Lançamentos'!D:D,A96,'RF-Lançamentos'!B:B,\"d\")-SUMIFS('RF-Lançamentos'!F:F,'RF-Lançamentos'!D:D,A96,'RF-Lançamentos'!B:B,\"r\")","v":0},0,null,null,0,null,null,0,null,0,0,null,null,null,null,null,null,"",{"$error":"#REF!"}]
[null,{"$f":"IF(A97=\"\",\"\",INDEX('RF-Lançamentos'!C:C,MATCH(A97,'RF-Lançamentos'!D:D,0)))","v":""},null,{"$f":"SUMIFS('RF-Lançamentos'!F:F,'RF-Lançamentos'!D:D,A97,'RF-Lançamentos'!B:B,\"d\")-SUMIFS('RF-Lançamentos'!F:F,'RF-Lançamentos'!D:D,A97,'RF-Lançamentos'!B:B,\"r\")","v":0},0,null,null,0,null,null,0,null,0,0,null,null,null,null,null,null,"",{"$error":"#REF!"}]
[null,{"$f":"IF(A98=\"\",\"\",INDEX('RF-Lançamentos'!C:C,MATCH(A98,'RF-Lançamentos'!D:D,0)))","v":""},null,{"$f":"SUMIFS('RF-Lançamentos'!F:F,'RF-Lançamentos'!D:D,A98,'RF-Lançamentos'!B:B,\"d\")-SUMIFS('RF-Lançamentos'!F:F,'RF-Lançamentos'!D:D,A98,'RF-Lançamentos'!B:B,\"r\")","v":0},0,null,null,0,null,null,0,null,0,0,null,null,null,null,null,null,"",{"$error":"#REF!"}]
[null,{"$f":"IF(A99=\"\",\"\",INDEX('RF-Lançamentos'!C:C,MATCH(A99,'RF-Lançamentos'!D:D,0)))","v":""},null,{"$f":"SUMIFS('RF-Lançamentos'!F:F,'RF-Lançamentos'!D:D,A99,'RF-Lançamentos'!B:B,\"d\")-SUMIFS('RF-Lançamentos'!F:F,'RF-Lançamentos'!D:D,A99,'RF-Lançamentos'!B:B,\"r\")","v":0},0,null,null,0,null,null,0,null,0,0,null,null,null,null,null,null,"",{"$error":"#REF!"}]
[null,{"$f":"IF(A100=\"\",\"\",INDEX('RF-Lançamentos'!C:C,MATCH(A100,'RF-Lançamentos'!D:D,0)))","v":""},null,{"$f":"SUMIFS('RF-Lançamentos'!F:F,'RF-Lançamentos'!D:D,A100,'RF-Lançamentos'!B:B,\"d\")-SUMIFS('RF-Lançamentos'!F:F,'RF-Lançamentos'!D:D,A100,'RF-Lançamentos'!B:B,\"r\")","v":0},0,null,null,0,null,null,0,null,0,0,null,null,null,null,null,null,"",{"$error":"#REF!"}]
[null,{"$f":"IF(A101=\"\",\"\",INDEX('RF-Lançamentos'!C:C,MATCH(A101,'RF-Lançamentos'!D:D,0)))","v":""},null,{"$f":"SUMIFS('RF-Lançamentos'!F:F,'RF-Lançamentos'!D:D,A101,'RF-Lançamentos'!B:B,\"d\")-SUMIFS('RF-Lançamentos'!F:F,'RF-Lançamentos'!D:D,A101,'RF-Lançamentos'!B:B,\"r\")","v":0},0,null,null,0,null,null,0,null,0,0,null,null,null,null,null,null,"",{"$error":"#REF!"}]
[null,{"$f":"IF(A102=\"\",\"\",INDEX('RF-Lançamentos'!C:C,MATCH(A102,'RF-Lançamentos'!D:D,0)))","v":""},null,{"$f":"SUMIFS('RF-Lançamentos'!F:F,'RF-Lançamentos'!D:D,A102,'RF-Lançamentos'!B:B,\"d\")-SUMIFS('RF-Lançamentos'!F:F,'RF-Lançamentos'!D:D,A102,'RF-Lançamentos'!B:B,\"r\")","v":0},0,null,null,0,null,null,0,null,0,0,null,null,null,null,null,null,"",{"$error":"#REF!"}]
[null,{"$f":"IF(A103=\"\",\"\",INDEX('RF-Lançamentos'!C:C,MATCH(A103,'RF-Lançamentos'!D:D,0)))","v":""},null,{"$f":"SUMIFS('RF-Lançamentos'!F:F,'RF-Lançamentos'!D:D,A103,'RF-Lançamentos'!B:B,\"d\")-SUMIFS('RF-Lançamentos'!F:F,'RF-Lançamentos'!D:D,A103,'RF-Lançamentos'!B:B,\"r\")","v":0},0,null,null,0,null,null,0,null,0,0,null,null,null,null,null,null,"",{"$error":"#REF!"}]
[null,{"$f":"IF(A104=\"\",\"\",INDEX('RF-Lançamentos'!C:C,MATCH(A104,'RF-Lançamentos'!D:D,0)))","v":""},null,{"$f":"SUMIFS('RF-Lançamentos'!F:F,'RF-Lançamentos'!D:D,A104,'RF-Lançamentos'!B:B,\"d\")-SUMIFS('RF-Lançamentos'!F:F,'RF-Lançamentos'!D:D,A104,'RF-Lançamentos'!B:B,\"r\")","v":0},0,null,null,0,null,null,0,null,0,0,null,null,null,null,null,null,"",{"$error":"#REF!"}]
[null,{"$f":"IF(A105=\"\",\"\",INDEX('RF-Lançamentos'!C:C,MATCH(A105,'RF-Lançamentos'!D:D,0)))","v":""},null,{"$f":"SUMIFS('RF-Lançamentos'!F:F,'RF-Lançamentos'!D:D,A105,'RF-Lançamentos'!B:B,\"d\")-SUMIFS('RF-Lançamentos'!F:F,'RF-Lançamentos'!D:D,A105,'RF-Lançamentos'!B:B,\"r\")","v":0},0,null,null,0,null,null,0,null,0,0,null,null,null,null,null,null,"",{"$error":"#REF!"}]
[null,{"$f":"IF(A106=\"\",\"\",INDEX('RF-Lançamentos'!C:C,MATCH(A106,'RF-Lançamentos'!D:D,0)))","v":""},null,{"$f":"SUMIFS('RF-Lançamentos'!F:F,'RF-Lançamentos'!D:D,A106,'RF-Lançamentos'!B:B,\"d\")-SUMIFS('RF-Lançamentos'!F:F,'RF-Lançamentos'!D:D,A106,'RF-Lançamentos'!B:B,\"r\")","v":0},0,null,null,0,null,null,0,null,0,0,null,null,null,null,null,null,"",{"$error":"#REF!"}]
[null,{"$f":"IF(A107=\"\",\"\",INDEX('RF-Lançamentos'!C:C,MATCH(A107,'RF-Lançamentos'!D:D,0)))","v":""},null,{"$f":"SUMIFS('RF-Lançamentos'!F:F,'RF-Lançamentos'!D:D,A107,'RF-Lançamentos'!B:B,\"d\")-SUMIFS('RF-Lançamentos'!F:F,'RF-Lançamentos'!D:D,A107,'RF-Lançamentos'!B:B,\"r\")","v":0},0,null,null,0,null,null,0,null,0,0,null,null,null,null,null,null,"",{"$error":"#REF!"}]
[null,{"$f":"IF(A108=\"\",\"\",INDEX('RF-Lançamentos'!C:C,MATCH(A108,'RF-Lançamentos'!D:D,0)))","v":""},null,{"$f":"SUMIFS('RF-Lançamentos'!F:F,'RF-Lançamentos'!D:D,A108,'RF-Lançamentos'!B:B,\"d\")-SUMIFS('RF-Lançamentos'!F:F,'RF-Lançamentos'!D:D,A108,'RF-Lançamentos'!B:B,\"r\")","v":0},0,null,null,0,null,null,0,null,0,0,null,null,null,null,null,null,"",{"$error":"#REF!"}]
[null,{"$f":"IF(A109=\"\",\"\",INDEX('RF-Lançamentos'!C:C,MATCH(A109,'RF-Lançamentos'!D:D,0)))","v":""},null,{"$f":"SUMIFS('RF-Lançamentos'!F:F,'RF-Lançamentos'!D:D,A109,'RF-Lançamentos'!B:B,\"d\")-SUMIFS('RF-Lançamentos'!F:F,'RF-Lançamentos'!D:D,A109,'RF-Lançamentos'!B:B,\"r\")","v":0},0,null,null,0,null,null,0,null,0,0,null,null,null,null,null,null,"",{"$error":"#REF!"}]
[null,{"$f":"IF(A110=\"\",\"\",INDEX('RF-Lançamentos'!C:C,MATCH(A110,'RF-Lançamentos'!D:D,0)))","v":""},null,{"$f":"SUMIFS('RF-Lançamentos'!F:F,'RF-Lançamentos'!D:D,A110,'RF-Lançamentos'!B:B,\"d\")-SUMIFS('RF-Lançamentos'!F:F,'RF-Lançamentos'!D:D,A110,'RF-Lançamentos'!B:B,\"r\")","v":0},0,null,null,0,null,null,0,null,0,0,null,null,null,null,null,null,"",{"$error":"#REF!"}]
[null,{"$f":"IF(A111=\"\",\"\",INDEX('RF-Lançamentos'!C:C,MATCH(A111,'RF-Lançamentos'!D:D,0)))","v":""},null,{"$f":"SUMIFS('RF-Lançamentos'!F:F,'RF-Lançamentos'!D:D,A111,'RF-Lançamentos'!B:B,\"d\")-SUMIFS('RF-Lançamentos'!F:F,'RF-Lançamentos'!D:D,A111,'RF-Lançamentos'!B:B,\"r\")","v":0},0,null,null,0,null,null,0,null,0,0,null,null,null,null,null,null,"",{"$error":"#REF!"}]
[null,{"$f":"IF(A112=\"\",\"\",INDEX('RF-Lançamentos'!C:C,MATCH(A112,'RF-Lançamentos'!D:D,0)))","v":""},null,{"$f":"SUMIFS('RF-Lançamentos'!F:F,'RF-Lançamentos'!D:D,A112,'RF-Lançamentos'!B:B,\"d\")-SUMIFS('RF-Lançamentos'!F:F,'RF-Lançamentos'!D:D,A112,'RF-Lançamentos'!B:B,\"r\")","v":0},0,null,null,0,null,null,0,null,0,0,null,null,null,null,null,null,"",{"$error":"#REF!"}]
[null,{"$f":"IF(A113=\"\",\"\",INDEX('RF-Lançamentos'!C:C,MATCH(A113,'RF-Lançamentos'!D:D,0)))","v":""},null,{"$f":"SUMIFS('RF-Lançamentos'!F:F,'RF-Lançamentos'!D:D,A113,'RF-Lançamentos'!B:B,\"d\")-SUMIFS('RF-Lançamentos'!F:F,'RF-Lançamentos'!D:D,A113,'RF-Lançamentos'!B:B,\"r\")","v":0},0,null,null,0,null,null,0,null,0,0,null,null,null,null,null,null,"",{"$error":"#REF!"}]
[null,{"$f":"IF(A114=\"\",\"\",INDEX('RF-Lançamentos'!C:C,MATCH(A114,'RF-Lançamentos'!D:D,0)))","v":""},null,{"$f":"SUMIFS('RF-Lançamentos'!F:F,'RF-Lançamentos'!D:D,A114,'RF-Lançamentos'!B:B,\"d\")-SUMIFS('RF-Lançamentos'!F:F,'RF-Lançamentos'!D:D,A114,'RF-Lançamentos'!B:B,\"r\")","v":0},0,null,null,0,null,null,0,null,0,0,null,null,null,null,null,null,"",{"$error":"#REF!"}]
[null,{"$f":"IF(A115=\"\",\"\",INDEX('RF-Lançamentos'!C:C,MATCH(A115,'RF-Lançamentos'!D:D,0)))","v":""},null,{"$f":"SUMIFS('RF-Lançamentos'!F:F,'RF-Lançamentos'!D:D,A115,'RF-Lançamentos'!B:B,\"d\")-SUMIFS('RF-Lançamentos'!F:F,'RF-Lançamentos'!D:D,A115,'RF-Lançamentos'!B:B,\"r\")","v":0},0,null,null,0,null,null,0,null,0,0,null,null,null,null,null,null,"",{"$error":"#REF!"}]
[null,{"$f":"IF(A116=\"\",\"\",INDEX('RF-Lançamentos'!C:C,MATCH(A116,'RF-Lançamentos'!D:D,0)))","v":""},null,{"$f":"SUMIFS('RF-Lançamentos'!F:F,'RF-Lançamentos'!D:D,A116,'RF-Lançamentos'!B:B,\"d\")-SUMIFS('RF-Lançamentos'!F:F,'RF-Lançamentos'!D:D,A116,'RF-Lançamentos'!B:B,\"r\")","v":0},0,null,null,0,null,null,0,null,0,0,null,null,null,null,null,null,"",{"$error":"#REF!"}]
[null,{"$f":"IF(A117=\"\",\"\",INDEX('RF-Lançamentos'!C:C,MATCH(A117,'RF-Lançamentos'!D:D,0)))","v":""},null,{"$f":"SUMIFS('RF-Lançamentos'!F:F,'RF-Lançamentos'!D:D,A117,'RF-Lançamentos'!B:B,\"d\")-SUMIFS('RF-Lançamentos'!F:F,'RF-Lançamentos'!D:D,A117,'RF-Lançamentos'!B:B,\"r\")","v":0},0,null,null,0,null,null,0,null,0,0,null,null,null,null,null,null,"",{"$error":"#REF!"}]
[null,{"$f":"IF(A118=\"\",\"\",INDEX('RF-Lançamentos'!C:C,MATCH(A118,'RF-Lançamentos'!D:D,0)))","v":""},null,{"$f":"SUMIFS('RF-Lançamentos'!F:F,'RF-Lançamentos'!D:D,A118,'RF-Lançamentos'!B:B,\"d\")-SUMIFS('RF-Lançamentos'!F:F,'RF-Lançamentos'!D:D,A118,'RF-Lançamentos'!B:B,\"r\")","v":0},0,null,null,0,null,null,0,null,0,0,null,null,null,null,null,null,"",{"$error":"#REF!"}]
[null,{"$f":"IF(A119=\"\",\"\",INDEX('RF-Lançamentos'!C:C,MATCH(A119,'RF-Lançamentos'!D:D,0)))","v":""},null,{"$f":"SUMIFS('RF-Lançamentos'!F:F,'RF-Lançamentos'!D:D,A119,'RF-Lançamentos'!B:B,\"d\")-SUMIFS('RF-Lançamentos'!F:F,'RF-Lançamentos'!D:D,A119,'RF-Lançamentos'!B:B,\"r\")","v":0},0,null,null,0,null,null,0,null,0,0,null,null,null,null,null,null,"",{"$error":"#REF!"}]
[null,{"$f":"IF(A120=\"\",\"\",INDEX('RF-Lançamentos'!C:C,MATCH(A120,'RF-Lançamentos'!D:D,0)))","v":""},null,{"$f":"SUMIFS('RF-Lançamentos'!F:F,'RF-Lançamentos'!D:D,A120,'RF-Lançamentos'!B:B,\"d\")-SUMIFS('RF-Lançamentos'!F:F,'RF-Lançamentos'!D:D,A120,'RF-Lançamentos'!B:B,\"r\")","v":0},0,null,null,0,null,null,0,null,0,0,null,null,null,null,null,null,"",{"$error":"#REF!"}]
[null,{"$f":"IF(A121=\"\",\"\",INDEX('RF-Lançamentos'!C:C,MATCH(A121,'RF-Lançamentos'!D:D,0)))","v":""},null,{"$f":"SUMIFS('RF-Lançamentos'!F:F,'RF-Lançamentos'!D:D,A121,'RF-Lançamentos'!B:B,\"d\")-SUMIFS('RF-Lançamentos'!F:F,'RF-Lançamentos'!D:D,A121,'RF-Lançamentos'!B:B,\"r\")","v":0},0,null,null,0,null,null,0,null,0,0,null,null,null,null,null,null,"",{"$error":"#REF!"}]
[null,{"$f":"IF(A122=\"\",\"\",INDEX('RF-Lançamentos'!C:C,MATCH(A122,'RF-Lançamentos'!D:D,0)))","v":""},null,{"$f":"SUMIFS('RF-Lançamentos'!F:F,'RF-Lançamentos'!D:D,A122,'RF-Lançamentos'!B:B,\"d\")-SUMIFS('RF-Lançamentos'!F:F,'RF-Lançamentos'!D:D,A122,'RF-Lançamentos'!B:B,\"r\")","v":0},0,null,null,0,null,null,0,null,0,0,null,null,null,null,null,null,"",{"$error":"#REF!"}]
[null,{"$f":"IF(A123=\"\",\"\",INDEX('RF-Lançamentos'!C:C,MATCH(A123,'RF-Lançamentos'!D:D,0)))","v":""},null,{"$f":"SUMIFS('RF-Lançamentos'!F:F,'RF-Lançamentos'!D:D,A123,'RF-Lançamentos'!B:B,\"d\")-SUMIFS('RF-Lançamentos'!F:F,'RF-Lançamentos'!D:D,A123,'RF-Lançamentos'!B:B,\"r\")","v":0},0,null,null,0,null,null,0,null,0,0,null,null,null,null,null,null,"",{"$error":"#REF!"}]
[null,{"$f":"IF(A124=\"\",\"\",INDEX('RF-Lançamentos'!C:C,MATCH(A124,'RF-Lançamentos'!D:D,0)))","v":""},null,{"$f":"SUMIFS('RF-Lançamentos'!F:F,'RF-Lançamentos'!D:D,A124,'RF-Lançamentos'!B:B,\"d\")-SUMIFS('RF-Lançamentos'!F:F,'RF-Lançamentos'!D:D,A124,'RF-Lançamentos'!B:B,\"r\")","v":0},0,null,null,0,null,null,0,null,0,0,null,null,null,null,null,null,"",{"$error":"#REF!"}]
[null,{"$f":"IF(A125=\"\",\"\",INDEX('RF-Lançamentos'!C:C,MATCH(A125,'RF-Lançamentos'!D:D,0)))","v":""},null,{"$f":"SUMIFS('RF-Lançamentos'!F:F,'RF-Lançamentos'!D:D,A125,'RF-Lançamentos'!B:B,\"d\")-SUMIFS('RF-Lançamentos'!F:F,'RF-Lançamentos'!D:D,A125,'RF-Lançamentos'!B:B,\"r\")","v":0},0,null,null,0,null,null,0,null,0,0,null,null,null,null,null,null,"",{"$error":"#REF!"}]
[null,{"$f":"IF(A126=\"\",\"\",INDEX('RF-Lançamentos'!C:C,MATCH(A126,'RF-Lançamentos'!D:D,0)))","v":""},null,{"$f":"SUMIFS('RF-Lançamentos'!F:F,'RF-Lançamentos'!D:D,A126,'RF-Lançamentos'!B:B,\"d\")-SUMIFS('RF-Lançamentos'!F:F,'RF-Lançamentos'!D:D,A126,'RF-Lançamentos'!B:B,\"r\")","v":0},0,null,null,0,null,null,0,null,0,0,null,null,null,null,null,null,"",{"$error":"#REF!"}]
[null,{"$f":"IF(A127=\"\",\"\",INDEX('RF-Lançamentos'!C:C,MATCH(A127,'RF-Lançamentos'!D:D,0)))","v":""},null,{"$f":"SUMIFS('RF-Lançamentos'!F:F,'RF-Lançamentos'!D:D,A127,'RF-Lançamentos'!B:B,\"d\")-SUMIFS('RF-Lançamentos'!F:F,'RF-Lançamentos'!D:D,A127,'RF-Lançamentos'!B:B,\"r\")","v":0},0,null,null,0,null,null,0,null,0,0,null,null,null,null,null,null,"",{"$error":"#REF!"}]
[null,{"$f":"IF(A128=\"\",\"\",INDEX('RF-Lançamentos'!C:C,MATCH(A128,'RF-Lançamentos'!D:D,0)))","v":""},null,{"$f":"SUMIFS('RF-Lançamentos'!F:F,'RF-Lançamentos'!D:D,A128,'RF-Lançamentos'!B:B,\"d\")-SUMIFS('RF-Lançamentos'!F:F,'RF-Lançamentos'!D:D,A128,'RF-Lançamentos'!B:B,\"r\")","v":0},0,null,null,0,null,null,0,null,0,0,null,null,null,null,null,null,"",{"$error":"#REF!"}]
[null,{"$f":"IF(A129=\"\",\"\",INDEX('RF-Lançamentos'!C:C,MATCH(A129,'RF-Lançamentos'!D:D,0)))","v":""},null,{"$f":"SUMIFS('RF-Lançamentos'!F:F,'RF-Lançamentos'!D:D,A129,'RF-Lançamentos'!B:B,\"d\")-SUMIFS('RF-Lançamentos'!F:F,'RF-Lançamentos'!D:D,A129,'RF-Lançamentos'!B:B,\"r\")","v":0},0,null,null,0,null,null,0,null,0,0,null,null,null,null,null,null,"",{"$error":"#REF!"}]
[null,{"$f":"IF(A130=\"\",\"\",INDEX('RF-Lançamentos'!C:C,MATCH(A130,'RF-Lançamentos'!D:D,0)))","v":""},null,{"$f":"SUMIFS('RF-Lançamentos'!F:F,'RF-Lançamentos'!D:D,A130,'RF-Lançamentos'!B:B,\"d\")-SUMIFS('RF-Lançamentos'!F:F,'RF-Lançamentos'!D:D,A130,'RF-Lançamentos'!B:B,\"r\")","v":0},0,null,null,0,null,null,0,null,0,0,null,null,null,null,null,null,"",{"$error":"#REF!"}]
[null,{"$f":"IF(A131=\"\",\"\",INDEX('RF-Lançamentos'!C:C,MATCH(A131,'RF-Lançamentos'!D:D,0)))","v":""},null,{"$f":"SUMIFS('RF-Lançamentos'!F:F,'RF-Lançamentos'!D:D,A131,'RF-Lançamentos'!B:B,\"d\")-SUMIFS('RF-Lançamentos'!F:F,'RF-Lançamentos'!D:D,A131,'RF-Lançamentos'!B:B,\"r\")","v":0},0,null,null,0,null,null,0,null,0,0,null,null,null,null,null,null,"",{"$error":"#REF!"}]
[null,{"$f":"IF(A132=\"\",\"\",INDEX('RF-Lançamentos'!C:C,MATCH(A132,'RF-Lançamentos'!D:D,0)))","v":""},null,{"$f":"SUMIFS('RF-Lançamentos'!F:F,'RF-Lançamentos'!D:D,A132,'RF-Lançamentos'!B:B,\"d\")-SUMIFS('RF-Lançamentos'!F:F,'RF-Lançamentos'!D:D,A132,'RF-Lançamentos'!B:B,\"r\")","v":0},{"$f":"IF(OR(D132=\"\",$Q$9=0),0,D132/$Q$9)","v":0},null,null,{"$f":"IF(OR(G132=\"\",$Q$11=0),0,G132/$Q$11)","v":0},null,null,{"$f":"IF(OR(J132=\"\",H132=\"\",E132=\"\"),0,IF($J$2=\"% ATUAL\",J132-H132,J132-E132))","v":0},null,{"$f":"IF(G132=\"\",0,G132-D132)","v":0},{"$f":"IF(OR(D132=0),0,M132/D132)","v":0},null,null,null,null,null,null,"",{"$error":"#REF!"}]
[null,{"$f":"IF(A133=\"\",\"\",INDEX('RF-Lançamentos'!C:C,MATCH(A133,'RF-Lançamentos'!D:D,0)))","v":""},null,{"$f":"SUMIFS('RF-Lançamentos'!F:F,'RF-Lançamentos'!D:D,A133,'RF-Lançamentos'!B:B,\"d\")-SUMIFS('RF-Lançamentos'!F:F,'RF-Lançamentos'!D:D,A133,'RF-Lançamentos'!B:B,\"r\")","v":0},0,null,null,0,null,null,0,null,0,0,null,null,null,null,null,null,"",{"$error":"#REF!"}]
[null,{"$f":"IF(A134=\"\",\"\",INDEX('RF-Lançamentos'!C:C,MATCH(A134,'RF-Lançamentos'!D:D,0)))","v":""},null,{"$f":"SUMIFS('RF-Lançamentos'!F:F,'RF-Lançamentos'!D:D,A134,'RF-Lançamentos'!B:B,\"d\")-SUMIFS('RF-Lançamentos'!F:F,'RF-Lançamentos'!D:D,A134,'RF-Lançamentos'!B:B,\"r\")","v":0},0,null,null,0,null,null,0,null,0,0,null,null,null,null,null,null,"",{"$error":"#REF!"}]
[null,{"$f":"IF(A135=\"\",\"\",INDEX('RF-Lançamentos'!C:C,MATCH(A135,'RF-Lançamentos'!D:D,0)))","v":""},null,{"$f":"SUMIFS('RF-Lançamentos'!F:F,'RF-Lançamentos'!D:D,A135,'RF-Lançamentos'!B:B,\"d\")-SUMIFS('RF-Lançamentos'!F:F,'RF-Lançamentos'!D:D,A135,'RF-Lançamentos'!B:B,\"r\")","v":0},0,null,null,0,null,null,0,null,0,0,null,null,null,null,null,null,"",{"$error":"#REF!"}]
[null,{"$f":"IF(A136=\"\",\"\",INDEX('RF-Lançamentos'!C:C,MATCH(A136,'RF-Lançamentos'!D:D,0)))","v":""},null,{"$f":"SUMIFS('RF-Lançamentos'!F:F,'RF-Lançamentos'!D:D,A136,'RF-Lançamentos'!B:B,\"d\")-SUMIFS('RF-Lançamentos'!F:F,'RF-Lançamentos'!D:D,A136,'RF-Lançamentos'!B:B,\"r\")","v":0},0,null,null,0,null,null,0,null,0,0,null,null,null,null,null,null,"",{"$error":"#REF!"}]
[null,{"$f":"IF(A137=\"\",\"\",INDEX('RF-Lançamentos'!C:C,MATCH(A137,'RF-Lançamentos'!D:D,0)))","v":""},null,{"$f":"SUMIFS('RF-Lançamentos'!F:F,'RF-Lançamentos'!D:D,A137,'RF-Lançamentos'!B:B,\"d\")-SUMIFS('RF-Lançamentos'!F:F,'RF-Lançamentos'!D:D,A137,'RF-Lançamentos'!B:B,\"r\")","v":0},0,null,null,0,null,null,0,null,0,0,null,null,null,null,null,null,"",{"$error":"#REF!"}]
[null,{"$f":"IF(A138=\"\",\"\",INDEX('RF-Lançamentos'!C:C,MATCH(A138,'RF-Lançamentos'!D:D,0)))","v":""},null,{"$f":"SUMIFS('RF-Lançamentos'!F:F,'RF-Lançamentos'!D:D,A138,'RF-Lançamentos'!B:B,\"d\")-SUMIFS('RF-Lançamentos'!F:F,'RF-Lançamentos'!D:D,A138,'RF-Lançamentos'!B:B,\"r\")","v":0},0,null,null,0,null,null,0,null,0,0,null,null,null,null,null,null,"",{"$error":"#REF!"}]
[null,{"$f":"IF(A139=\"\",\"\",INDEX('RF-Lançamentos'!C:C,MATCH(A139,'RF-Lançamentos'!D:D,0)))","v":""},null,{"$f":"SUMIFS('RF-Lançamentos'!F:F,'RF-Lançamentos'!D:D,A139,'RF-Lançamentos'!B:B,\"d\")-SUMIFS('RF-Lançamentos'!F:F,'RF-Lançamentos'!D:D,A139,'RF-Lançamentos'!B:B,\"r\")","v":0},0,null,null,0,null,null,0,null,0,0,null,null,null,null,null,null,"",{"$error":"#REF!"}]
[null,{"$f":"IF(A140=\"\",\"\",INDEX('RF-Lançamentos'!C:C,MATCH(A140,'RF-Lançamentos'!D:D,0)))","v":""},null,{"$f":"SUMIFS('RF-Lançamentos'!F:F,'RF-Lançamentos'!D:D,A140,'RF-Lançamentos'!B:B,\"d\")-SUMIFS('RF-Lançamentos'!F:F,'RF-Lançamentos'!D:D,A140,'RF-Lançamentos'!B:B,\"r\")","v":0},0,null,null,0,null,null,0,null,0,0,null,null,null,null,null,null,"",{"$error":"#REF!"}]
[null,{"$f":"IF(A141=\"\",\"\",INDEX('RF-Lançamentos'!C:C,MATCH(A141,'RF-Lançamentos'!D:D,0)))","v":""},null,{"$f":"SUMIFS('RF-Lançamentos'!F:F,'RF-Lançamentos'!D:D,A141,'RF-Lançamentos'!B:B,\"d\")-SUMIFS('RF-Lançamentos'!F:F,'RF-Lançamentos'!D:D,A141,'RF-Lançamentos'!B:B,\"r\")","v":0},0,null,null,0,null,null,0,null,0,0,null,null,null,null,null,null,"",{"$error":"#REF!"}]
[null,{"$f":"IF(A142=\"\",\"\",INDEX('RF-Lançamentos'!C:C,MATCH(A142,'RF-Lançamentos'!D:D,0)))","v":""},null,{"$f":"SUMIFS('RF-Lançamentos'!F:F,'RF-Lançamentos'!D:D,A142,'RF-Lançamentos'!B:B,\"d\")-SUMIFS('RF-Lançamentos'!F:F,'RF-Lançamentos'!D:D,A142,'RF-Lançamentos'!B:B,\"r\")","v":0},0,null,null,0,null,null,0,null,0,0,null,null,null,null,null,null,{"$f":"IF(J142=\"\",\"\",J142-H142)","v":""},{"$f":"IF(OR($A489=\"TOTAL\",$A489=\"\"),\"\",$A489)","v":{"$error":"#REF!"}}]
[null,{"$f":"IF(A143=\"\",\"\",INDEX('RF-Lançamentos'!C:C,MATCH(A143,'RF-Lançamentos'!D:D,0)))","v":""},null,{"$f":"SUMIFS('RF-Lançamentos'!F:F,'RF-Lançamentos'!D:D,A143,'RF-Lançamentos'!B:B,\"d\")-SUMIFS('RF-Lançamentos'!F:F,'RF-Lançamentos'!D:D,A143,'RF-Lançamentos'!B:B,\"r\")","v":0},0,null,null,0,null,null,0,null,0,0,null,null,null,null,null,null,"",{"$error":"#REF!"}]
[null,{"$f":"IF(A144=\"\",\"\",INDEX('RF-Lançamentos'!C:C,MATCH(A144,'RF-Lançamentos'!D:D,0)))","v":""},null,{"$f":"SUMIFS('RF-Lançamentos'!F:F,'RF-Lançamentos'!D:D,A144,'RF-Lançamentos'!B:B,\"d\")-SUMIFS('RF-Lançamentos'!F:F,'RF-Lançamentos'!D:D,A144,'RF-Lançamentos'!B:B,\"r\")","v":0},0,null,null,0,null,null,0,null,0,0,null,null,null,null,null,null,"",{"$error":"#REF!"}]
[null,{"$f":"IF(A145=\"\",\"\",INDEX('RF-Lançamentos'!C:C,MATCH(A145,'RF-Lançamentos'!D:D,0)))","v":""},null,{"$f":"SUMIFS('RF-Lançamentos'!F:F,'RF-Lançamentos'!D:D,A145,'RF-Lançamentos'!B:B,\"d\")-SUMIFS('RF-Lançamentos'!F:F,'RF-Lançamentos'!D:D,A145,'RF-Lançamentos'!B:B,\"r\")","v":0},0,null,null,0,null,null,0,null,0,0,null,null,null,null,null,null,"",{"$error":"#REF!"}]
[null,{"$f":"IF(A146=\"\",\"\",INDEX('RF-Lançamentos'!C:C,MATCH(A146,'RF-Lançamentos'!D:D,0)))","v":""},null,{"$f":"SUMIFS('RF-Lançamentos'!F:F,'RF-Lançamentos'!D:D,A146,'RF-Lançamentos'!B:B,\"d\")-SUMIFS('RF-Lançamentos'!F:F,'RF-Lançamentos'!D:D,A146,'RF-Lançamentos'!B:B,\"r\")","v":0},0,null,null,0,null,null,0,null,0,0,null,null,null,null,null,null,"",{"$error":"#REF!"}]
[null,{"$f":"IF(A147=\"\",\"\",INDEX('RF-Lançamentos'!C:C,MATCH(A147,'RF-Lançamentos'!D:D,0)))","v":""},null,{"$f":"SUMIFS('RF-Lançamentos'!F:F,'RF-Lançamentos'!D:D,A147,'RF-Lançamentos'!B:B,\"d\")-SUMIFS('RF-Lançamentos'!F:F,'RF-Lançamentos'!D:D,A147,'RF-Lançamentos'!B:B,\"r\")","v":0},0,null,null,0,null,null,0,null,0,0,null,null,null,null,null,null,"",{"$error":"#REF!"}]
[null,{"$f":"IF(A148=\"\",\"\",INDEX('RF-Lançamentos'!C:C,MATCH(A148,'RF-Lançamentos'!D:D,0)))","v":""},null,{"$f":"SUMIFS('RF-Lançamentos'!F:F,'RF-Lançamentos'!D:D,A148,'RF-Lançamentos'!B:B,\"d\")-SUMIFS('RF-Lançamentos'!F:F,'RF-Lançamentos'!D:D,A148,'RF-Lançamentos'!B:B,\"r\")","v":0},0,null,null,0,null,null,0,null,0,0,null,null,null,null,null,null,"",{"$error":"#REF!"}]
[null,{"$f":"IF(A149=\"\",\"\",INDEX('RF-Lançamentos'!C:C,MATCH(A149,'RF-Lançamentos'!D:D,0)))","v":""},null,{"$f":"SUMIFS('RF-Lançamentos'!F:F,'RF-Lançamentos'!D:D,A149,'RF-Lançamentos'!B:B,\"d\")-SUMIFS('RF-Lançamentos'!F:F,'RF-Lançamentos'!D:D,A149,'RF-Lançamentos'!B:B,\"r\")","v":0},0,null,null,0,null,null,0,null,0,0,null,null,null,null,null,null,"",{"$error":"#REF!"}]
[null,{"$f":"IF(A150=\"\",\"\",INDEX('RF-Lançamentos'!C:C,MATCH(A150,'RF-Lançamentos'!D:D,0)))","v":""},null,{"$f":"SUMIFS('RF-Lançamentos'!F:F,'RF-Lançamentos'!D:D,A150,'RF-Lançamentos'!B:B,\"d\")-SUMIFS('RF-Lançamentos'!F:F,'RF-Lançamentos'!D:D,A150,'RF-Lançamentos'!B:B,\"r\")","v":0},0,null,null,0,null,null,0,null,0,0,null,null,null,null,null,null,"",{"$error":"#REF!"}]
[null,{"$f":"IF(A151=\"\",\"\",INDEX('RF-Lançamentos'!C:C,MATCH(A151,'RF-Lançamentos'!D:D,0)))","v":""},null,{"$f":"SUMIFS('RF-Lançamentos'!F:F,'RF-Lançamentos'!D:D,A151,'RF-Lançamentos'!B:B,\"d\")-SUMIFS('RF-Lançamentos'!F:F,'RF-Lançamentos'!D:D,A151,'RF-Lançamentos'!B:B,\"r\")","v":0},0,null,null,0,null,null,0,null,0,0,null,null,null,null,null,null,"",{"$error":"#REF!"}]
[null,{"$f":"IF(A152=\"\",\"\",INDEX('RF-Lançamentos'!C:C,MATCH(A152,'RF-Lançamentos'!D:D,0)))","v":""},null,{"$f":"SUMIFS('RF-Lançamentos'!F:F,'RF-Lançamentos'!D:D,A152,'RF-Lançamentos'!B:B,\"d\")-SUMIFS('RF-Lançamentos'!F:F,'RF-Lançamentos'!D:D,A152,'RF-Lançamentos'!B:B,\"r\")","v":0},0,null,null,0,null,null,0,null,0,0,null,null,null,null,null,null,"",{"$error":"#REF!"}]
[null,{"$f":"IF(A153=\"\",\"\",INDEX('RF-Lançamentos'!C:C,MATCH(A153,'RF-Lançamentos'!D:D,0)))","v":""},null,{"$f":"SUMIFS('RF-Lançamentos'!F:F,'RF-Lançamentos'!D:D,A153,'RF-Lançamentos'!B:B,\"d\")-SUMIFS('RF-Lançamentos'!F:F,'RF-Lançamentos'!D:D,A153,'RF-Lançamentos'!B:B,\"r\")","v":0},0,null,null,0,null,null,0,null,0,0,null,null,null,null,null,null,"",{"$error":"#REF!"}]
[null,{"$f":"IF(A154=\"\",\"\",INDEX('RF-Lançamentos'!C:C,MATCH(A154,'RF-Lançamentos'!D:D,0)))","v":""},null,{"$f":"SUMIFS('RF-Lançamentos'!F:F,'RF-Lançamentos'!D:D,A154,'RF-Lançamentos'!B:B,\"d\")-SUMIFS('RF-Lançamentos'!F:F,'RF-Lançamentos'!D:D,A154,'RF-Lançamentos'!B:B,\"r\")","v":0},0,null,null,0,null,null,0,null,0,0,null,null,null,null,null,null,"",{"$error":"#REF!"}]
[null,{"$f":"IF(A155=\"\",\"\",INDEX('RF-Lançamentos'!C:C,MATCH(A155,'RF-Lançamentos'!D:D,0)))","v":""},null,{"$f":"SUMIFS('RF-Lançamentos'!F:F,'RF-Lançamentos'!D:D,A155,'RF-Lançamentos'!B:B,\"d\")-SUMIFS('RF-Lançamentos'!F:F,'RF-Lançamentos'!D:D,A155,'RF-Lançamentos'!B:B,\"r\")","v":0},0,null,null,0,null,null,0,null,0,0,null,null,null,null,null,null,"",{"$error":"#REF!"}]
[null,{"$f":"IF(A156=\"\",\"\",INDEX('RF-Lançamentos'!C:C,MATCH(A156,'RF-Lançamentos'!D:D,0)))","v":""},null,{"$f":"SUMIFS('RF-Lançamentos'!F:F,'RF-Lançamentos'!D:D,A156,'RF-Lançamentos'!B:B,\"d\")-SUMIFS('RF-Lançamentos'!F:F,'RF-Lançamentos'!D:D,A156,'RF-Lançamentos'!B:B,\"r\")","v":0},0,null,null,0,null,null,0,null,0,0,null,null,null,null,null,null,"",{"$error":"#REF!"}]
[null,{"$f":"IF(A157=\"\",\"\",INDEX('RF-Lançamentos'!C:C,MATCH(A157,'RF-Lançamentos'!D:D,0)))","v":""},null,{"$f":"SUMIFS('RF-Lançamentos'!F:F,'RF-Lançamentos'!D:D,A157,'RF-Lançamentos'!B:B,\"d\")-SUMIFS('RF-Lançamentos'!F:F,'RF-Lançamentos'!D:D,A157,'RF-Lançamentos'!B:B,\"r\")","v":0},0,null,null,0,null,null,0,null,0,0,null,null,null,null,null,null,"",{"$error":"#REF!"}]
[null,{"$f":"IF(A158=\"\",\"\",INDEX('RF-Lançamentos'!C:C,MATCH(A158,'RF-Lançamentos'!D:D,0)))","v":""},null,{"$f":"SUMIFS('RF-Lançamentos'!F:F,'RF-Lançamentos'!D:D,A158,'RF-Lançamentos'!B:B,\"d\")-SUMIFS('RF-Lançamentos'!F:F,'RF-Lançamentos'!D:D,A158,'RF-Lançamentos'!B:B,\"r\")","v":0},0,null,null,0,null,null,0,null,0,0,null,null,null,null,null,null,"",{"$error":"#REF!"}]
[null,{"$f":"IF(A159=\"\",\"\",INDEX('RF-Lançamentos'!C:C,MATCH(A159,'RF-Lançamentos'!D:D,0)))","v":""},null,{"$f":"SUMIFS('RF-Lançamentos'!F:F,'RF-Lançamentos'!D:D,A159,'RF-Lançamentos'!B:B,\"d\")-SUMIFS('RF-Lançamentos'!F:F,'RF-Lançamentos'!D:D,A159,'RF-Lançamentos'!B:B,\"r\")","v":0},0,null,null,0,null,null,0,null,0,0,null,null,null,null,null,null,"",{"$error":"#REF!"}]
[null,{"$f":"IF(A160=\"\",\"\",INDEX('RF-Lançamentos'!C:C,MATCH(A160,'RF-Lançamentos'!D:D,0)))","v":""},null,{"$f":"SUMIFS('RF-Lançamentos'!F:F,'RF-Lançamentos'!D:D,A160,'RF-Lançamentos'!B:B,\"d\")-SUMIFS('RF-Lançamentos'!F:F,'RF-Lançamentos'!D:D,A160,'RF-Lançamentos'!B:B,\"r\")","v":0},0,null,null,0,null,null,0,null,0,0,null,null,null,null,null,null,"",{"$error":"#REF!"}]
[null,{"$f":"IF(A161=\"\",\"\",INDEX('RF-Lançamentos'!C:C,MATCH(A161,'RF-Lançamentos'!D:D,0)))","v":""},null,{"$f":"SUMIFS('RF-Lançamentos'!F:F,'RF-Lançamentos'!D:D,A161,'RF-Lançamentos'!B:B,\"d\")-SUMIFS('RF-Lançamentos'!F:F,'RF-Lançamentos'!D:D,A161,'RF-Lançamentos'!B:B,\"r\")","v":0},0,null,null,0,null,null,0,null,0,0,null,null,null,null,null,null,"",{"$error":"#REF!"}]
[null,{"$f":"IF(A162=\"\",\"\",INDEX('RF-Lançamentos'!C:C,MATCH(A162,'RF-Lançamentos'!D:D,0)))","v":""},null,{"$f":"SUMIFS('RF-Lançamentos'!F:F,'RF-Lançamentos'!D:D,A162,'RF-Lançamentos'!B:B,\"d\")-SUMIFS('RF-Lançamentos'!F:F,'RF-Lançamentos'!D:D,A162,'RF-Lançamentos'!B:B,\"r\")","v":0},0,null,null,0,null,null,0,null,0,0,null,null,null,null,null,null,"",{"$error":"#REF!"}]
[null,{"$f":"IF(A163=\"\",\"\",INDEX('RF-Lançamentos'!C:C,MATCH(A163,'RF-Lançamentos'!D:D,0)))","v":""},null,{"$f":"SUMIFS('RF-Lançamentos'!F:F,'RF-Lançamentos'!D:D,A163,'RF-Lançamentos'!B:B,\"d\")-SUMIFS('RF-Lançamentos'!F:F,'RF-Lançamentos'!D:D,A163,'RF-Lançamentos'!B:B,\"r\")","v":0},0,null,null,0,null,null,0,null,0,0,null,null,null,null,null,null,"",{"$error":"#REF!"}]
[null,{"$f":"IF(A164=\"\",\"\",INDEX('RF-Lançamentos'!C:C,MATCH(A164,'RF-Lançamentos'!D:D,0)))","v":""},null,{"$f":"SUMIFS('RF-Lançamentos'!F:F,'RF-Lançamentos'!D:D,A164,'RF-Lançamentos'!B:B,\"d\")-SUMIFS('RF-Lançamentos'!F:F,'RF-Lançamentos'!D:D,A164,'RF-Lançamentos'!B:B,\"r\")","v":0},0,null,null,0,null,null,0,null,0,0,null,null,null,null,null,null,"",{"$error":"#REF!"}]
[null,{"$f":"IF(A165=\"\",\"\",INDEX('RF-Lançamentos'!C:C,MATCH(A165,'RF-Lançamentos'!D:D,0)))","v":""},null,{"$f":"SUMIFS('RF-Lançamentos'!F:F,'RF-Lançamentos'!D:D,A165,'RF-Lançamentos'!B:B,\"d\")-SUMIFS('RF-Lançamentos'!F:F,'RF-Lançamentos'!D:D,A165,'RF-Lançamentos'!B:B,\"r\")","v":0},0,null,null,0,null,null,0,null,0,0,null,null,null,null,null,null,"",{"$error":"#REF!"}]
[null,{"$f":"IF(A166=\"\",\"\",INDEX('RF-Lançamentos'!C:C,MATCH(A166,'RF-Lançamentos'!D:D,0)))","v":""},null,{"$f":"SUMIFS('RF-Lançamentos'!F:F,'RF-Lançamentos'!D:D,A166,'RF-Lançamentos'!B:B,\"d\")-SUMIFS('RF-Lançamentos'!F:F,'RF-Lançamentos'!D:D,A166,'RF-Lançamentos'!B:B,\"r\")","v":0},0,null,null,0,null,null,0,null,0,0,null,null,null,null,null,null,"",{"$error":"#REF!"}]
[null,{"$f":"IF(A167=\"\",\"\",INDEX('RF-Lançamentos'!C:C,MATCH(A167,'RF-Lançamentos'!D:D,0)))","v":""},null,{"$f":"SUMIFS('RF-Lançamentos'!F:F,'RF-Lançamentos'!D:D,A167,'RF-Lançamentos'!B:B,\"d\")-SUMIFS('RF-Lançamentos'!F:F,'RF-Lançamentos'!D:D,A167,'RF-Lançamentos'!B:B,\"r\")","v":0},0,null,null,0,null,null,0,null,0,0,null,null,null,null,null,null,"",{"$error":"#REF!"}]
[null,{"$f":"IF(A168=\"\",\"\",INDEX('RF-Lançamentos'!C:C,MATCH(A168,'RF-Lançamentos'!D:D,0)))","v":""},null,{"$f":"SUMIFS('RF-Lançamentos'!F:F,'RF-Lançamentos'!D:D,A168,'RF-Lançamentos'!B:B,\"d\")-SUMIFS('RF-Lançamentos'!F:F,'RF-Lançamentos'!D:D,A168,'RF-Lançamentos'!B:B,\"r\")","v":0},0,null,null,0,null,null,0,null,0,0,null,null,null,null,null,null,"",{"$error":"#REF!"}]
[null,{"$f":"IF(A169=\"\",\"\",INDEX('RF-Lançamentos'!C:C,MATCH(A169,'RF-Lançamentos'!D:D,0)))","v":""},null,{"$f":"SUMIFS('RF-Lançamentos'!F:F,'RF-Lançamentos'!D:D,A169,'RF-Lançamentos'!B:B,\"d\")-SUMIFS('RF-Lançamentos'!F:F,'RF-Lançamentos'!D:D,A169,'RF-Lançamentos'!B:B,\"r\")","v":0},0,null,null,0,null,null,0,null,0,0,null,null,null,null,null,null,"",{"$error":"#REF!"}]
[null,{"$f":"IF(A170=\"\",\"\",INDEX('RF-Lançamentos'!C:C,MATCH(A170,'RF-Lançamentos'!D:D,0)))","v":""},null,{"$f":"SUMIFS('RF-Lançamentos'!F:F,'RF-Lançamentos'!D:D,A170,'RF-Lançamentos'!B:B,\"d\")-SUMIFS('RF-Lançamentos'!F:F,'RF-Lançamentos'!D:D,A170,'RF-Lançamentos'!B:B,\"r\")","v":0},0,null,null,0,null,null,0,null,0,0,null,null,null,null,null,null,"",{"$error":"#REF!"}]
[null,{"$f":"IF(A171=\"\",\"\",INDEX('RF-Lançamentos'!C:C,MATCH(A171,'RF-Lançamentos'!D:D,0)))","v":""},null,{"$f":"SUMIFS('RF-Lançamentos'!F:F,'RF-Lançamentos'!D:D,A171,'RF-Lançamentos'!B:B,\"d\")-SUMIFS('RF-Lançamentos'!F:F,'RF-Lançamentos'!D:D,A171,'RF-Lançamentos'!B:B,\"r\")","v":0},0,null,null,0,null,null,0,null,0,0,null,null,null,null,null,null,"",{"$error":"#REF!"}]
[null,{"$f":"IF(A172=\"\",\"\",INDEX('RF-Lançamentos'!C:C,MATCH(A172,'RF-Lançamentos'!D:D,0)))","v":""},null,{"$f":"SUMIFS('RF-Lançamentos'!F:F,'RF-Lançamentos'!D:D,A172,'RF-Lançamentos'!B:B,\"d\")-SUMIFS('RF-Lançamentos'!F:F,'RF-Lançamentos'!D:D,A172,'RF-Lançamentos'!B:B,\"r\")","v":0},0,null,null,0,null,null,0,null,0,0,null,null,null,null,null,null,"",{"$error":"#REF!"}]
[null,{"$f":"IF(A173=\"\",\"\",INDEX('RF-Lançamentos'!C:C,MATCH(A173,'RF-Lançamentos'!D:D,0)))","v":""},null,{"$f":"SUMIFS('RF-Lançamentos'!F:F,'RF-Lançamentos'!D:D,A173,'RF-Lançamentos'!B:B,\"d\")-SUMIFS('RF-Lançamentos'!F:F,'RF-Lançamentos'!D:D,A173,'RF-Lançamentos'!B:B,\"r\")","v":0},0,null,null,0,null,null,0,null,0,0,null,null,null,null,null,null,"",{"$error":"#REF!"}]
[null,{"$f":"IF(A174=\"\",\"\",INDEX('RF-Lançamentos'!C:C,MATCH(A174,'RF-Lançamentos'!D:D,0)))","v":""},null,{"$f":"SUMIFS('RF-Lançamentos'!F:F,'RF-Lançamentos'!D:D,A174,'RF-Lançamentos'!B:B,\"d\")-SUMIFS('RF-Lançamentos'!F:F,'RF-Lançamentos'!D:D,A174,'RF-Lançamentos'!B:B,\"r\")","v":0},0,null,null,0,null,null,0,null,0,0,null,null,null,null,null,null,"",{"$error":"#REF!"}]
[null,{"$f":"IF(A175=\"\",\"\",INDEX('RF-Lançamentos'!C:C,MATCH(A175,'RF-Lançamentos'!D:D,0)))","v":""},null,{"$f":"SUMIFS('RF-Lançamentos'!F:F,'RF-Lançamentos'!D:D,A175,'RF-Lançamentos'!B:B,\"d\")-SUMIFS('RF-Lançamentos'!F:F,'RF-Lançamentos'!D:D,A175,'RF-Lançamentos'!B:B,\"r\")","v":0},0,null,null,0,null,null,0,null,0,0,null,null,null,null,null,null,"",{"$error":"#REF!"}]
[null,{"$f":"IF(A176=\"\",\"\",INDEX('RF-Lançamentos'!C:C,MATCH(A176,'RF-Lançamentos'!D:D,0)))","v":""},null,{"$f":"SUMIFS('RF-Lançamentos'!F:F,'RF-Lançamentos'!D:D,A176,'RF-Lançamentos'!B:B,\"d\")-SUMIFS('RF-Lançamentos'!F:F,'RF-Lançamentos'!D:D,A176,'RF-Lançamentos'!B:B,\"r\")","v":0},0,null,null,0,null,null,0,null,0,0,null,null,null,null,null,null,"",{"$error":"#REF!"}]
[null,{"$f":"IF(A177=\"\",\"\",INDEX('RF-Lançamentos'!C:C,MATCH(A177,'RF-Lançamentos'!D:D,0)))","v":""},null,{"$f":"SUMIFS('RF-Lançamentos'!F:F,'RF-Lançamentos'!D:D,A177,'RF-Lançamentos'!B:B,\"d\")-SUMIFS('RF-Lançamentos'!F:F,'RF-Lançamentos'!D:D,A177,'RF-Lançamentos'!B:B,\"r\")","v":0},0,null,null,0,null,null,0,null,0,0,null,null,null,null,null,null,"",{"$error":"#REF!"}]
[null,{"$f":"IF(A178=\"\",\"\",INDEX('RF-Lançamentos'!C:C,MATCH(A178,'RF-Lançamentos'!D:D,0)))","v":""},null,{"$f":"SUMIFS('RF-Lançamentos'!F:F,'RF-Lançamentos'!D:D,A178,'RF-Lançamentos'!B:B,\"d\")-SUMIFS('RF-Lançamentos'!F:F,'RF-Lançamentos'!D:D,A178,'RF-Lançamentos'!B:B,\"r\")","v":0},0,null,null,0,null,null,0,null,0,0,null,null,null,null,null,null,"",{"$error":"#REF!"}]
[null,{"$f":"IF(A179=\"\",\"\",INDEX('RF-Lançamentos'!C:C,MATCH(A179,'RF-Lançamentos'!D:D,0)))","v":""},null,{"$f":"SUMIFS('RF-Lançamentos'!F:F,'RF-Lançamentos'!D:D,A179,'RF-Lançamentos'!B:B,\"d\")-SUMIFS('RF-Lançamentos'!F:F,'RF-Lançamentos'!D:D,A179,'RF-Lançamentos'!B:B,\"r\")","v":0},0,null,null,0,null,null,0,null,0,0,null,null,null,null,null,null,"",{"$error":"#REF!"}]
[null,{"$f":"IF(A180=\"\",\"\",INDEX('RF-Lançamentos'!C:C,MATCH(A180,'RF-Lançamentos'!D:D,0)))","v":""},null,{"$f":"SUMIFS('RF-Lançamentos'!F:F,'RF-Lançamentos'!D:D,A180,'RF-Lançamentos'!B:B,\"d\")-SUMIFS('RF-Lançamentos'!F:F,'RF-Lançamentos'!D:D,A180,'RF-Lançamentos'!B:B,\"r\")","v":0},0,null,null,0,null,null,0,null,0,0,null,null,null,null,null,null,"",{"$error":"#REF!"}]
[null,{"$f":"IF(A181=\"\",\"\",INDEX('RF-Lançamentos'!C:C,MATCH(A181,'RF-Lançamentos'!D:D,0)))","v":""},null,{"$f":"SUMIFS('RF-Lançamentos'!F:F,'RF-Lançamentos'!D:D,A181,'RF-Lançamentos'!B:B,\"d\")-SUMIFS('RF-Lançamentos'!F:F,'RF-Lançamentos'!D:D,A181,'RF-Lançamentos'!B:B,\"r\")","v":0},0,null,null,0,null,null,0,null,0,0,null,null,null,null,null,null,"",{"$error":"#REF!"}]
[null,{"$f":"IF(A182=\"\",\"\",INDEX('RF-Lançamentos'!C:C,MATCH(A182,'RF-Lançamentos'!D:D,0)))","v":""},null,{"$f":"SUMIFS('RF-Lançamentos'!F:F,'RF-Lançamentos'!D:D,A182,'RF-Lançamentos'!B:B,\"d\")-SUMIFS('RF-Lançamentos'!F:F,'RF-Lançamentos'!D:D,A182,'RF-Lançamentos'!B:B,\"r\")","v":0},0,null,null,0,null,null,0,null,0,0,null,null,null,null,null,null,"",{"$error":"#REF!"}]
[null,{"$f":"IF(A183=\"\",\"\",INDEX('RF-Lançamentos'!C:C,MATCH(A183,'RF-Lançamentos'!D:D,0)))","v":""},null,{"$f":"SUMIFS('RF-Lançamentos'!F:F,'RF-Lançamentos'!D:D,A183,'RF-Lançamentos'!B:B,\"d\")-SUMIFS('RF-Lançamentos'!F:F,'RF-Lançamentos'!D:D,A183,'RF-Lançamentos'!B:B,\"r\")","v":0},0,null,null,0,null,null,0,null,0,0,null,null,null,null,null,null,"",{"$error":"#REF!"}]
[null,{"$f":"IF(A184=\"\",\"\",INDEX('RF-Lançamentos'!C:C,MATCH(A184,'RF-Lançamentos'!D:D,0)))","v":""},null,{"$f":"SUMIFS('RF-Lançamentos'!F:F,'RF-Lançamentos'!D:D,A184,'RF-Lançamentos'!B:B,\"d\")-SUMIFS('RF-Lançamentos'!F:F,'RF-Lançamentos'!D:D,A184,'RF-Lançamentos'!B:B,\"r\")","v":0},0,null,null,0,null,null,0,null,0,0,null,null,null,null,null,null,"",{"$error":"#REF!"}]
[null,{"$f":"IF(A185=\"\",\"\",INDEX('RF-Lançamentos'!C:C,MATCH(A185,'RF-Lançamentos'!D:D,0)))","v":""},null,{"$f":"SUMIFS('RF-Lançamentos'!F:F,'RF-Lançamentos'!D:D,A185,'RF-Lançamentos'!B:B,\"d\")-SUMIFS('RF-Lançamentos'!F:F,'RF-Lançamentos'!D:D,A185,'RF-Lançamentos'!B:B,\"r\")","v":0},0,null,null,0,null,null,0,null,0,0,null,null,null,null,null,null,"",{"$error":"#REF!"}]
[null,{"$f":"IF(A186=\"\",\"\",INDEX('RF-Lançamentos'!C:C,MATCH(A186,'RF-Lançamentos'!D:D,0)))","v":""},null,{"$f":"SUMIFS('RF-Lançamentos'!F:F,'RF-Lançamentos'!D:D,A186,'RF-Lançamentos'!B:B,\"d\")-SUMIFS('RF-Lançamentos'!F:F,'RF-Lançamentos'!D:D,A186,'RF-Lançamentos'!B:B,\"r\")","v":0},0,null,null,0,null,null,0,null,0,0,null,null,null,null,null,null,"",{"$error":"#REF!"}]
[null,{"$f":"IF(A187=\"\",\"\",INDEX('RF-Lançamentos'!C:C,MATCH(A187,'RF-Lançamentos'!D:D,0)))","v":""},null,{"$f":"SUMIFS('RF-Lançamentos'!F:F,'RF-Lançamentos'!D:D,A187,'RF-Lançamentos'!B:B,\"d\")-SUMIFS('RF-Lançamentos'!F:F,'RF-Lançamentos'!D:D,A187,'RF-Lançamentos'!B:B,\"r\")","v":0},0,null,null,0,null,null,0,null,0,0,null,null,null,null,null,null,"",{"$error":"#REF!"}]
[null,{"$f":"IF(A188=\"\",\"\",INDEX('RF-Lançamentos'!C:C,MATCH(A188,'RF-Lançamentos'!D:D,0)))","v":""},null,{"$f":"SUMIFS('RF-Lançamentos'!F:F,'RF-Lançamentos'!D:D,A188,'RF-Lançamentos'!B:B,\"d\")-SUMIFS('RF-Lançamentos'!F:F,'RF-Lançamentos'!D:D,A188,'RF-Lançamentos'!B:B,\"r\")","v":0},0,null,null,0,null,null,0,null,0,0,null,null,null,null,null,null,"",{"$error":"#REF!"}]
[null,{"$f":"IF(A189=\"\",\"\",INDEX('RF-Lançamentos'!C:C,MATCH(A189,'RF-Lançamentos'!D:D,0)))","v":""},null,{"$f":"SUMIFS('RF-Lançamentos'!F:F,'RF-Lançamentos'!D:D,A189,'RF-Lançamentos'!B:B,\"d\")-SUMIFS('RF-Lançamentos'!F:F,'RF-Lançamentos'!D:D,A189,'RF-Lançamentos'!B:B,\"r\")","v":0},0,null,null,0,null,null,0,null,0,0,null,null,null,null,null,null,"",{"$error":"#REF!"}]
[null,{"$f":"IF(A190=\"\",\"\",INDEX('RF-Lançamentos'!C:C,MATCH(A190,'RF-Lançamentos'!D:D,0)))","v":""},null,{"$f":"SUMIFS('RF-Lançamentos'!F:F,'RF-Lançamentos'!D:D,A190,'RF-Lançamentos'!B:B,\"d\")-SUMIFS('RF-Lançamentos'!F:F,'RF-Lançamentos'!D:D,A190,'RF-Lançamentos'!B:B,\"r\")","v":0},0,null,null,0,null,null,0,null,0,0,null,null,null,null,null,null,"",{"$error":"#REF!"}]
[null,{"$f":"IF(A191=\"\",\"\",INDEX('RF-Lançamentos'!C:C,MATCH(A191,'RF-Lançamentos'!D:D,0)))","v":""},null,{"$f":"SUMIFS('RF-Lançamentos'!F:F,'RF-Lançamentos'!D:D,A191,'RF-Lançamentos'!B:B,\"d\")-SUMIFS('RF-Lançamentos'!F:F,'RF-Lançamentos'!D:D,A191,'RF-Lançamentos'!B:B,\"r\")","v":0},0,null,null,0,null,null,0,null,0,0,null,null,null,null,null,null,"",{"$error":"#REF!"}]
[null,{"$f":"IF(A192=\"\",\"\",INDEX('RF-Lançamentos'!C:C,MATCH(A192,'RF-Lançamentos'!D:D,0)))","v":""},null,{"$f":"SUMIFS('RF-Lançamentos'!F:F,'RF-Lançamentos'!D:D,A192,'RF-Lançamentos'!B:B,\"d\")-SUMIFS('RF-Lançamentos'!F:F,'RF-Lançamentos'!D:D,A192,'RF-Lançamentos'!B:B,\"r\")","v":0},0,null,null,0,null,null,0,null,0,0,null,null,null,null,null,null,"",{"$error":"#REF!"}]
[null,{"$f":"IF(A193=\"\",\"\",INDEX('RF-Lançamentos'!C:C,MATCH(A193,'RF-Lançamentos'!D:D,0)))","v":""},null,{"$f":"SUMIFS('RF-Lançamentos'!F:F,'RF-Lançamentos'!D:D,A193,'RF-Lançamentos'!B:B,\"d\")-SUMIFS('RF-Lançamentos'!F:F,'RF-Lançamentos'!D:D,A193,'RF-Lançamentos'!B:B,\"r\")","v":0},0,null,null,0,null,null,0,null,0,0,null,null,null,null,null,null,"",{"$error":"#REF!"}]
[null,{"$f":"IF(A194=\"\",\"\",INDEX('RF-Lançamentos'!C:C,MATCH(A194,'RF-Lançamentos'!D:D,0)))","v":""},null,{"$f":"SUMIFS('RF-Lançamentos'!F:F,'RF-Lançamentos'!D:D,A194,'RF-Lançamentos'!B:B,\"d\")-SUMIFS('RF-Lançamentos'!F:F,'RF-Lançamentos'!D:D,A194,'RF-Lançamentos'!B:B,\"r\")","v":0},0,null,null,0,null,null,0,null,0,0,null,null,null,null,null,null,"",{"$error":"#REF!"}]
[null,{"$f":"IF(A195=\"\",\"\",INDEX('RF-Lançamentos'!C:C,MATCH(A195,'RF-Lançamentos'!D:D,0)))","v":""},null,{"$f":"SUMIFS('RF-Lançamentos'!F:F,'RF-Lançamentos'!D:D,A195,'RF-Lançamentos'!B:B,\"d\")-SUMIFS('RF-Lançamentos'!F:F,'RF-Lançamentos'!D:D,A195,'RF-Lançamentos'!B:B,\"r\")","v":0},0,null,null,0,null,null,0,null,0,0,null,null,null,null,null,null,"",{"$error":"#REF!"}]
[null,{"$f":"IF(A196=\"\",\"\",INDEX('RF-Lançamentos'!C:C,MATCH(A196,'RF-Lançamentos'!D:D,0)))","v":""},null,{"$f":"SUMIFS('RF-Lançamentos'!F:F,'RF-Lançamentos'!D:D,A196,'RF-Lançamentos'!B:B,\"d\")-SUMIFS('RF-Lançamentos'!F:F,'RF-Lançamentos'!D:D,A196,'RF-Lançamentos'!B:B,\"r\")","v":0},{"$f":"IF(OR(D196=\"\",$Q$9=0),0,D196/$Q$9)","v":0},null,null,{"$f":"IF(OR(G196=\"\",$Q$11=0),0,G196/$Q$11)","v":0},null,null,{"$f":"IF(OR(J196=\"\",H196=\"\",E196=\"\"),0,IF($J$2=\"% ATUAL\",J196-H196,J196-E196))","v":0},null,{"$f":"IF(G196=\"\",0,G196-D196)","v":0},{"$f":"IF(OR(D196=0),0,M196/D196)","v":0},null,null,null,null,null,null,"",{"$error":"#REF!"}]
[null,{"$f":"IF(A197=\"\",\"\",INDEX('RF-Lançamentos'!C:C,MATCH(A197,'RF-Lançamentos'!D:D,0)))","v":""},null,{"$f":"SUMIFS('RF-Lançamentos'!F:F,'RF-Lançamentos'!D:D,A197,'RF-Lançamentos'!B:B,\"d\")-SUMIFS('RF-Lançamentos'!F:F,'RF-Lançamentos'!D:D,A197,'RF-Lançamentos'!B:B,\"r\")","v":0},0,null,null,0,null,null,0,null,0,0,null,null,null,null,null,null,"",{"$error":"#REF!"}]
[null,{"$f":"IF(A198=\"\",\"\",INDEX('RF-Lançamentos'!C:C,MATCH(A198,'RF-Lançamentos'!D:D,0)))","v":""},null,{"$f":"SUMIFS('RF-Lançamentos'!F:F,'RF-Lançamentos'!D:D,A198,'RF-Lançamentos'!B:B,\"d\")-SUMIFS('RF-Lançamentos'!F:F,'RF-Lançamentos'!D:D,A198,'RF-Lançamentos'!B:B,\"r\")","v":0},0,null,null,0,null,null,0,null,0,0,null,null,null,null,null,null,"",{"$error":"#REF!"}]
[null,{"$f":"IF(A199=\"\",\"\",INDEX('RF-Lançamentos'!C:C,MATCH(A199,'RF-Lançamentos'!D:D,0)))","v":""},null,{"$f":"SUMIFS('RF-Lançamentos'!F:F,'RF-Lançamentos'!D:D,A199,'RF-Lançamentos'!B:B,\"d\")-SUMIFS('RF-Lançamentos'!F:F,'RF-Lançamentos'!D:D,A199,'RF-Lançamentos'!B:B,\"r\")","v":0},0,null,null,0,null,null,0,null,0,0,null,null,null,null,null,null,"",{"$error":"#REF!"}]
[null,{"$f":"IF(A200=\"\",\"\",INDEX('RF-Lançamentos'!C:C,MATCH(A200,'RF-Lançamentos'!D:D,0)))","v":""},null,{"$f":"SUMIFS('RF-Lançamentos'!F:F,'RF-Lançamentos'!D:D,A200,'RF-Lançamentos'!B:B,\"d\")-SUMIFS('RF-Lançamentos'!F:F,'RF-Lançamentos'!D:D,A200,'RF-Lançamentos'!B:B,\"r\")","v":0},0,null,null,0,null,null,0,null,0,0,null,null,null,null,null,null,"",{"$error":"#REF!"}]
[null,{"$f":"IF(A201=\"\",\"\",INDEX('RF-Lançamentos'!C:C,MATCH(A201,'RF-Lançamentos'!D:D,0)))","v":""},null,{"$f":"SUMIFS('RF-Lançamentos'!F:F,'RF-Lançamentos'!D:D,A201,'RF-Lançamentos'!B:B,\"d\")-SUMIFS('RF-Lançamentos'!F:F,'RF-Lançamentos'!D:D,A201,'RF-Lançamentos'!B:B,\"r\")","v":0},0,null,null,0,null,null,0,null,0,0,null,null,null,null,null,null,"",{"$error":"#REF!"}]
[null,{"$f":"IF(A202=\"\",\"\",INDEX('RF-Lançamentos'!C:C,MATCH(A202,'RF-Lançamentos'!D:D,0)))","v":""},null,{"$f":"SUMIFS('RF-Lançamentos'!F:F,'RF-Lançamentos'!D:D,A202,'RF-Lançamentos'!B:B,\"d\")-SUMIFS('RF-Lançamentos'!F:F,'RF-Lançamentos'!D:D,A202,'RF-Lançamentos'!B:B,\"r\")","v":0},0,null,null,0,null,null,0,null,0,0,null,null,null,null,null,null,"",{"$error":"#REF!"}]
[null,{"$f":"IF(A203=\"\",\"\",INDEX('RF-Lançamentos'!C:C,MATCH(A203,'RF-Lançamentos'!D:D,0)))","v":""},null,{"$f":"SUMIFS('RF-Lançamentos'!F:F,'RF-Lançamentos'!D:D,A203,'RF-Lançamentos'!B:B,\"d\")-SUMIFS('RF-Lançamentos'!F:F,'RF-Lançamentos'!D:D,A203,'RF-Lançamentos'!B:B,\"r\")","v":0},0,null,null,0,null,null,0,null,0,0,null,null,null,null,null,null,"",{"$error":"#REF!"}]
[null,{"$f":"IF(A204=\"\",\"\",INDEX('RF-Lançamentos'!C:C,MATCH(A204,'RF-Lançamentos'!D:D,0)))","v":""},null,{"$f":"SUMIFS('RF-Lançamentos'!F:F,'RF-Lançamentos'!D:D,A204,'RF-Lançamentos'!B:B,\"d\")-SUMIFS('RF-Lançamentos'!F:F,'RF-Lançamentos'!D:D,A204,'RF-Lançamentos'!B:B,\"r\")","v":0},0,null,null,0,null,null,0,null,0,0,null,null,null,null,null,null,"",{"$error":"#REF!"}]
[null,{"$f":"IF(A205=\"\",\"\",INDEX('RF-Lançamentos'!C:C,MATCH(A205,'RF-Lançamentos'!D:D,0)))","v":""},null,{"$f":"SUMIFS('RF-Lançamentos'!F:F,'RF-Lançamentos'!D:D,A205,'RF-Lançamentos'!B:B,\"d\")-SUMIFS('RF-Lançamentos'!F:F,'RF-Lançamentos'!D:D,A205,'RF-Lançamentos'!B:B,\"r\")","v":0},0,null,null,0,null,null,0,null,0,0,null,null,null,null,null,null,"",{"$error":"#REF!"}]
[null,{"$f":"IF(A206=\"\",\"\",INDEX('RF-Lançamentos'!C:C,MATCH(A206,'RF-Lançamentos'!D:D,0)))","v":""},null,{"$f":"SUMIFS('RF-Lançamentos'!F:F,'RF-Lançamentos'!D:D,A206,'RF-Lançamentos'!B:B,\"d\")-SUMIFS('RF-Lançamentos'!F:F,'RF-Lançamentos'!D:D,A206,'RF-Lançamentos'!B:B,\"r\")","v":0},0,null,null,0,null,null,0,null,0,0,null,null,null,null,null,null,{"$f":"IF(J206=\"\",\"\",J206-H206)","v":""},{"$f":"IF(OR($A553=\"TOTAL\",$A553=\"\"),\"\",$A553)","v":{"$error":"#REF!"}}]
[null,{"$f":"IF(A207=\"\",\"\",INDEX('RF-Lançamentos'!C:C,MATCH(A207,'RF-Lançamentos'!D:D,0)))","v":""},null,{"$f":"SUMIFS('RF-Lançamentos'!F:F,'RF-Lançamentos'!D:D,A207,'RF-Lançamentos'!B:B,\"d\")-SUMIFS('RF-Lançamentos'!F:F,'RF-Lançamentos'!D:D,A207,'RF-Lançamentos'!B:B,\"r\")","v":0},0,null,null,0,null,null,0,null,0,0,null,null,null,null,null,null,"",{"$error":"#REF!"}]
[null,{"$f":"IF(A208=\"\",\"\",INDEX('RF-Lançamentos'!C:C,MATCH(A208,'RF-Lançamentos'!D:D,0)))","v":""},null,{"$f":"SUMIFS('RF-Lançamentos'!F:F,'RF-Lançamentos'!D:D,A208,'RF-Lançamentos'!B:B,\"d\")-SUMIFS('RF-Lançamentos'!F:F,'RF-Lançamentos'!D:D,A208,'RF-Lançamentos'!B:B,\"r\")","v":0},0,null,null,0,null,null,0,null,0,0,null,null,null,null,null,null,"",{"$error":"#REF!"}]
[null,{"$f":"IF(A209=\"\",\"\",INDEX('RF-Lançamentos'!C:C,MATCH(A209,'RF-Lançamentos'!D:D,0)))","v":""},null,{"$f":"SUMIFS('RF-Lançamentos'!F:F,'RF-Lançamentos'!D:D,A209,'RF-Lançamentos'!B:B,\"d\")-SUMIFS('RF-Lançamentos'!F:F,'RF-Lançamentos'!D:D,A209,'RF-Lançamentos'!B:B,\"r\")","v":0},0,null,null,0,null,null,0,null,0,0,null,null,null,null,null,null,"",{"$error":"#REF!"}]
[null,{"$f":"IF(A210=\"\",\"\",INDEX('RF-Lançamentos'!C:C,MATCH(A210,'RF-Lançamentos'!D:D,0)))","v":""},null,{"$f":"SUMIFS('RF-Lançamentos'!F:F,'RF-Lançamentos'!D:D,A210,'RF-Lançamentos'!B:B,\"d\")-SUMIFS('RF-Lançamentos'!F:F,'RF-Lançamentos'!D:D,A210,'RF-Lançamentos'!B:B,\"r\")","v":0},0,null,null,0,null,null,0,null,0,0,null,null,null,null,null,null,"",{"$error":"#REF!"}]
[null,{"$f":"IF(A211=\"\",\"\",INDEX('RF-Lançamentos'!C:C,MATCH(A211,'RF-Lançamentos'!D:D,0)))","v":""},null,{"$f":"SUMIFS('RF-Lançamentos'!F:F,'RF-Lançamentos'!D:D,A211,'RF-Lançamentos'!B:B,\"d\")-SUMIFS('RF-Lançamentos'!F:F,'RF-Lançamentos'!D:D,A211,'RF-Lançamentos'!B:B,\"r\")","v":0},0,null,null,0,null,null,0,null,0,0,null,null,null,null,null,null,"",{"$error":"#REF!"}]
[null,{"$f":"IF(A212=\"\",\"\",INDEX('RF-Lançamentos'!C:C,MATCH(A212,'RF-Lançamentos'!D:D,0)))","v":""},null,{"$f":"SUMIFS('RF-Lançamentos'!F:F,'RF-Lançamentos'!D:D,A212,'RF-Lançamentos'!B:B,\"d\")-SUMIFS('RF-Lançamentos'!F:F,'RF-Lançamentos'!D:D,A212,'RF-Lançamentos'!B:B,\"r\")","v":0},0,null,null,0,null,null,0,null,0,0,null,null,null,null,null,null,"",{"$error":"#REF!"}]
[null,{"$f":"IF(A213=\"\",\"\",INDEX('RF-Lançamentos'!C:C,MATCH(A213,'RF-Lançamentos'!D:D,0)))","v":""},null,{"$f":"SUMIFS('RF-Lançamentos'!F:F,'RF-Lançamentos'!D:D,A213,'RF-Lançamentos'!B:B,\"d\")-SUMIFS('RF-Lançamentos'!F:F,'RF-Lançamentos'!D:D,A213,'RF-Lançamentos'!B:B,\"r\")","v":0},0,null,null,0,null,null,0,null,0,0,null,null,null,null,null,null,"",{"$error":"#REF!"}]
[null,{"$f":"IF(A214=\"\",\"\",INDEX('RF-Lançamentos'!C:C,MATCH(A214,'RF-Lançamentos'!D:D,0)))","v":""},null,{"$f":"SUMIFS('RF-Lançamentos'!F:F,'RF-Lançamentos'!D:D,A214,'RF-Lançamentos'!B:B,\"d\")-SUMIFS('RF-Lançamentos'!F:F,'RF-Lançamentos'!D:D,A214,'RF-Lançamentos'!B:B,\"r\")","v":0},0,null,null,0,null,null,0,null,0,0,null,null,null,null,null,null,"",{"$error":"#REF!"}]
[null,{"$f":"IF(A215=\"\",\"\",INDEX('RF-Lançamentos'!C:C,MATCH(A215,'RF-Lançamentos'!D:D,0)))","v":""},null,{"$f":"SUMIFS('RF-Lançamentos'!F:F,'RF-Lançamentos'!D:D,A215,'RF-Lançamentos'!B:B,\"d\")-SUMIFS('RF-Lançamentos'!F:F,'RF-Lançamentos'!D:D,A215,'RF-Lançamentos'!B:B,\"r\")","v":0},0,null,null,0,null,null,0,null,0,0,null,null,null,null,null,null,"",{"$error":"#REF!"}]
[null,{"$f":"IF(A216=\"\",\"\",INDEX('RF-Lançamentos'!C:C,MATCH(A216,'RF-Lançamentos'!D:D,0)))","v":""},null,{"$f":"SUMIFS('RF-Lançamentos'!F:F,'RF-Lançamentos'!D:D,A216,'RF-Lançamentos'!B:B,\"d\")-SUMIFS('RF-Lançamentos'!F:F,'RF-Lançamentos'!D:D,A216,'RF-Lançamentos'!B:B,\"r\")","v":0},0,null,null,0,null,null,0,null,0,0,null,null,null,null,null,null,"",{"$error":"#REF!"}]
[null,{"$f":"IF(A217=\"\",\"\",INDEX('RF-Lançamentos'!C:C,MATCH(A217,'RF-Lançamentos'!D:D,0)))","v":""},null,{"$f":"SUMIFS('RF-Lançamentos'!F:F,'RF-Lançamentos'!D:D,A217,'RF-Lançamentos'!B:B,\"d\")-SUMIFS('RF-Lançamentos'!F:F,'RF-Lançamentos'!D:D,A217,'RF-Lançamentos'!B:B,\"r\")","v":0},0,null,null,0,null,null,0,null,0,0,null,null,null,null,null,null,"",{"$error":"#REF!"}]
[null,{"$f":"IF(A218=\"\",\"\",INDEX('RF-Lançamentos'!C:C,MATCH(A218,'RF-Lançamentos'!D:D,0)))","v":""},null,{"$f":"SUMIFS('RF-Lançamentos'!F:F,'RF-Lançamentos'!D:D,A218,'RF-Lançamentos'!B:B,\"d\")-SUMIFS('RF-Lançamentos'!F:F,'RF-Lançamentos'!D:D,A218,'RF-Lançamentos'!B:B,\"r\")","v":0},0,null,null,0,null,null,0,null,0,0,null,null,null,null,null,null,"",{"$error":"#REF!"}]
[null,{"$f":"IF(A219=\"\",\"\",INDEX('RF-Lançamentos'!C:C,MATCH(A219,'RF-Lançamentos'!D:D,0)))","v":""},null,{"$f":"SUMIFS('RF-Lançamentos'!F:F,'RF-Lançamentos'!D:D,A219,'RF-Lançamentos'!B:B,\"d\")-SUMIFS('RF-Lançamentos'!F:F,'RF-Lançamentos'!D:D,A219,'RF-Lançamentos'!B:B,\"r\")","v":0},0,null,null,0,null,null,0,null,0,0,null,null,null,null,null,null,"",{"$error":"#REF!"}]
[null,{"$f":"IF(A220=\"\",\"\",INDEX('RF-Lançamentos'!C:C,MATCH(A220,'RF-Lançamentos'!D:D,0)))","v":""},null,{"$f":"SUMIFS('RF-Lançamentos'!F:F,'RF-Lançamentos'!D:D,A220,'RF-Lançamentos'!B:B,\"d\")-SUMIFS('RF-Lançamentos'!F:F,'RF-Lançamentos'!D:D,A220,'RF-Lançamentos'!B:B,\"r\")","v":0},0,null,null,0,null,null,0,null,0,0,null,null,null,null,null,null,"",{"$error":"#REF!"}]
[null,{"$f":"IF(A221=\"\",\"\",INDEX('RF-Lançamentos'!C:C,MATCH(A221,'RF-Lançamentos'!D:D,0)))","v":""},null,{"$f":"SUMIFS('RF-Lançamentos'!F:F,'RF-Lançamentos'!D:D,A221,'RF-Lançamentos'!B:B,\"d\")-SUMIFS('RF-Lançamentos'!F:F,'RF-Lançamentos'!D:D,A221,'RF-Lançamentos'!B:B,\"r\")","v":0},0,null,null,0,null,null,0,null,0,0,null,null,null,null,null,null,"",{"$error":"#REF!"}]
[null,{"$f":"IF(A222=\"\",\"\",INDEX('RF-Lançamentos'!C:C,MATCH(A222,'RF-Lançamentos'!D:D,0)))","v":""},null,{"$f":"SUMIFS('RF-Lançamentos'!F:F,'RF-Lançamentos'!D:D,A222,'RF-Lançamentos'!B:B,\"d\")-SUMIFS('RF-Lançamentos'!F:F,'RF-Lançamentos'!D:D,A222,'RF-Lançamentos'!B:B,\"r\")","v":0},0,null,null,0,null,null,0,null,0,0,null,null,null,null,null,null,"",{"$error":"#REF!"}]
[null,{"$f":"IF(A223=\"\",\"\",INDEX('RF-Lançamentos'!C:C,MATCH(A223,'RF-Lançamentos'!D:D,0)))","v":""},null,{"$f":"SUMIFS('RF-Lançamentos'!F:F,'RF-Lançamentos'!D:D,A223,'RF-Lançamentos'!B:B,\"d\")-SUMIFS('RF-Lançamentos'!F:F,'RF-Lançamentos'!D:D,A223,'RF-Lançamentos'!B:B,\"r\")","v":0},0,null,null,0,null,null,0,null,0,0,null,null,null,null,null,null,"",{"$error":"#REF!"}]
[null,{"$f":"IF(A224=\"\",\"\",INDEX('RF-Lançamentos'!C:C,MATCH(A224,'RF-Lançamentos'!D:D,0)))","v":""},null,{"$f":"SUMIFS('RF-Lançamentos'!F:F,'RF-Lançamentos'!D:D,A224,'RF-Lançamentos'!B:B,\"d\")-SUMIFS('RF-Lançamentos'!F:F,'RF-Lançamentos'!D:D,A224,'RF-Lançamentos'!B:B,\"r\")","v":0},0,null,null,0,null,null,0,null,0,0,null,null,null,null,null,null,"",{"$error":"#REF!"}]
[null,{"$f":"IF(A225=\"\",\"\",INDEX('RF-Lançamentos'!C:C,MATCH(A225,'RF-Lançamentos'!D:D,0)))","v":""},null,{"$f":"SUMIFS('RF-Lançamentos'!F:F,'RF-Lançamentos'!D:D,A225,'RF-Lançamentos'!B:B,\"d\")-SUMIFS('RF-Lançamentos'!F:F,'RF-Lançamentos'!D:D,A225,'RF-Lançamentos'!B:B,\"r\")","v":0},0,null,null,0,null,null,0,null,0,0,null,null,null,null,null,null,"",{"$error":"#REF!"}]
[null,{"$f":"IF(A226=\"\",\"\",INDEX('RF-Lançamentos'!C:C,MATCH(A226,'RF-Lançamentos'!D:D,0)))","v":""},null,{"$f":"SUMIFS('RF-Lançamentos'!F:F,'RF-Lançamentos'!D:D,A226,'RF-Lançamentos'!B:B,\"d\")-SUMIFS('RF-Lançamentos'!F:F,'RF-Lançamentos'!D:D,A226,'RF-Lançamentos'!B:B,\"r\")","v":0},0,null,null,0,null,null,0,null,0,0,null,null,null,null,null,null,"",{"$error":"#REF!"}]
[null,{"$f":"IF(A227=\"\",\"\",INDEX('RF-Lançamentos'!C:C,MATCH(A227,'RF-Lançamentos'!D:D,0)))","v":""},null,{"$f":"SUMIFS('RF-Lançamentos'!F:F,'RF-Lançamentos'!D:D,A227,'RF-Lançamentos'!B:B,\"d\")-SUMIFS('RF-Lançamentos'!F:F,'RF-Lançamentos'!D:D,A227,'RF-Lançamentos'!B:B,\"r\")","v":0},0,null,null,0,null,null,0,null,0,0,null,null,null,null,null,null,"",{"$error":"#REF!"}]
[null,{"$f":"IF(A228=\"\",\"\",INDEX('RF-Lançamentos'!C:C,MATCH(A228,'RF-Lançamentos'!D:D,0)))","v":""},null,{"$f":"SUMIFS('RF-Lançamentos'!F:F,'RF-Lançamentos'!D:D,A228,'RF-Lançamentos'!B:B,\"d\")-SUMIFS('RF-Lançamentos'!F:F,'RF-Lançamentos'!D:D,A228,'RF-Lançamentos'!B:B,\"r\")","v":0},0,null,null,0,null,null,0,null,0,0,null,null,null,null,null,null,"",{"$error":"#REF!"}]
[null,{"$f":"IF(A229=\"\",\"\",INDEX('RF-Lançamentos'!C:C,MATCH(A229,'RF-Lançamentos'!D:D,0)))","v":""},null,{"$f":"SUMIFS('RF-Lançamentos'!F:F,'RF-Lançamentos'!D:D,A229,'RF-Lançamentos'!B:B,\"d\")-SUMIFS('RF-Lançamentos'!F:F,'RF-Lançamentos'!D:D,A229,'RF-Lançamentos'!B:B,\"r\")","v":0},0,null,null,0,null,null,0,null,0,0,null,null,null,null,null,null,"",{"$error":"#REF!"}]
[null,{"$f":"IF(A230=\"\",\"\",INDEX('RF-Lançamentos'!C:C,MATCH(A230,'RF-Lançamentos'!D:D,0)))","v":""},null,{"$f":"SUMIFS('RF-Lançamentos'!F:F,'RF-Lançamentos'!D:D,A230,'RF-Lançamentos'!B:B,\"d\")-SUMIFS('RF-Lançamentos'!F:F,'RF-Lançamentos'!D:D,A230,'RF-Lançamentos'!B:B,\"r\")","v":0},0,null,null,0,null,null,0,null,0,0,null,null,null,null,null,null,"",{"$error":"#REF!"}]
[null,{"$f":"IF(A231=\"\",\"\",INDEX('RF-Lançamentos'!C:C,MATCH(A231,'RF-Lançamentos'!D:D,0)))","v":""},null,{"$f":"SUMIFS('RF-Lançamentos'!F:F,'RF-Lançamentos'!D:D,A231,'RF-Lançamentos'!B:B,\"d\")-SUMIFS('RF-Lançamentos'!F:F,'RF-Lançamentos'!D:D,A231,'RF-Lançamentos'!B:B,\"r\")","v":0},0,null,null,0,null,null,0,null,0,0,null,null,null,null,null,null,"",{"$error":"#REF!"}]
[null,{"$f":"IF(A232=\"\",\"\",INDEX('RF-Lançamentos'!C:C,MATCH(A232,'RF-Lançamentos'!D:D,0)))","v":""},null,{"$f":"SUMIFS('RF-Lançamentos'!F:F,'RF-Lançamentos'!D:D,A232,'RF-Lançamentos'!B:B,\"d\")-SUMIFS('RF-Lançamentos'!F:F,'RF-Lançamentos'!D:D,A232,'RF-Lançamentos'!B:B,\"r\")","v":0},0,null,null,0,null,null,0,null,0,0,null,null,null,null,null,null,"",{"$error":"#REF!"}]
[null,{"$f":"IF(A233=\"\",\"\",INDEX('RF-Lançamentos'!C:C,MATCH(A233,'RF-Lançamentos'!D:D,0)))","v":""},null,{"$f":"SUMIFS('RF-Lançamentos'!F:F,'RF-Lançamentos'!D:D,A233,'RF-Lançamentos'!B:B,\"d\")-SUMIFS('RF-Lançamentos'!F:F,'RF-Lançamentos'!D:D,A233,'RF-Lançamentos'!B:B,\"r\")","v":0},0,null,null,0,null,null,0,null,0,0,null,null,null,null,null,null,"",{"$error":"#REF!"}]
[null,{"$f":"IF(A234=\"\",\"\",INDEX('RF-Lançamentos'!C:C,MATCH(A234,'RF-Lançamentos'!D:D,0)))","v":""},null,{"$f":"SUMIFS('RF-Lançamentos'!F:F,'RF-Lançamentos'!D:D,A234,'RF-Lançamentos'!B:B,\"d\")-SUMIFS('RF-Lançamentos'!F:F,'RF-Lançamentos'!D:D,A234,'RF-Lançamentos'!B:B,\"r\")","v":0},0,null,null,0,null,null,0,null,0,0,null,null,null,null,null,null,"",{"$error":"#REF!"}]
[null,{"$f":"IF(A235=\"\",\"\",INDEX('RF-Lançamentos'!C:C,MATCH(A235,'RF-Lançamentos'!D:D,0)))","v":""},null,{"$f":"SUMIFS('RF-Lançamentos'!F:F,'RF-Lançamentos'!D:D,A235,'RF-Lançamentos'!B:B,\"d\")-SUMIFS('RF-Lançamentos'!F:F,'RF-Lançamentos'!D:D,A235,'RF-Lançamentos'!B:B,\"r\")","v":0},0,null,null,0,null,null,0,null,0,0,null,null,null,null,null,null,"",{"$error":"#REF!"}]
[null,{"$f":"IF(A236=\"\",\"\",INDEX('RF-Lançamentos'!C:C,MATCH(A236,'RF-Lançamentos'!D:D,0)))","v":""},null,{"$f":"SUMIFS('RF-Lançamentos'!F:F,'RF-Lançamentos'!D:D,A236,'RF-Lançamentos'!B:B,\"d\")-SUMIFS('RF-Lançamentos'!F:F,'RF-Lançamentos'!D:D,A236,'RF-Lançamentos'!B:B,\"r\")","v":0},0,null,null,0,null,null,0,null,0,0,null,null,null,null,null,null,"",{"$error":"#REF!"}]
[null,{"$f":"IF(A237=\"\",\"\",INDEX('RF-Lançamentos'!C:C,MATCH(A237,'RF-Lançamentos'!D:D,0)))","v":""},null,{"$f":"SUMIFS('RF-Lançamentos'!F:F,'RF-Lançamentos'!D:D,A237,'RF-Lançamentos'!B:B,\"d\")-SUMIFS('RF-Lançamentos'!F:F,'RF-Lançamentos'!D:D,A237,'RF-Lançamentos'!B:B,\"r\")","v":0},0,null,null,0,null,null,0,null,0,0,null,null,null,null,null,null,"",{"$error":"#REF!"}]
[null,{"$f":"IF(A238=\"\",\"\",INDEX('RF-Lançamentos'!C:C,MATCH(A238,'RF-Lançamentos'!D:D,0)))","v":""},null,{"$f":"SUMIFS('RF-Lançamentos'!F:F,'RF-Lançamentos'!D:D,A238,'RF-Lançamentos'!B:B,\"d\")-SUMIFS('RF-Lançamentos'!F:F,'RF-Lançamentos'!D:D,A238,'RF-Lançamentos'!B:B,\"r\")","v":0},0,null,null,0,null,null,0,null,0,0,null,null,null,null,null,null,"",{"$error":"#REF!"}]
[null,{"$f":"IF(A239=\"\",\"\",INDEX('RF-Lançamentos'!C:C,MATCH(A239,'RF-Lançamentos'!D:D,0)))","v":""},null,{"$f":"SUMIFS('RF-Lançamentos'!F:F,'RF-Lançamentos'!D:D,A239,'RF-Lançamentos'!B:B,\"d\")-SUMIFS('RF-Lançamentos'!F:F,'RF-Lançamentos'!D:D,A239,'RF-Lançamentos'!B:B,\"r\")","v":0},0,null,null,0,null,null,0,null,0,0,null,null,null,null,null,null,"",{"$error":"#REF!"}]
[null,{"$f":"IF(A240=\"\",\"\",INDEX('RF-Lançamentos'!C:C,MATCH(A240,'RF-Lançamentos'!D:D,0)))","v":""},null,{"$f":"SUMIFS('RF-Lançamentos'!F:F,'RF-Lançamentos'!D:D,A240,'RF-Lançamentos'!B:B,\"d\")-SUMIFS('RF-Lançamentos'!F:F,'RF-Lançamentos'!D:D,A240,'RF-Lançamentos'!B:B,\"r\")","v":0},0,null,null,0,null,null,0,null,0,0,null,null,null,null,null,null,"",{"$error":"#REF!"}]
[null,{"$f":"IF(A241=\"\",\"\",INDEX('RF-Lançamentos'!C:C,MATCH(A241,'RF-Lançamentos'!D:D,0)))","v":""},null,{"$f":"SUMIFS('RF-Lançamentos'!F:F,'RF-Lançamentos'!D:D,A241,'RF-Lançamentos'!B:B,\"d\")-SUMIFS('RF-Lançamentos'!F:F,'RF-Lançamentos'!D:D,A241,'RF-Lançamentos'!B:B,\"r\")","v":0},0,null,null,0,null,null,0,null,0,0,null,null,null,null,null,null,"",{"$error":"#REF!"}]
[null,{"$f":"IF(A242=\"\",\"\",INDEX('RF-Lançamentos'!C:C,MATCH(A242,'RF-Lançamentos'!D:D,0)))","v":""},null,{"$f":"SUMIFS('RF-Lançamentos'!F:F,'RF-Lançamentos'!D:D,A242,'RF-Lançamentos'!B:B,\"d\")-SUMIFS('RF-Lançamentos'!F:F,'RF-Lançamentos'!D:D,A242,'RF-Lançamentos'!B:B,\"r\")","v":0},0,null,null,0,null,null,0,null,0,0,null,null,null,null,null,null,"",{"$error":"#REF!"}]
[null,{"$f":"IF(A243=\"\",\"\",INDEX('RF-Lançamentos'!C:C,MATCH(A243,'RF-Lançamentos'!D:D,0)))","v":""},null,{"$f":"SUMIFS('RF-Lançamentos'!F:F,'RF-Lançamentos'!D:D,A243,'RF-Lançamentos'!B:B,\"d\")-SUMIFS('RF-Lançamentos'!F:F,'RF-Lançamentos'!D:D,A243,'RF-Lançamentos'!B:B,\"r\")","v":0},0,null,null,0,null,null,0,null,0,0,null,null,null,null,null,null,"",{"$error":"#REF!"}]
[null,{"$f":"IF(A244=\"\",\"\",INDEX('RF-Lançamentos'!C:C,MATCH(A244,'RF-Lançamentos'!D:D,0)))","v":""},null,{"$f":"SUMIFS('RF-Lançamentos'!F:F,'RF-Lançamentos'!D:D,A244,'RF-Lançamentos'!B:B,\"d\")-SUMIFS('RF-Lançamentos'!F:F,'RF-Lançamentos'!D:D,A244,'RF-Lançamentos'!B:B,\"r\")","v":0},0,null,null,0,null,null,0,null,0,0,null,null,null,null,null,null,"",{"$error":"#REF!"}]
[null,{"$f":"IF(A245=\"\",\"\",INDEX('RF-Lançamentos'!C:C,MATCH(A245,'RF-Lançamentos'!D:D,0)))","v":""},null,{"$f":"SUMIFS('RF-Lançamentos'!F:F,'RF-Lançamentos'!D:D,A245,'RF-Lançamentos'!B:B,\"d\")-SUMIFS('RF-Lançamentos'!F:F,'RF-Lançamentos'!D:D,A245,'RF-Lançamentos'!B:B,\"r\")","v":0},0,null,null,0,null,null,0,null,0,0,null,null,null,null,null,null,"",{"$error":"#REF!"}]
[null,{"$f":"IF(A246=\"\",\"\",INDEX('RF-Lançamentos'!C:C,MATCH(A246,'RF-Lançamentos'!D:D,0)))","v":""},null,{"$f":"SUMIFS('RF-Lançamentos'!F:F,'RF-Lançamentos'!D:D,A246,'RF-Lançamentos'!B:B,\"d\")-SUMIFS('RF-Lançamentos'!F:F,'RF-Lançamentos'!D:D,A246,'RF-Lançamentos'!B:B,\"r\")","v":0},0,null,null,0,null,null,0,null,0,0,null,null,null,null,null,null,"",{"$error":"#REF!"}]
[null,{"$f":"IF(A247=\"\",\"\",INDEX('RF-Lançamentos'!C:C,MATCH(A247,'RF-Lançamentos'!D:D,0)))","v":""},null,{"$f":"SUMIFS('RF-Lançamentos'!F:F,'RF-Lançamentos'!D:D,A247,'RF-Lançamentos'!B:B,\"d\")-SUMIFS('RF-Lançamentos'!F:F,'RF-Lançamentos'!D:D,A247,'RF-Lançamentos'!B:B,\"r\")","v":0},0,null,null,0,null,null,0,null,0,0,null,null,null,null,null,null,"",{"$error":"#REF!"}]
[null,{"$f":"IF(A248=\"\",\"\",INDEX('RF-Lançamentos'!C:C,MATCH(A248,'RF-Lançamentos'!D:D,0)))","v":""},null,{"$f":"SUMIFS('RF-Lançamentos'!F:F,'RF-Lançamentos'!D:D,A248,'RF-Lançamentos'!B:B,\"d\")-SUMIFS('RF-Lançamentos'!F:F,'RF-Lançamentos'!D:D,A248,'RF-Lançamentos'!B:B,\"r\")","v":0},0,null,null,0,null,null,0,null,0,0,null,null,null,null,null,null,"",{"$error":"#REF!"}]
[null,{"$f":"IF(A249=\"\",\"\",INDEX('RF-Lançamentos'!C:C,MATCH(A249,'RF-Lançamentos'!D:D,0)))","v":""},null,{"$f":"SUMIFS('RF-Lançamentos'!F:F,'RF-Lançamentos'!D:D,A249,'RF-Lançamentos'!B:B,\"d\")-SUMIFS('RF-Lançamentos'!F:F,'RF-Lançamentos'!D:D,A249,'RF-Lançamentos'!B:B,\"r\")","v":0},0,null,null,0,null,null,0,null,0,0,null,null,null,null,null,null,"",{"$error":"#REF!"}]
[null,{"$f":"IF(A250=\"\",\"\",INDEX('RF-Lançamentos'!C:C,MATCH(A250,'RF-Lançamentos'!D:D,0)))","v":""},null,{"$f":"SUMIFS('RF-Lançamentos'!F:F,'RF-Lançamentos'!D:D,A250,'RF-Lançamentos'!B:B,\"d\")-SUMIFS('RF-Lançamentos'!F:F,'RF-Lançamentos'!D:D,A250,'RF-Lançamentos'!B:B,\"r\")","v":0},0,null,null,0,null,null,0,null,0,0,null,null,null,null,null,null,"",{"$error":"#REF!"}]
[null,{"$f":"IF(A251=\"\",\"\",INDEX('RF-Lançamentos'!C:C,MATCH(A251,'RF-Lançamentos'!D:D,0)))","v":""},null,{"$f":"SUMIFS('RF-Lançamentos'!F:F,'RF-Lançamentos'!D:D,A251,'RF-Lançamentos'!B:B,\"d\")-SUMIFS('RF-Lançamentos'!F:F,'RF-Lançamentos'!D:D,A251,'RF-Lançamentos'!B:B,\"r\")","v":0},0,null,null,0,null,null,0,null,0,0,null,null,null,null,null,null,"",{"$error":"#REF!"}]
[null,{"$f":"IF(A252=\"\",\"\",INDEX('RF-Lançamentos'!C:C,MATCH(A252,'RF-Lançamentos'!D:D,0)))","v":""},null,{"$f":"SUMIFS('RF-Lançamentos'!F:F,'RF-Lançamentos'!D:D,A252,'RF-Lançamentos'!B:B,\"d\")-SUMIFS('RF-Lançamentos'!F:F,'RF-Lançamentos'!D:D,A252,'RF-Lançamentos'!B:B,\"r\")","v":0},0,null,null,0,null,null,0,null,0,0,null,null,null,null,null,null,"",{"$error":"#REF!"}]
[null,{"$f":"IF(A253=\"\",\"\",INDEX('RF-Lançamentos'!C:C,MATCH(A253,'RF-Lançamentos'!D:D,0)))","v":""},null,{"$f":"SUMIFS('RF-Lançamentos'!F:F,'RF-Lançamentos'!D:D,A253,'RF-Lançamentos'!B:B,\"d\")-SUMIFS('RF-Lançamentos'!F:F,'RF-Lançamentos'!D:D,A253,'RF-Lançamentos'!B:B,\"r\")","v":0},0,null,null,0,null,null,0,null,0,0,null,null,null,null,null,null,"",{"$error":"#REF!"}]
[null,{"$f":"IF(A254=\"\",\"\",INDEX('RF-Lançamentos'!C:C,MATCH(A254,'RF-Lançamentos'!D:D,0)))","v":""},null,{"$f":"SUMIFS('RF-Lançamentos'!F:F,'RF-Lançamentos'!D:D,A254,'RF-Lançamentos'!B:B,\"d\")-SUMIFS('RF-Lançamentos'!F:F,'RF-Lançamentos'!D:D,A254,'RF-Lançamentos'!B:B,\"r\")","v":0},0,null,null,0,null,null,0,null,0,0,null,null,null,null,null,null,"",{"$error":"#REF!"}]
[null,{"$f":"IF(A255=\"\",\"\",INDEX('RF-Lançamentos'!C:C,MATCH(A255,'RF-Lançamentos'!D:D,0)))","v":""},null,{"$f":"SUMIFS('RF-Lançamentos'!F:F,'RF-Lançamentos'!D:D,A255,'RF-Lançamentos'!B:B,\"d\")-SUMIFS('RF-Lançamentos'!F:F,'RF-Lançamentos'!D:D,A255,'RF-Lançamentos'!B:B,\"r\")","v":0},0,null,null,0,null,null,0,null,0,0,null,null,null,null,null,null,"",{"$error":"#REF!"}]
[null,{"$f":"IF(A256=\"\",\"\",INDEX('RF-Lançamentos'!C:C,MATCH(A256,'RF-Lançamentos'!D:D,0)))","v":""},null,{"$f":"SUMIFS('RF-Lançamentos'!F:F,'RF-Lançamentos'!D:D,A256,'RF-Lançamentos'!B:B,\"d\")-SUMIFS('RF-Lançamentos'!F:F,'RF-Lançamentos'!D:D,A256,'RF-Lançamentos'!B:B,\"r\")","v":0},0,null,null,0,null,null,0,null,0,0,null,null,null,null,null,null,"",{"$error":"#REF!"}]
[null,{"$f":"IF(A257=\"\",\"\",INDEX('RF-Lançamentos'!C:C,MATCH(A257,'RF-Lançamentos'!D:D,0)))","v":""},null,{"$f":"SUMIFS('RF-Lançamentos'!F:F,'RF-Lançamentos'!D:D,A257,'RF-Lançamentos'!B:B,\"d\")-SUMIFS('RF-Lançamentos'!F:F,'RF-Lançamentos'!D:D,A257,'RF-Lançamentos'!B:B,\"r\")","v":0},0,null,null,0,null,null,0,null,0,0,null,null,null,null,null,null,"",{"$error":"#REF!"}]
[null,{"$f":"IF(A258=\"\",\"\",INDEX('RF-Lançamentos'!C:C,MATCH(A258,'RF-Lançamentos'!D:D,0)))","v":""},null,{"$f":"SUMIFS('RF-Lançamentos'!F:F,'RF-Lançamentos'!D:D,A258,'RF-Lançamentos'!B:B,\"d\")-SUMIFS('RF-Lançamentos'!F:F,'RF-Lançamentos'!D:D,A258,'RF-Lançamentos'!B:B,\"r\")","v":0},0,null,null,0,null,null,0,null,0,0,null,null,null,null,null,null,"",{"$error":"#REF!"}]
[null,{"$f":"IF(A259=\"\",\"\",INDEX('RF-Lançamentos'!C:C,MATCH(A259,'RF-Lançamentos'!D:D,0)))","v":""},null,{"$f":"SUMIFS('RF-Lançamentos'!F:F,'RF-Lançamentos'!D:D,A259,'RF-Lançamentos'!B:B,\"d\")-SUMIFS('RF-Lançamentos'!F:F,'RF-Lançamentos'!D:D,A259,'RF-Lançamentos'!B:B,\"r\")","v":0},0,null,null,0,null,null,0,null,0,0,null,null,null,null,null,null,"",{"$error":"#REF!"}]
[null,{"$f":"IF(A260=\"\",\"\",INDEX('RF-Lançamentos'!C:C,MATCH(A260,'RF-Lançamentos'!D:D,0)))","v":""},null,{"$f":"SUMIFS('RF-Lançamentos'!F:F,'RF-Lançamentos'!D:D,A260,'RF-Lançamentos'!B:B,\"d\")-SUMIFS('RF-Lançamentos'!F:F,'RF-Lançamentos'!D:D,A260,'RF-Lançamentos'!B:B,\"r\")","v":0},{"$f":"IF(OR(D260=\"\",$Q$9=0),0,D260/$Q$9)","v":0},null,null,{"$f":"IF(OR(G260=\"\",$Q$11=0),0,G260/$Q$11)","v":0},null,null,{"$f":"IF(OR(J260=\"\",H260=\"\",E260=\"\"),0,IF($J$2=\"% ATUAL\",J260-H260,J260-E260))","v":0},null,{"$f":"IF(G260=\"\",0,G260-D260)","v":0},{"$f":"IF(OR(D260=0),0,M260/D260)","v":0},null,null,null,null,null,null,"",{"$error":"#REF!"}]
[null,{"$f":"IF(A261=\"\",\"\",INDEX('RF-Lançamentos'!C:C,MATCH(A261,'RF-Lançamentos'!D:D,0)))","v":""},null,{"$f":"SUMIFS('RF-Lançamentos'!F:F,'RF-Lançamentos'!D:D,A261,'RF-Lançamentos'!B:B,\"d\")-SUMIFS('RF-Lançamentos'!F:F,'RF-Lançamentos'!D:D,A261,'RF-Lançamentos'!B:B,\"r\")","v":0},0,null,null,0,null,null,0,null,0,0,null,null,null,null,null,null,"",{"$error":"#REF!"}]
[null,{"$f":"IF(A262=\"\",\"\",INDEX('RF-Lançamentos'!C:C,MATCH(A262,'RF-Lançamentos'!D:D,0)))","v":""},null,{"$f":"SUMIFS('RF-Lançamentos'!F:F,'RF-Lançamentos'!D:D,A262,'RF-Lançamentos'!B:B,\"d\")-SUMIFS('RF-Lançamentos'!F:F,'RF-Lançamentos'!D:D,A262,'RF-Lançamentos'!B:B,\"r\")","v":0},0,null,null,0,null,null,0,null,0,0,null,null,null,null,null,null,"",{"$error":"#REF!"}]
[null,{"$f":"IF(A263=\"\",\"\",INDEX('RF-Lançamentos'!C:C,MATCH(A263,'RF-Lançamentos'!D:D,0)))","v":""},null,{"$f":"SUMIFS('RF-Lançamentos'!F:F,'RF-Lançamentos'!D:D,A263,'RF-Lançamentos'!B:B,\"d\")-SUMIFS('RF-Lançamentos'!F:F,'RF-Lançamentos'!D:D,A263,'RF-Lançamentos'!B:B,\"r\")","v":0},0,null,null,0,null,null,0,null,0,0,null,null,null,null,null,null,"",{"$error":"#REF!"}]
[null,{"$f":"IF(A264=\"\",\"\",INDEX('RF-Lançamentos'!C:C,MATCH(A264,'RF-Lançamentos'!D:D,0)))","v":""},null,{"$f":"SUMIFS('RF-Lançamentos'!F:F,'RF-Lançamentos'!D:D,A264,'RF-Lançamentos'!B:B,\"d\")-SUMIFS('RF-Lançamentos'!F:F,'RF-Lançamentos'!D:D,A264,'RF-Lançamentos'!B:B,\"r\")","v":0},0,null,null,0,null,null,0,null,0,0,null,null,null,null,null,null,"",{"$error":"#REF!"}]
[null,{"$f":"IF(A265=\"\",\"\",INDEX('RF-Lançamentos'!C:C,MATCH(A265,'RF-Lançamentos'!D:D,0)))","v":""},null,{"$f":"SUMIFS('RF-Lançamentos'!F:F,'RF-Lançamentos'!D:D,A265,'RF-Lançamentos'!B:B,\"d\")-SUMIFS('RF-Lançamentos'!F:F,'RF-Lançamentos'!D:D,A265,'RF-Lançamentos'!B:B,\"r\")","v":0},0,null,null,0,null,null,0,null,0,0,null,null,null,null,null,null,"",{"$error":"#REF!"}]
[null,{"$f":"IF(A266=\"\",\"\",INDEX('RF-Lançamentos'!C:C,MATCH(A266,'RF-Lançamentos'!D:D,0)))","v":""},null,{"$f":"SUMIFS('RF-Lançamentos'!F:F,'RF-Lançamentos'!D:D,A266,'RF-Lançamentos'!B:B,\"d\")-SUMIFS('RF-Lançamentos'!F:F,'RF-Lançamentos'!D:D,A266,'RF-Lançamentos'!B:B,\"r\")","v":0},0,null,null,0,null,null,0,null,0,0,null,null,null,null,null,null,"",{"$error":"#REF!"}]
[null,{"$f":"IF(A267=\"\",\"\",INDEX('RF-Lançamentos'!C:C,MATCH(A267,'RF-Lançamentos'!D:D,0)))","v":""},null,{"$f":"SUMIFS('RF-Lançamentos'!F:F,'RF-Lançamentos'!D:D,A267,'RF-Lançamentos'!B:B,\"d\")-SUMIFS('RF-Lançamentos'!F:F,'RF-Lançamentos'!D:D,A267,'RF-Lançamentos'!B:B,\"r\")","v":0},0,null,null,0,null,null,0,null,0,0,null,null,null,null,null,null,"",{"$error":"#REF!"}]
[null,{"$f":"IF(A268=\"\",\"\",INDEX('RF-Lançamentos'!C:C,MATCH(A268,'RF-Lançamentos'!D:D,0)))","v":""},null,{"$f":"SUMIFS('RF-Lançamentos'!F:F,'RF-Lançamentos'!D:D,A268,'RF-Lançamentos'!B:B,\"d\")-SUMIFS('RF-Lançamentos'!F:F,'RF-Lançamentos'!D:D,A268,'RF-Lançamentos'!B:B,\"r\")","v":0},0,null,null,0,null,null,0,null,0,0,null,null,null,null,null,null,"",{"$error":"#REF!"}]
[null,{"$f":"IF(A269=\"\",\"\",INDEX('RF-Lançamentos'!C:C,MATCH(A269,'RF-Lançamentos'!D:D,0)))","v":""},null,{"$f":"SUMIFS('RF-Lançamentos'!F:F,'RF-Lançamentos'!D:D,A269,'RF-Lançamentos'!B:B,\"d\")-SUMIFS('RF-Lançamentos'!F:F,'RF-Lançamentos'!D:D,A269,'RF-Lançamentos'!B:B,\"r\")","v":0},0,null,null,0,null,null,0,null,0,0,null,null,null,null,null,null,"",{"$error":"#REF!"}]
[null,{"$f":"IF(A270=\"\",\"\",INDEX('RF-Lançamentos'!C:C,MATCH(A270,'RF-Lançamentos'!D:D,0)))","v":""},null,{"$f":"SUMIFS('RF-Lançamentos'!F:F,'RF-Lançamentos'!D:D,A270,'RF-Lançamentos'!B:B,\"d\")-SUMIFS('RF-Lançamentos'!F:F,'RF-Lançamentos'!D:D,A270,'RF-Lançamentos'!B:B,\"r\")","v":0},0,null,null,0,null,null,0,null,0,0,null,null,null,null,null,null,{"$f":"IF(J270=\"\",\"\",J270-H270)","v":""},{"$f":"IF(OR($A617=\"TOTAL\",$A617=\"\"),\"\",$A617)","v":{"$error":"#REF!"}}]
[null,{"$f":"IF(A271=\"\",\"\",INDEX('RF-Lançamentos'!C:C,MATCH(A271,'RF-Lançamentos'!D:D,0)))","v":""},null,{"$f":"SUMIFS('RF-Lançamentos'!F:F,'RF-Lançamentos'!D:D,A271,'RF-Lançamentos'!B:B,\"d\")-SUMIFS('RF-Lançamentos'!F:F,'RF-Lançamentos'!D:D,A271,'RF-Lançamentos'!B:B,\"r\")","v":0},0,null,null,0,null,null,0,null,0,0,null,null,null,null,null,null,"",{"$error":"#REF!"}]
[null,{"$f":"IF(A272=\"\",\"\",INDEX('RF-Lançamentos'!C:C,MATCH(A272,'RF-Lançamentos'!D:D,0)))","v":""},null,{"$f":"SUMIFS('RF-Lançamentos'!F:F,'RF-Lançamentos'!D:D,A272,'RF-Lançamentos'!B:B,\"d\")-SUMIFS('RF-Lançamentos'!F:F,'RF-Lançamentos'!D:D,A272,'RF-Lançamentos'!B:B,\"r\")","v":0},0,null,null,0,null,null,0,null,0,0,null,null,null,null,null,null,"",{"$error":"#REF!"}]
[null,{"$f":"IF(A273=\"\",\"\",INDEX('RF-Lançamentos'!C:C,MATCH(A273,'RF-Lançamentos'!D:D,0)))","v":""},null,{"$f":"SUMIFS('RF-Lançamentos'!F:F,'RF-Lançamentos'!D:D,A273,'RF-Lançamentos'!B:B,\"d\")-SUMIFS('RF-Lançamentos'!F:F,'RF-Lançamentos'!D:D,A273,'RF-Lançamentos'!B:B,\"r\")","v":0},0,null,null,0,null,null,0,null,0,0,null,null,null,null,null,null,"",{"$error":"#REF!"}]
[null,{"$f":"IF(A274=\"\",\"\",INDEX('RF-Lançamentos'!C:C,MATCH(A274,'RF-Lançamentos'!D:D,0)))","v":""},null,{"$f":"SUMIFS('RF-Lançamentos'!F:F,'RF-Lançamentos'!D:D,A274,'RF-Lançamentos'!B:B,\"d\")-SUMIFS('RF-Lançamentos'!F:F,'RF-Lançamentos'!D:D,A274,'RF-Lançamentos'!B:B,\"r\")","v":0},0,null,null,0,null,null,0,null,0,0,null,null,null,null,null,null,"",{"$error":"#REF!"}]
[null,{"$f":"IF(A275=\"\",\"\",INDEX('RF-Lançamentos'!C:C,MATCH(A275,'RF-Lançamentos'!D:D,0)))","v":""},null,{"$f":"SUMIFS('RF-Lançamentos'!F:F,'RF-Lançamentos'!D:D,A275,'RF-Lançamentos'!B:B,\"d\")-SUMIFS('RF-Lançamentos'!F:F,'RF-Lançamentos'!D:D,A275,'RF-Lançamentos'!B:B,\"r\")","v":0},0,null,null,0,null,null,0,null,0,0,null,null,null,null,null,null,"",{"$error":"#REF!"}]
[null,{"$f":"IF(A276=\"\",\"\",INDEX('RF-Lançamentos'!C:C,MATCH(A276,'RF-Lançamentos'!D:D,0)))","v":""},null,{"$f":"SUMIFS('RF-Lançamentos'!F:F,'RF-Lançamentos'!D:D,A276,'RF-Lançamentos'!B:B,\"d\")-SUMIFS('RF-Lançamentos'!F:F,'RF-Lançamentos'!D:D,A276,'RF-Lançamentos'!B:B,\"r\")","v":0},0,null,null,0,null,null,0,null,0,0,null,null,null,null,null,null,"",{"$error":"#REF!"}]
[null,{"$f":"IF(A277=\"\",\"\",INDEX('RF-Lançamentos'!C:C,MATCH(A277,'RF-Lançamentos'!D:D,0)))","v":""},null,{"$f":"SUMIFS('RF-Lançamentos'!F:F,'RF-Lançamentos'!D:D,A277,'RF-Lançamentos'!B:B,\"d\")-SUMIFS('RF-Lançamentos'!F:F,'RF-Lançamentos'!D:D,A277,'RF-Lançamentos'!B:B,\"r\")","v":0},0,null,null,0,null,null,0,null,0,0,null,null,null,null,null,null,"",{"$error":"#REF!"}]
[null,{"$f":"IF(A278=\"\",\"\",INDEX('RF-Lançamentos'!C:C,MATCH(A278,'RF-Lançamentos'!D:D,0)))","v":""},null,{"$f":"SUMIFS('RF-Lançamentos'!F:F,'RF-Lançamentos'!D:D,A278,'RF-Lançamentos'!B:B,\"d\")-SUMIFS('RF-Lançamentos'!F:F,'RF-Lançamentos'!D:D,A278,'RF-Lançamentos'!B:B,\"r\")","v":0},0,null,null,0,null,null,0,null,0,0,null,null,null,null,null,null,"",{"$error":"#REF!"}]
[null,{"$f":"IF(A279=\"\",\"\",INDEX('RF-Lançamentos'!C:C,MATCH(A279,'RF-Lançamentos'!D:D,0)))","v":""},null,{"$f":"SUMIFS('RF-Lançamentos'!F:F,'RF-Lançamentos'!D:D,A279,'RF-Lançamentos'!B:B,\"d\")-SUMIFS('RF-Lançamentos'!F:F,'RF-Lançamentos'!D:D,A279,'RF-Lançamentos'!B:B,\"r\")","v":0},0,null,null,0,null,null,0,null,0,0,null,null,null,null,null,null,"",{"$error":"#REF!"}]
[null,{"$f":"IF(A280=\"\",\"\",INDEX('RF-Lançamentos'!C:C,MATCH(A280,'RF-Lançamentos'!D:D,0)))","v":""},null,{"$f":"SUMIFS('RF-Lançamentos'!F:F,'RF-Lançamentos'!D:D,A280,'RF-Lançamentos'!B:B,\"d\")-SUMIFS('RF-Lançamentos'!F:F,'RF-Lançamentos'!D:D,A280,'RF-Lançamentos'!B:B,\"r\")","v":0},0,null,null,0,null,null,0,null,0,0,null,null,null,null,null,null,"",{"$error":"#REF!"}]
[null,{"$f":"IF(A281=\"\",\"\",INDEX('RF-Lançamentos'!C:C,MATCH(A281,'RF-Lançamentos'!D:D,0)))","v":""},null,{"$f":"SUMIFS('RF-Lançamentos'!F:F,'RF-Lançamentos'!D:D,A281,'RF-Lançamentos'!B:B,\"d\")-SUMIFS('RF-Lançamentos'!F:F,'RF-Lançamentos'!D:D,A281,'RF-Lançamentos'!B:B,\"r\")","v":0},0,null,null,0,null,null,0,null,0,0,null,null,null,null,null,null,"",{"$error":"#REF!"}]
[null,{"$f":"IF(A282=\"\",\"\",INDEX('RF-Lançamentos'!C:C,MATCH(A282,'RF-Lançamentos'!D:D,0)))","v":""},null,{"$f":"SUMIFS('RF-Lançamentos'!F:F,'RF-Lançamentos'!D:D,A282,'RF-Lançamentos'!B:B,\"d\")-SUMIFS('RF-Lançamentos'!F:F,'RF-Lançamentos'!D:D,A282,'RF-Lançamentos'!B:B,\"r\")","v":0},0,null,null,0,null,null,0,null,0,0,null,null,null,null,null,null,"",{"$error":"#REF!"}]
[null,{"$f":"IF(A283=\"\",\"\",INDEX('RF-Lançamentos'!C:C,MATCH(A283,'RF-Lançamentos'!D:D,0)))","v":""},null,{"$f":"SUMIFS('RF-Lançamentos'!F:F,'RF-Lançamentos'!D:D,A283,'RF-Lançamentos'!B:B,\"d\")-SUMIFS('RF-Lançamentos'!F:F,'RF-Lançamentos'!D:D,A283,'RF-Lançamentos'!B:B,\"r\")","v":0},0,null,null,0,null,null,0,null,0,0,null,null,null,null,null,null,"",{"$error":"#REF!"}]
[null,{"$f":"IF(A284=\"\",\"\",INDEX('RF-Lançamentos'!C:C,MATCH(A284,'RF-Lançamentos'!D:D,0)))","v":""},null,{"$f":"SUMIFS('RF-Lançamentos'!F:F,'RF-Lançamentos'!D:D,A284,'RF-Lançamentos'!B:B,\"d\")-SUMIFS('RF-Lançamentos'!F:F,'RF-Lançamentos'!D:D,A284,'RF-Lançamentos'!B:B,\"r\")","v":0},0,null,null,0,null,null,0,null,0,0,null,null,null,null,null,null,"",{"$error":"#REF!"}]
[null,{"$f":"IF(A285=\"\",\"\",INDEX('RF-Lançamentos'!C:C,MATCH(A285,'RF-Lançamentos'!D:D,0)))","v":""},null,{"$f":"SUMIFS('RF-Lançamentos'!F:F,'RF-Lançamentos'!D:D,A285,'RF-Lançamentos'!B:B,\"d\")-SUMIFS('RF-Lançamentos'!F:F,'RF-Lançamentos'!D:D,A285,'RF-Lançamentos'!B:B,\"r\")","v":0},0,null,null,0,null,null,0,null,0,0,null,null,null,null,null,null,"",{"$error":"#REF!"}]
[null,{"$f":"IF(A286=\"\",\"\",INDEX('RF-Lançamentos'!C:C,MATCH(A286,'RF-Lançamentos'!D:D,0)))","v":""},null,{"$f":"SUMIFS('RF-Lançamentos'!F:F,'RF-Lançamentos'!D:D,A286,'RF-Lançamentos'!B:B,\"d\")-SUMIFS('RF-Lançamentos'!F:F,'RF-Lançamentos'!D:D,A286,'RF-Lançamentos'!B:B,\"r\")","v":0},0,null,null,0,null,null,0,null,0,0,null,null,null,null,null,null,"",{"$error":"#REF!"}]
[null,{"$f":"IF(A287=\"\",\"\",INDEX('RF-Lançamentos'!C:C,MATCH(A287,'RF-Lançamentos'!D:D,0)))","v":""},null,{"$f":"SUMIFS('RF-Lançamentos'!F:F,'RF-Lançamentos'!D:D,A287,'RF-Lançamentos'!B:B,\"d\")-SUMIFS('RF-Lançamentos'!F:F,'RF-Lançamentos'!D:D,A287,'RF-Lançamentos'!B:B,\"r\")","v":0},0,null,null,0,null,null,0,null,0,0,null,null,null,null,null,null,"",{"$error":"#REF!"}]
[null,{"$f":"IF(A288=\"\",\"\",INDEX('RF-Lançamentos'!C:C,MATCH(A288,'RF-Lançamentos'!D:D,0)))","v":""},null,{"$f":"SUMIFS('RF-Lançamentos'!F:F,'RF-Lançamentos'!D:D,A288,'RF-Lançamentos'!B:B,\"d\")-SUMIFS('RF-Lançamentos'!F:F,'RF-Lançamentos'!D:D,A288,'RF-Lançamentos'!B:B,\"r\")","v":0},0,null,null,0,null,null,0,null,0,0,null,null,null,null,null,null,"",{"$error":"#REF!"}]
[null,{"$f":"IF(A289=\"\",\"\",INDEX('RF-Lançamentos'!C:C,MATCH(A289,'RF-Lançamentos'!D:D,0)))","v":""},null,{"$f":"SUMIFS('RF-Lançamentos'!F:F,'RF-Lançamentos'!D:D,A289,'RF-Lançamentos'!B:B,\"d\")-SUMIFS('RF-Lançamentos'!F:F,'RF-Lançamentos'!D:D,A289,'RF-Lançamentos'!B:B,\"r\")","v":0},0,null,null,0,null,null,0,null,0,0,null,null,null,null,null,null,"",{"$error":"#REF!"}]
[null,{"$f":"IF(A290=\"\",\"\",INDEX('RF-Lançamentos'!C:C,MATCH(A290,'RF-Lançamentos'!D:D,0)))","v":""},null,{"$f":"SUMIFS('RF-Lançamentos'!F:F,'RF-Lançamentos'!D:D,A290,'RF-Lançamentos'!B:B,\"d\")-SUMIFS('RF-Lançamentos'!F:F,'RF-Lançamentos'!D:D,A290,'RF-Lançamentos'!B:B,\"r\")","v":0},0,null,null,0,null,null,0,null,0,0,null,null,null,null,null,null,"",{"$error":"#REF!"}]
[null,{"$f":"IF(A291=\"\",\"\",INDEX('RF-Lançamentos'!C:C,MATCH(A291,'RF-Lançamentos'!D:D,0)))","v":""},null,{"$f":"SUMIFS('RF-Lançamentos'!F:F,'RF-Lançamentos'!D:D,A291,'RF-Lançamentos'!B:B,\"d\")-SUMIFS('RF-Lançamentos'!F:F,'RF-Lançamentos'!D:D,A291,'RF-Lançamentos'!B:B,\"r\")","v":0},0,null,null,0,null,null,0,null,0,0,null,null,null,null,null,null,"",{"$error":"#REF!"}]
[null,{"$f":"IF(A292=\"\",\"\",INDEX('RF-Lançamentos'!C:C,MATCH(A292,'RF-Lançamentos'!D:D,0)))","v":""},null,{"$f":"SUMIFS('RF-Lançamentos'!F:F,'RF-Lançamentos'!D:D,A292,'RF-Lançamentos'!B:B,\"d\")-SUMIFS('RF-Lançamentos'!F:F,'RF-Lançamentos'!D:D,A292,'RF-Lançamentos'!B:B,\"r\")","v":0},0,null,null,0,null,null,0,null,0,0,null,null,null,null,null,null,"",{"$error":"#REF!"}]
[null,{"$f":"IF(A293=\"\",\"\",INDEX('RF-Lançamentos'!C:C,MATCH(A293,'RF-Lançamentos'!D:D,0)))","v":""},null,{"$f":"SUMIFS('RF-Lançamentos'!F:F,'RF-Lançamentos'!D:D,A293,'RF-Lançamentos'!B:B,\"d\")-SUMIFS('RF-Lançamentos'!F:F,'RF-Lançamentos'!D:D,A293,'RF-Lançamentos'!B:B,\"r\")","v":0},0,null,null,0,null,null,0,null,0,0,null,null,null,null,null,null,"",{"$error":"#REF!"}]
[null,{"$f":"IF(A294=\"\",\"\",INDEX('RF-Lançamentos'!C:C,MATCH(A294,'RF-Lançamentos'!D:D,0)))","v":""},null,{"$f":"SUMIFS('RF-Lançamentos'!F:F,'RF-Lançamentos'!D:D,A294,'RF-Lançamentos'!B:B,\"d\")-SUMIFS('RF-Lançamentos'!F:F,'RF-Lançamentos'!D:D,A294,'RF-Lançamentos'!B:B,\"r\")","v":0},0,null,null,0,null,null,0,null,0,0,null,null,null,null,null,null,"",{"$error":"#REF!"}]
[null,{"$f":"IF(A295=\"\",\"\",INDEX('RF-Lançamentos'!C:C,MATCH(A295,'RF-Lançamentos'!D:D,0)))","v":""},null,{"$f":"SUMIFS('RF-Lançamentos'!F:F,'RF-Lançamentos'!D:D,A295,'RF-Lançamentos'!B:B,\"d\")-SUMIFS('RF-Lançamentos'!F:F,'RF-Lançamentos'!D:D,A295,'RF-Lançamentos'!B:B,\"r\")","v":0},0,null,null,0,null,null,0,null,0,0,null,null,null,null,null,null,"",{"$error":"#REF!"}]
[null,{"$f":"IF(A296=\"\",\"\",INDEX('RF-Lançamentos'!C:C,MATCH(A296,'RF-Lançamentos'!D:D,0)))","v":""},null,{"$f":"SUMIFS('RF-Lançamentos'!F:F,'RF-Lançamentos'!D:D,A296,'RF-Lançamentos'!B:B,\"d\")-SUMIFS('RF-Lançamentos'!F:F,'RF-Lançamentos'!D:D,A296,'RF-Lançamentos'!B:B,\"r\")","v":0},0,null,null,0,null,null,0,null,0,0,null,null,null,null,null,null,"",{"$error":"#REF!"}]
[null,{"$f":"IF(A297=\"\",\"\",INDEX('RF-Lançamentos'!C:C,MATCH(A297,'RF-Lançamentos'!D:D,0)))","v":""},null,{"$f":"SUMIFS('RF-Lançamentos'!F:F,'RF-Lançamentos'!D:D,A297,'RF-Lançamentos'!B:B,\"d\")-SUMIFS('RF-Lançamentos'!F:F,'RF-Lançamentos'!D:D,A297,'RF-Lançamentos'!B:B,\"r\")","v":0},0,null,null,0,null,null,0,null,0,0,null,null,null,null,null,null,"",{"$error":"#REF!"}]
[null,{"$f":"IF(A298=\"\",\"\",INDEX('RF-Lançamentos'!C:C,MATCH(A298,'RF-Lançamentos'!D:D,0)))","v":""},null,{"$f":"SUMIFS('RF-Lançamentos'!F:F,'RF-Lançamentos'!D:D,A298,'RF-Lançamentos'!B:B,\"d\")-SUMIFS('RF-Lançamentos'!F:F,'RF-Lançamentos'!D:D,A298,'RF-Lançamentos'!B:B,\"r\")","v":0},0,null,null,0,null,null,0,null,0,0,null,null,null,null,null,null,"",{"$error":"#REF!"}]
[null,{"$f":"IF(A299=\"\",\"\",INDEX('RF-Lançamentos'!C:C,MATCH(A299,'RF-Lançamentos'!D:D,0)))","v":""},null,{"$f":"SUMIFS('RF-Lançamentos'!F:F,'RF-Lançamentos'!D:D,A299,'RF-Lançamentos'!B:B,\"d\")-SUMIFS('RF-Lançamentos'!F:F,'RF-Lançamentos'!D:D,A299,'RF-Lançamentos'!B:B,\"r\")","v":0},0,null,null,0,null,null,0,null,0,0,null,null,null,null,null,null,"",{"$error":"#REF!"}]
[null,{"$f":"IF(A300=\"\",\"\",INDEX('RF-Lançamentos'!C:C,MATCH(A300,'RF-Lançamentos'!D:D,0)))","v":""},null,{"$f":"SUMIFS('RF-Lançamentos'!F:F,'RF-Lançamentos'!D:D,A300,'RF-Lançamentos'!B:B,\"d\")-SUMIFS('RF-Lançamentos'!F:F,'RF-Lançamentos'!D:D,A300,'RF-Lançamentos'!B:B,\"r\")","v":0},0,null,null,0,null,null,0,null,0,0,null,null,null,null,null,null,"",{"$error":"#REF!"}]
[null,{"$f":"IF(A301=\"\",\"\",INDEX('RF-Lançamentos'!C:C,MATCH(A301,'RF-Lançamentos'!D:D,0)))","v":""},null,{"$f":"SUMIFS('RF-Lançamentos'!F:F,'RF-Lançamentos'!D:D,A301,'RF-Lançamentos'!B:B,\"d\")-SUMIFS('RF-Lançamentos'!F:F,'RF-Lançamentos'!D:D,A301,'RF-Lançamentos'!B:B,\"r\")","v":0},0,null,null,0,null,null,0,null,0,0,null,null,null,null,null,null,"",{"$error":"#REF!"}]
[null,{"$f":"IF(A302=\"\",\"\",INDEX('RF-Lançamentos'!C:C,MATCH(A302,'RF-Lançamentos'!D:D,0)))","v":""},null,{"$f":"SUMIFS('RF-Lançamentos'!F:F,'RF-Lançamentos'!D:D,A302,'RF-Lançamentos'!B:B,\"d\")-SUMIFS('RF-Lançamentos'!F:F,'RF-Lançamentos'!D:D,A302,'RF-Lançamentos'!B:B,\"r\")","v":0},0,null,null,0,null,null,0,null,0,0,null,null,null,null,null,null,"",{"$error":"#REF!"}]
[null,{"$f":"IF(A303=\"\",\"\",INDEX('RF-Lançamentos'!C:C,MATCH(A303,'RF-Lançamentos'!D:D,0)))","v":""},null,{"$f":"SUMIFS('RF-Lançamentos'!F:F,'RF-Lançamentos'!D:D,A303,'RF-Lançamentos'!B:B,\"d\")-SUMIFS('RF-Lançamentos'!F:F,'RF-Lançamentos'!D:D,A303,'RF-Lançamentos'!B:B,\"r\")","v":0},0,null,null,0,null,null,0,null,0,0,null,null,null,null,null,null,"",{"$error":"#REF!"}]
[null,{"$f":"IF(A304=\"\",\"\",INDEX('RF-Lançamentos'!C:C,MATCH(A304,'RF-Lançamentos'!D:D,0)))","v":""},null,{"$f":"SUMIFS('RF-Lançamentos'!F:F,'RF-Lançamentos'!D:D,A304,'RF-Lançamentos'!B:B,\"d\")-SUMIFS('RF-Lançamentos'!F:F,'RF-Lançamentos'!D:D,A304,'RF-Lançamentos'!B:B,\"r\")","v":0},0,null,null,0,null,null,0,null,0,0,null,null,null,null,null,null,"",{"$error":"#REF!"}]
[null,{"$f":"IF(A305=\"\",\"\",INDEX('RF-Lançamentos'!C:C,MATCH(A305,'RF-Lançamentos'!D:D,0)))","v":""},null,{"$f":"SUMIFS('RF-Lançamentos'!F:F,'RF-Lançamentos'!D:D,A305,'RF-Lançamentos'!B:B,\"d\")-SUMIFS('RF-Lançamentos'!F:F,'RF-Lançamentos'!D:D,A305,'RF-Lançamentos'!B:B,\"r\")","v":0},0,null,null,0,null,null,0,null,0,0,null,null,null,null,null,null,"",{"$error":"#REF!"}]
[null,{"$f":"IF(A306=\"\",\"\",INDEX('RF-Lançamentos'!C:C,MATCH(A306,'RF-Lançamentos'!D:D,0)))","v":""},null,{"$f":"SUMIFS('RF-Lançamentos'!F:F,'RF-Lançamentos'!D:D,A306,'RF-Lançamentos'!B:B,\"d\")-SUMIFS('RF-Lançamentos'!F:F,'RF-Lançamentos'!D:D,A306,'RF-Lançamentos'!B:B,\"r\")","v":0},0,null,null,0,null,null,0,null,0,0,null,null,null,null,null,null,"",{"$error":"#REF!"}]
[null,{"$f":"IF(A307=\"\",\"\",INDEX('RF-Lançamentos'!C:C,MATCH(A307,'RF-Lançamentos'!D:D,0)))","v":""},null,{"$f":"SUMIFS('RF-Lançamentos'!F:F,'RF-Lançamentos'!D:D,A307,'RF-Lançamentos'!B:B,\"d\")-SUMIFS('RF-Lançamentos'!F:F,'RF-Lançamentos'!D:D,A307,'RF-Lançamentos'!B:B,\"r\")","v":0},0,null,null,0,null,null,0,null,0,0,null,null,null,null,null,null,"",{"$error":"#REF!"}]
[null,{"$f":"IF(A308=\"\",\"\",INDEX('RF-Lançamentos'!C:C,MATCH(A308,'RF-Lançamentos'!D:D,0)))","v":""},null,{"$f":"SUMIFS('RF-Lançamentos'!F:F,'RF-Lançamentos'!D:D,A308,'RF-Lançamentos'!B:B,\"d\")-SUMIFS('RF-Lançamentos'!F:F,'RF-Lançamentos'!D:D,A308,'RF-Lançamentos'!B:B,\"r\")","v":0},0,null,null,0,null,null,0,null,0,0,null,null,null,null,null,null,"",{"$error":"#REF!"}]
[null,{"$f":"IF(A309=\"\",\"\",INDEX('RF-Lançamentos'!C:C,MATCH(A309,'RF-Lançamentos'!D:D,0)))","v":""},null,{"$f":"SUMIFS('RF-Lançamentos'!F:F,'RF-Lançamentos'!D:D,A309,'RF-Lançamentos'!B:B,\"d\")-SUMIFS('RF-Lançamentos'!F:F,'RF-Lançamentos'!D:D,A309,'RF-Lançamentos'!B:B,\"r\")","v":0},0,null,null,0,null,null,0,null,0,0,null,null,null,null,null,null,"",{"$error":"#REF!"}]
[null,{"$f":"IF(A310=\"\",\"\",INDEX('RF-Lançamentos'!C:C,MATCH(A310,'RF-Lançamentos'!D:D,0)))","v":""},null,{"$f":"SUMIFS('RF-Lançamentos'!F:F,'RF-Lançamentos'!D:D,A310,'RF-Lançamentos'!B:B,\"d\")-SUMIFS('RF-Lançamentos'!F:F,'RF-Lançamentos'!D:D,A310,'RF-Lançamentos'!B:B,\"r\")","v":0},0,null,null,0,null,null,0,null,0,0,null,null,null,null,null,null,"",{"$error":"#REF!"}]
[null,{"$f":"IF(A311=\"\",\"\",INDEX('RF-Lançamentos'!C:C,MATCH(A311,'RF-Lançamentos'!D:D,0)))","v":""},null,{"$f":"SUMIFS('RF-Lançamentos'!F:F,'RF-Lançamentos'!D:D,A311,'RF-Lançamentos'!B:B,\"d\")-SUMIFS('RF-Lançamentos'!F:F,'RF-Lançamentos'!D:D,A311,'RF-Lançamentos'!B:B,\"r\")","v":0},0,null,null,0,null,null,0,null,0,0,null,null,null,null,null,null,"",{"$error":"#REF!"}]
[null,{"$f":"IF(A312=\"\",\"\",INDEX('RF-Lançamentos'!C:C,MATCH(A312,'RF-Lançamentos'!D:D,0)))","v":""},null,{"$f":"SUMIFS('RF-Lançamentos'!F:F,'RF-Lançamentos'!D:D,A312,'RF-Lançamentos'!B:B,\"d\")-SUMIFS('RF-Lançamentos'!F:F,'RF-Lançamentos'!D:D,A312,'RF-Lançamentos'!B:B,\"r\")","v":0},0,null,null,0,null,null,0,null,0,0,null,null,null,null,null,null,"",{"$error":"#REF!"}]
[null,{"$f":"IF(A313=\"\",\"\",INDEX('RF-Lançamentos'!C:C,MATCH(A313,'RF-Lançamentos'!D:D,0)))","v":""},null,{"$f":"SUMIFS('RF-Lançamentos'!F:F,'RF-Lançamentos'!D:D,A313,'RF-Lançamentos'!B:B,\"d\")-SUMIFS('RF-Lançamentos'!F:F,'RF-Lançamentos'!D:D,A313,'RF-Lançamentos'!B:B,\"r\")","v":0},0,null,null,0,null,null,0,null,0,0,null,null,null,null,null,null,"",{"$error":"#REF!"}]
[null,{"$f":"IF(A314=\"\",\"\",INDEX('RF-Lançamentos'!C:C,MATCH(A314,'RF-Lançamentos'!D:D,0)))","v":""},null,{"$f":"SUMIFS('RF-Lançamentos'!F:F,'RF-Lançamentos'!D:D,A314,'RF-Lançamentos'!B:B,\"d\")-SUMIFS('RF-Lançamentos'!F:F,'RF-Lançamentos'!D:D,A314,'RF-Lançamentos'!B:B,\"r\")","v":0},0,null,null,0,null,null,0,null,0,0,null,null,null,null,null,null,"",{"$error":"#REF!"}]
[null,{"$f":"IF(A315=\"\",\"\",INDEX('RF-Lançamentos'!C:C,MATCH(A315,'RF-Lançamentos'!D:D,0)))","v":""},null,{"$f":"SUMIFS('RF-Lançamentos'!F:F,'RF-Lançamentos'!D:D,A315,'RF-Lançamentos'!B:B,\"d\")-SUMIFS('RF-Lançamentos'!F:F,'RF-Lançamentos'!D:D,A315,'RF-Lançamentos'!B:B,\"r\")","v":0},0,null,null,0,null,null,0,null,0,0,null,null,null,null,null,null,"",{"$error":"#REF!"}]
[null,{"$f":"IF(A316=\"\",\"\",INDEX('RF-Lançamentos'!C:C,MATCH(A316,'RF-Lançamentos'!D:D,0)))","v":""},null,{"$f":"SUMIFS('RF-Lançamentos'!F:F,'RF-Lançamentos'!D:D,A316,'RF-Lançamentos'!B:B,\"d\")-SUMIFS('RF-Lançamentos'!F:F,'RF-Lançamentos'!D:D,A316,'RF-Lançamentos'!B:B,\"r\")","v":0},0,null,null,0,null,null,0,null,0,0,null,null,null,null,null,null,"",{"$error":"#REF!"}]
[null,{"$f":"IF(A317=\"\",\"\",INDEX('RF-Lançamentos'!C:C,MATCH(A317,'RF-Lançamentos'!D:D,0)))","v":""},null,{"$f":"SUMIFS('RF-Lançamentos'!F:F,'RF-Lançamentos'!D:D,A317,'RF-Lançamentos'!B:B,\"d\")-SUMIFS('RF-Lançamentos'!F:F,'RF-Lançamentos'!D:D,A317,'RF-Lançamentos'!B:B,\"r\")","v":0},0,null,null,0,null,null,0,null,0,0,null,null,null,null,null,null,"",{"$error":"#REF!"}]
[null,{"$f":"IF(A318=\"\",\"\",INDEX('RF-Lançamentos'!C:C,MATCH(A318,'RF-Lançamentos'!D:D,0)))","v":""},null,{"$f":"SUMIFS('RF-Lançamentos'!F:F,'RF-Lançamentos'!D:D,A318,'RF-Lançamentos'!B:B,\"d\")-SUMIFS('RF-Lançamentos'!F:F,'RF-Lançamentos'!D:D,A318,'RF-Lançamentos'!B:B,\"r\")","v":0},0,null,null,0,null,null,0,null,0,0,null,null,null,null,null,null,"",{"$error":"#REF!"}]
[null,{"$f":"IF(A319=\"\",\"\",INDEX('RF-Lançamentos'!C:C,MATCH(A319,'RF-Lançamentos'!D:D,0)))","v":""},null,{"$f":"SUMIFS('RF-Lançamentos'!F:F,'RF-Lançamentos'!D:D,A319,'RF-Lançamentos'!B:B,\"d\")-SUMIFS('RF-Lançamentos'!F:F,'RF-Lançamentos'!D:D,A319,'RF-Lançamentos'!B:B,\"r\")","v":0},0,null,null,0,null,null,0,null,0,0,null,null,null,null,null,null,"",{"$error":"#REF!"}]
[null,{"$f":"IF(A320=\"\",\"\",INDEX('RF-Lançamentos'!C:C,MATCH(A320,'RF-Lançamentos'!D:D,0)))","v":""},null,{"$f":"SUMIFS('RF-Lançamentos'!F:F,'RF-Lançamentos'!D:D,A320,'RF-Lançamentos'!B:B,\"d\")-SUMIFS('RF-Lançamentos'!F:F,'RF-Lançamentos'!D:D,A320,'RF-Lançamentos'!B:B,\"r\")","v":0},0,null,null,0,null,null,0,null,0,0,null,null,null,null,null,null,"",{"$error":"#REF!"}]
[null,{"$f":"IF(A321=\"\",\"\",INDEX('RF-Lançamentos'!C:C,MATCH(A321,'RF-Lançamentos'!D:D,0)))","v":""},null,{"$f":"SUMIFS('RF-Lançamentos'!F:F,'RF-Lançamentos'!D:D,A321,'RF-Lançamentos'!B:B,\"d\")-SUMIFS('RF-Lançamentos'!F:F,'RF-Lançamentos'!D:D,A321,'RF-Lançamentos'!B:B,\"r\")","v":0},0,null,null,0,null,null,0,null,0,0,null,null,null,null,null,null,"",{"$error":"#REF!"}]
[null,{"$f":"IF(A322=\"\",\"\",INDEX('RF-Lançamentos'!C:C,MATCH(A322,'RF-Lançamentos'!D:D,0)))","v":""},null,{"$f":"SUMIFS('RF-Lançamentos'!F:F,'RF-Lançamentos'!D:D,A322,'RF-Lançamentos'!B:B,\"d\")-SUMIFS('RF-Lançamentos'!F:F,'RF-Lançamentos'!D:D,A322,'RF-Lançamentos'!B:B,\"r\")","v":0},0,null,null,0,null,null,0,null,0,0,null,null,null,null,null,null,"",{"$error":"#REF!"}]
[null,{"$f":"IF(A323=\"\",\"\",INDEX('RF-Lançamentos'!C:C,MATCH(A323,'RF-Lançamentos'!D:D,0)))","v":""},null,{"$f":"SUMIFS('RF-Lançamentos'!F:F,'RF-Lançamentos'!D:D,A323,'RF-Lançamentos'!B:B,\"d\")-SUMIFS('RF-Lançamentos'!F:F,'RF-Lançamentos'!D:D,A323,'RF-Lançamentos'!B:B,\"r\")","v":0},0,null,null,0,null,null,0,null,0,0,null,null,null,null,null,null,"",{"$error":"#REF!"}]
[null,{"$f":"IF(A324=\"\",\"\",INDEX('RF-Lançamentos'!C:C,MATCH(A324,'RF-Lançamentos'!D:D,0)))","v":""},null,{"$f":"SUMIFS('RF-Lançamentos'!F:F,'RF-Lançamentos'!D:D,A324,'RF-Lançamentos'!B:B,\"d\")-SUMIFS('RF-Lançamentos'!F:F,'RF-Lançamentos'!D:D,A324,'RF-Lançamentos'!B:B,\"r\")","v":0},{"$f":"IF(OR(D324=\"\",$Q$9=0),0,D324/$Q$9)","v":0},null,null,{"$f":"IF(OR(G324=\"\",$Q$11=0),0,G324/$Q$11)","v":0},null,null,{"$f":"IF(OR(J324=\"\",H324=\"\",E324=\"\"),0,IF($J$2=\"% ATUAL\",J324-H324,J324-E324))","v":0},null,{"$f":"IF(G324=\"\",0,G324-D324)","v":0},{"$f":"IF(OR(D324=0),0,M324/D324)","v":0},null,null,null,null,null,null,"",{"$error":"#REF!"}]
[null,{"$f":"IF(A325=\"\",\"\",INDEX('RF-Lançamentos'!C:C,MATCH(A325,'RF-Lançamentos'!D:D,0)))","v":""},null,{"$f":"SUMIFS('RF-Lançamentos'!F:F,'RF-Lançamentos'!D:D,A325,'RF-Lançamentos'!B:B,\"d\")-SUMIFS('RF-Lançamentos'!F:F,'RF-Lançamentos'!D:D,A325,'RF-Lançamentos'!B:B,\"r\")","v":0},0,null,null,0,null,null,0,null,0,0,null,null,null,null,null,null,"",{"$error":"#REF!"}]
[null,{"$f":"IF(A326=\"\",\"\",INDEX('RF-Lançamentos'!C:C,MATCH(A326,'RF-Lançamentos'!D:D,0)))","v":""},null,{"$f":"SUMIFS('RF-Lançamentos'!F:F,'RF-Lançamentos'!D:D,A326,'RF-Lançamentos'!B:B,\"d\")-SUMIFS('RF-Lançamentos'!F:F,'RF-Lançamentos'!D:D,A326,'RF-Lançamentos'!B:B,\"r\")","v":0},0,null,null,0,null,null,0,null,0,0,null,null,null,null,null,null,"",{"$error":"#REF!"}]
[null,{"$f":"IF(A327=\"\",\"\",INDEX('RF-Lançamentos'!C:C,MATCH(A327,'RF-Lançamentos'!D:D,0)))","v":""},null,{"$f":"SUMIFS('RF-Lançamentos'!F:F,'RF-Lançamentos'!D:D,A327,'RF-Lançamentos'!B:B,\"d\")-SUMIFS('RF-Lançamentos'!F:F,'RF-Lançamentos'!D:D,A327,'RF-Lançamentos'!B:B,\"r\")","v":0},0,null,null,0,null,null,0,null,0,0,null,null,null,null,null,null,"",{"$error":"#REF!"}]
[null,{"$f":"IF(A328=\"\",\"\",INDEX('RF-Lançamentos'!C:C,MATCH(A328,'RF-Lançamentos'!D:D,0)))","v":""},null,{"$f":"SUMIFS('RF-Lançamentos'!F:F,'RF-Lançamentos'!D:D,A328,'RF-Lançamentos'!B:B,\"d\")-SUMIFS('RF-Lançamentos'!F:F,'RF-Lançamentos'!D:D,A328,'RF-Lançamentos'!B:B,\"r\")","v":0},0,null,null,0,null,null,0,null,0,0,null,null,null,null,null,null,"",{"$error":"#REF!"}]
[null,{"$f":"IF(A329=\"\",\"\",INDEX('RF-Lançamentos'!C:C,MATCH(A329,'RF-Lançamentos'!D:D,0)))","v":""},null,{"$f":"SUMIFS('RF-Lançamentos'!F:F,'RF-Lançamentos'!D:D,A329,'RF-Lançamentos'!B:B,\"d\")-SUMIFS('RF-Lançamentos'!F:F,'RF-Lançamentos'!D:D,A329,'RF-Lançamentos'!B:B,\"r\")","v":0},0,null,null,0,null,null,0,null,0,0,null,null,null,null,null,null,"",{"$error":"#REF!"}]
[null,{"$f":"IF(A330=\"\",\"\",INDEX('RF-Lançamentos'!C:C,MATCH(A330,'RF-Lançamentos'!D:D,0)))","v":""},null,{"$f":"SUMIFS('RF-Lançamentos'!F:F,'RF-Lançamentos'!D:D,A330,'RF-Lançamentos'!B:B,\"d\")-SUMIFS('RF-Lançamentos'!F:F,'RF-Lançamentos'!D:D,A330,'RF-Lançamentos'!B:B,\"r\")","v":0},0,null,null,0,null,null,0,null,0,0,null,null,null,null,null,null,"",{"$error":"#REF!"}]
[null,{"$f":"IF(A331=\"\",\"\",INDEX('RF-Lançamentos'!C:C,MATCH(A331,'RF-Lançamentos'!D:D,0)))","v":""},null,{"$f":"SUMIFS('RF-Lançamentos'!F:F,'RF-Lançamentos'!D:D,A331,'RF-Lançamentos'!B:B,\"d\")-SUMIFS('RF-Lançamentos'!F:F,'RF-Lançamentos'!D:D,A331,'RF-Lançamentos'!B:B,\"r\")","v":0},0,null,null,0,null,null,0,null,0,0,null,null,null,null,null,null,"",{"$error":"#REF!"}]
[null,{"$f":"IF(A332=\"\",\"\",INDEX('RF-Lançamentos'!C:C,MATCH(A332,'RF-Lançamentos'!D:D,0)))","v":""},null,{"$f":"SUMIFS('RF-Lançamentos'!F:F,'RF-Lançamentos'!D:D,A332,'RF-Lançamentos'!B:B,\"d\")-SUMIFS('RF-Lançamentos'!F:F,'RF-Lançamentos'!D:D,A332,'RF-Lançamentos'!B:B,\"r\")","v":0},0,null,null,0,null,null,0,null,0,0,null,null,null,null,null,null,"",{"$error":"#REF!"}]
[null,{"$f":"IF(A333=\"\",\"\",INDEX('RF-Lançamentos'!C:C,MATCH(A333,'RF-Lançamentos'!D:D,0)))","v":""},null,{"$f":"SUMIFS('RF-Lançamentos'!F:F,'RF-Lançamentos'!D:D,A333,'RF-Lançamentos'!B:B,\"d\")-SUMIFS('RF-Lançamentos'!F:F,'RF-Lançamentos'!D:D,A333,'RF-Lançamentos'!B:B,\"r\")","v":0},0,null,null,0,null,null,0,null,0,0,null,null,null,null,null,null,"",{"$error":"#REF!"}]
[null,{"$f":"IF(A334=\"\",\"\",INDEX('RF-Lançamentos'!C:C,MATCH(A334,'RF-Lançamentos'!D:D,0)))","v":""},null,{"$f":"SUMIFS('RF-Lançamentos'!F:F,'RF-Lançamentos'!D:D,A334,'RF-Lançamentos'!B:B,\"d\")-SUMIFS('RF-Lançamentos'!F:F,'RF-Lançamentos'!D:D,A334,'RF-Lançamentos'!B:B,\"r\")","v":0},0,null,null,0,null,null,0,null,0,0,null,null,null,null,null,null,{"$f":"IF(J334=\"\",\"\",J334-H334)","v":""},{"$f":"IF(OR($A681=\"TOTAL\",$A681=\"\"),\"\",$A681)","v":{"$error":"#REF!"}}]
[null,{"$f":"IF(A335=\"\",\"\",INDEX('RF-Lançamentos'!C:C,MATCH(A335,'RF-Lançamentos'!D:D,0)))","v":""},null,{"$f":"SUMIFS('RF-Lançamentos'!F:F,'RF-Lançamentos'!D:D,A335,'RF-Lançamentos'!B:B,\"d\")-SUMIFS('RF-Lançamentos'!F:F,'RF-Lançamentos'!D:D,A335,'RF-Lançamentos'!B:B,\"r\")","v":0},0,null,null,0,null,null,0,null,0,0,null,null,null,null,null,null,"",{"$error":"#REF!"}]
[null,{"$f":"IF(A336=\"\",\"\",INDEX('RF-Lançamentos'!C:C,MATCH(A336,'RF-Lançamentos'!D:D,0)))","v":""},null,{"$f":"SUMIFS('RF-Lançamentos'!F:F,'RF-Lançamentos'!D:D,A336,'RF-Lançamentos'!B:B,\"d\")-SUMIFS('RF-Lançamentos'!F:F,'RF-Lançamentos'!D:D,A336,'RF-Lançamentos'!B:B,\"r\")","v":0},0,null,null,0,null,null,0,null,0,0,null,null,null,null,null,null,"",{"$error":"#REF!"}]
[null,{"$f":"IF(A337=\"\",\"\",INDEX('RF-Lançamentos'!C:C,MATCH(A337,'RF-Lançamentos'!D:D,0)))","v":""},null,{"$f":"SUMIFS('RF-Lançamentos'!F:F,'RF-Lançamentos'!D:D,A337,'RF-Lançamentos'!B:B,\"d\")-SUMIFS('RF-Lançamentos'!F:F,'RF-Lançamentos'!D:D,A337,'RF-Lançamentos'!B:B,\"r\")","v":0},0,null,null,0,null,null,0,null,0,0,null,null,null,null,null,null,"",{"$error":"#REF!"}]
[null,{"$f":"IF(A338=\"\",\"\",INDEX('RF-Lançamentos'!C:C,MATCH(A338,'RF-Lançamentos'!D:D,0)))","v":""},null,{"$f":"SUMIFS('RF-Lançamentos'!F:F,'RF-Lançamentos'!D:D,A338,'RF-Lançamentos'!B:B,\"d\")-SUMIFS('RF-Lançamentos'!F:F,'RF-Lançamentos'!D:D,A338,'RF-Lançamentos'!B:B,\"r\")","v":0},0,null,null,0,null,null,0,null,0,0,null,null,null,null,null,null,"",{"$error":"#REF!"}]
[null,{"$f":"IF(A339=\"\",\"\",INDEX('RF-Lançamentos'!C:C,MATCH(A339,'RF-Lançamentos'!D:D,0)))","v":""},null,{"$f":"SUMIFS('RF-Lançamentos'!F:F,'RF-Lançamentos'!D:D,A339,'RF-Lançamentos'!B:B,\"d\")-SUMIFS('RF-Lançamentos'!F:F,'RF-Lançamentos'!D:D,A339,'RF-Lançamentos'!B:B,\"r\")","v":0},0,null,null,0,null,null,0,null,0,0,null,null,null,null,null,null,"",{"$error":"#REF!"}]
[null,{"$f":"IF(A340=\"\",\"\",INDEX('RF-Lançamentos'!C:C,MATCH(A340,'RF-Lançamentos'!D:D,0)))","v":""},null,{"$f":"SUMIFS('RF-Lançamentos'!F:F,'RF-Lançamentos'!D:D,A340,'RF-Lançamentos'!B:B,\"d\")-SUMIFS('RF-Lançamentos'!F:F,'RF-Lançamentos'!D:D,A340,'RF-Lançamentos'!B:B,\"r\")","v":0},0,null,null,0,null,null,0,null,0,0,null,null,null,null,null,null,"",{"$error":"#REF!"}]
[null,{"$f":"IF(A341=\"\",\"\",INDEX('RF-Lançamentos'!C:C,MATCH(A341,'RF-Lançamentos'!D:D,0)))","v":""},null,{"$f":"SUMIFS('RF-Lançamentos'!F:F,'RF-Lançamentos'!D:D,A341,'RF-Lançamentos'!B:B,\"d\")-SUMIFS('RF-Lançamentos'!F:F,'RF-Lançamentos'!D:D,A341,'RF-Lançamentos'!B:B,\"r\")","v":0},0,null,null,0,null,null,0,null,0,0,null,null,null,null,null,null,"",{"$error":"#REF!"}]
[null,{"$f":"IF(A342=\"\",\"\",INDEX('RF-Lançamentos'!C:C,MATCH(A342,'RF-Lançamentos'!D:D,0)))","v":""},null,{"$f":"SUMIFS('RF-Lançamentos'!F:F,'RF-Lançamentos'!D:D,A342,'RF-Lançamentos'!B:B,\"d\")-SUMIFS('RF-Lançamentos'!F:F,'RF-Lançamentos'!D:D,A342,'RF-Lançamentos'!B:B,\"r\")","v":0},0,null,null,0,null,null,0,null,0,0,null,null,null,null,null,null,"",{"$error":"#REF!"}]
[null,{"$f":"IF(A343=\"\",\"\",INDEX('RF-Lançamentos'!C:C,MATCH(A343,'RF-Lançamentos'!D:D,0)))","v":""},null,{"$f":"SUMIFS('RF-Lançamentos'!F:F,'RF-Lançamentos'!D:D,A343,'RF-Lançamentos'!B:B,\"d\")-SUMIFS('RF-Lançamentos'!F:F,'RF-Lançamentos'!D:D,A343,'RF-Lançamentos'!B:B,\"r\")","v":0},0,null,null,0,null,null,0,null,0,0,null,null,null,null,null,null,"",{"$error":"#REF!"}]
[null,{"$f":"IF(A344=\"\",\"\",INDEX('RF-Lançamentos'!C:C,MATCH(A344,'RF-Lançamentos'!D:D,0)))","v":""},null,{"$f":"SUMIFS('RF-Lançamentos'!F:F,'RF-Lançamentos'!D:D,A344,'RF-Lançamentos'!B:B,\"d\")-SUMIFS('RF-Lançamentos'!F:F,'RF-Lançamentos'!D:D,A344,'RF-Lançamentos'!B:B,\"r\")","v":0},0,null,null,0,null,null,0,null,0,0,null,null,null,null,null,null,"",{"$error":"#REF!"}]
[null,{"$f":"IF(A345=\"\",\"\",INDEX('RF-Lançamentos'!C:C,MATCH(A345,'RF-Lançamentos'!D:D,0)))","v":""},null,{"$f":"SUMIFS('RF-Lançamentos'!F:F,'RF-Lançamentos'!D:D,A345,'RF-Lançamentos'!B:B,\"d\")-SUMIFS('RF-Lançamentos'!F:F,'RF-Lançamentos'!D:D,A345,'RF-Lançamentos'!B:B,\"r\")","v":0},0,null,null,0,null,null,0,null,0,0,null,null,null,null,null,null,"",{"$error":"#REF!"}]
[null,{"$f":"IF(A346=\"\",\"\",INDEX('RF-Lançamentos'!C:C,MATCH(A346,'RF-Lançamentos'!D:D,0)))","v":""},null,{"$f":"SUMIFS('RF-Lançamentos'!F:F,'RF-Lançamentos'!D:D,A346,'RF-Lançamentos'!B:B,\"d\")-SUMIFS('RF-Lançamentos'!F:F,'RF-Lançamentos'!D:D,A346,'RF-Lançamentos'!B:B,\"r\")","v":0},0,null,null,0,null,null,0,null,0,0,null,null,null,null,null,null,"",{"$error":"#REF!"}]
[null,{"$f":"IF(A347=\"\",\"\",INDEX('RF-Lançamentos'!C:C,MATCH(A347,'RF-Lançamentos'!D:D,0)))","v":""},null,{"$f":"SUMIFS('RF-Lançamentos'!F:F,'RF-Lançamentos'!D:D,A347,'RF-Lançamentos'!B:B,\"d\")-SUMIFS('RF-Lançamentos'!F:F,'RF-Lançamentos'!D:D,A347,'RF-Lançamentos'!B:B,\"r\")","v":0},0,null,null,0,null,null,0,null,0,0,null,null,null,null,null,null,"",{"$error":"#REF!"}]
[null,{"$f":"IF(A348=\"\",\"\",INDEX('RF-Lançamentos'!C:C,MATCH(A348,'RF-Lançamentos'!D:D,0)))","v":""},null,{"$f":"SUMIFS('RF-Lançamentos'!F:F,'RF-Lançamentos'!D:D,A348,'RF-Lançamentos'!B:B,\"d\")-SUMIFS('RF-Lançamentos'!F:F,'RF-Lançamentos'!D:D,A348,'RF-Lançamentos'!B:B,\"r\")","v":0},0,null,null,0,null,null,0,null,0,0,null,null,null,null,null,null,"",{"$error":"#REF!"}]
[null,{"$f":"IF(A349=\"\",\"\",INDEX('RF-Lançamentos'!C:C,MATCH(A349,'RF-Lançamentos'!D:D,0)))","v":""},null,{"$f":"SUMIFS('RF-Lançamentos'!F:F,'RF-Lançamentos'!D:D,A349,'RF-Lançamentos'!B:B,\"d\")-SUMIFS('RF-Lançamentos'!F:F,'RF-Lançamentos'!D:D,A349,'RF-Lançamentos'!B:B,\"r\")","v":0},0,null,null,0,null,null,0,null,0,0,null,null,null,null,null,null,"",{"$error":"#REF!"}]
[null,{"$f":"IF(A350=\"\",\"\",INDEX('RF-Lançamentos'!C:C,MATCH(A350,'RF-Lançamentos'!D:D,0)))","v":""},null,{"$f":"SUMIFS('RF-Lançamentos'!F:F,'RF-Lançamentos'!D:D,A350,'RF-Lançamentos'!B:B,\"d\")-SUMIFS('RF-Lançamentos'!F:F,'RF-Lançamentos'!D:D,A350,'RF-Lançamentos'!B:B,\"r\")","v":0},0,null,null,0,null,null,0,null,0,0,null,null,null,null,null,null,"",{"$error":"#REF!"}]
[{"$f":"IF('RF-Lançamentos'!#REF!=\"\",\"\",'RF-Lançamentos'!#REF!)","v":{"$error":"#REF!"}}]
[{"$f":"IF('RF-Lançamentos'!#REF!=\"\",\"\",'RF-Lançamentos'!#REF!)","v":{"$error":"#REF!"}}]
[{"$f":"IF('RF-Lançamentos'!#REF!=\"\",\"\",'RF-Lançamentos'!#REF!)","v":{"$error":"#REF!"}}]
[{"$f":"IF('RF-Lançamentos'!#REF!=\"\",\"\",'RF-Lançamentos'!#REF!)","v":{"$error":"#REF!"}}]
[{"$f":"IF('RF-Lançamentos'!#REF!=\"\",\"\",'RF-Lançamentos'!#REF!)","v":{"$error":"#REF!"}}]
[{"$f":"IF('RF-Lançamentos'!#REF!=\"\",\"\",'RF-Lançamentos'!#REF!)","v":{"$error":"#REF!"}}]
[{"$f":"IF('RF-Lançamentos'!#REF!=\"\",\"\",'RF-Lançamentos'!#REF!)","v":{"$error":"#REF!"}}]
[{"$f":"IF('RF-Lançamentos'!#REF!=\"\",\"\",'RF-Lançamentos'!#REF!)","v":{"$error":"#REF!"}}]
[{"$f":"IF('RF-Lançamentos'!#REF!=\"\",\"\",'RF-Lançamentos'!#REF!)","v":{"$error":"#REF!"}}]
[{"$f":"IF('RF-Lançamentos'!#REF!=\"\",\"\",'RF-Lançamentos'!#REF!)","v":{"$error":"#REF!"}}]
[{"$f":"IF('RF-Lançamentos'!#REF!=\"\",\"\",'RF-Lançamentos'!#REF!)","v":{"$error":"#REF!"}}]
[{"$f":"IF('RF-Lançamentos'!#REF!=\"\",\"\",'RF-Lançamentos'!#REF!)","v":{"$error":"#REF!"}}]
[{"$f":"IF('RF-Lançamentos'!#REF!=\"\",\"\",'RF-Lançamentos'!#REF!)","v":{"$error":"#REF!"}}]
[{"$f":"IF('RF-Lançamentos'!#REF!=\"\",\"\",'RF-Lançamentos'!#REF!)","v":{"$error":"#REF!"}}]
[{"$f":"IF('RF-Lançamentos'!#REF!=\"\",\"\",'RF-Lançamentos'!#REF!)","v":{"$error":"#REF!"}}]
[{"$f":"IF('RF-Lançamentos'!#REF!=\"\",\"\",'RF-Lançamentos'!#REF!)","v":{"$error":"#REF!"}}]
[{"$f":"IF('RF-Lançamentos'!#REF!=\"\",\"\",'RF-Lançamentos'!#REF!)","v":{"$error":"#REF!"}}]
[{"$f":"IF('RF-Lançamentos'!#REF!=\"\",\"\",'RF-Lançamentos'!#REF!)","v":{"$error":"#REF!"}}]
[{"$f":"IF('RF-Lançamentos'!#REF!=\"\",\"\",'RF-Lançamentos'!#REF!)","v":{"$error":"#REF!"}}]
[{"$f":"IF('RF-Lançamentos'!#REF!=\"\",\"\",'RF-Lançamentos'!#REF!)","v":{"$error":"#REF!"}}]
[{"$f":"IF('RF-Lançamentos'!#REF!=\"\",\"\",'RF-Lançamentos'!#REF!)","v":{"$error":"#REF!"}}]
[{"$f":"IF('RF-Lançamentos'!#REF!=\"\",\"\",'RF-Lançamentos'!#REF!)","v":{"$error":"#REF!"}}]
[{"$f":"IF('RF-Lançamentos'!#REF!=\"\",\"\",'RF-Lançamentos'!#REF!)","v":{"$error":"#REF!"}}]
[{"$f":"IF('RF-Lançamentos'!#REF!=\"\",\"\",'RF-Lançamentos'!#REF!)","v":{"$error":"#REF!"}}]
[{"$f":"IF('RF-Lançamentos'!#REF!=\"\",\"\",'RF-Lançamentos'!#REF!)","v":{"$error":"#REF!"}}]
[{"$f":"IF('RF-Lançamentos'!#REF!=\"\",\"\",'RF-Lançamentos'!#REF!)","v":{"$error":"#REF!"}}]
[{"$f":"IF('RF-Lançamentos'!#REF!=\"\",\"\",'RF-Lançamentos'!#REF!)","v":{"$error":"#REF!"}}]
[{"$f":"IF('RF-Lançamentos'!#REF!=\"\",\"\",'RF-Lançamentos'!#REF!)","v":{"$error":"#REF!"}}]
[{"$f":"IF('RF-Lançamentos'!#REF!=\"\",\"\",'RF-Lançamentos'!#REF!)","v":{"$error":"#REF!"}}]
[{"$f":"IF('RF-Lançamentos'!#REF!=\"\",\"\",'RF-Lançamentos'!#REF!)","v":{"$error":"#REF!"}}]
[{"$f":"IF('RF-Lançamentos'!#REF!=\"\",\"\",'RF-Lançamentos'!#REF!)","v":{"$error":"#REF!"}}]
[{"$f":"IF('RF-Lançamentos'!#REF!=\"\",\"\",'RF-Lançamentos'!#REF!)","v":{"$error":"#REF!"}}]
[{"$f":"IF('RF-Lançamentos'!#REF!=\"\",\"\",'RF-Lançamentos'!#REF!)","v":{"$error":"#REF!"}}]
[{"$f":"IF('RF-Lançamentos'!#REF!=\"\",\"\",'RF-Lançamentos'!#REF!)","v":{"$error":"#REF!"}}]
[{"$f":"IF('RF-Lançamentos'!#REF!=\"\",\"\",'RF-Lançamentos'!#REF!)","v":{"$error":"#REF!"}}]
[{"$f":"IF('RF-Lançamentos'!#REF!=\"\",\"\",'RF-Lançamentos'!#REF!)","v":{"$error":"#REF!"}}]
[{"$f":"IF('RF-Lançamentos'!#REF!=\"\",\"\",'RF-Lançamentos'!#REF!)","v":{"$error":"#REF!"}}]
[{"$f":"IF('RF-Lançamentos'!#REF!=\"\",\"\",'RF-Lançamentos'!#REF!)","v":{"$error":"#REF!"}}]
[{"$f":"IF('RF-Lançamentos'!#REF!=\"\",\"\",'RF-Lançamentos'!#REF!)","v":{"$error":"#REF!"}}]
[{"$f":"IF('RF-Lançamentos'!#REF!=\"\",\"\",'RF-Lançamentos'!#REF!)","v":{"$error":"#REF!"}}]
[{"$f":"IF('RF-Lançamentos'!#REF!=\"\",\"\",'RF-Lançamentos'!#REF!)","v":{"$error":"#REF!"}}]
[{"$f":"IF('RF-Lançamentos'!#REF!=\"\",\"\",'RF-Lançamentos'!#REF!)","v":{"$error":"#REF!"}}]
[{"$f":"IF('RF-Lançamentos'!#REF!=\"\",\"\",'RF-Lançamentos'!#REF!)","v":{"$error":"#REF!"}}]
[{"$f":"IF('RF-Lançamentos'!#REF!=\"\",\"\",'RF-Lançamentos'!#REF!)","v":{"$error":"#REF!"}}]
[{"$f":"IF('RF-Lançamentos'!#REF!=\"\",\"\",'RF-Lançamentos'!#REF!)","v":{"$error":"#REF!"}}]
[{"$f":"IF('RF-Lançamentos'!#REF!=\"\",\"\",'RF-Lançamentos'!#REF!)","v":{"$error":"#REF!"}}]
[{"$f":"IF('RF-Lançamentos'!#REF!=\"\",\"\",'RF-Lançamentos'!#REF!)","v":{"$error":"#REF!"}}]
[{"$f":"IF('RF-Lançamentos'!#REF!=\"\",\"\",'RF-Lançamentos'!#REF!)","v":{"$error":"#REF!"}}]
[{"$f":"IF('RF-Lançamentos'!#REF!=\"\",\"\",'RF-Lançamentos'!#REF!)","v":{"$error":"#REF!"}}]
[{"$f":"IF('RF-Lançamentos'!#REF!=\"\",\"\",'RF-Lançamentos'!#REF!)","v":{"$error":"#REF!"}}]
[{"$f":"IF('RF-Lançamentos'!#REF!=\"\",\"\",'RF-Lançamentos'!#REF!)","v":{"$error":"#REF!"}}]
[{"$f":"IF('RF-Lançamentos'!#REF!=\"\",\"\",'RF-Lançamentos'!#REF!)","v":{"$error":"#REF!"}}]
[{"$f":"IF('RF-Lançamentos'!#REF!=\"\",\"\",'RF-Lançamentos'!#REF!)","v":{"$error":"#REF!"}}]
[{"$f":"IF('RF-Lançamentos'!#REF!=\"\",\"\",'RF-Lançamentos'!#REF!)","v":{"$error":"#REF!"}}]
[{"$f":"IF('RF-Lançamentos'!#REF!=\"\",\"\",'RF-Lançamentos'!#REF!)","v":{"$error":"#REF!"}}]
[{"$f":"IF('RF-Lançamentos'!#REF!=\"\",\"\",'RF-Lançamentos'!#REF!)","v":{"$error":"#REF!"}}]
[{"$f":"IF('RF-Lançamentos'!#REF!=\"\",\"\",'RF-Lançamentos'!#REF!)","v":{"$error":"#REF!"}}]
[{"$f":"IF('RF-Lançamentos'!#REF!=\"\",\"\",'RF-Lançamentos'!#REF!)","v":{"$error":"#REF!"}}]
[{"$f":"IF('RF-Lançamentos'!#REF!=\"\",\"\",'RF-Lançamentos'!#REF!)","v":{"$error":"#REF!"}}]
[{"$f":"IF('RF-Lançamentos'!#REF!=\"\",\"\",'RF-Lançamentos'!#REF!)","v":{"$error":"#REF!"}}]
[{"$f":"IF('RF-Lançamentos'!#REF!=\"\",\"\",'RF-Lançamentos'!#REF!)","v":{"$error":"#REF!"}}]
[{"$f":"IF('RF-Lançamentos'!#REF!=\"\",\"\",'RF-Lançamentos'!#REF!)","v":{"$error":"#REF!"}}]
[{"$f":"IF('RF-Lançamentos'!#REF!=\"\",\"\",'RF-Lançamentos'!#REF!)","v":{"$error":"#REF!"}}]
[{"$f":"IF('RF-Lançamentos'!#REF!=\"\",\"\",'RF-Lançamentos'!#REF!)","v":{"$error":"#REF!"}}]
[{"$f":"IF('RF-Lançamentos'!#REF!=\"\",\"\",'RF-Lançamentos'!#REF!)","v":{"$error":"#REF!"}}]
[{"$f":"IF('RF-Lançamentos'!#REF!=\"\",\"\",'RF-Lançamentos'!#REF!)","v":{"$error":"#REF!"}}]
[{"$f":"IF('RF-Lançamentos'!#REF!=\"\",\"\",'RF-Lançamentos'!#REF!)","v":{"$error":"#REF!"}}]
[{"$f":"IF('RF-Lançamentos'!#REF!=\"\",\"\",'RF-Lançamentos'!#REF!)","v":{"$error":"#REF!"}}]
[{"$f":"IF('RF-Lançamentos'!#REF!=\"\",\"\",'RF-Lançamentos'!#REF!)","v":{"$error":"#REF!"}}]
[{"$f":"IF('RF-Lançamentos'!#REF!=\"\",\"\",'RF-Lançamentos'!#REF!)","v":{"$error":"#REF!"}}]
[{"$f":"IF('RF-Lançamentos'!#REF!=\"\",\"\",'RF-Lançamentos'!#REF!)","v":{"$error":"#REF!"}}]
[{"$f":"IF('RF-Lançamentos'!#REF!=\"\",\"\",'RF-Lançamentos'!#REF!)","v":{"$error":"#REF!"}}]
[{"$f":"IF('RF-Lançamentos'!#REF!=\"\",\"\",'RF-Lançamentos'!#REF!)","v":{"$error":"#REF!"}}]
[{"$f":"IF('RF-Lançamentos'!#REF!=\"\",\"\",'RF-Lançamentos'!#REF!)","v":{"$error":"#REF!"}}]
[{"$f":"IF('RF-Lançamentos'!#REF!=\"\",\"\",'RF-Lançamentos'!#REF!)","v":{"$error":"#REF!"}}]
[{"$f":"IF('RF-Lançamentos'!#REF!=\"\",\"\",'RF-Lançamentos'!#REF!)","v":{"$error":"#REF!"}}]
[{"$f":"IF('RF-Lançamentos'!#REF!=\"\",\"\",'RF-Lançamentos'!#REF!)","v":{"$error":"#REF!"}}]
[{"$f":"IF('RF-Lançamentos'!#REF!=\"\",\"\",'RF-Lançamentos'!#REF!)","v":{"$error":"#REF!"}}]
[{"$f":"IF('RF-Lançamentos'!#REF!=\"\",\"\",'RF-Lançamentos'!#REF!)","v":{"$error":"#REF!"}}]
[{"$f":"IF('RF-Lançamentos'!#REF!=\"\",\"\",'RF-Lançamentos'!#REF!)","v":{"$error":"#REF!"}}]
[{"$f":"IF('RF-Lançamentos'!#REF!=\"\",\"\",'RF-Lançamentos'!#REF!)","v":{"$error":"#REF!"}}]
[{"$f":"IF('RF-Lançamentos'!#REF!=\"\",\"\",'RF-Lançamentos'!#REF!)","v":{"$error":"#REF!"}}]
[{"$f":"IF('RF-Lançamentos'!#REF!=\"\",\"\",'RF-Lançamentos'!#REF!)","v":{"$error":"#REF!"}}]
[{"$f":"IF('RF-Lançamentos'!#REF!=\"\",\"\",'RF-Lançamentos'!#REF!)","v":{"$error":"#REF!"}}]
[{"$f":"IF('RF-Lançamentos'!#REF!=\"\",\"\",'RF-Lançamentos'!#REF!)","v":{"$error":"#REF!"}}]
[{"$f":"IF('RF-Lançamentos'!#REF!=\"\",\"\",'RF-Lançamentos'!#REF!)","v":{"$error":"#REF!"}}]
[{"$f":"IF('RF-Lançamentos'!#REF!=\"\",\"\",'RF-Lançamentos'!#REF!)","v":{"$error":"#REF!"}}]
[{"$f":"IF('RF-Lançamentos'!#REF!=\"\",\"\",'RF-Lançamentos'!#REF!)","v":{"$error":"#REF!"}}]
[{"$f":"IF('RF-Lançamentos'!#REF!=\"\",\"\",'RF-Lançamentos'!#REF!)","v":{"$error":"#REF!"}}]
[{"$f":"IF('RF-Lançamentos'!#REF!=\"\",\"\",'RF-Lançamentos'!#REF!)","v":{"$error":"#REF!"}}]
[{"$f":"IF('RF-Lançamentos'!#REF!=\"\",\"\",'RF-Lançamentos'!#REF!)","v":{"$error":"#REF!"}}]
[{"$f":"IF('RF-Lançamentos'!#REF!=\"\",\"\",'RF-Lançamentos'!#REF!)","v":{"$error":"#REF!"}}]
[{"$f":"IF('RF-Lançamentos'!#REF!=\"\",\"\",'RF-Lançamentos'!#REF!)","v":{"$error":"#REF!"}}]
[{"$f":"IF('RF-Lançamentos'!#REF!=\"\",\"\",'RF-Lançamentos'!#REF!)","v":{"$error":"#REF!"}}]
[{"$f":"IF('RF-Lançamentos'!#REF!=\"\",\"\",'RF-Lançamentos'!#REF!)","v":{"$error":"#REF!"}}]
[{"$f":"IF('RF-Lançamentos'!#REF!=\"\",\"\",'RF-Lançamentos'!#REF!)","v":{"$error":"#REF!"}}]
[{"$f":"IF('RF-Lançamentos'!#REF!=\"\",\"\",'RF-Lançamentos'!#REF!)","v":{"$error":"#REF!"}}]
[{"$f":"IF('RF-Lançamentos'!#REF!=\"\",\"\",'RF-Lançamentos'!#REF!)","v":{"$error":"#REF!"}}]
[{"$f":"IF('RF-Lançamentos'!#REF!=\"\",\"\",'RF-Lançamentos'!#REF!)","v":{"$error":"#REF!"}}]
[{"$f":"IF('RF-Lançamentos'!#REF!=\"\",\"\",'RF-Lançamentos'!#REF!)","v":{"$error":"#REF!"}}]
[{"$f":"IF('RF-Lançamentos'!#REF!=\"\",\"\",'RF-Lançamentos'!#REF!)","v":{"$error":"#REF!"}}]
[{"$f":"IF('RF-Lançamentos'!#REF!=\"\",\"\",'RF-Lançamentos'!#REF!)","v":{"$error":"#REF!"}}]
[{"$f":"IF('RF-Lançamentos'!#REF!=\"\",\"\",'RF-Lançamentos'!#REF!)","v":{"$error":"#REF!"}}]
[{"$f":"IF('RF-Lançamentos'!#REF!=\"\",\"\",'RF-Lançamentos'!#REF!)","v":{"$error":"#REF!"}}]
[{"$f":"IF('RF-Lançamentos'!#REF!=\"\",\"\",'RF-Lançamentos'!#REF!)","v":{"$error":"#REF!"}}]
[{"$f":"IF('RF-Lançamentos'!#REF!=\"\",\"\",'RF-Lançamentos'!#REF!)","v":{"$error":"#REF!"}}]
[{"$f":"IF('RF-Lançamentos'!#REF!=\"\",\"\",'RF-Lançamentos'!#REF!)","v":{"$error":"#REF!"}}]
[{"$f":"IF('RF-Lançamentos'!#REF!=\"\",\"\",'RF-Lançamentos'!#REF!)","v":{"$error":"#REF!"}}]
[{"$f":"IF('RF-Lançamentos'!#REF!=\"\",\"\",'RF-Lançamentos'!#REF!)","v":{"$error":"#REF!"}}]
[{"$f":"IF('RF-Lançamentos'!#REF!=\"\",\"\",'RF-Lançamentos'!#REF!)","v":{"$error":"#REF!"}}]
[{"$f":"IF('RF-Lançamentos'!#REF!=\"\",\"\",'RF-Lançamentos'!#REF!)","v":{"$error":"#REF!"}}]
[{"$f":"IF('RF-Lançamentos'!#REF!=\"\",\"\",'RF-Lançamentos'!#REF!)","v":{"$error":"#REF!"}}]
[{"$f":"IF('RF-Lançamentos'!#REF!=\"\",\"\",'RF-Lançamentos'!#REF!)","v":{"$error":"#REF!"}}]
[{"$f":"IF('RF-Lançamentos'!#REF!=\"\",\"\",'RF-Lançamentos'!#REF!)","v":{"$error":"#REF!"}}]
[{"$f":"IF('RF-Lançamentos'!#REF!=\"\",\"\",'RF-Lançamentos'!#REF!)","v":{"$error":"#REF!"}}]
[{"$f":"IF('RF-Lançamentos'!#REF!=\"\",\"\",'RF-Lançamentos'!#REF!)","v":{"$error":"#REF!"}}]
[{"$f":"IF('RF-Lançamentos'!#REF!=\"\",\"\",'RF-Lançamentos'!#REF!)","v":{"$error":"#REF!"}}]
[{"$f":"IF('RF-Lançamentos'!#REF!=\"\",\"\",'RF-Lançamentos'!#REF!)","v":{"$error":"#REF!"}}]
[{"$f":"IF('RF-Lançamentos'!#REF!=\"\",\"\",'RF-Lançamentos'!#REF!)","v":{"$error":"#REF!"}}]
[{"$f":"IF('RF-Lançamentos'!#REF!=\"\",\"\",'RF-Lançamentos'!#REF!)","v":{"$error":"#REF!"}}]
[{"$f":"IF('RF-Lançamentos'!#REF!=\"\",\"\",'RF-Lançamentos'!#REF!)","v":{"$error":"#REF!"}}]
[{"$f":"IF('RF-Lançamentos'!#REF!=\"\",\"\",'RF-Lançamentos'!#REF!)","v":{"$error":"#REF!"}}]
[{"$f":"IF('RF-Lançamentos'!#REF!=\"\",\"\",'RF-Lançamentos'!#REF!)","v":{"$error":"#REF!"}}]
[{"$f":"IF('RF-Lançamentos'!#REF!=\"\",\"\",'RF-Lançamentos'!#REF!)","v":{"$error":"#REF!"}}]
[{"$f":"IF('RF-Lançamentos'!#REF!=\"\",\"\",'RF-Lançamentos'!#REF!)","v":{"$error":"#REF!"}}]
[{"$f":"IF('RF-Lançamentos'!#REF!=\"\",\"\",'RF-Lançamentos'!#REF!)","v":{"$error":"#REF!"}}]
[{"$f":"IF('RF-Lançamentos'!#REF!=\"\",\"\",'RF-Lançamentos'!#REF!)","v":{"$error":"#REF!"}}]
[{"$f":"IF('RF-Lançamentos'!#REF!=\"\",\"\",'RF-Lançamentos'!#REF!)","v":{"$error":"#REF!"}}]
[{"$f":"IF('RF-Lançamentos'!#REF!=\"\",\"\",'RF-Lançamentos'!#REF!)","v":{"$error":"#REF!"}}]
[{"$f":"IF('RF-Lançamentos'!#REF!=\"\",\"\",'RF-Lançamentos'!#REF!)","v":{"$error":"#REF!"}}]
[{"$f":"IF('RF-Lançamentos'!#REF!=\"\",\"\",'RF-Lançamentos'!#REF!)","v":{"$error":"#REF!"}}]
[{"$f":"IF('RF-Lançamentos'!#REF!=\"\",\"\",'RF-Lançamentos'!#REF!)","v":{"$error":"#REF!"}}]
[{"$f":"IF('RF-Lançamentos'!#REF!=\"\",\"\",'RF-Lançamentos'!#REF!)","v":{"$error":"#REF!"}}]
[{"$f":"IF('RF-Lançamentos'!#REF!=\"\",\"\",'RF-Lançamentos'!#REF!)","v":{"$error":"#REF!"}}]
[{"$f":"IF('RF-Lançamentos'!#REF!=\"\",\"\",'RF-Lançamentos'!#REF!)","v":{"$error":"#REF!"}}]
[{"$f":"IF('RF-Lançamentos'!#REF!=\"\",\"\",'RF-Lançamentos'!#REF!)","v":{"$error":"#REF!"}}]
[{"$f":"IF('RF-Lançamentos'!#REF!=\"\",\"\",'RF-Lançamentos'!#REF!)","v":{"$error":"#REF!"}}]
[{"$f":"IF('RF-Lançamentos'!#REF!=\"\",\"\",'RF-Lançamentos'!#REF!)","v":{"$error":"#REF!"}}]
[{"$f":"IF('RF-Lançamentos'!#REF!=\"\",\"\",'RF-Lançamentos'!#REF!)","v":{"$error":"#REF!"}}]
[{"$f":"IF('RF-Lançamentos'!#REF!=\"\",\"\",'RF-Lançamentos'!#REF!)","v":{"$error":"#REF!"}}]
[{"$f":"IF('RF-Lançamentos'!#REF!=\"\",\"\",'RF-Lançamentos'!#REF!)","v":{"$error":"#REF!"}}]
[{"$f":"IF('RF-Lançamentos'!#REF!=\"\",\"\",'RF-Lançamentos'!#REF!)","v":{"$error":"#REF!"}}]
[{"$f":"IF('RF-Lançamentos'!#REF!=\"\",\"\",'RF-Lançamentos'!#REF!)","v":{"$error":"#REF!"}}]
[{"$f":"IF('RF-Lançamentos'!#REF!=\"\",\"\",'RF-Lançamentos'!#REF!)","v":{"$error":"#REF!"}}]
[{"$f":"IF('RF-Lançamentos'!#REF!=\"\",\"\",'RF-Lançamentos'!#REF!)","v":{"$error":"#REF!"}}]
[{"$f":"IF('RF-Lançamentos'!#REF!=\"\",\"\",'RF-Lançamentos'!#REF!)","v":{"$error":"#REF!"}}]
[{"$f":"IF('RF-Lançamentos'!#REF!=\"\",\"\",'RF-Lançamentos'!#REF!)","v":{"$error":"#REF!"}}]
[{"$f":"IF('RF-Lançamentos'!#REF!=\"\",\"\",'RF-Lançamentos'!#REF!)","v":{"$error":"#REF!"}}]
[{"$f":"IF('RF-Lançamentos'!#REF!=\"\",\"\",'RF-Lançamentos'!#REF!)","v":{"$error":"#REF!"}}]
[{"$f":"IF('RF-Lançamentos'!#REF!=\"\",\"\",'RF-Lançamentos'!#REF!)","v":{"$error":"#REF!"}}]
[{"$f":"IF('RF-Lançamentos'!#REF!=\"\",\"\",'RF-Lançamentos'!#REF!)","v":{"$error":"#REF!"}}]
[{"$f":"IF('RF-Lançamentos'!#REF!=\"\",\"\",'RF-Lançamentos'!#REF!)","v":{"$error":"#REF!"}}]
[{"$f":"IF('RF-Lançamentos'!#REF!=\"\",\"\",'RF-Lançamentos'!#REF!)","v":{"$error":"#REF!"}}]
[{"$f":"IF('RF-Lançamentos'!#REF!=\"\",\"\",'RF-Lançamentos'!#REF!)","v":{"$error":"#REF!"}}]
[{"$f":"IF('RF-Lançamentos'!#REF!=\"\",\"\",'RF-Lançamentos'!#REF!)","v":{"$error":"#REF!"}}]
[{"$f":"IF('RF-Lançamentos'!#REF!=\"\",\"\",'RF-Lançamentos'!#REF!)","v":{"$error":"#REF!"}}]
[{"$f":"IF('RF-Lançamentos'!#REF!=\"\",\"\",'RF-Lançamentos'!#REF!)","v":{"$error":"#REF!"}}]
[{"$f":"IF('RF-Lançamentos'!#REF!=\"\",\"\",'RF-Lançamentos'!#REF!)","v":{"$error":"#REF!"}}]
[{"$f":"IF('RF-Lançamentos'!#REF!=\"\",\"\",'RF-Lançamentos'!#REF!)","v":{"$error":"#REF!"}}]
[{"$f":"IF('RF-Lançamentos'!#REF!=\"\",\"\",'RF-Lançamentos'!#REF!)","v":{"$error":"#REF!"}}]
[{"$f":"IF('RF-Lançamentos'!#REF!=\"\",\"\",'RF-Lançamentos'!#REF!)","v":{"$error":"#REF!"}}]
[{"$f":"IF('RF-Lançamentos'!#REF!=\"\",\"\",'RF-Lançamentos'!#REF!)","v":{"$error":"#REF!"}}]
[{"$f":"IF('RF-Lançamentos'!#REF!=\"\",\"\",'RF-Lançamentos'!#REF!)","v":{"$error":"#REF!"}}]
[{"$f":"IF('RF-Lançamentos'!#REF!=\"\",\"\",'RF-Lançamentos'!#REF!)","v":{"$error":"#REF!"}}]
[{"$f":"IF('RF-Lançamentos'!#REF!=\"\",\"\",'RF-Lançamentos'!#REF!)","v":{"$error":"#REF!"}}]
[{"$f":"IF('RF-Lançamentos'!#REF!=\"\",\"\",'RF-Lançamentos'!#REF!)","v":{"$error":"#REF!"}}]
[{"$f":"IF('RF-Lançamentos'!#REF!=\"\",\"\",'RF-Lançamentos'!#REF!)","v":{"$error":"#REF!"}}]
[{"$f":"IF('RF-Lançamentos'!#REF!=\"\",\"\",'RF-Lançamentos'!#REF!)","v":{"$error":"#REF!"}}]
[{"$f":"IF('RF-Lançamentos'!#REF!=\"\",\"\",'RF-Lançamentos'!#REF!)","v":{"$error":"#REF!"}}]
[{"$f":"IF('RF-Lançamentos'!#REF!=\"\",\"\",'RF-Lançamentos'!#REF!)","v":{"$error":"#REF!"}}]
[{"$f":"IF('RF-Lançamentos'!#REF!=\"\",\"\",'RF-Lançamentos'!#REF!)","v":{"$error":"#REF!"}}]
[{"$f":"IF('RF-Lançamentos'!#REF!=\"\",\"\",'RF-Lançamentos'!#REF!)","v":{"$error":"#REF!"}}]
[{"$f":"IF('RF-Lançamentos'!#REF!=\"\",\"\",'RF-Lançamentos'!#REF!)","v":{"$error":"#REF!"}}]
[{"$f":"IF('RF-Lançamentos'!#REF!=\"\",\"\",'RF-Lançamentos'!#REF!)","v":{"$error":"#REF!"}}]
[{"$f":"IF('RF-Lançamentos'!#REF!=\"\",\"\",'RF-Lançamentos'!#REF!)","v":{"$error":"#REF!"}}]
[{"$f":"IF('RF-Lançamentos'!#REF!=\"\",\"\",'RF-Lançamentos'!#REF!)","v":{"$error":"#REF!"}}]
[{"$f":"IF('RF-Lançamentos'!#REF!=\"\",\"\",'RF-Lançamentos'!#REF!)","v":{"$error":"#REF!"}}]
[{"$f":"IF('RF-Lançamentos'!#REF!=\"\",\"\",'RF-Lançamentos'!#REF!)","v":{"$error":"#REF!"}}]
[{"$f":"IF('RF-Lançamentos'!#REF!=\"\",\"\",'RF-Lançamentos'!#REF!)","v":{"$error":"#REF!"}}]
[{"$f":"IF('RF-Lançamentos'!#REF!=\"\",\"\",'RF-Lançamentos'!#REF!)","v":{"$error":"#REF!"}}]
[{"$f":"IF('RF-Lançamentos'!#REF!=\"\",\"\",'RF-Lançamentos'!#REF!)","v":{"$error":"#REF!"}}]
[{"$f":"IF('RF-Lançamentos'!#REF!=\"\",\"\",'RF-Lançamentos'!#REF!)","v":{"$error":"#REF!"}}]
[{"$f":"IF('RF-Lançamentos'!#REF!=\"\",\"\",'RF-Lançamentos'!#REF!)","v":{"$error":"#REF!"}}]
[{"$f":"IF('RF-Lançamentos'!#REF!=\"\",\"\",'RF-Lançamentos'!#REF!)","v":{"$error":"#REF!"}}]
[{"$f":"IF('RF-Lançamentos'!#REF!=\"\",\"\",'RF-Lançamentos'!#REF!)","v":{"$error":"#REF!"}}]
[{"$f":"IF('RF-Lançamentos'!#REF!=\"\",\"\",'RF-Lançamentos'!#REF!)","v":{"$error":"#REF!"}}]
[{"$f":"IF('RF-Lançamentos'!#REF!=\"\",\"\",'RF-Lançamentos'!#REF!)","v":{"$error":"#REF!"}}]
[{"$f":"IF('RF-Lançamentos'!#REF!=\"\",\"\",'RF-Lançamentos'!#REF!)","v":{"$error":"#REF!"}}]
[{"$f":"IF('RF-Lançamentos'!#REF!=\"\",\"\",'RF-Lançamentos'!#REF!)","v":{"$error":"#REF!"}}]
[{"$f":"IF('RF-Lançamentos'!#REF!=\"\",\"\",'RF-Lançamentos'!#REF!)","v":{"$error":"#REF!"}}]
[{"$f":"IF('RF-Lançamentos'!#REF!=\"\",\"\",'RF-Lançamentos'!#REF!)","v":{"$error":"#REF!"}}]
[{"$f":"IF('RF-Lançamentos'!#REF!=\"\",\"\",'RF-Lançamentos'!#REF!)","v":{"$error":"#REF!"}}]
[{"$f":"IF('RF-Lançamentos'!#REF!=\"\",\"\",'RF-Lançamentos'!#REF!)","v":{"$error":"#REF!"}}]
[{"$f":"IF('RF-Lançamentos'!#REF!=\"\",\"\",'RF-Lançamentos'!#REF!)","v":{"$error":"#REF!"}}]
[{"$f":"IF('RF-Lançamentos'!#REF!=\"\",\"\",'RF-Lançamentos'!#REF!)","v":{"$error":"#REF!"}}]
[{"$f":"IF('RF-Lançamentos'!#REF!=\"\",\"\",'RF-Lançamentos'!#REF!)","v":{"$error":"#REF!"}}]
[{"$f":"IF('RF-Lançamentos'!#REF!=\"\",\"\",'RF-Lançamentos'!#REF!)","v":{"$error":"#REF!"}}]
[{"$f":"IF('RF-Lançamentos'!#REF!=\"\",\"\",'RF-Lançamentos'!#REF!)","v":{"$error":"#REF!"}}]
[{"$f":"IF('RF-Lançamentos'!#REF!=\"\",\"\",'RF-Lançamentos'!#REF!)","v":{"$error":"#REF!"}}]
[{"$f":"IF('RF-Lançamentos'!#REF!=\"\",\"\",'RF-Lançamentos'!#REF!)","v":{"$error":"#REF!"}}]
[{"$f":"IF('RF-Lançamentos'!#REF!=\"\",\"\",'RF-Lançamentos'!#REF!)","v":{"$error":"#REF!"}}]
[{"$f":"IF('RF-Lançamentos'!#REF!=\"\",\"\",'RF-Lançamentos'!#REF!)","v":{"$error":"#REF!"}}]
[{"$f":"IF('RF-Lançamentos'!#REF!=\"\",\"\",'RF-Lançamentos'!#REF!)","v":{"$error":"#REF!"}}]
[{"$f":"IF('RF-Lançamentos'!#REF!=\"\",\"\",'RF-Lançamentos'!#REF!)","v":{"$error":"#REF!"}}]
[{"$f":"IF('RF-Lançamentos'!#REF!=\"\",\"\",'RF-Lançamentos'!#REF!)","v":{"$error":"#REF!"}}]
[{"$f":"IF('RF-Lançamentos'!#REF!=\"\",\"\",'RF-Lançamentos'!#REF!)","v":{"$error":"#REF!"}}]
[{"$f":"IF('RF-Lançamentos'!#REF!=\"\",\"\",'RF-Lançamentos'!#REF!)","v":{"$error":"#REF!"}}]
[{"$f":"IF('RF-Lançamentos'!#REF!=\"\",\"\",'RF-Lançamentos'!#REF!)","v":{"$error":"#REF!"}}]
[{"$f":"IF('RF-Lançamentos'!#REF!=\"\",\"\",'RF-Lançamentos'!#REF!)","v":{"$error":"#REF!"}}]
[{"$f":"IF('RF-Lançamentos'!#REF!=\"\",\"\",'RF-Lançamentos'!#REF!)","v":{"$error":"#REF!"}}]
[{"$f":"IF('RF-Lançamentos'!#REF!=\"\",\"\",'RF-Lançamentos'!#REF!)","v":{"$error":"#REF!"}}]
[{"$f":"IF('RF-Lançamentos'!#REF!=\"\",\"\",'RF-Lançamentos'!#REF!)","v":{"$error":"#REF!"}}]
[{"$f":"IF('RF-Lançamentos'!#REF!=\"\",\"\",'RF-Lançamentos'!#REF!)","v":{"$error":"#REF!"}}]
[{"$f":"IF('RF-Lançamentos'!#REF!=\"\",\"\",'RF-Lançamentos'!#REF!)","v":{"$error":"#REF!"}}]
[{"$f":"IF('RF-Lançamentos'!#REF!=\"\",\"\",'RF-Lançamentos'!#REF!)","v":{"$error":"#REF!"}}]
[{"$f":"IF('RF-Lançamentos'!#REF!=\"\",\"\",'RF-Lançamentos'!#REF!)","v":{"$error":"#REF!"}}]
[{"$f":"IF('RF-Lançamentos'!#REF!=\"\",\"\",'RF-Lançamentos'!#REF!)","v":{"$error":"#REF!"}}]
[{"$f":"IF('RF-Lançamentos'!#REF!=\"\",\"\",'RF-Lançamentos'!#REF!)","v":{"$error":"#REF!"}}]
[{"$f":"IF('RF-Lançamentos'!#REF!=\"\",\"\",'RF-Lançamentos'!#REF!)","v":{"$error":"#REF!"}}]
[{"$f":"IF('RF-Lançamentos'!#REF!=\"\",\"\",'RF-Lançamentos'!#REF!)","v":{"$error":"#REF!"}}]
[{"$f":"IF('RF-Lançamentos'!#REF!=\"\",\"\",'RF-Lançamentos'!#REF!)","v":{"$error":"#REF!"}}]
[{"$f":"IF('RF-Lançamentos'!#REF!=\"\",\"\",'RF-Lançamentos'!#REF!)","v":{"$error":"#REF!"}}]
[{"$f":"IF('RF-Lançamentos'!#REF!=\"\",\"\",'RF-Lançamentos'!#REF!)","v":{"$error":"#REF!"}}]
[{"$f":"IF('RF-Lançamentos'!#REF!=\"\",\"\",'RF-Lançamentos'!#REF!)","v":{"$error":"#REF!"}}]
[{"$f":"IF('RF-Lançamentos'!#REF!=\"\",\"\",'RF-Lançamentos'!#REF!)","v":{"$error":"#REF!"}}]
[{"$f":"IF('RF-Lançamentos'!#REF!=\"\",\"\",'RF-Lançamentos'!#REF!)","v":{"$error":"#REF!"}}]
[{"$f":"IF('RF-Lançamentos'!#REF!=\"\",\"\",'RF-Lançamentos'!#REF!)","v":{"$error":"#REF!"}}]
[{"$f":"IF('RF-Lançamentos'!#REF!=\"\",\"\",'RF-Lançamentos'!#REF!)","v":{"$error":"#REF!"}}]
[{"$f":"IF('RF-Lançamentos'!#REF!=\"\",\"\",'RF-Lançamentos'!#REF!)","v":{"$error":"#REF!"}}]
[{"$f":"IF('RF-Lançamentos'!#REF!=\"\",\"\",'RF-Lançamentos'!#REF!)","v":{"$error":"#REF!"}}]
[{"$f":"IF('RF-Lançamentos'!#REF!=\"\",\"\",'RF-Lançamentos'!#REF!)","v":{"$error":"#REF!"}}]
[{"$f":"IF('RF-Lançamentos'!#REF!=\"\",\"\",'RF-Lançamentos'!#REF!)","v":{"$error":"#REF!"}}]
[{"$f":"IF('RF-Lançamentos'!#REF!=\"\",\"\",'RF-Lançamentos'!#REF!)","v":{"$error":"#REF!"}}]
[{"$f":"IF('RF-Lançamentos'!#REF!=\"\",\"\",'RF-Lançamentos'!#REF!)","v":{"$error":"#REF!"}}]
[{"$f":"IF('RF-Lançamentos'!#REF!=\"\",\"\",'RF-Lançamentos'!#REF!)","v":{"$error":"#REF!"}}]
[{"$f":"IF('RF-Lançamentos'!#REF!=\"\",\"\",'RF-Lançamentos'!#REF!)","v":{"$error":"#REF!"}}]
[{"$f":"IF('RF-Lançamentos'!#REF!=\"\",\"\",'RF-Lançamentos'!#REF!)","v":{"$error":"#REF!"}}]
[{"$f":"IF('RF-Lançamentos'!#REF!=\"\",\"\",'RF-Lançamentos'!#REF!)","v":{"$error":"#REF!"}}]
[{"$f":"IF('RF-Lançamentos'!#REF!=\"\",\"\",'RF-Lançamentos'!#REF!)","v":{"$error":"#REF!"}}]
[{"$f":"IF('RF-Lançamentos'!#REF!=\"\",\"\",'RF-Lançamentos'!#REF!)","v":{"$error":"#REF!"}}]
[{"$f":"IF('RF-Lançamentos'!#REF!=\"\",\"\",'RF-Lançamentos'!#REF!)","v":{"$error":"#REF!"}}]
[{"$f":"IF('RF-Lançamentos'!#REF!=\"\",\"\",'RF-Lançamentos'!#REF!)","v":{"$error":"#REF!"}}]
[{"$f":"IF('RF-Lançamentos'!#REF!=\"\",\"\",'RF-Lançamentos'!#REF!)","v":{"$error":"#REF!"}}]
[{"$f":"IF('RF-Lançamentos'!#REF!=\"\",\"\",'RF-Lançamentos'!#REF!)","v":{"$error":"#REF!"}}]
[{"$f":"IF('RF-Lançamentos'!#REF!=\"\",\"\",'RF-Lançamentos'!#REF!)","v":{"$error":"#REF!"}}]
[{"$f":"IF('RF-Lançamentos'!#REF!=\"\",\"\",'RF-Lançamentos'!#REF!)","v":{"$error":"#REF!"}}]
[{"$f":"IF('RF-Lançamentos'!#REF!=\"\",\"\",'RF-Lançamentos'!#REF!)","v":{"$error":"#REF!"}}]
[{"$f":"IF('RF-Lançamentos'!#REF!=\"\",\"\",'RF-Lançamentos'!#REF!)","v":{"$error":"#REF!"}}]
[{"$f":"IF('RF-Lançamentos'!#REF!=\"\",\"\",'RF-Lançamentos'!#REF!)","v":{"$error":"#REF!"}}]
[{"$f":"IF('RF-Lançamentos'!#REF!=\"\",\"\",'RF-Lançamentos'!#REF!)","v":{"$error":"#REF!"}}]
[{"$f":"IF('RF-Lançamentos'!#REF!=\"\",\"\",'RF-Lançamentos'!#REF!)","v":{"$error":"#REF!"}}]
[{"$f":"IF('RF-Lançamentos'!#REF!=\"\",\"\",'RF-Lançamentos'!#REF!)","v":{"$error":"#REF!"}}]
[{"$f":"IF('RF-Lançamentos'!#REF!=\"\",\"\",'RF-Lançamentos'!#REF!)","v":{"$error":"#REF!"}}]
[{"$f":"IF('RF-Lançamentos'!#REF!=\"\",\"\",'RF-Lançamentos'!#REF!)","v":{"$error":"#REF!"}}]
[{"$f":"IF('RF-Lançamentos'!#REF!=\"\",\"\",'RF-Lançamentos'!#REF!)","v":{"$error":"#REF!"}}]
[{"$f":"IF('RF-Lançamentos'!#REF!=\"\",\"\",'RF-Lançamentos'!#REF!)","v":{"$error":"#REF!"}}]
[{"$f":"IF('RF-Lançamentos'!#REF!=\"\",\"\",'RF-Lançamentos'!#REF!)","v":{"$error":"#REF!"}}]
[{"$f":"IF('RF-Lançamentos'!#REF!=\"\",\"\",'RF-Lançamentos'!#REF!)","v":{"$error":"#REF!"}}]
[{"$f":"IF('RF-Lançamentos'!#REF!=\"\",\"\",'RF-Lançamentos'!#REF!)","v":{"$error":"#REF!"}}]
[{"$f":"IF('RF-Lançamentos'!#REF!=\"\",\"\",'RF-Lançamentos'!#REF!)","v":{"$error":"#REF!"}}]
[{"$f":"IF('RF-Lançamentos'!#REF!=\"\",\"\",'RF-Lançamentos'!#REF!)","v":{"$error":"#REF!"}}]
[{"$f":"IF('RF-Lançamentos'!#REF!=\"\",\"\",'RF-Lançamentos'!#REF!)","v":{"$error":"#REF!"}}]
[{"$f":"IF('RF-Lançamentos'!#REF!=\"\",\"\",'RF-Lançamentos'!#REF!)","v":{"$error":"#REF!"}}]
[{"$f":"IF('RF-Lançamentos'!#REF!=\"\",\"\",'RF-Lançamentos'!#REF!)","v":{"$error":"#REF!"}}]
[{"$f":"IF('RF-Lançamentos'!#REF!=\"\",\"\",'RF-Lançamentos'!#REF!)","v":{"$error":"#REF!"}}]
[{"$f":"IF('RF-Lançamentos'!#REF!=\"\",\"\",'RF-Lançamentos'!#REF!)","v":{"$error":"#REF!"}}]
[{"$f":"IF('RF-Lançamentos'!#REF!=\"\",\"\",'RF-Lançamentos'!#REF!)","v":{"$error":"#REF!"}}]
[{"$f":"IF('RF-Lançamentos'!#REF!=\"\",\"\",'RF-Lançamentos'!#REF!)","v":{"$error":"#REF!"}}]
[{"$f":"IF('RF-Lançamentos'!#REF!=\"\",\"\",'RF-Lançamentos'!#REF!)","v":{"$error":"#REF!"}}]
[{"$f":"IF('RF-Lançamentos'!#REF!=\"\",\"\",'RF-Lançamentos'!#REF!)","v":{"$error":"#REF!"}}]
[{"$f":"IF('RF-Lançamentos'!#REF!=\"\",\"\",'RF-Lançamentos'!#REF!)","v":{"$error":"#REF!"}}]
[{"$f":"IF('RF-Lançamentos'!#REF!=\"\",\"\",'RF-Lançamentos'!#REF!)","v":{"$error":"#REF!"}}]
[{"$f":"IF('RF-Lançamentos'!#REF!=\"\",\"\",'RF-Lançamentos'!#REF!)","v":{"$error":"#REF!"}}]
[{"$f":"IF('RF-Lançamentos'!#REF!=\"\",\"\",'RF-Lançamentos'!#REF!)","v":{"$error":"#REF!"}}]
[{"$f":"IF('RF-Lançamentos'!#REF!=\"\",\"\",'RF-Lançamentos'!#REF!)","v":{"$error":"#REF!"}}]
[{"$f":"IF('RF-Lançamentos'!#REF!=\"\",\"\",'RF-Lançamentos'!#REF!)","v":{"$error":"#REF!"}}]
[{"$f":"IF('RF-Lançamentos'!#REF!=\"\",\"\",'RF-Lançamentos'!#REF!)","v":{"$error":"#REF!"}}]
[{"$f":"IF('RF-Lançamentos'!#REF!=\"\",\"\",'RF-Lançamentos'!#REF!)","v":{"$error":"#REF!"}}]
[{"$f":"IF('RF-Lançamentos'!#REF!=\"\",\"\",'RF-Lançamentos'!#REF!)","v":{"$error":"#REF!"}}]
[{"$f":"IF('RF-Lançamentos'!#REF!=\"\",\"\",'RF-Lançamentos'!#REF!)","v":{"$error":"#REF!"}}]
[{"$f":"IF('RF-Lançamentos'!#REF!=\"\",\"\",'RF-Lançamentos'!#REF!)","v":{"$error":"#REF!"}}]
[{"$f":"IF('RF-Lançamentos'!#REF!=\"\",\"\",'RF-Lançamentos'!#REF!)","v":{"$error":"#REF!"}}]
[{"$f":"IF('RF-Lançamentos'!#REF!=\"\",\"\",'RF-Lançamentos'!#REF!)","v":{"$error":"#REF!"}}]
[{"$f":"IF('RF-Lançamentos'!#REF!=\"\",\"\",'RF-Lançamentos'!#REF!)","v":{"$error":"#REF!"}}]
[{"$f":"IF('RF-Lançamentos'!#REF!=\"\",\"\",'RF-Lançamentos'!#REF!)","v":{"$error":"#REF!"}}]
[{"$f":"IF('RF-Lançamentos'!#REF!=\"\",\"\",'RF-Lançamentos'!#REF!)","v":{"$error":"#REF!"}}]
[{"$f":"IF('RF-Lançamentos'!#REF!=\"\",\"\",'RF-Lançamentos'!#REF!)","v":{"$error":"#REF!"}}]
[{"$f":"IF('RF-Lançamentos'!#REF!=\"\",\"\",'RF-Lançamentos'!#REF!)","v":{"$error":"#REF!"}}]
[{"$f":"IF('RF-Lançamentos'!#REF!=\"\",\"\",'RF-Lançamentos'!#REF!)","v":{"$error":"#REF!"}}]
[{"$f":"IF('RF-Lançamentos'!#REF!=\"\",\"\",'RF-Lançamentos'!#REF!)","v":{"$error":"#REF!"}}]
[{"$f":"IF('RF-Lançamentos'!#REF!=\"\",\"\",'RF-Lançamentos'!#REF!)","v":{"$error":"#REF!"}}]
[{"$f":"IF('RF-Lançamentos'!#REF!=\"\",\"\",'RF-Lançamentos'!#REF!)","v":{"$error":"#REF!"}}]
[{"$f":"IF('RF-Lançamentos'!#REF!=\"\",\"\",'RF-Lançamentos'!#REF!)","v":{"$error":"#REF!"}}]
[{"$f":"IF('RF-Lançamentos'!#REF!=\"\",\"\",'RF-Lançamentos'!#REF!)","v":{"$error":"#REF!"}}]
[{"$f":"IF('RF-Lançamentos'!#REF!=\"\",\"\",'RF-Lançamentos'!#REF!)","v":{"$error":"#REF!"}}]
[{"$f":"IF('RF-Lançamentos'!#REF!=\"\",\"\",'RF-Lançamentos'!#REF!)","v":{"$error":"#REF!"}}]
[{"$f":"IF('RF-Lançamentos'!#REF!=\"\",\"\",'RF-Lançamentos'!#REF!)","v":{"$error":"#REF!"}}]
[{"$f":"IF('RF-Lançamentos'!#REF!=\"\",\"\",'RF-Lançamentos'!#REF!)","v":{"$error":"#REF!"}}]
[{"$f":"IF('RF-Lançamentos'!#REF!=\"\",\"\",'RF-Lançamentos'!#REF!)","v":{"$error":"#REF!"}}]
[{"$f":"IF('RF-Lançamentos'!#REF!=\"\",\"\",'RF-Lançamentos'!#REF!)","v":{"$error":"#REF!"}}]
[{"$f":"IF('RF-Lançamentos'!#REF!=\"\",\"\",'RF-Lançamentos'!#REF!)","v":{"$error":"#REF!"}}]
[{"$f":"IF('RF-Lançamentos'!#REF!=\"\",\"\",'RF-Lançamentos'!#REF!)","v":{"$error":"#REF!"}}]
[{"$f":"IF('RF-Lançamentos'!#REF!=\"\",\"\",'RF-Lançamentos'!#REF!)","v":{"$error":"#REF!"}}]
[{"$f":"IF('RF-Lançamentos'!#REF!=\"\",\"\",'RF-Lançamentos'!#REF!)","v":{"$error":"#REF!"}}]
[{"$f":"IF('RF-Lançamentos'!#REF!=\"\",\"\",'RF-Lançamentos'!#REF!)","v":{"$error":"#REF!"}}]
[{"$f":"IF('RF-Lançamentos'!#REF!=\"\",\"\",'RF-Lançamentos'!#REF!)","v":{"$error":"#REF!"}}]
[{"$f":"IF('RF-Lançamentos'!#REF!=\"\",\"\",'RF-Lançamentos'!#REF!)","v":{"$error":"#REF!"}}]
[{"$f":"IF('RF-Lançamentos'!#REF!=\"\",\"\",'RF-Lançamentos'!#REF!)","v":{"$error":"#REF!"}}]
[{"$f":"IF('RF-Lançamentos'!#REF!=\"\",\"\",'RF-Lançamentos'!#REF!)","v":{"$error":"#REF!"}}]
[{"$f":"IF('RF-Lançamentos'!#REF!=\"\",\"\",'RF-Lançamentos'!#REF!)","v":{"$error":"#REF!"}}]
[{"$f":"IF('RF-Lançamentos'!#REF!=\"\",\"\",'RF-Lançamentos'!#REF!)","v":{"$error":"#REF!"}}]
[{"$f":"IF('RF-Lançamentos'!#REF!=\"\",\"\",'RF-Lançamentos'!#REF!)","v":{"$error":"#REF!"}}]
[{"$f":"IF('RF-Lançamentos'!#REF!=\"\",\"\",'RF-Lançamentos'!#REF!)","v":{"$error":"#REF!"}}]
[{"$f":"IF('RF-Lançamentos'!#REF!=\"\",\"\",'RF-Lançamentos'!#REF!)","v":{"$error":"#REF!"}}]
[{"$f":"IF('RF-Lançamentos'!#REF!=\"\",\"\",'RF-Lançamentos'!#REF!)","v":{"$error":"#REF!"}}]
[{"$f":"IF('RF-Lançamentos'!#REF!=\"\",\"\",'RF-Lançamentos'!#REF!)","v":{"$error":"#REF!"}}]
[{"$f":"IF('RF-Lançamentos'!#REF!=\"\",\"\",'RF-Lançamentos'!#REF!)","v":{"$error":"#REF!"}}]
[{"$f":"IF('RF-Lançamentos'!#REF!=\"\",\"\",'RF-Lançamentos'!#REF!)","v":{"$error":"#REF!"}}]
[{"$f":"IF('RF-Lançamentos'!#REF!=\"\",\"\",'RF-Lançamentos'!#REF!)","v":{"$error":"#REF!"}}]
[{"$f":"IF('RF-Lançamentos'!#REF!=\"\",\"\",'RF-Lançamentos'!#REF!)","v":{"$error":"#REF!"}}]
[{"$f":"IF('RF-Lançamentos'!#REF!=\"\",\"\",'RF-Lançamentos'!#REF!)","v":{"$error":"#REF!"}}]
[{"$f":"IF('RF-Lançamentos'!#REF!=\"\",\"\",'RF-Lançamentos'!#REF!)","v":{"$error":"#REF!"}}]
[{"$f":"IF('RF-Lançamentos'!#REF!=\"\",\"\",'RF-Lançamentos'!#REF!)","v":{"$error":"#REF!"}}]
[{"$f":"IF('RF-Lançamentos'!#REF!=\"\",\"\",'RF-Lançamentos'!#REF!)","v":{"$error":"#REF!"}}]
[{"$f":"IF('RF-Lançamentos'!#REF!=\"\",\"\",'RF-Lançamentos'!#REF!)","v":{"$error":"#REF!"}}]
[{"$f":"IF('RF-Lançamentos'!#REF!=\"\",\"\",'RF-Lançamentos'!#REF!)","v":{"$error":"#REF!"}}]
[{"$f":"IF('RF-Lançamentos'!#REF!=\"\",\"\",'RF-Lançamentos'!#REF!)","v":{"$error":"#REF!"}}]
[{"$f":"IF('RF-Lançamentos'!#REF!=\"\",\"\",'RF-Lançamentos'!#REF!)","v":{"$error":"#REF!"}}]
[{"$f":"IF('RF-Lançamentos'!#REF!=\"\",\"\",'RF-Lançamentos'!#REF!)","v":{"$error":"#REF!"}}]
[{"$f":"IF('RF-Lançamentos'!#REF!=\"\",\"\",'RF-Lançamentos'!#REF!)","v":{"$error":"#REF!"}}]
[{"$f":"IF('RF-Lançamentos'!#REF!=\"\",\"\",'RF-Lançamentos'!#REF!)","v":{"$error":"#REF!"}}]
[{"$f":"IF('RF-Lançamentos'!#REF!=\"\",\"\",'RF-Lançamentos'!#REF!)","v":{"$error":"#REF!"}}]
[{"$f":"IF('RF-Lançamentos'!#REF!=\"\",\"\",'RF-Lançamentos'!#REF!)","v":{"$error":"#REF!"}}]
[{"$f":"IF('RF-Lançamentos'!#REF!=\"\",\"\",'RF-Lançamentos'!#REF!)","v":{"$error":"#REF!"}}]
[{"$f":"IF('RF-Lançamentos'!#REF!=\"\",\"\",'RF-Lançamentos'!#REF!)","v":{"$error":"#REF!"}}]
[{"$f":"IF('RF-Lançamentos'!#REF!=\"\",\"\",'RF-Lançamentos'!#REF!)","v":{"$error":"#REF!"}}]
[{"$f":"IF('RF-Lançamentos'!#REF!=\"\",\"\",'RF-Lançamentos'!#REF!)","v":{"$error":"#REF!"}}]
[{"$f":"IF('RF-Lançamentos'!#REF!=\"\",\"\",'RF-Lançamentos'!#REF!)","v":{"$error":"#REF!"}}]
[{"$f":"IF('RF-Lançamentos'!#REF!=\"\",\"\",'RF-Lançamentos'!#REF!)","v":{"$error":"#REF!"}}]
[{"$f":"IF('RF-Lançamentos'!#REF!=\"\",\"\",'RF-Lançamentos'!#REF!)","v":{"$error":"#REF!"}}]
[{"$f":"IF('RF-Lançamentos'!#REF!=\"\",\"\",'RF-Lançamentos'!#REF!)","v":{"$error":"#REF!"}}]
[{"$f":"IF('RF-Lançamentos'!#REF!=\"\",\"\",'RF-Lançamentos'!#REF!)","v":{"$error":"#REF!"}}]
[{"$f":"IF('RF-Lançamentos'!#REF!=\"\",\"\",'RF-Lançamentos'!#REF!)","v":{"$error":"#REF!"}}]
[{"$f":"IF('RF-Lançamentos'!#REF!=\"\",\"\",'RF-Lançamentos'!#REF!)","v":{"$error":"#REF!"}}]
[{"$f":"IF('RF-Lançamentos'!#REF!=\"\",\"\",'RF-Lançamentos'!#REF!)","v":{"$error":"#REF!"}}]
[{"$f":"IF('RF-Lançamentos'!#REF!=\"\",\"\",'RF-Lançamentos'!#REF!)","v":{"$error":"#REF!"}}]
[{"$f":"IF('RF-Lançamentos'!#REF!=\"\",\"\",'RF-Lançamentos'!#REF!)","v":{"$error":"#REF!"}}]

{"sheet":"RF-Recebidos","index":12,"n_rows":1,"n_cols":5,"rows_kept":1,"cut":false,"hidden":false,"merged":[]}
["DATA","TIPO","VALOR","ATIVO","IRRF"]

{"sheet":"Fundos-Lançamentos","index":13,"n_rows":1,"n_cols":7,"rows_kept":1,"cut":false,"hidden":false,"merged":[]}
["DATA","D/R","TIPO","DESCRIÇÃO","TAXAS","VALOR","IRRF"]

{"sheet":"Fundos-Custódia","index":14,"n_rows":697,"n_cols":22,"rows_kept":697,"cut":false,"hidden":false,"merged":[[0,16,0,18],[0,0,0,1],[0,3,0,4],[0,6,0,7],[0,9,0,10],[0,12,0,13],[13,16,13,18],[14,16,14,18],[16,16,16,18],[7,16,7,18],[8,16,8,18],[9,16,9,18],[10,16,10,18],[11,16,11,18],[12,16,12,18]]}
["FUNDO",null,null,"VALORES APLICADOS",null,null,"VALOR ATUAIS",null,null,"OBJETIVO",null,null,"RESULTADO",null,null,null,"COMPRAR MAIS"]
["FUNDO","TIPO",null,"R$","%",null,"R$","%",null,"% ATUAL","DIFERENÇA",null,"R$","%",null,null,"PRIORIDADE","FUNDO","DIFERENCIAL"]
["(vazio)",{"$f":"IF(A3=\"\",\"\",INDEX('Fundos-Lançamentos'!C:C,MATCH(A3,'Fundos-Lançamentos'!D:D,0)))","v":{"$error":"#N/A"}},null,{"$f":"SUMIFS('Fundos-Lançamentos'!F:F,'Fundos-Lançamentos'!D:D,A3,'Fundos-Lançamentos'!B:B,\"D\")-SUMIFS('Fundos-Lançamentos'!F:F,'Fundos-Lançamentos'!D:D,A3,'Fundos-Lançamentos'!B:B,\"R\")","v":0},{"$f":"IF(OR(D3=\"\",$Q$9=0),0,D3/$Q$9)","v":0},null,null,{"$f":"IF(OR(G3=\"\",$Q$11=0),0,G3/$Q$11)","v":0},null,null,{"$f":"IF(OR(J3=\"\",H3=\"\",E3=\"\"),0,IF($J$2=\"% ATUAL\",J3-H3,J3-E3))","v":0},null,{"$f":"IF(G3=\"\",0,G3-D3)","v":0},{"$f":"IF(OR(D3=0),0,M3/D3)","v":0},null,null,"1º",{"$f":"IF(OR(S3=0,S3=\"\"),\"\",INDIRECT(CONCATENATE(\"a\",MATCH(S3,K:K,0))))","v":""},{"$f":"IF(MAX(K$3:K$350)<=0,\"\",MAX(K$3:K$350))","v":""}]
[null,{"$f":"IF(A4=\"\",\"\",INDEX('Fundos-Lançamentos'!C:C,MATCH(A4,'Fundos-Lançamentos'!D:D,0)))","v":""},null,{"$f":"SUMIFS('Fundos-Lançamentos'!F:F,'Fundos-Lançamentos'!D:D,A4,'Fundos-Lançamentos'!B:B,\"D\")-SUMIFS('Fundos-Lançamentos'!F:F,'Fundos-Lançamentos'!D:D,A4,'Fundos-Lançamentos'!B:B,\"R\")","v":0},{"$f":"IF(OR(D4=\"\",$Q$9=0),0,D4/$Q$9)","v":0},null,null,{"$f":"IF(OR(G4=\"\",$Q$11=0),0,G4/$Q$11)","v":0},null,null,{"$f":"IF(OR(J4=\"\",H4=\"\",E4=\"\"),0,IF($J$2=\"% ATUAL\",J4-H4,J4-E4))","v":0},null,0,0,null,null,"2º",{"$f":"IF(OR(S4=0,S4=\"\"),\"\",INDIRECT(CONCATENATE(\"a\",MATCH(S4,K:K,0))))","v":""},{"$f":"IF(LARGE(K$3:K$350,2)<=0,\"\",LARGE(K$3:K$350,2))","v":""}]
[null,{"$f":"IF(A5=\"\",\"\",INDEX('Fundos-Lançamentos'!C:C,MATCH(A5,'Fundos-Lançamentos'!D:D,0)))","v":""},null,{"$f":"SUMIFS('Fundos-Lançamentos'!F:F,'Fundos-Lançamentos'!D:D,A5,'Fundos-Lançamentos'!B:B,\"D\")-SUMIFS('Fundos-Lançamentos'!F:F,'Fundos-Lançamentos'!D:D,A5,'Fundos-Lançamentos'!B:B,\"R\")","v":0},0,null,null,0,null,null,0,null,0,0,null,null,"3º",{"$f":"IF(OR(S5=0,S5=\"\"),\"\",INDIRECT(CONCATENATE(\"a\",MATCH(S5,K:K,0))))","v":""},{"$f":"IF(LARGE(K$3:K$350,3)<=0,\"\",LARGE(K$3:K$350,3))","v":""}]
[null,{"$f":"IF(A6=\"\",\"\",INDEX('Fundos-Lançamentos'!C:C,MATCH(A6,'Fundos-Lançamentos'!D:D,0)))","v":""},null,{"$f":"SUMIFS('Fundos-Lançamentos'!F:F,'Fundos-Lançamentos'!D:D,A6,'Fundos-Lançamentos'!B:B,\"D\")-SUMIFS('Fundos-Lançamentos'!F:F,'Fundos-Lançamentos'!D:D,A6,'Fundos-Lançamentos'!B:B,\"R\")","v":0},0,null,null,0,null,null,0,null,0,0]
[null,{"$f":"IF(A7=\"\",\"\",INDEX('Fundos-Lançamentos'!C:C,MATCH(A7,'Fundos-Lançamentos'!D:D,0)))","v":""},null,{"$f":"SUMIFS('Fundos-Lançamentos'!F:F,'Fundos-Lançamentos'!D:D,A7,'Fundos-Lançamentos'!B:B,\"D\")-SUMIFS('Fundos-Lançamentos'!F:F,'Fundos-Lançamentos'!D:D,A7,'Fundos-Lançamentos'!B:B,\"R\")","v":0},0,null,null,0,null,null,0,null,0,0]
[null,{"$f":"IF(A8=\"\",\"\",INDEX('Fundos-Lançamentos'!C:C,MATCH(A8,'Fundos-Lançamentos'!D:D,0)))","v":""},null,{"$f":"SUMIFS('Fundos-Lançamentos'!F:F,'Fundos-Lançamentos'!D:D,A8,'Fundos-Lançamentos'!B:B,\"D\")-SUMIFS('Fundos-Lançamentos'!F:F,'Fundos-Lançamentos'!D:D,A8,'Fundos-Lançamentos'!B:B,\"R\")","v":0},0,null,null,0,null,null,0,null,0,0,null,null,"TOTAL INVESTIDO"]
[null,{"$f":"IF(A9=\"\",\"\",INDEX('Fundos-Lançamentos'!C:C,MATCH(A9,'Fundos-Lançamentos'!D:D,0)))","v":""},null,{"$f":"SUMIFS('Fundos-Lançamentos'!F:F,'Fundos-Lançamentos'!D:D,A9,'Fundos-Lançamentos'!B:B,\"D\")-SUMIFS('Fundos-Lançamentos'!F:F,'Fundos-Lançamentos'!D:D,A9,'Fundos-Lançamentos'!B:B,\"R\")","v":0},0,null,null,0,null,null,0,null,0,0,null,null,{"$f":"SUM(D3:D350)","v":0}]
[null,{"$f":"IF(A10=\"\",\"\",INDEX('Fundos-Lançamentos'!C:C,MATCH(A10,'Fundos-Lançamentos'!D:D,0)))","v":""},null,{"$f":"SUMIFS('Fundos-Lançamentos'!F:F,'Fundos-Lançamentos'!D:D,A10,'Fundos-Lançamentos'!B:B,\"D\")-SUMIFS('Fundos-Lançamentos'!F:F,'Fundos-Lançamentos'!D:D,A10,'Fundos-Lançamentos'!B:B,\"R\")","v":0},0,null,null,0,null,null,0,null,0,0,null,null,"TOTAL ATUAL"]
[null,{"$f":"IF(A11=\"\",\"\",INDEX('Fundos-Lançamentos'!C:C,MATCH(A11,'Fundos-Lançamentos'!D:D,0)))","v":""},null,{"$f":"SUMIFS('Fundos-Lançamentos'!F:F,'Fundos-Lançamentos'!D:D,A11,'Fundos-Lançamentos'!B:B,\"D\")-SUMIFS('Fundos-Lançamentos'!F:F,'Fundos-Lançamentos'!D:D,A11,'Fundos-Lançamentos'!B:B,\"R\")","v":0},0,null,null,0,null,null,0,null,0,0,null,null,{"$f":"SUM(D3:D350)+SUM(M3:M350)","v":0}]
[null,{"$f":"IF(A12=\"\",\"\",INDEX('Fundos-Lançamentos'!C:C,MATCH(A12,'Fundos-Lançamentos'!D:D,0)))","v":""},null,{"$f":"SUMIFS('Fundos-Lançamentos'!F:F,'Fundos-Lançamentos'!D:D,A12,'Fundos-Lançamentos'!B:B,\"D\")-SUMIFS('Fundos-Lançamentos'!F:F,'Fundos-Lançamentos'!D:D,A12,'Fundos-Lançamentos'!B:B,\"R\")","v":0},0,null,null,0,null,null,0,null,0,0,null,null,"RESULTADO EM REAIS"]
[null,{"$f":"IF(A13=\"\",\"\",INDEX('Fundos-Lançamentos'!C:C,MATCH(A13,'Fundos-Lançamentos'!D:D,0)))","v":""},null,{"$f":"SUMIFS('Fundos-Lançamentos'!F:F,'Fundos-Lançamentos'!D:D,A13,'Fundos-Lançamentos'!B:B,\"D\")-SUMIFS('Fundos-Lançamentos'!F:F,'Fundos-Lançamentos'!D:D,A13,'Fundos-Lançamentos'!B:B,\"R\")","v":0},0,null,null,0,null,null,0,null,0,0,null,null,{"$f":"SUM(M3:M350)","v":0}]
[null,{"$f":"IF(A14=\"\",\"\",INDEX('Fundos-Lançamentos'!C:C,MATCH(A14,'Fundos-Lançamentos'!D:D,0)))","v":""},null,{"$f":"SUMIFS('Fundos-Lançamentos'!F:F,'Fundos-Lançamentos'!D:D,A14,'Fundos-Lançamentos'!B:B,\"D\")-SUMIFS('Fundos-Lançamentos'!F:F,'Fundos-Lançamentos'!D:D,A14,'Fundos-Lançamentos'!B:B,\"R\")","v":0},0,null,null,0,null,null,0,null,0,0,null,null,"RESULTADO EM PERCENTUAL",null,null,null,{"$f":"IF(J14=\"\",\"\",J14-H14)","v":""},{"$f":"IF(OR($A361=\"TOTAL\",$A361=\"\"),\"\",$A361)","v":""}]
[null,{"$f":"IF(A15=\"\",\"\",INDEX('Fundos-Lançamentos'!C:C,MATCH(A15,'Fundos-Lançamentos'!D:D,0)))","v":""},null,{"$f":"SUMIFS('Fundos-Lançamentos'!F:F,'Fundos-Lançamentos'!D:D,A15,'Fundos-Lançamentos'!B:B,\"D\")-SUMIFS('Fundos-Lançamentos'!F:F,'Fundos-Lançamentos'!D:D,A15,'Fundos-Lançamentos'!B:B,\"R\")","v":0},0,null,null,0,null,null,0,null,0,0,null,null,{"$f":"IFERROR((Q11/Q9)-1,0)","v":0},null,null,null,"",""]
[null,{"$f":"IF(A16=\"\",\"\",INDEX('Fundos-Lançamentos'!C:C,MATCH(A16,'Fundos-Lançamentos'!D:D,0)))","v":""},null,{"$f":"SUMIFS('Fundos-Lançamentos'!F:F,'Fundos-Lançamentos'!D:D,A16,'Fundos-Lançamentos'!B:B,\"D\")-SUMIFS('Fundos-Lançamentos'!F:F,'Fundos-Lançamentos'!D:D,A16,'Fundos-Lançamentos'!B:B,\"R\")","v":0},0,null,null,0,null,null,0,null,0,0,null,null,null,null,null,null,"",""]
[null,{"$f":"IF(A17=\"\",\"\",INDEX('Fundos-Lançamentos'!C:C,MATCH(A17,'Fundos-Lançamentos'!D:D,0)))","v":""},null,{"$f":"SUMIFS('Fundos-Lançamentos'!F:F,'Fundos-Lançamentos'!D:D,A17,'Fundos-Lançamentos'!B:B,\"D\")-SUMIFS('Fundos-Lançamentos'!F:F,'Fundos-Lançamentos'!D:D,A17,'Fundos-Lançamentos'!B:B,\"R\")","v":0},0,null,null,0,null,null,0,null,0,0,null,null,"POR TIPO DE FUNDO",null,null,null,"",""]
[null,{"$f":"IF(A18=\"\",\"\",INDEX('Fundos-Lançamentos'!C:C,MATCH(A18,'Fundos-Lançamentos'!D:D,0)))","v":""},null,{"$f":"SUMIFS('Fundos-Lançamentos'!F:F,'Fundos-Lançamentos'!D:D,A18,'Fundos-Lançamentos'!B:B,\"D\")-SUMIFS('Fundos-Lançamentos'!F:F,'Fundos-Lançamentos'!D:D,A18,'Fundos-Lançamentos'!B:B,\"R\")","v":0},0,null,null,0,null,null,0,null,0,0,null,null,"TÍTULO","INVESTIDO","ATUAL",null,"",""]
[null,{"$f":"IF(A19=\"\",\"\",INDEX('Fundos-Lançamentos'!C:C,MATCH(A19,'Fundos-Lançamentos'!D:D,0)))","v":""},null,{"$f":"SUMIFS('Fundos-Lançamentos'!F:F,'Fundos-Lançamentos'!D:D,A19,'Fundos-Lançamentos'!B:B,\"D\")-SUMIFS('Fundos-Lançamentos'!F:F,'Fundos-Lançamentos'!D:D,A19,'Fundos-Lançamentos'!B:B,\"R\")","v":0},0,null,null,0,null,null,0,null,0,0,null,null,"RENDA FIXA",{"$f":"SUMIF(B:B,Q19,D:D)","v":0},{"$f":"SUMIF(B:B,Q19,M:M)+SUMIF(B:B,Q19,D:D)","v":0},null,"",""]
[null,{"$f":"IF(A20=\"\",\"\",INDEX('Fundos-Lançamentos'!C:C,MATCH(A20,'Fundos-Lançamentos'!D:D,0)))","v":""},null,{"$f":"SUMIFS('Fundos-Lançamentos'!F:F,'Fundos-Lançamentos'!D:D,A20,'Fundos-Lançamentos'!B:B,\"D\")-SUMIFS('Fundos-Lançamentos'!F:F,'Fundos-Lançamentos'!D:D,A20,'Fundos-Lançamentos'!B:B,\"R\")","v":0},0,null,null,0,null,null,0,null,0,0,null,null,"AÇÕES",0,0,null,"",""]
[null,{"$f":"IF(A21=\"\",\"\",INDEX('Fundos-Lançamentos'!C:C,MATCH(A21,'Fundos-Lançamentos'!D:D,0)))","v":""},null,{"$f":"SUMIFS('Fundos-Lançamentos'!F:F,'Fundos-Lançamentos'!D:D,A21,'Fundos-Lançamentos'!B:B,\"D\")-SUMIFS('Fundos-Lançamentos'!F:F,'Fundos-Lançamentos'!D:D,A21,'Fundos-Lançamentos'!B:B,\"R\")","v":0},0,null,null,0,null,null,0,null,0,0,null,null,"MULTIMERCADO",0,0,null,"",""]
[null,{"$f":"IF(A22=\"\",\"\",INDEX('Fundos-Lançamentos'!C:C,MATCH(A22,'Fundos-Lançamentos'!D:D,0)))","v":""},null,{"$f":"SUMIFS('Fundos-Lançamentos'!F:F,'Fundos-Lançamentos'!D:D,A22,'Fundos-Lançamentos'!B:B,\"D\")-SUMIFS('Fundos-Lançamentos'!F:F,'Fundos-Lançamentos'!D:D,A22,'Fundos-Lançamentos'!B:B,\"R\")","v":0},0,null,null,0,null,null,0,null,0,0,null,null,"DI",0,0,null,"",""]
[null,{"$f":"IF(A23=\"\",\"\",INDEX('Fundos-Lançamentos'!C:C,MATCH(A23,'Fundos-Lançamentos'!D:D,0)))","v":""},null,{"$f":"SUMIFS('Fundos-Lançamentos'!F:F,'Fundos-Lançamentos'!D:D,A23,'Fundos-Lançamentos'!B:B,\"D\")-SUMIFS('Fundos-Lançamentos'!F:F,'Fundos-Lançamentos'!D:D,A23,'Fundos-Lançamentos'!B:B,\"R\")","v":0},0,null,null,0,null,null,0,null,0,0,null,null,"CÂMBIO",0,0,null,"",""]
[null,{"$f":"IF(A24=\"\",\"\",INDEX('Fundos-Lançamentos'!C:C,MATCH(A24,'Fundos-Lançamentos'!D:D,0)))","v":""},null,{"$f":"SUMIFS('Fundos-Lançamentos'!F:F,'Fundos-Lançamentos'!D:D,A24,'Fundos-Lançamentos'!B:B,\"D\")-SUMIFS('Fundos-Lançamentos'!F:F,'Fundos-Lançamentos'!D:D,A24,'Fundos-Lançamentos'!B:B,\"R\")","v":0},0,null,null,0,null,null,0,null,0,0,null,null,"OUTROS",0,0,null,"",""]
[null,{"$f":"IF(A25=\"\",\"\",INDEX('Fundos-Lançamentos'!C:C,MATCH(A25,'Fundos-Lançamentos'!D:D,0)))","v":""},null,{"$f":"SUMIFS('Fundos-Lançamentos'!F:F,'Fundos-Lançamentos'!D:D,A25,'Fundos-Lançamentos'!B:B,\"D\")-SUMIFS('Fundos-Lançamentos'!F:F,'Fundos-Lançamentos'!D:D,A25,'Fundos-Lançamentos'!B:B,\"R\")","v":0},0,null,null,0,null,null,0,null,0,0,null,null,null,null,null,null,"",""]
[null,{"$f":"IF(A26=\"\",\"\",INDEX('Fundos-Lançamentos'!C:C,MATCH(A26,'Fundos-Lançamentos'!D:D,0)))","v":""},null,{"$f":"SUMIFS('Fundos-Lançamentos'!F:F,'Fundos-Lançamentos'!D:D,A26,'Fundos-Lançamentos'!B:B,\"D\")-SUMIFS('Fundos-Lançamentos'!F:F,'Fundos-Lançamentos'!D:D,A26,'Fundos-Lançamentos'!B:B,\"R\")","v":0},0,null,null,0,null,null,0,null,0,0,null,null,null,null,null,null,"",""]
[null,{"$f":"IF(A27=\"\",\"\",INDEX('Fundos-Lançamentos'!C:C,MATCH(A27,'Fundos-Lançamentos'!D:D,0)))","v":""},null,{"$f":"SUMIFS('Fundos-Lançamentos'!F:F,'Fundos-Lançamentos'!D:D,A27,'Fundos-Lançamentos'!B:B,\"D\")-SUMIFS('Fundos-Lançamentos'!F:F,'Fundos-Lançamentos'!D:D,A27,'Fundos-Lançamentos'!B:B,\"R\")","v":0},0,null,null,0,null,null,0,null,0,0,null,null,null,"% ATUAL",null,null,"",""]
[null,{"$f":"IF(A28=\"\",\"\",INDEX('Fundos-Lançamentos'!C:C,MATCH(A28,'Fundos-Lançamentos'!D:D,0)))","v":""},null,{"$f":"SUMIFS('Fundos-Lançamentos'!F:F,'Fundos-Lançamentos'!D:D,A28,'Fundos-Lançamentos'!B:B,\"D\")-SUMIFS('Fundos-Lançamentos'!F:F,'Fundos-Lançamentos'!D:D,A28,'Fundos-Lançamentos'!B:B,\"R\")","v":0},0,null,null,0,null,null,0,null,0,0,null,null,null,"% INVESTIDO",null,null,"",""]
[null,{"$f":"IF(A29=\"\",\"\",INDEX('Fundos-Lançamentos'!C:C,MATCH(A29,'Fundos-Lançamentos'!D:D,0)))","v":""},null,{"$f":"SUMIFS('Fundos-Lançamentos'!F:F,'Fundos-Lançamentos'!D:D,A29,'Fundos-Lançamentos'!B:B,\"D\")-SUMIFS('Fundos-Lançamentos'!F:F,'Fundos-Lançamentos'!D:D,A29,'Fundos-Lançamentos'!B:B,\"R\")","v":0},0,null,null,0,null,null,0,null,0,0,null,null,null,null,null,null,"",""]
[null,{"$f":"IF(A30=\"\",\"\",INDEX('Fundos-Lançamentos'!C:C,MATCH(A30,'Fundos-Lançamentos'!D:D,0)))","v":""},null,{"$f":"SUMIFS('Fundos-Lançamentos'!F:F,'Fundos-Lançamentos'!D:D,A30,'Fundos-Lançamentos'!B:B,\"D\")-SUMIFS('Fundos-Lançamentos'!F:F,'Fundos-Lançamentos'!D:D,A30,'Fundos-Lançamentos'!B:B,\"R\")","v":0},0,null,null,0,null,null,0,null,0,0,null,null,null,null,null,null,"",""]
[null,{"$f":"IF(A31=\"\",\"\",INDEX('Fundos-Lançamentos'!C:C,MATCH(A31,'Fundos-Lançamentos'!D:D,0)))","v":""},null,{"$f":"SUMIFS('Fundos-Lançamentos'!F:F,'Fundos-Lançamentos'!D:D,A31,'Fundos-Lançamentos'!B:B,\"D\")-SUMIFS('Fundos-Lançamentos'!F:F,'Fundos-Lançamentos'!D:D,A31,'Fundos-Lançamentos'!B:B,\"R\")","v":0},0,null,null,0,null,null,0,null,0,0,null,null,null,null,null,null,"",""]
[null,{"$f":"IF(A32=\"\",\"\",INDEX('Fundos-Lançamentos'!C:C,MATCH(A32,'Fundos-Lançamentos'!D:D,0)))","v":""},null,{"$f":"SUMIFS('Fundos-Lançamentos'!F:F,'Fundos-Lançamentos'!D:D,A32,'Fundos-Lançamentos'!B:B,\"D\")-SUMIFS('Fundos-Lançamentos'!F:F,'Fundos-Lançamentos'!D:D,A32,'Fundos-Lançamentos'!B:B,\"R\")","v":0},0,null,null,0,null,null,0,null,0,0,null,null,null,null,null,null,"",""]
[null,{"$f":"IF(A33=\"\",\"\",INDEX('Fundos-Lançamentos'!C:C,MATCH(A33,'Fundos-Lançamentos'!D:D,0)))","v":""},null,{"$f":"SUMIFS('Fundos-Lançamentos'!F:F,'Fundos-Lançamentos'!D:D,A33,'Fundos-Lançamentos'!B:B,\"D\")-SUMIFS('Fundos-Lançamentos'!F:F,'Fundos-Lançamentos'!D:D,A33,'Fundos-Lançamentos'!B:B,\"R\")","v":0},0,null,null,0,null,null,0,null,0,0,null,null,null,null,null,null,"",""]
[null,{"$f":"IF(A34=\"\",\"\",INDEX('Fundos-Lançamentos'!C:C,MATCH(A34,'Fundos-Lançamentos'!D:D,0)))","v":""},null,{"$f":"SUMIFS('Fundos-Lançamentos'!F:F,'Fundos-Lançamentos'!D:D,A34,'Fundos-Lançamentos'!B:B,\"D\")-SUMIFS('Fundos-Lançamentos'!F:F,'Fundos-Lançamentos'!D:D,A34,'Fundos-Lançamentos'!B:B,\"R\")","v":0},0,null,null,0,null,null,0,null,0,0,null,null,null,null,null,null,"",""]
[null,{"$f":"IF(A35=\"\",\"\",INDEX('Fundos-Lançamentos'!C:C,MATCH(A35,'Fundos-Lançamentos'!D:D,0)))","v":""},null,{"$f":"SUMIFS('Fundos-Lançamentos'!F:F,'Fundos-Lançamentos'!D:D,A35,'Fundos-Lançamentos'!B:B,\"D\")-SUMIFS('Fundos-Lançamentos'!F:F,'Fundos-Lançamentos'!D:D,A35,'Fundos-Lançamentos'!B:B,\"R\")","v":0},0,null,null,0,null,null,0,null,0,0,null,null,null,null,null,null,"",""]
[null,{"$f":"IF(A36=\"\",\"\",INDEX('Fundos-Lançamentos'!C:C,MATCH(A36,'Fundos-Lançamentos'!D:D,0)))","v":""},null,{"$f":"SUMIFS('Fundos-Lançamentos'!F:F,'Fundos-Lançamentos'!D:D,A36,'Fundos-Lançamentos'!B:B,\"D\")-SUMIFS('Fundos-Lançamentos'!F:F,'Fundos-Lançamentos'!D:D,A36,'Fundos-Lançamentos'!B:B,\"R\")","v":0},0,null,null,0,null,null,0,null,0,0,null,null,null,null,null,null,"",""]
[null,{"$f":"IF(A37=\"\",\"\",INDEX('Fundos-Lançamentos'!C:C,MATCH(A37,'Fundos-Lançamentos'!D:D,0)))","v":""},null,{"$f":"SUMIFS('Fundos-Lançamentos'!F:F,'Fundos-Lançamentos'!D:D,A37,'Fundos-Lançamentos'!B:B,\"D\")-SUMIFS('Fundos-Lançamentos'!F:F,'Fundos-Lançamentos'!D:D,A37,'Fundos-Lançamentos'!B:B,\"R\")","v":0},0,null,null,0,null,null,0,null,0,0,null,null,null,null,null,null,"",""]
[null,{"$f":"IF(A38=\"\",\"\",INDEX('Fundos-Lançamentos'!C:C,MATCH(A38,'Fundos-Lançamentos'!D:D,0)))","v":""},null,{"$f":"SUMIFS('Fundos-Lançamentos'!F:F,'Fundos-Lançamentos'!D:D,A38,'Fundos-Lançamentos'!B:B,\"D\")-SUMIFS('Fundos-Lançamentos'!F:F,'Fundos-Lançamentos'!D:D,A38,'Fundos-Lançamentos'!B:B,\"R\")","v":0},0,null,null,0,null,null,0,null,0,0,null,null,null,null,null,null,"",""]
[null,{"$f":"IF(A39=\"\",\"\",INDEX('Fundos-Lançamentos'!C:C,MATCH(A39,'Fundos-Lançamentos'!D:D,0)))","v":""},null,{"$f":"SUMIFS('Fundos-Lançamentos'!F:F,'Fundos-Lançamentos'!D:D,A39,'Fundos-Lançamentos'!B:B,\"D\")-SUMIFS('Fundos-Lançamentos'!F:F,'Fundos-Lançamentos'!D:D,A39,'Fundos-Lançamentos'!B:B,\"R\")","v":0},0,null,null,0,null,null,0,null,0,0,null,null,null,null,null,null,"",""]
[null,{"$f":"IF(A40=\"\",\"\",INDEX('Fundos-Lançamentos'!C:C,MATCH(A40,'Fundos-Lançamentos'!D:D,0)))","v":""},null,{"$f":"SUMIFS('Fundos-Lançamentos'!F:F,'Fundos-Lançamentos'!D:D,A40,'Fundos-Lançamentos'!B:B,\"D\")-SUMIFS('Fundos-Lançamentos'!F:F,'Fundos-Lançamentos'!D:D,A40,'Fundos-Lançamentos'!B:B,\"R\")","v":0},0,null,null,0,null,null,0,null,0,0,null,null,null,null,null,null,"",""]
[null,{"$f":"IF(A41=\"\",\"\",INDEX('Fundos-Lançamentos'!C:C,MATCH(A41,'Fundos-Lançamentos'!D:D,0)))","v":""},null,{"$f":"SUMIFS('Fundos-Lançamentos'!F:F,'Fundos-Lançamentos'!D:D,A41,'Fundos-Lançamentos'!B:B,\"D\")-SUMIFS('Fundos-Lançamentos'!F:F,'Fundos-Lançamentos'!D:D,A41,'Fundos-Lançamentos'!B:B,\"R\")","v":0},0,null,null,0,null,null,0,null,0,0,null,null,null,null,null,null,"",""]
[null,{"$f":"IF(A42=\"\",\"\",INDEX('Fundos-Lançamentos'!C:C,MATCH(A42,'Fundos-Lançamentos'!D:D,0)))","v":""},null,{"$f":"SUMIFS('Fundos-Lançamentos'!F:F,'Fundos-Lançamentos'!D:D,A42,'Fundos-Lançamentos'!B:B,\"D\")-SUMIFS('Fundos-Lançamentos'!F:F,'Fundos-Lançamentos'!D:D,A42,'Fundos-Lançamentos'!B:B,\"R\")","v":0},0,null,null,0,null,null,0,null,0,0,null,null,null,null,null,null,"",""]
[null,{"$f":"IF(A43=\"\",\"\",INDEX('Fundos-Lançamentos'!C:C,MATCH(A43,'Fundos-Lançamentos'!D:D,0)))","v":""},null,{"$f":"SUMIFS('Fundos-Lançamentos'!F:F,'Fundos-Lançamentos'!D:D,A43,'Fundos-Lançamentos'!B:B,\"D\")-SUMIFS('Fundos-Lançamentos'!F:F,'Fundos-Lançamentos'!D:D,A43,'Fundos-Lançamentos'!B:B,\"R\")","v":0},0,null,null,0,null,null,0,null,0,0,null,null,null,null,null,null,"",""]
[null,{"$f":"IF(A44=\"\",\"\",INDEX('Fundos-Lançamentos'!C:C,MATCH(A44,'Fundos-Lançamentos'!D:D,0)))","v":""},null,{"$f":"SUMIFS('Fundos-Lançamentos'!F:F,'Fundos-Lançamentos'!D:D,A44,'Fundos-Lançamentos'!B:B,\"D\")-SUMIFS('Fundos-Lançamentos'!F:F,'Fundos-Lançamentos'!D:D,A44,'Fundos-Lançamentos'!B:B,\"R\")","v":0},0,null,null,0,null,null,0,null,0,0,null,null,null,null,null,null,"",""]
[null,{"$f":"IF(A45=\"\",\"\",INDEX('Fundos-Lançamentos'!C:C,MATCH(A45,'Fundos-Lançamentos'!D:D,0)))","v":""},null,{"$f":"SUMIFS('Fundos-Lançamentos'!F:F,'Fundos-Lançamentos'!D:D,A45,'Fundos-Lançamentos'!B:B,\"D\")-SUMIFS('Fundos-Lançamentos'!F:F,'Fundos-Lançamentos'!D:D,A45,'Fundos-Lançamentos'!B:B,\"R\")","v":0},0,null,null,0,null,null,0,null,0,0,null,null,null,null,null,null,"",""]
[null,{"$f":"IF(A46=\"\",\"\",INDEX('Fundos-Lançamentos'!C:C,MATCH(A46,'Fundos-Lançamentos'!D:D,0)))","v":""},null,{"$f":"SUMIFS('Fundos-Lançamentos'!F:F,'Fundos-Lançamentos'!D:D,A46,'Fundos-Lançamentos'!B:B,\"D\")-SUMIFS('Fundos-Lançamentos'!F:F,'Fundos-Lançamentos'!D:D,A46,'Fundos-Lançamentos'!B:B,\"R\")","v":0},0,null,null,0,null,null,0,null,0,0,null,null,null,null,null,null,"",""]
[null,{"$f":"IF(A47=\"\",\"\",INDEX('Fundos-Lançamentos'!C:C,MATCH(A47,'Fundos-Lançamentos'!D:D,0)))","v":""},null,{"$f":"SUMIFS('Fundos-Lançamentos'!F:F,'Fundos-Lançamentos'!D:D,A47,'Fundos-Lançamentos'!B:B,\"D\")-SUMIFS('Fundos-Lançamentos'!F:F,'Fundos-Lançamentos'!D:D,A47,'Fundos-Lançamentos'!B:B,\"R\")","v":0},0,null,null,0,null,null,0,null,0,0,null,null,null,null,null,null,"",""]
[null,{"$f":"IF(A48=\"\",\"\",INDEX('Fundos-Lançamentos'!C:C,MATCH(A48,'Fundos-Lançamentos'!D:D,0)))","v":""},null,{"$f":"SUMIFS('Fundos-Lançamentos'!F:F,'Fundos-Lançamentos'!D:D,A48,'Fundos-Lançamentos'!B:B,\"D\")-SUMIFS('Fundos-Lançamentos'!F:F,'Fundos-Lançamentos'!D:D,A48,'Fundos-Lançamentos'!B:B,\"R\")","v":0},0,null,null,0,null,null,0,null,0,0,null,null,null,null,null,null,"",""]
[null,{"$f":"IF(A49=\"\",\"\",INDEX('Fundos-Lançamentos'!C:C,MATCH(A49,'Fundos-Lançamentos'!D:D,0)))","v":""},null,{"$f":"SUMIFS('Fundos-Lançamentos'!F:F,'Fundos-Lançamentos'!D:D,A49,'Fundos-Lançamentos'!B:B,\"D\")-SUMIFS('Fundos-Lançamentos'!F:F,'Fundos-Lançamentos'!D:D,A49,'Fundos-Lançamentos'!B:B,\"R\")","v":0},0,null,null,0,null,null,0,null,0,0,null,null,null,null,null,null,"",""]
[null,{"$f":"IF(A50=\"\",\"\",INDEX('Fundos-Lançamentos'!C:C,MATCH(A50,'Fundos-Lançamentos'!D:D,0)))","v":""},null,{"$f":"SUMIFS('Fundos-Lançamentos'!F:F,'Fundos-Lançamentos'!D:D,A50,'Fundos-Lançamentos'!B:B,\"D\")-SUMIFS('Fundos-Lançamentos'!F:F,'Fundos-Lançamentos'!D:D,A50,'Fundos-Lançamentos'!B:B,\"R\")","v":0},0,null,null,0,null,null,0,null,0,0,null,null,null,null,null,null,"",""]
[null,{"$f":"IF(A51=\"\",\"\",INDEX('Fundos-Lançamentos'!C:C,MATCH(A51,'Fundos-Lançamentos'!D:D,0)))","v":""},null,{"$f":"SUMIFS('Fundos-Lançamentos'!F:F,'Fundos-Lançamentos'!D:D,A51,'Fundos-Lançamentos'!B:B,\"D\")-SUMIFS('Fundos-Lançamentos'!F:F,'Fundos-Lançamentos'!D:D,A51,'Fundos-Lançamentos'!B:B,\"R\")","v":0},0,null,null,0,null,null,0,null,0,0,null,null,null,null,null,null,"",""]
[null,{"$f":"IF(A52=\"\",\"\",INDEX('Fundos-Lançamentos'!C:C,MATCH(A52,'Fundos-Lançamentos'!D:D,0)))","v":""},null,{"$f":"SUMIFS('Fundos-Lançamentos'!F:F,'Fundos-Lançamentos'!D:D,A52,'Fundos-Lançamentos'!B:B,\"D\")-SUMIFS('Fundos-Lançamentos'!F:F,'Fundos-Lançamentos'!D:D,A52,'Fundos-Lançamentos'!B:B,\"R\")","v":0},0,null,null,0,null,null,0,null,0,0,null,null,null,null,null,null,"",""]
[null,{"$f":"IF(A53=\"\",\"\",INDEX('Fundos-Lançamentos'!C:C,MATCH(A53,'Fundos-Lançamentos'!D:D,0)))","v":""},null,{"$f":"SUMIFS('Fundos-Lançamentos'!F:F,'Fundos-Lançamentos'!D:D,A53,'Fundos-Lançamentos'!B:B,\"D\")-SUMIFS('Fundos-Lançamentos'!F:F,'Fundos-Lançamentos'!D:D,A53,'Fundos-Lançamentos'!B:B,\"R\")","v":0},0,null,null,0,null,null,0,null,0,0,null,null,null,null,null,null,"",""]
[null,{"$f":"IF(A54=\"\",\"\",INDEX('Fundos-Lançamentos'!C:C,MATCH(A54,'Fundos-Lançamentos'!D:D,0)))","v":""},null,{"$f":"SUMIFS('Fundos-Lançamentos'!F:F,'Fundos-Lançamentos'!D:D,A54,'Fundos-Lançamentos'!B:B,\"D\")-SUMIFS('Fundos-Lançamentos'!F:F,'Fundos-Lançamentos'!D:D,A54,'Fundos-Lançamentos'!B:B,\"R\")","v":0},0,null,null,0,null,null,0,null,0,0,null,null,null,null,null,null,"",""]
[null,{"$f":"IF(A55=\"\",\"\",INDEX('Fundos-Lançamentos'!C:C,MATCH(A55,'Fundos-Lançamentos'!D:D,0)))","v":""},null,{"$f":"SUMIFS('Fundos-Lançamentos'!F:F,'Fundos-Lançamentos'!D:D,A55,'Fundos-Lançamentos'!B:B,\"D\")-SUMIFS('Fundos-Lançamentos'!F:F,'Fundos-Lançamentos'!D:D,A55,'Fundos-Lançamentos'!B:B,\"R\")","v":0},0,null,null,0,null,null,0,null,0,0,null,null,null,null,null,null,"",""]
[null,{"$f":"IF(A56=\"\",\"\",INDEX('Fundos-Lançamentos'!C:C,MATCH(A56,'Fundos-Lançamentos'!D:D,0)))","v":""},null,{"$f":"SUMIFS('Fundos-Lançamentos'!F:F,'Fundos-Lançamentos'!D:D,A56,'Fundos-Lançamentos'!B:B,\"D\")-SUMIFS('Fundos-Lançamentos'!F:F,'Fundos-Lançamentos'!D:D,A56,'Fundos-Lançamentos'!B:B,\"R\")","v":0},0,null,null,0,null,null,0,null,0,0,null,null,null,null,null,null,"",""]
[null,{"$f":"IF(A57=\"\",\"\",INDEX('Fundos-Lançamentos'!C:C,MATCH(A57,'Fundos-Lançamentos'!D:D,0)))","v":""},null,{"$f":"SUMIFS('Fundos-Lançamentos'!F:F,'Fundos-Lançamentos'!D:D,A57,'Fundos-Lançamentos'!B:B,\"D\")-SUMIFS('Fundos-Lançamentos'!F:F,'Fundos-Lançamentos'!D:D,A57,'Fundos-Lançamentos'!B:B,\"R\")","v":0},0,null,null,0,null,null,0,null,0,0,null,null,null,null,null,null,"",""]
[null,{"$f":"IF(A58=\"\",\"\",INDEX('Fundos-Lançamentos'!C:C,MATCH(A58,'Fundos-Lançamentos'!D:D,0)))","v":""},null,{"$f":"SUMIFS('Fundos-Lançamentos'!F:F,'Fundos-Lançamentos'!D:D,A58,'Fundos-Lançamentos'!B:B,\"D\")-SUMIFS('Fundos-Lançamentos'!F:F,'Fundos-Lançamentos'!D:D,A58,'Fundos-Lançamentos'!B:B,\"R\")","v":0},0,null,null,0,null,null,0,null,0,0,null,null,null,null,null,null,"",""]
[null,{"$f":"IF(A59=\"\",\"\",INDEX('Fundos-Lançamentos'!C:C,MATCH(A59,'Fundos-Lançamentos'!D:D,0)))","v":""},null,{"$f":"SUMIFS('Fundos-Lançamentos'!F:F,'Fundos-Lançamentos'!D:D,A59,'Fundos-Lançamentos'!B:B,\"D\")-SUMIFS('Fundos-Lançamentos'!F:F,'Fundos-Lançamentos'!D:D,A59,'Fundos-Lançamentos'!B:B,\"R\")","v":0},0,null,null,0,null,null,0,null,0,0,null,null,null,null,null,null,"",""]
[null,{"$f":"IF(A60=\"\",\"\",INDEX('Fundos-Lançamentos'!C:C,MATCH(A60,'Fundos-Lançamentos'!D:D,0)))","v":""},null,{"$f":"SUMIFS('Fundos-Lançamentos'!F:F,'Fundos-Lançamentos'!D:D,A60,'Fundos-Lançamentos'!B:B,\"D\")-SUMIFS('Fundos-Lançamentos'!F:F,'Fundos-Lançamentos'!D:D,A60,'Fundos-Lançamentos'!B:B,\"R\")","v":0},0,null,null,0,null,null,0,null,0,0,null,null,null,null,null,null,"",""]
[null,{"$f":"IF(A61=\"\",\"\",INDEX('Fundos-Lançamentos'!C:C,MATCH(A61,'Fundos-Lançamentos'!D:D,0)))","v":""},null,{"$f":"SUMIFS('Fundos-Lançamentos'!F:F,'Fundos-Lançamentos'!D:D,A61,'Fundos-Lançamentos'!B:B,\"D\")-SUMIFS('Fundos-Lançamentos'!F:F,'Fundos-Lançamentos'!D:D,A61,'Fundos-Lançamentos'!B:B,\"R\")","v":0},0,null,null,0,null,null,0,null,0,0,null,null,null,null,null,null,"",""]
[null,{"$f":"IF(A62=\"\",\"\",INDEX('Fundos-Lançamentos'!C:C,MATCH(A62,'Fundos-Lançamentos'!D:D,0)))","v":""},null,{"$f":"SUMIFS('Fundos-Lançamentos'!F:F,'Fundos-Lançamentos'!D:D,A62,'Fundos-Lançamentos'!B:B,\"D\")-SUMIFS('Fundos-Lançamentos'!F:F,'Fundos-Lançamentos'!D:D,A62,'Fundos-Lançamentos'!B:B,\"R\")","v":0},0,null,null,0,null,null,0,null,0,0,null,null,null,null,null,null,"",""]
[null,{"$f":"IF(A63=\"\",\"\",INDEX('Fundos-Lançamentos'!C:C,MATCH(A63,'Fundos-Lançamentos'!D:D,0)))","v":""},null,{"$f":"SUMIFS('Fundos-Lançamentos'!F:F,'Fundos-Lançamentos'!D:D,A63,'Fundos-Lançamentos'!B:B,\"D\")-SUMIFS('Fundos-Lançamentos'!F:F,'Fundos-Lançamentos'!D:D,A63,'Fundos-Lançamentos'!B:B,\"R\")","v":0},0,null,null,0,null,null,0,null,0,0,null,null,null,null,null,null,"",""]
[null,{"$f":"IF(A64=\"\",\"\",INDEX('Fundos-Lançamentos'!C:C,MATCH(A64,'Fundos-Lançamentos'!D:D,0)))","v":""},null,{"$f":"SUMIFS('Fundos-Lançamentos'!F:F,'Fundos-Lançamentos'!D:D,A64,'Fundos-Lançamentos'!B:B,\"D\")-SUMIFS('Fundos-Lançamentos'!F:F,'Fundos-Lançamentos'!D:D,A64,'Fundos-Lançamentos'!B:B,\"R\")","v":0},0,null,null,0,null,null,0,null,0,0,null,null,null,null,null,null,"",""]
[null,{"$f":"IF(A65=\"\",\"\",INDEX('Fundos-Lançamentos'!C:C,MATCH(A65,'Fundos-Lançamentos'!D:D,0)))","v":""},null,{"$f":"SUMIFS('Fundos-Lançamentos'!F:F,'Fundos-Lançamentos'!D:D,A65,'Fundos-Lançamentos'!B:B,\"D\")-SUMIFS('Fundos-Lançamentos'!F:F,'Fundos-Lançamentos'!D:D,A65,'Fundos-Lançamentos'!B:B,\"R\")","v":0},0,null,null,0,null,null,0,null,0,0,null,null,null,null,null,null,"",""]
[null,{"$f":"IF(A66=\"\",\"\",INDEX('Fundos-Lançamentos'!C:C,MATCH(A66,'Fundos-Lançamentos'!D:D,0)))","v":""},null,{"$f":"SUMIFS('Fundos-Lançamentos'!F:F,'Fundos-Lançamentos'!D:D,A66,'Fundos-Lançamentos'!B:B,\"D\")-SUMIFS('Fundos-Lançamentos'!F:F,'Fundos-Lançamentos'!D:D,A66,'Fundos-Lançamentos'!B:B,\"R\")","v":0},0,null,null,0,null,null,0,null,0,0,null,null,null,null,null,null,"",""]
[null,{"$f":"IF(A67=\"\",\"\",INDEX('Fundos-Lançamentos'!C:C,MATCH(A67,'Fundos-Lançamentos'!D:D,0)))","v":""},null,{"$f":"SUMIFS('Fundos-Lançamentos'!F:F,'Fundos-Lançamentos'!D:D,A67,'Fundos-Lançamentos'!B:B,\"D\")-SUMIFS('Fundos-Lançamentos'!F:F,'Fundos-Lançamentos'!D:D,A67,'Fundos-Lançamentos'!B:B,\"R\")","v":0},0,null,null,0,null,null,0,null,{"$f":"IF(G67=\"\",0,G67-D67)","v":0},{"$f":"IF(OR(D67=0),0,M67/D67)","v":0},null,null,null,null,null,null,"",""]
[null,{"$f":"IF(A68=\"\",\"\",INDEX('Fundos-Lançamentos'!C:C,MATCH(A68,'Fundos-Lançamentos'!D:D,0)))","v":""},null,{"$f":"SUMIFS('Fundos-Lançamentos'!F:F,'Fundos-Lançamentos'!D:D,A68,'Fundos-Lançamentos'!B:B,\"D\")-SUMIFS('Fundos-Lançamentos'!F:F,'Fundos-Lançamentos'!D:D,A68,'Fundos-Lançamentos'!B:B,\"R\")","v":0},{"$f":"IF(OR(D68=\"\",$Q$9=0),0,D68/$Q$9)","v":0},null,null,{"$f":"IF(OR(G68=\"\",$Q$11=0),0,G68/$Q$11)","v":0},null,null,{"$f":"IF(OR(J68=\"\",H68=\"\",E68=\"\"),0,IF($J$2=\"% ATUAL\",J68-H68,J68-E68))","v":0},null,0,0,null,null,null,null,null,null,"",""]
[null,{"$f":"IF(A69=\"\",\"\",INDEX('Fundos-Lançamentos'!C:C,MATCH(A69,'Fundos-Lançamentos'!D:D,0)))","v":""},null,{"$f":"SUMIFS('Fundos-Lançamentos'!F:F,'Fundos-Lançamentos'!D:D,A69,'Fundos-Lançamentos'!B:B,\"D\")-SUMIFS('Fundos-Lançamentos'!F:F,'Fundos-Lançamentos'!D:D,A69,'Fundos-Lançamentos'!B:B,\"R\")","v":0},0,null,null,0,null,null,0,null,0,0,null,null,null,null,null,null,"",""]
[null,{"$f":"IF(A70=\"\",\"\",INDEX('Fundos-Lançamentos'!C:C,MATCH(A70,'Fundos-Lançamentos'!D:D,0)))","v":""},null,{"$f":"SUMIFS('Fundos-Lançamentos'!F:F,'Fundos-Lançamentos'!D:D,A70,'Fundos-Lançamentos'!B:B,\"D\")-SUMIFS('Fundos-Lançamentos'!F:F,'Fundos-Lançamentos'!D:D,A70,'Fundos-Lançamentos'!B:B,\"R\")","v":0},0,null,null,0,null,null,0,null,0,0,null,null,null,null,null,null,"",""]
[null,{"$f":"IF(A71=\"\",\"\",INDEX('Fundos-Lançamentos'!C:C,MATCH(A71,'Fundos-Lançamentos'!D:D,0)))","v":""},null,{"$f":"SUMIFS('Fundos-Lançamentos'!F:F,'Fundos-Lançamentos'!D:D,A71,'Fundos-Lançamentos'!B:B,\"D\")-SUMIFS('Fundos-Lançamentos'!F:F,'Fundos-Lançamentos'!D:D,A71,'Fundos-Lançamentos'!B:B,\"R\")","v":0},0,null,null,0,null,null,0,null,0,0,null,null,null,null,null,null,"",""]
[null,{"$f":"IF(A72=\"\",\"\",INDEX('Fundos-Lançamentos'!C:C,MATCH(A72,'Fundos-Lançamentos'!D:D,0)))","v":""},null,{"$f":"SUMIFS('Fundos-Lançamentos'!F:F,'Fundos-Lançamentos'!D:D,A72,'Fundos-Lançamentos'!B:B,\"D\")-SUMIFS('Fundos-Lançamentos'!F:F,'Fundos-Lançamentos'!D:D,A72,'Fundos-Lançamentos'!B:B,\"R\")","v":0},0,null,null,0,null,null,0,null,0,0,null,null,null,null,null,null,"",""]
[null,{"$f":"IF(A73=\"\",\"\",INDEX('Fundos-Lançamentos'!C:C,MATCH(A73,'Fundos-Lançamentos'!D:D,0)))","v":""},null,{"$f":"SUMIFS('Fundos-Lançamentos'!F:F,'Fundos-Lançamentos'!D:D,A73,'Fundos-Lançamentos'!B:B,\"D\")-SUMIFS('Fundos-Lançamentos'!F:F,'Fundos-Lançamentos'!D:D,A73,'Fundos-Lançamentos'!B:B,\"R\")","v":0},0,null,null,0,null,null,0,null,0,0,null,null,null,null,null,null,"",""]
[null,{"$f":"IF(A74=\"\",\"\",INDEX('Fundos-Lançamentos'!C:C,MATCH(A74,'Fundos-Lançamentos'!D:D,0)))","v":""},null,{"$f":"SUMIFS('Fundos-Lançamentos'!F:F,'Fundos-Lançamentos'!D:D,A74,'Fundos-Lançamentos'!B:B,\"D\")-SUMIFS('Fundos-Lançamentos'!F:F,'Fundos-Lançamentos'!D:D,A74,'Fundos-Lançamentos'!B:B,\"R\")","v":0},0,null,null,0,null,null,0,null,0,0,null,null,null,null,null,null,"",""]
[null,{"$f":"IF(A75=\"\",\"\",INDEX('Fundos-Lançamentos'!C:C,MATCH(A75,'Fundos-Lançamentos'!D:D,0)))","v":""},null,{"$f":"SUMIFS('Fundos-Lançamentos'!F:F,'Fundos-Lançamentos'!D:D,A75,'Fundos-Lançamentos'!B:B,\"D\")-SUMIFS('Fundos-Lançamentos'!F:F,'Fundos-Lançamentos'!D:D,A75,'Fundos-Lançamentos'!B:B,\"R\")","v":0},0,null,null,0,null,null,0,null,0,0,null,null,null,null,null,null,"",""]
[null,{"$f":"IF(A76=\"\",\"\",INDEX('Fundos-Lançamentos'!C:C,MATCH(A76,'Fundos-Lançamentos'!D:D,0)))","v":""},null,{"$f":"SUMIFS('Fundos-Lançamentos'!F:F,'Fundos-Lançamentos'!D:D,A76,'Fundos-Lançamentos'!B:B,\"D\")-SUMIFS('Fundos-Lançamentos'!F:F,'Fundos-Lançamentos'!D:D,A76,'Fundos-Lançamentos'!B:B,\"R\")","v":0},0,null,null,0,null,null,0,null,0,0,null,null,null,null,null,null,"",""]
[null,{"$f":"IF(A77=\"\",\"\",INDEX('Fundos-Lançamentos'!C:C,MATCH(A77,'Fundos-Lançamentos'!D:D,0)))","v":""},null,{"$f":"SUMIFS('Fundos-Lançamentos'!F:F,'Fundos-Lançamentos'!D:D,A77,'Fundos-Lançamentos'!B:B,\"D\")-SUMIFS('Fundos-Lançamentos'!F:F,'Fundos-Lançamentos'!D:D,A77,'Fundos-Lançamentos'!B:B,\"R\")","v":0},0,null,null,0,null,null,0,null,0,0,null,null,null,null,null,null,"",""]
[null,{"$f":"IF(A78=\"\",\"\",INDEX('Fundos-Lançamentos'!C:C,MATCH(A78,'Fundos-Lançamentos'!D:D,0)))","v":""},null,{"$f":"SUMIFS('Fundos-Lançamentos'!F:F,'Fundos-Lançamentos'!D:D,A78,'Fundos-Lançamentos'!B:B,\"D\")-SUMIFS('Fundos-Lançamentos'!F:F,'Fundos-Lançamentos'!D:D,A78,'Fundos-Lançamentos'!B:B,\"R\")","v":0},0,null,null,0,null,null,0,null,0,0,null,null,null,null,null,null,{"$f":"IF(J78=\"\",\"\",J78-H78)","v":""},{"$f":"IF(OR($A425=\"TOTAL\",$A425=\"\"),\"\",$A425)","v":""}]
[null,{"$f":"IF(A79=\"\",\"\",INDEX('Fundos-Lançamentos'!C:C,MATCH(A79,'Fundos-Lançamentos'!D:D,0)))","v":""},null,{"$f":"SUMIFS('Fundos-Lançamentos'!F:F,'Fundos-Lançamentos'!D:D,A79,'Fundos-Lançamentos'!B:B,\"D\")-SUMIFS('Fundos-Lançamentos'!F:F,'Fundos-Lançamentos'!D:D,A79,'Fundos-Lançamentos'!B:B,\"R\")","v":0},0,null,null,0,null,null,0,null,0,0,null,null,null,null,null,null,"",""]
[null,{"$f":"IF(A80=\"\",\"\",INDEX('Fundos-Lançamentos'!C:C,MATCH(A80,'Fundos-Lançamentos'!D:D,0)))","v":""},null,{"$f":"SUMIFS('Fundos-Lançamentos'!F:F,'Fundos-Lançamentos'!D:D,A80,'Fundos-Lançamentos'!B:B,\"D\")-SUMIFS('Fundos-Lançamentos'!F:F,'Fundos-Lançamentos'!D:D,A80,'Fundos-Lançamentos'!B:B,\"R\")","v":0},0,null,null,0,null,null,0,null,0,0,null,null,null,null,null,null,"",""]
[null,{"$f":"IF(A81=\"\",\"\",INDEX('Fundos-Lançamentos'!C:C,MATCH(A81,'Fundos-Lançamentos'!D:D,0)))","v":""},null,{"$f":"SUMIFS('Fundos-Lançamentos'!F:F,'Fundos-Lançamentos'!D:D,A81,'Fundos-Lançamentos'!B:B,\"D\")-SUMIFS('Fundos-Lançamentos'!F:F,'Fundos-Lançamentos'!D:D,A81,'Fundos-Lançamentos'!B:B,\"R\")","v":0},0,null,null,0,null,null,0,null,0,0,null,null,null,null,null,null,"",""]
[null,{"$f":"IF(A82=\"\",\"\",INDEX('Fundos-Lançamentos'!C:C,MATCH(A82,'Fundos-Lançamentos'!D:D,0)))","v":""},null,{"$f":"SUMIFS('Fundos-Lançamentos'!F:F,'Fundos-Lançamentos'!D:D,A82,'Fundos-Lançamentos'!B:B,\"D\")-SUMIFS('Fundos-Lançamentos'!F:F,'Fundos-Lançamentos'!D:D,A82,'Fundos-Lançamentos'!B:B,\"R\")","v":0},0,null,null,0,null,null,0,null,0,0,null,null,null,null,null,null,"",""]
[null,{"$f":"IF(A83=\"\",\"\",INDEX('Fundos-Lançamentos'!C:C,MATCH(A83,'Fundos-Lançamentos'!D:D,0)))","v":""},null,{"$f":"SUMIFS('Fundos-Lançamentos'!F:F,'Fundos-Lançamentos'!D:D,A83,'Fundos-Lançamentos'!B:B,\"D\")-SUMIFS('Fundos-Lançamentos'!F:F,'Fundos-Lançamentos'!D:D,A83,'Fundos-Lançamentos'!B:B,\"R\")","v":0},0,null,null,0,null,null,0,null,0,0,null,null,null,null,null,null,"",""]
[null,{"$f":"IF(A84=\"\",\"\",INDEX('Fundos-Lançamentos'!C:C,MATCH(A84,'Fundos-Lançamentos'!D:D,0)))","v":""},null,{"$f":"SUMIFS('Fundos-Lançamentos'!F:F,'Fundos-Lançamentos'!D:D,A84,'Fundos-Lançamentos'!B:B,\"D\")-SUMIFS('Fundos-Lançamentos'!F:F,'Fundos-Lançamentos'!D:D,A84,'Fundos-Lançamentos'!B:B,\"R\")","v":0},0,null,null,0,null,null,0,null,0,0,null,null,null,null,null,null,"",""]
[null,{"$f":"IF(A85=\"\",\"\",INDEX('Fundos-Lançamentos'!C:C,MATCH(A85,'Fundos-Lançamentos'!D:D,0)))","v":""},null,{"$f":"SUMIFS('Fundos-Lançamentos'!F:F,'Fundos-Lançamentos'!D:D,A85,'Fundos-Lançamentos'!B:B,\"D\")-SUMIFS('Fundos-Lançamentos'!F:F,'Fundos-Lançamentos'!D:D,A85,'Fundos-Lançamentos'!B:B,\"R\")","v":0},0,null,null,0,null,null,0,null,0,0,null,null,null,null,null,null,"",""]
[null,{"$f":"IF(A86=\"\",\"\",INDEX('Fundos-Lançamentos'!C:C,MATCH(A86,'Fundos-Lançamentos'!D:D,0)))","v":""},null,{"$f":"SUMIFS('Fundos-Lançamentos'!F:F,'Fundos-Lançamentos'!D:D,A86,'Fundos-Lançamentos'!B:B,\"D\")-SUMIFS('Fundos-Lançamentos'!F:F,'Fundos-Lançamentos'!D:D,A86,'Fundos-Lançamentos'!B:B,\"R\")","v":0},0,null,null,0,null,null,0,null,0,0,null,null,null,null,null,null,"",""]
[null,{"$f":"IF(A87=\"\",\"\",INDEX('Fundos-Lançamentos'!C:C,MATCH(A87,'Fundos-Lançamentos'!D:D,0)))","v":""},null,{"$f":"SUMIFS('Fundos-Lançamentos'!F:F,'Fundos-Lançamentos'!D:D,A87,'Fundos-Lançamentos'!B:B,\"D\")-SUMIFS('Fundos-Lançamentos'!F:F,'Fundos-Lançamentos'!D:D,A87,'Fundos-Lançamentos'!B:B,\"R\")","v":0},0,null,null,0,null,null,0,null,0,0,null,null,null,null,null,null,"",""]
[null,{"$f":"IF(A88=\"\",\"\",INDEX('Fundos-Lançamentos'!C:C,MATCH(A88,'Fundos-Lançamentos'!D:D,0)))","v":""},null,{"$f":"SUMIFS('Fundos-Lançamentos'!F:F,'Fundos-Lançamentos'!D:D,A88,'Fundos-Lançamentos'!B:B,\"D\")-SUMIFS('Fundos-Lançamentos'!F:F,'Fundos-Lançamentos'!D:D,A88,'Fundos-Lançamentos'!B:B,\"R\")","v":0},0,null,null,0,null,null,0,null,0,0,null,null,null,null,null,null,"",""]
[null,{"$f":"IF(A89=\"\",\"\",INDEX('Fundos-Lançamentos'!C:C,MATCH(A89,'Fundos-Lançamentos'!D:D,0)))","v":""},null,{"$f":"SUMIFS('Fundos-Lançamentos'!F:F,'Fundos-Lançamentos'!D:D,A89,'Fundos-Lançamentos'!B:B,\"D\")-SUMIFS('Fundos-Lançamentos'!F:F,'Fundos-Lançamentos'!D:D,A89,'Fundos-Lançamentos'!B:B,\"R\")","v":0},0,null,null,0,null,null,0,null,0,0,null,null,null,null,null,null,"",""]
[null,{"$f":"IF(A90=\"\",\"\",INDEX('Fundos-Lançamentos'!C:C,MATCH(A90,'Fundos-Lançamentos'!D:D,0)))","v":""},null,{"$f":"SUMIFS('Fundos-Lançamentos'!F:F,'Fundos-Lançamentos'!D:D,A90,'Fundos-Lançamentos'!B:B,\"D\")-SUMIFS('Fundos-Lançamentos'!F:F,'Fundos-Lançamentos'!D:D,A90,'Fundos-Lançamentos'!B:B,\"R\")","v":0},0,null,null,0,null,null,0,null,0,0,null,null,null,null,null,null,"",""]
[null,{"$f":"IF(A91=\"\",\"\",INDEX('Fundos-Lançamentos'!C:C,MATCH(A91,'Fundos-Lançamentos'!D:D,0)))","v":""},null,{"$f":"SUMIFS('Fundos-Lançamentos'!F:F,'Fundos-Lançamentos'!D:D,A91,'Fundos-Lançamentos'!B:B,\"D\")-SUMIFS('Fundos-Lançamentos'!F:F,'Fundos-Lançamentos'!D:D,A91,'Fundos-Lançamentos'!B:B,\"R\")","v":0},0,null,null,0,null,null,0,null,0,0,null,null,null,null,null,null,"",""]
[null,{"$f":"IF(A92=\"\",\"\",INDEX('Fundos-Lançamentos'!C:C,MATCH(A92,'Fundos-Lançamentos'!D:D,0)))","v":""},null,{"$f":"SUMIFS('Fundos-Lançamentos'!F:F,'Fundos-Lançamentos'!D:D,A92,'Fundos-Lançamentos'!B:B,\"D\")-SUMIFS('Fundos-Lançamentos'!F:F,'Fundos-Lançamentos'!D:D,A92,'Fundos-Lançamentos'!B:B,\"R\")","v":0},0,null,null,0,null,null,0,null,0,0,null,null,null,null,null,null,"",""]
[null,{"$f":"IF(A93=\"\",\"\",INDEX('Fundos-Lançamentos'!C:C,MATCH(A93,'Fundos-Lançamentos'!D:D,0)))","v":""},null,{"$f":"SUMIFS('Fundos-Lançamentos'!F:F,'Fundos-Lançamentos'!D:D,A93,'Fundos-Lançamentos'!B:B,\"D\")-SUMIFS('Fundos-Lançamentos'!F:F,'Fundos-Lançamentos'!D:D,A93,'Fundos-Lançamentos'!B:B,\"R\")","v":0},0,null,null,0,null,null,0,null,0,0,null,null,null,null,null,null,"",""]
[null,{"$f":"IF(A94=\"\",\"\",INDEX('Fundos-Lançamentos'!C:C,MATCH(A94,'Fundos-Lançamentos'!D:D,0)))","v":""},null,{"$f":"SUMIFS('Fundos-Lançamentos'!F:F,'Fundos-Lançamentos'!D:D,A94,'Fundos-Lançamentos'!B:B,\"D\")-SUMIFS('Fundos-Lançamentos'!F:F,'Fundos-Lançamentos'!D:D,A94,'Fundos-Lançamentos'!B:B,\"R\")","v":0},0,null,null,0,null,null,0,null,0,0,null,null,null,null,null,null,"",""]
[null,{"$f":"IF(A95=\"\",\"\",INDEX('Fundos-Lançamentos'!C:C,MATCH(A95,'Fundos-Lançamentos'!D:D,0)))","v":""},null,{"$f":"SUMIFS('Fundos-Lançamentos'!F:F,'Fundos-Lançamentos'!D:D,A95,'Fundos-Lançamentos'!B:B,\"D\")-SUMIFS('Fundos-Lançamentos'!F:F,'Fundos-Lançamentos'!D:D,A95,'Fundos-Lançamentos'!B:B,\"R\")","v":0},0,null,null,0,null,null,0,null,0,0,null,null,null,null,null,null,"",""]
[null,{"$f":"IF(A96=\"\",\"\",INDEX('Fundos-Lançamentos'!C:C,MATCH(A96,'Fundos-Lançamentos'!D:D,0)))","v":""},null,{"$f":"SUMIFS('Fundos-Lançamentos'!F:F,'Fundos-Lançamentos'!D:D,A96,'Fundos-Lançamentos'!B:B,\"D\")-SUMIFS('Fundos-Lançamentos'!F:F,'Fundos-Lançamentos'!D:D,A96,'Fundos-Lançamentos'!B:B,\"R\")","v":0},0,null,null,0,null,null,0,null,0,0,null,null,null,null,null,null,"",""]
[null,{"$f":"IF(A97=\"\",\"\",INDEX('Fundos-Lançamentos'!C:C,MATCH(A97,'Fundos-Lançamentos'!D:D,0)))","v":""},null,{"$f":"SUMIFS('Fundos-Lançamentos'!F:F,'Fundos-Lançamentos'!D:D,A97,'Fundos-Lançamentos'!B:B,\"D\")-SUMIFS('Fundos-Lançamentos'!F:F,'Fundos-Lançamentos'!D:D,A97,'Fundos-Lançamentos'!B:B,\"R\")","v":0},0,null,null,0,null,null,0,null,0,0,null,null,null,null,null,null,"",""]
[null,{"$f":"IF(A98=\"\",\"\",INDEX('Fundos-Lançamentos'!C:C,MATCH(A98,'Fundos-Lançamentos'!D:D,0)))","v":""},null,{"$f":"SUMIFS('Fundos-Lançamentos'!F:F,'Fundos-Lançamentos'!D:D,A98,'Fundos-Lançamentos'!B:B,\"D\")-SUMIFS('Fundos-Lançamentos'!F:F,'Fundos-Lançamentos'!D:D,A98,'Fundos-Lançamentos'!B:B,\"R\")","v":0},0,null,null,0,null,null,0,null,0,0,null,null,null,null,null,null,"",""]
[null,{"$f":"IF(A99=\"\",\"\",INDEX('Fundos-Lançamentos'!C:C,MATCH(A99,'Fundos-Lançamentos'!D:D,0)))","v":""},null,{"$f":"SUMIFS('Fundos-Lançamentos'!F:F,'Fundos-Lançamentos'!D:D,A99,'Fundos-Lançamentos'!B:B,\"D\")-SUMIFS('Fundos-Lançamentos'!F:F,'Fundos-Lançamentos'!D:D,A99,'Fundos-Lançamentos'!B:B,\"R\")","v":0},0,null,null,0,null,null,0,null,0,0,null,null,null,null,null,null,"",""]
[null,{"$f":"IF(A100=\"\",\"\",INDEX('Fundos-Lançamentos'!C:C,MATCH(A100,'Fundos-Lançamentos'!D:D,0)))","v":""},null,{"$f":"SUMIFS('Fundos-Lançamentos'!F:F,'Fundos-Lançamentos'!D:D,A100,'Fundos-Lançamentos'!B:B,\"D\")-SUMIFS('Fundos-Lançamentos'!F:F,'Fundos-Lançamentos'!D:D,A100,'Fundos-Lançamentos'!B:B,\"R\")","v":0},0,null,null,0,null,null,0,null,0,0,null,null,null,null,null,null,"",""]
[null,{"$f":"IF(A101=\"\",\"\",INDEX('Fundos-Lançamentos'!C:C,MATCH(A101,'Fundos-Lançamentos'!D:D,0)))","v":""},null,{"$f":"SUMIFS('Fundos-Lançamentos'!F:F,'Fundos-Lançamentos'!D:D,A101,'Fundos-Lançamentos'!B:B,\"D\")-SUMIFS('Fundos-Lançamentos'!F:F,'Fundos-Lançamentos'!D:D,A101,'Fundos-Lançamentos'!B:B,\"R\")","v":0},0,null,null,0,null,null,0,null,0,0,null,null,null,null,null,null,"",""]
[null,{"$f":"IF(A102=\"\",\"\",INDEX('Fundos-Lançamentos'!C:C,MATCH(A102,'Fundos-Lançamentos'!D:D,0)))","v":""},null,{"$f":"SUMIFS('Fundos-Lançamentos'!F:F,'Fundos-Lançamentos'!D:D,A102,'Fundos-Lançamentos'!B:B,\"D\")-SUMIFS('Fundos-Lançamentos'!F:F,'Fundos-Lançamentos'!D:D,A102,'Fundos-Lançamentos'!B:B,\"R\")","v":0},0,null,null,0,null,null,0,null,0,0,null,null,null,null,null,null,"",""]
[null,{"$f":"IF(A103=\"\",\"\",INDEX('Fundos-Lançamentos'!C:C,MATCH(A103,'Fundos-Lançamentos'!D:D,0)))","v":""},null,{"$f":"SUMIFS('Fundos-Lançamentos'!F:F,'Fundos-Lançamentos'!D:D,A103,'Fundos-Lançamentos'!B:B,\"D\")-SUMIFS('Fundos-Lançamentos'!F:F,'Fundos-Lançamentos'!D:D,A103,'Fundos-Lançamentos'!B:B,\"R\")","v":0},0,null,null,0,null,null,0,null,0,0,null,null,null,null,null,null,"",""]
[null,{"$f":"IF(A104=\"\",\"\",INDEX('Fundos-Lançamentos'!C:C,MATCH(A104,'Fundos-Lançamentos'!D:D,0)))","v":""},null,{"$f":"SUMIFS('Fundos-Lançamentos'!F:F,'Fundos-Lançamentos'!D:D,A104,'Fundos-Lançamentos'!B:B,\"D\")-SUMIFS('Fundos-Lançamentos'!F:F,'Fundos-Lançamentos'!D:D,A104,'Fundos-Lançamentos'!B:B,\"R\")","v":0},0,null,null,0,null,null,0,null,0,0,null,null,null,null,null,null,"",""]
[null,{"$f":"IF(A105=\"\",\"\",INDEX('Fundos-Lançamentos'!C:C,MATCH(A105,'Fundos-Lançamentos'!D:D,0)))","v":""},null,{"$f":"SUMIFS('Fundos-Lançamentos'!F:F,'Fundos-Lançamentos'!D:D,A105,'Fundos-Lançamentos'!B:B,\"D\")-SUMIFS('Fundos-Lançamentos'!F:F,'Fundos-Lançamentos'!D:D,A105,'Fundos-Lançamentos'!B:B,\"R\")","v":0},0,null,null,0,null,null,0,null,0,0,null,null,null,null,null,null,"",""]
[null,{"$f":"IF(A106=\"\",\"\",INDEX('Fundos-Lançamentos'!C:C,MATCH(A106,'Fundos-Lançamentos'!D:D,0)))","v":""},null,{"$f":"SUMIFS('Fundos-Lançamentos'!F:F,'Fundos-Lançamentos'!D:D,A106,'Fundos-Lançamentos'!B:B,\"D\")-SUMIFS('Fundos-Lançamentos'!F:F,'Fundos-Lançamentos'!D:D,A106,'Fundos-Lançamentos'!B:B,\"R\")","v":0},0,null,null,0,null,null,0,null,0,0,null,null,null,null,null,null,"",""]
[null,{"$f":"IF(A107=\"\",\"\",INDEX('Fundos-Lançamentos'!C:C,MATCH(A107,'Fundos-Lançamentos'!D:D,0)))","v":""},null,{"$f":"SUMIFS('Fundos-Lançamentos'!F:F,'Fundos-Lançamentos'!D:D,A107,'Fundos-Lançamentos'!B:B,\"D\")-SUMIFS('Fundos-Lançamentos'!F:F,'Fundos-Lançamentos'!D:D,A107,'Fundos-Lançamentos'!B:B,\"R\")","v":0},0,null,null,0,null,null,0,null,0,0,null,null,null,null,null,null,"",""]
[null,{"$f":"IF(A108=\"\",\"\",INDEX('Fundos-Lançamentos'!C:C,MATCH(A108,'Fundos-Lançamentos'!D:D,0)))","v":""},null,{"$f":"SUMIFS('Fundos-Lançamentos'!F:F,'Fundos-Lançamentos'!D:D,A108,'Fundos-Lançamentos'!B:B,\"D\")-SUMIFS('Fundos-Lançamentos'!F:F,'Fundos-Lançamentos'!D:D,A108,'Fundos-Lançamentos'!B:B,\"R\")","v":0},0,null,null,0,null,null,0,null,0,0,null,null,null,null,null,null,"",""]
[null,{"$f":"IF(A109=\"\",\"\",INDEX('Fundos-Lançamentos'!C:C,MATCH(A109,'Fundos-Lançamentos'!D:D,0)))","v":""},null,{"$f":"SUMIFS('Fundos-Lançamentos'!F:F,'Fundos-Lançamentos'!D:D,A109,'Fundos-Lançamentos'!B:B,\"D\")-SUMIFS('Fundos-Lançamentos'!F:F,'Fundos-Lançamentos'!D:D,A109,'Fundos-Lançamentos'!B:B,\"R\")","v":0},0,null,null,0,null,null,0,null,0,0,null,null,null,null,null,null,"",""]
[null,{"$f":"IF(A110=\"\",\"\",INDEX('Fundos-Lançamentos'!C:C,MATCH(A110,'Fundos-Lançamentos'!D:D,0)))","v":""},null,{"$f":"SUMIFS('Fundos-Lançamentos'!F:F,'Fundos-Lançamentos'!D:D,A110,'Fundos-Lançamentos'!B:B,\"D\")-SUMIFS('Fundos-Lançamentos'!F:F,'Fundos-Lançamentos'!D:D,A110,'Fundos-Lançamentos'!B:B,\"R\")","v":0},0,null,null,0,null,null,0,null,0,0,null,null,null,null,null,null,"",""]
[null,{"$f":"IF(A111=\"\",\"\",INDEX('Fundos-Lançamentos'!C:C,MATCH(A111,'Fundos-Lançamentos'!D:D,0)))","v":""},null,{"$f":"SUMIFS('Fundos-Lançamentos'!F:F,'Fundos-Lançamentos'!D:D,A111,'Fundos-Lançamentos'!B:B,\"D\")-SUMIFS('Fundos-Lançamentos'!F:F,'Fundos-Lançamentos'!D:D,A111,'Fundos-Lançamentos'!B:B,\"R\")","v":0},0,null,null,0,null,null,0,null,0,0,null,null,null,null,null,null,"",""]
[null,{"$f":"IF(A112=\"\",\"\",INDEX('Fundos-Lançamentos'!C:C,MATCH(A112,'Fundos-Lançamentos'!D:D,0)))","v":""},null,{"$f":"SUMIFS('Fundos-Lançamentos'!F:F,'Fundos-Lançamentos'!D:D,A112,'Fundos-Lançamentos'!B:B,\"D\")-SUMIFS('Fundos-Lançamentos'!F:F,'Fundos-Lançamentos'!D:D,A112,'Fundos-Lançamentos'!B:B,\"R\")","v":0},0,null,null,0,null,null,0,null,0,0,null,null,null,null,null,null,"",""]
[null,{"$f":"IF(A113=\"\",\"\",INDEX('Fundos-Lançamentos'!C:C,MATCH(A113,'Fundos-Lançamentos'!D:D,0)))","v":""},null,{"$f":"SUMIFS('Fundos-Lançamentos'!F:F,'Fundos-Lançamentos'!D:D,A113,'Fundos-Lançamentos'!B:B,\"D\")-SUMIFS('Fundos-Lançamentos'!F:F,'Fundos-Lançamentos'!D:D,A113,'Fundos-Lançamentos'!B:B,\"R\")","v":0},0,null,null,0,null,null,0,null,0,0,null,null,null,null,null,null,"",""]
[null,{"$f":"IF(A114=\"\",\"\",INDEX('Fundos-Lançamentos'!C:C,MATCH(A114,'Fundos-Lançamentos'!D:D,0)))","v":""},null,{"$f":"SUMIFS('Fundos-Lançamentos'!F:F,'Fundos-Lançamentos'!D:D,A114,'Fundos-Lançamentos'!B:B,\"D\")-SUMIFS('Fundos-Lançamentos'!F:F,'Fundos-Lançamentos'!D:D,A114,'Fundos-Lançamentos'!B:B,\"R\")","v":0},0,null,null,0,null,null,0,null,0,0,null,null,null,null,null,null,"",""]
[null,{"$f":"IF(A115=\"\",\"\",INDEX('Fundos-Lançamentos'!C:C,MATCH(A115,'Fundos-Lançamentos'!D:D,0)))","v":""},null,{"$f":"SUMIFS('Fundos-Lançamentos'!F:F,'Fundos-Lançamentos'!D:D,A115,'Fundos-Lançamentos'!B:B,\"D\")-SUMIFS('Fundos-Lançamentos'!F:F,'Fundos-Lançamentos'!D:D,A115,'Fundos-Lançamentos'!B:B,\"R\")","v":0},0,null,null,0,null,null,0,null,0,0,null,null,null,null,null,null,"",""]
[null,{"$f":"IF(A116=\"\",\"\",INDEX('Fundos-Lançamentos'!C:C,MATCH(A116,'Fundos-Lançamentos'!D:D,0)))","v":""},null,{"$f":"SUMIFS('Fundos-Lançamentos'!F:F,'Fundos-Lançamentos'!D:D,A116,'Fundos-Lançamentos'!B:B,\"D\")-SUMIFS('Fundos-Lançamentos'!F:F,'Fundos-Lançamentos'!D:D,A116,'Fundos-Lançamentos'!B:B,\"R\")","v":0},0,null,null,0,null,null,0,null,0,0,null,null,null,null,null,null,"",""]
[null,{"$f":"IF(A117=\"\",\"\",INDEX('Fundos-Lançamentos'!C:C,MATCH(A117,'Fundos-Lançamentos'!D:D,0)))","v":""},null,{"$f":"SUMIFS('Fundos-Lançamentos'!F:F,'Fundos-Lançamentos'!D:D,A117,'Fundos-Lançamentos'!B:B,\"D\")-SUMIFS('Fundos-Lançamentos'!F:F,'Fundos-Lançamentos'!D:D,A117,'Fundos-Lançamentos'!B:B,\"R\")","v":0},0,null,null,0,null,null,0,null,0,0,null,null,null,null,null,null,"",""]
[null,{"$f":"IF(A118=\"\",\"\",INDEX('Fundos-Lançamentos'!C:C,MATCH(A118,'Fundos-Lançamentos'!D:D,0)))","v":""},null,{"$f":"SUMIFS('Fundos-Lançamentos'!F:F,'Fundos-Lançamentos'!D:D,A118,'Fundos-Lançamentos'!B:B,\"D\")-SUMIFS('Fundos-Lançamentos'!F:F,'Fundos-Lançamentos'!D:D,A118,'Fundos-Lançamentos'!B:B,\"R\")","v":0},0,null,null,0,null,null,0,null,0,0,null,null,null,null,null,null,"",""]
[null,{"$f":"IF(A119=\"\",\"\",INDEX('Fundos-Lançamentos'!C:C,MATCH(A119,'Fundos-Lançamentos'!D:D,0)))","v":""},null,{"$f":"SUMIFS('Fundos-Lançamentos'!F:F,'Fundos-Lançamentos'!D:D,A119,'Fundos-Lançamentos'!B:B,\"D\")-SUMIFS('Fundos-Lançamentos'!F:F,'Fundos-Lançamentos'!D:D,A119,'Fundos-Lançamentos'!B:B,\"R\")","v":0},0,null,null,0,null,null,0,null,0,0,null,null,null,null,null,null,"",""]
[null,{"$f":"IF(A120=\"\",\"\",INDEX('Fundos-Lançamentos'!C:C,MATCH(A120,'Fundos-Lançamentos'!D:D,0)))","v":""},null,{"$f":"SUMIFS('Fundos-Lançamentos'!F:F,'Fundos-Lançamentos'!D:D,A120,'Fundos-Lançamentos'!B:B,\"D\")-SUMIFS('Fundos-Lançamentos'!F:F,'Fundos-Lançamentos'!D:D,A120,'Fundos-Lançamentos'!B:B,\"R\")","v":0},0,null,null,0,null,null,0,null,0,0,null,null,null,null,null,null,"",""]
[null,{"$f":"IF(A121=\"\",\"\",INDEX('Fundos-Lançamentos'!C:C,MATCH(A121,'Fundos-Lançamentos'!D:D,0)))","v":""},null,{"$f":"SUMIFS('Fundos-Lançamentos'!F:F,'Fundos-Lançamentos'!D:D,A121,'Fundos-Lançamentos'!B:B,\"D\")-SUMIFS('Fundos-Lançamentos'!F:F,'Fundos-Lançamentos'!D:D,A121,'Fundos-Lançamentos'!B:B,\"R\")","v":0},0,null,null,0,null,null,0,null,0,0,null,null,null,null,null,null,"",""]
[null,{"$f":"IF(A122=\"\",\"\",INDEX('Fundos-Lançamentos'!C:C,MATCH(A122,'Fundos-Lançamentos'!D:D,0)))","v":""},null,{"$f":"SUMIFS('Fundos-Lançamentos'!F:F,'Fundos-Lançamentos'!D:D,A122,'Fundos-Lançamentos'!B:B,\"D\")-SUMIFS('Fundos-Lançamentos'!F:F,'Fundos-Lançamentos'!D:D,A122,'Fundos-Lançamentos'!B:B,\"R\")","v":0},0,null,null,0,null,null,0,null,0,0,null,null,null,null,null,null,"",""]
[null,{"$f":"IF(A123=\"\",\"\",INDEX('Fundos-Lançamentos'!C:C,MATCH(A123,'Fundos-Lançamentos'!D:D,0)))","v":""},null,{"$f":"SUMIFS('Fundos-Lançamentos'!F:F,'Fundos-Lançamentos'!D:D,A123,'Fundos-Lançamentos'!B:B,\"D\")-SUMIFS('Fundos-Lançamentos'!F:F,'Fundos-Lançamentos'!D:D,A123,'Fundos-Lançamentos'!B:B,\"R\")","v":0},0,null,null,0,null,null,0,null,0,0,null,null,null,null,null,null,"",""]
[null,{"$f":"IF(A124=\"\",\"\",INDEX('Fundos-Lançamentos'!C:C,MATCH(A124,'Fundos-Lançamentos'!D:D,0)))","v":""},null,{"$f":"SUMIFS('Fundos-Lançamentos'!F:F,'Fundos-Lançamentos'!D:D,A124,'Fundos-Lançamentos'!B:B,\"D\")-SUMIFS('Fundos-Lançamentos'!F:F,'Fundos-Lançamentos'!D:D,A124,'Fundos-Lançamentos'!B:B,\"R\")","v":0},0,null,null,0,null,null,0,null,0,0,null,null,null,null,null,null,"",""]
[null,{"$f":"IF(A125=\"\",\"\",INDEX('Fundos-Lançamentos'!C:C,MATCH(A125,'Fundos-Lançamentos'!D:D,0)))","v":""},null,{"$f":"SUMIFS('Fundos-Lançamentos'!F:F,'Fundos-Lançamentos'!D:D,A125,'Fundos-Lançamentos'!B:B,\"D\")-SUMIFS('Fundos-Lançamentos'!F:F,'Fundos-Lançamentos'!D:D,A125,'Fundos-Lançamentos'!B:B,\"R\")","v":0},0,null,null,0,null,null,0,null,0,0,null,null,null,null,null,null,"",""]
[null,{"$f":"IF(A126=\"\",\"\",INDEX('Fundos-Lançamentos'!C:C,MATCH(A126,'Fundos-Lançamentos'!D:D,0)))","v":""},null,{"$f":"SUMIFS('Fundos-Lançamentos'!F:F,'Fundos-Lançamentos'!D:D,A126,'Fundos-Lançamentos'!B:B,\"D\")-SUMIFS('Fundos-Lançamentos'!F:F,'Fundos-Lançamentos'!D:D,A126,'Fundos-Lançamentos'!B:B,\"R\")","v":0},0,null,null,0,null,null,0,null,0,0,null,null,null,null,null,null,"",""]
[null,{"$f":"IF(A127=\"\",\"\",INDEX('Fundos-Lançamentos'!C:C,MATCH(A127,'Fundos-Lançamentos'!D:D,0)))","v":""},null,{"$f":"SUMIFS('Fundos-Lançamentos'!F:F,'Fundos-Lançamentos'!D:D,A127,'Fundos-Lançamentos'!B:B,\"D\")-SUMIFS('Fundos-Lançamentos'!F:F,'Fundos-Lançamentos'!D:D,A127,'Fundos-Lançamentos'!B:B,\"R\")","v":0},0,null,null,0,null,null,0,null,0,0,null,null,null,null,null,null,"",""]
[null,{"$f":"IF(A128=\"\",\"\",INDEX('Fundos-Lançamentos'!C:C,MATCH(A128,'Fundos-Lançamentos'!D:D,0)))","v":""},null,{"$f":"SUMIFS('Fundos-Lançamentos'!F:F,'Fundos-Lançamentos'!D:D,A128,'Fundos-Lançamentos'!B:B,\"D\")-SUMIFS('Fundos-Lançamentos'!F:F,'Fundos-Lançamentos'!D:D,A128,'Fundos-Lançamentos'!B:B,\"R\")","v":0},0,null,null,0,null,null,0,null,0,0,null,null,null,null,null,null,"",""]
[null,{"$f":"IF(A129=\"\",\"\",INDEX('Fundos-Lançamentos'!C:C,MATCH(A129,'Fundos-Lançamentos'!D:D,0)))","v":""},null,{"$f":"SUMIFS('Fundos-Lançamentos'!F:F,'Fundos-Lançamentos'!D:D,A129,'Fundos-Lançamentos'!B:B,\"D\")-SUMIFS('Fundos-Lançamentos'!F:F,'Fundos-Lançamentos'!D:D,A129,'Fundos-Lançamentos'!B:B,\"R\")","v":0},0,null,null,0,null,null,0,null,0,0,null,null,null,null,null,null,"",""]
[null,{"$f":"IF(A130=\"\",\"\",INDEX('Fundos-Lançamentos'!C:C,MATCH(A130,'Fundos-Lançamentos'!D:D,0)))","v":""},null,{"$f":"SUMIFS('Fundos-Lançamentos'!F:F,'Fundos-Lançamentos'!D:D,A130,'Fundos-Lançamentos'!B:B,\"D\")-SUMIFS('Fundos-Lançamentos'!F:F,'Fundos-Lançamentos'!D:D,A130,'Fundos-Lançamentos'!B:B,\"R\")","v":0},0,null,null,0,null,null,0,null,0,0,null,null,null,null,null,null,"",""]
[null,{"$f":"IF(A131=\"\",\"\",INDEX('Fundos-Lançamentos'!C:C,MATCH(A131,'Fundos-Lançamentos'!D:D,0)))","v":""},null,{"$f":"SUMIFS('Fundos-Lançamentos'!F:F,'Fundos-Lançamentos'!D:D,A131,'Fundos-Lançamentos'!B:B,\"D\")-SUMIFS('Fundos-Lançamentos'!F:F,'Fundos-Lançamentos'!D:D,A131,'Fundos-Lançamentos'!B:B,\"R\")","v":0},0,null,null,0,null,null,0,null,{"$f":"IF(G131=\"\",0,G131-D131)","v":0},{"$f":"IF(OR(D131=0),0,M131/D131)","v":0},null,null,null,null,null,null,"",""]
[null,{"$f":"IF(A132=\"\",\"\",INDEX('Fundos-Lançamentos'!C:C,MATCH(A132,'Fundos-Lançamentos'!D:D,0)))","v":""},null,{"$f":"SUMIFS('Fundos-Lançamentos'!F:F,'Fundos-Lançamentos'!D:D,A132,'Fundos-Lançamentos'!B:B,\"D\")-SUMIFS('Fundos-Lançamentos'!F:F,'Fundos-Lançamentos'!D:D,A132,'Fundos-Lançamentos'!B:B,\"R\")","v":0},{"$f":"IF(OR(D132=\"\",$Q$9=0),0,D132/$Q$9)","v":0},null,null,{"$f":"IF(OR(G132=\"\",$Q$11=0),0,G132/$Q$11)","v":0},null,null,{"$f":"IF(OR(J132=\"\",H132=\"\",E132=\"\"),0,IF($J$2=\"% ATUAL\",J132-H132,J132-E132))","v":0},null,0,0,null,null,null,null,null,null,"",""]
[null,{"$f":"IF(A133=\"\",\"\",INDEX('Fundos-Lançamentos'!C:C,MATCH(A133,'Fundos-Lançamentos'!D:D,0)))","v":""},null,{"$f":"SUMIFS('Fundos-Lançamentos'!F:F,'Fundos-Lançamentos'!D:D,A133,'Fundos-Lançamentos'!B:B,\"D\")-SUMIFS('Fundos-Lançamentos'!F:F,'Fundos-Lançamentos'!D:D,A133,'Fundos-Lançamentos'!B:B,\"R\")","v":0},0,null,null,0,null,null,0,null,0,0,null,null,null,null,null,null,"",""]
[null,{"$f":"IF(A134=\"\",\"\",INDEX('Fundos-Lançamentos'!C:C,MATCH(A134,'Fundos-Lançamentos'!D:D,0)))","v":""},null,{"$f":"SUMIFS('Fundos-Lançamentos'!F:F,'Fundos-Lançamentos'!D:D,A134,'Fundos-Lançamentos'!B:B,\"D\")-SUMIFS('Fundos-Lançamentos'!F:F,'Fundos-Lançamentos'!D:D,A134,'Fundos-Lançamentos'!B:B,\"R\")","v":0},0,null,null,0,null,null,0,null,0,0,null,null,null,null,null,null,"",""]
[null,{"$f":"IF(A135=\"\",\"\",INDEX('Fundos-Lançamentos'!C:C,MATCH(A135,'Fundos-Lançamentos'!D:D,0)))","v":""},null,{"$f":"SUMIFS('Fundos-Lançamentos'!F:F,'Fundos-Lançamentos'!D:D,A135,'Fundos-Lançamentos'!B:B,\"D\")-SUMIFS('Fundos-Lançamentos'!F:F,'Fundos-Lançamentos'!D:D,A135,'Fundos-Lançamentos'!B:B,\"R\")","v":0},0,null,null,0,null,null,0,null,0,0,null,null,null,null,null,null,"",""]
[null,{"$f":"IF(A136=\"\",\"\",INDEX('Fundos-Lançamentos'!C:C,MATCH(A136,'Fundos-Lançamentos'!D:D,0)))","v":""},null,{"$f":"SUMIFS('Fundos-Lançamentos'!F:F,'Fundos-Lançamentos'!D:D,A136,'Fundos-Lançamentos'!B:B,\"D\")-SUMIFS('Fundos-Lançamentos'!F:F,'Fundos-Lançamentos'!D:D,A136,'Fundos-Lançamentos'!B:B,\"R\")","v":0},0,null,null,0,null,null,0,null,0,0,null,null,null,null,null,null,"",""]
[null,{"$f":"IF(A137=\"\",\"\",INDEX('Fundos-Lançamentos'!C:C,MATCH(A137,'Fundos-Lançamentos'!D:D,0)))","v":""},null,{"$f":"SUMIFS('Fundos-Lançamentos'!F:F,'Fundos-Lançamentos'!D:D,A137,'Fundos-Lançamentos'!B:B,\"D\")-SUMIFS('Fundos-Lançamentos'!F:F,'Fundos-Lançamentos'!D:D,A137,'Fundos-Lançamentos'!B:B,\"R\")","v":0},0,null,null,0,null,null,0,null,0,0,null,null,null,null,null,null,"",""]
[null,{"$f":"IF(A138=\"\",\"\",INDEX('Fundos-Lançamentos'!C:C,MATCH(A138,'Fundos-Lançamentos'!D:D,0)))","v":""},null,{"$f":"SUMIFS('Fundos-Lançamentos'!F:F,'Fundos-Lançamentos'!D:D,A138,'Fundos-Lançamentos'!B:B,\"D\")-SUMIFS('Fundos-Lançamentos'!F:F,'Fundos-Lançamentos'!D:D,A138,'Fundos-Lançamentos'!B:B,\"R\")","v":0},0,null,null,0,null,null,0,null,0,0,null,null,null,null,null,null,"",""]
[null,{"$f":"IF(A139=\"\",\"\",INDEX('Fundos-Lançamentos'!C:C,MATCH(A139,'Fundos-Lançamentos'!D:D,0)))","v":""},null,{"$f":"SUMIFS('Fundos-Lançamentos'!F:F,'Fundos-Lançamentos'!D:D,A139,'Fundos-Lançamentos'!B:B,\"D\")-SUMIFS('Fundos-Lançamentos'!F:F,'Fundos-Lançamentos'!D:D,A139,'Fundos-Lançamentos'!B:B,\"R\")","v":0},0,null,null,0,null,null,0,null,0,0,null,null,null,null,null,null,"",""]
[null,{"$f":"IF(A140=\"\",\"\",INDEX('Fundos-Lançamentos'!C:C,MATCH(A140,'Fundos-Lançamentos'!D:D,0)))","v":""},null,{"$f":"SUMIFS('Fundos-Lançamentos'!F:F,'Fundos-Lançamentos'!D:D,A140,'Fundos-Lançamentos'!B:B,\"D\")-SUMIFS('Fundos-Lançamentos'!F:F,'Fundos-Lançamentos'!D:D,A140,'Fundos-Lançamentos'!B:B,\"R\")","v":0},0,null,null,0,null,null,0,null,0,0,null,null,null,null,null,null,"",""]
[null,{"$f":"IF(A141=\"\",\"\",INDEX('Fundos-Lançamentos'!C:C,MATCH(A141,'Fundos-Lançamentos'!D:D,0)))","v":""},null,{"$f":"SUMIFS('Fundos-Lançamentos'!F:F,'Fundos-Lançamentos'!D:D,A141,'Fundos-Lançamentos'!B:B,\"D\")-SUMIFS('Fundos-Lançamentos'!F:F,'Fundos-Lançamentos'!D:D,A141,'Fundos-Lançamentos'!B:B,\"R\")","v":0},0,null,null,0,null,null,0,null,0,0,null,null,null,null,null,null,"",""]
[null,{"$f":"IF(A142=\"\",\"\",INDEX('Fundos-Lançamentos'!C:C,MATCH(A142,'Fundos-Lançamentos'!D:D,0)))","v":""},null,{"$f":"SUMIFS('Fundos-Lançamentos'!F:F,'Fundos-Lançamentos'!D:D,A142,'Fundos-Lançamentos'!B:B,\"D\")-SUMIFS('Fundos-Lançamentos'!F:F,'Fundos-Lançamentos'!D:D,A142,'Fundos-Lançamentos'!B:B,\"R\")","v":0},0,null,null,0,null,null,0,null,0,0,null,null,null,null,null,null,{"$f":"IF(J142=\"\",\"\",J142-H142)","v":""},{"$f":"IF(OR($A489=\"TOTAL\",$A489=\"\"),\"\",$A489)","v":""}]
[null,{"$f":"IF(A143=\"\",\"\",INDEX('Fundos-Lançamentos'!C:C,MATCH(A143,'Fundos-Lançamentos'!D:D,0)))","v":""},null,{"$f":"SUMIFS('Fundos-Lançamentos'!F:F,'Fundos-Lançamentos'!D:D,A143,'Fundos-Lançamentos'!B:B,\"D\")-SUMIFS('Fundos-Lançamentos'!F:F,'Fundos-Lançamentos'!D:D,A143,'Fundos-Lançamentos'!B:B,\"R\")","v":0},0,null,null,0,null,null,0,null,0,0,null,null,null,null,null,null,"",""]
[null,{"$f":"IF(A144=\"\",\"\",INDEX('Fundos-Lançamentos'!C:C,MATCH(A144,'Fundos-Lançamentos'!D:D,0)))","v":""},null,{"$f":"SUMIFS('Fundos-Lançamentos'!F:F,'Fundos-Lançamentos'!D:D,A144,'Fundos-Lançamentos'!B:B,\"D\")-SUMIFS('Fundos-Lançamentos'!F:F,'Fundos-Lançamentos'!D:D,A144,'Fundos-Lançamentos'!B:B,\"R\")","v":0},0,null,null,0,null,null,0,null,0,0,null,null,null,null,null,null,"",""]
[null,{"$f":"IF(A145=\"\",\"\",INDEX('Fundos-Lançamentos'!C:C,MATCH(A145,'Fundos-Lançamentos'!D:D,0)))","v":""},null,{"$f":"SUMIFS('Fundos-Lançamentos'!F:F,'Fundos-Lançamentos'!D:D,A145,'Fundos-Lançamentos'!B:B,\"D\")-SUMIFS('Fundos-Lançamentos'!F:F,'Fundos-Lançamentos'!D:D,A145,'Fundos-Lançamentos'!B:B,\"R\")","v":0},0,null,null,0,null,null,0,null,0,0,null,null,null,null,null,null,"",""]
[null,{"$f":"IF(A146=\"\",\"\",INDEX('Fundos-Lançamentos'!C:C,MATCH(A146,'Fundos-Lançamentos'!D:D,0)))","v":""},null,{"$f":"SUMIFS('Fundos-Lançamentos'!F:F,'Fundos-Lançamentos'!D:D,A146,'Fundos-Lançamentos'!B:B,\"D\")-SUMIFS('Fundos-Lançamentos'!F:F,'Fundos-Lançamentos'!D:D,A146,'Fundos-Lançamentos'!B:B,\"R\")","v":0},0,null,null,0,null,null,0,null,0,0,null,null,null,null,null,null,"",""]
[null,{"$f":"IF(A147=\"\",\"\",INDEX('Fundos-Lançamentos'!C:C,MATCH(A147,'Fundos-Lançamentos'!D:D,0)))","v":""},null,{"$f":"SUMIFS('Fundos-Lançamentos'!F:F,'Fundos-Lançamentos'!D:D,A147,'Fundos-Lançamentos'!B:B,\"D\")-SUMIFS('Fundos-Lançamentos'!F:F,'Fundos-Lançamentos'!D:D,A147,'Fundos-Lançamentos'!B:B,\"R\")","v":0},0,null,null,0,null,null,0,null,0,0,null,null,null,null,null,null,"",""]
[null,{"$f":"IF(A148=\"\",\"\",INDEX('Fundos-Lançamentos'!C:C,MATCH(A148,'Fundos-Lançamentos'!D:D,0)))","v":""},null,{"$f":"SUMIFS('Fundos-Lançamentos'!F:F,'Fundos-Lançamentos'!D:D,A148,'Fundos-Lançamentos'!B:B,\"D\")-SUMIFS('Fundos-Lançamentos'!F:F,'Fundos-Lançamentos'!D:D,A148,'Fundos-Lançamentos'!B:B,\"R\")","v":0},0,null,null,0,null,null,0,null,0,0,null,null,null,null,null,null,"",""]
[null,{"$f":"IF(A149=\"\",\"\",INDEX('Fundos-Lançamentos'!C:C,MATCH(A149,'Fundos-Lançamentos'!D:D,0)))","v":""},null,{"$f":"SUMIFS('Fundos-Lançamentos'!F:F,'Fundos-Lançamentos'!D:D,A149,'Fundos-Lançamentos'!B:B,\"D\")-SUMIFS('Fundos-Lançamentos'!F:F,'Fundos-Lançamentos'!D:D,A149,'Fundos-Lançamentos'!B:B,\"R\")","v":0},0,null,null,0,null,null,0,null,0,0,null,null,null,null,null,null,"",""]
[null,{"$f":"IF(A150=\"\",\"\",INDEX('Fundos-Lançamentos'!C:C,MATCH(A150,'Fundos-Lançamentos'!D:D,0)))","v":""},null,{"$f":"SUMIFS('Fundos-Lançamentos'!F:F,'Fundos-Lançamentos'!D:D,A150,'Fundos-Lançamentos'!B:B,\"D\")-SUMIFS('Fundos-Lançamentos'!F:F,'Fundos-Lançamentos'!D:D,A150,'Fundos-Lançamentos'!B:B,\"R\")","v":0},0,null,null,0,null,null,0,null,0,0,null,null,null,null,null,null,"",""]
[null,{"$f":"IF(A151=\"\",\"\",INDEX('Fundos-Lançamentos'!C:C,MATCH(A151,'Fundos-Lançamentos'!D:D,0)))","v":""},null,{"$f":"SUMIFS('Fundos-Lançamentos'!F:F,'Fundos-Lançamentos'!D:D,A151,'Fundos-Lançamentos'!B:B,\"D\")-SUMIFS('Fundos-Lançamentos'!F:F,'Fundos-Lançamentos'!D:D,A151,'Fundos-Lançamentos'!B:B,\"R\")","v":0},0,null,null,0,null,null,0,null,0,0,null,null,null,null,null,null,"",""]
[null,{"$f":"IF(A152=\"\",\"\",INDEX('Fundos-Lançamentos'!C:C,MATCH(A152,'Fundos-Lançamentos'!D:D,0)))","v":""},null,{"$f":"SUMIFS('Fundos-Lançamentos'!F:F,'Fundos-Lançamentos'!D:D,A152,'Fundos-Lançamentos'!B:B,\"D\")-SUMIFS('Fundos-Lançamentos'!F:F,'Fundos-Lançamentos'!D:D,A152,'Fundos-Lançamentos'!B:B,\"R\")","v":0},0,null,null,0,null,null,0,null,0,0,null,null,null,null,null,null,"",""]
[null,{"$f":"IF(A153=\"\",\"\",INDEX('Fundos-Lançamentos'!C:C,MATCH(A153,'Fundos-Lançamentos'!D:D,0)))","v":""},null,{"$f":"SUMIFS('Fundos-Lançamentos'!F:F,'Fundos-Lançamentos'!D:D,A153,'Fundos-Lançamentos'!B:B,\"D\")-SUMIFS('Fundos-Lançamentos'!F:F,'Fundos-Lançamentos'!D:D,A153,'Fundos-Lançamentos'!B:B,\"R\")","v":0},0,null,null,0,null,null,0,null,0,0,null,null,null,null,null,null,"",""]
[null,{"$f":"IF(A154=\"\",\"\",INDEX('Fundos-Lançamentos'!C:C,MATCH(A154,'Fundos-Lançamentos'!D:D,0)))","v":""},null,{"$f":"SUMIFS('Fundos-Lançamentos'!F:F,'Fundos-Lançamentos'!D:D,A154,'Fundos-Lançamentos'!B:B,\"D\")-SUMIFS('Fundos-Lançamentos'!F:F,'Fundos-Lançamentos'!D:D,A154,'Fundos-Lançamentos'!B:B,\"R\")","v":0},0,null,null,0,null,null,0,null,0,0,null,null,null,null,null,null,"",""]
[null,{"$f":"IF(A155=\"\",\"\",INDEX('Fundos-Lançamentos'!C:C,MATCH(A155,'Fundos-Lançamentos'!D:D,0)))","v":""},null,{"$f":"SUMIFS('Fundos-Lançamentos'!F:F,'Fundos-Lançamentos'!D:D,A155,'Fundos-Lançamentos'!B:B,\"D\")-SUMIFS('Fundos-Lançamentos'!F:F,'Fundos-Lançamentos'!D:D,A155,'Fundos-Lançamentos'!B:B,\"R\")","v":0},0,null,null,0,null,null,0,null,0,0,null,null,null,null,null,null,"",""]
[null,{"$f":"IF(A156=\"\",\"\",INDEX('Fundos-Lançamentos'!C:C,MATCH(A156,'Fundos-Lançamentos'!D:D,0)))","v":""},null,{"$f":"SUMIFS('Fundos-Lançamentos'!F:F,'Fundos-Lançamentos'!D:D,A156,'Fundos-Lançamentos'!B:B,\"D\")-SUMIFS('Fundos-Lançamentos'!F:F,'Fundos-Lançamentos'!D:D,A156,'Fundos-Lançamentos'!B:B,\"R\")","v":0},0,null,null,0,null,null,0,null,0,0,null,null,null,null,null,null,"",""]
[null,{"$f":"IF(A157=\"\",\"\",INDEX('Fundos-Lançamentos'!C:C,MATCH(A157,'Fundos-Lançamentos'!D:D,0)))","v":""},null,{"$f":"SUMIFS('Fundos-Lançamentos'!F:F,'Fundos-Lançamentos'!D:D,A157,'Fundos-Lançamentos'!B:B,\"D\")-SUMIFS('Fundos-Lançamentos'!F:F,'Fundos-Lançamentos'!D:D,A157,'Fundos-Lançamentos'!B:B,\"R\")","v":0},0,null,null,0,null,null,0,null,0,0,null,null,null,null,null,null,"",""]
[null,{"$f":"IF(A158=\"\",\"\",INDEX('Fundos-Lançamentos'!C:C,MATCH(A158,'Fundos-Lançamentos'!D:D,0)))","v":""},null,{"$f":"SUMIFS('Fundos-Lançamentos'!F:F,'Fundos-Lançamentos'!D:D,A158,'Fundos-Lançamentos'!B:B,\"D\")-SUMIFS('Fundos-Lançamentos'!F:F,'Fundos-Lançamentos'!D:D,A158,'Fundos-Lançamentos'!B:B,\"R\")","v":0},0,null,null,0,null,null,0,null,0,0,null,null,null,null,null,null,"",""]
[null,{"$f":"IF(A159=\"\",\"\",INDEX('Fundos-Lançamentos'!C:C,MATCH(A159,'Fundos-Lançamentos'!D:D,0)))","v":""},null,{"$f":"SUMIFS('Fundos-Lançamentos'!F:F,'Fundos-Lançamentos'!D:D,A159,'Fundos-Lançamentos'!B:B,\"D\")-SUMIFS('Fundos-Lançamentos'!F:F,'Fundos-Lançamentos'!D:D,A159,'Fundos-Lançamentos'!B:B,\"R\")","v":0},0,null,null,0,null,null,0,null,0,0,null,null,null,null,null,null,"",""]
[null,{"$f":"IF(A160=\"\",\"\",INDEX('Fundos-Lançamentos'!C:C,MATCH(A160,'Fundos-Lançamentos'!D:D,0)))","v":""},null,{"$f":"SUMIFS('Fundos-Lançamentos'!F:F,'Fundos-Lançamentos'!D:D,A160,'Fundos-Lançamentos'!B:B,\"D\")-SUMIFS('Fundos-Lançamentos'!F:F,'Fundos-Lançamentos'!D:D,A160,'Fundos-Lançamentos'!B:B,\"R\")","v":0},0,null,null,0,null,null,0,null,0,0,null,null,null,null,null,null,"",""]
[null,{"$f":"IF(A161=\"\",\"\",INDEX('Fundos-Lançamentos'!C:C,MATCH(A161,'Fundos-Lançamentos'!D:D,0)))","v":""},null,{"$f":"SUMIFS('Fundos-Lançamentos'!F:F,'Fundos-Lançamentos'!D:D,A161,'Fundos-Lançamentos'!B:B,\"D\")-SUMIFS('Fundos-Lançamentos'!F:F,'Fundos-Lançamentos'!D:D,A161,'Fundos-Lançamentos'!B:B,\"R\")","v":0},0,null,null,0,null,null,0,null,0,0,null,null,null,null,null,null,"",""]
[null,{"$f":"IF(A162=\"\",\"\",INDEX('Fundos-Lançamentos'!C:C,MATCH(A162,'Fundos-Lançamentos'!D:D,0)))","v":""},null,{"$f":"SUMIFS('Fundos-Lançamentos'!F:F,'Fundos-Lançamentos'!D:D,A162,'Fundos-Lançamentos'!B:B,\"D\")-SUMIFS('Fundos-Lançamentos'!F:F,'Fundos-Lançamentos'!D:D,A162,'Fundos-Lançamentos'!B:B,\"R\")","v":0},0,null,null,0,null,null,0,null,0,0,null,null,null,null,null,null,"",""]
[null,{"$f":"IF(A163=\"\",\"\",INDEX('Fundos-Lançamentos'!C:C,MATCH(A163,'Fundos-Lançamentos'!D:D,0)))","v":""},null,{"$f":"SUMIFS('Fundos-Lançamentos'!F:F,'Fundos-Lançamentos'!D:D,A163,'Fundos-Lançamentos'!B:B,\"D\")-SUMIFS('Fundos-Lançamentos'!F:F,'Fundos-Lançamentos'!D:D,A163,'Fundos-Lançamentos'!B:B,\"R\")","v":0},0,null,null,0,null,null,0,null,0,0,null,null,null,null,null,null,"",""]
[null,{"$f":"IF(A164=\"\",\"\",INDEX('Fundos-Lançamentos'!C:C,MATCH(A164,'Fundos-Lançamentos'!D:D,0)))","v":""},null,{"$f":"SUMIFS('Fundos-Lançamentos'!F:F,'Fundos-Lançamentos'!D:D,A164,'Fundos-Lançamentos'!B:B,\"D\")-SUMIFS('Fundos-Lançamentos'!F:F,'Fundos-Lançamentos'!D:D,A164,'Fundos-Lançamentos'!B:B,\"R\")","v":0},0,null,null,0,null,null,0,null,0,0,null,null,null,null,null,null,"",""]
[null,{"$f":"IF(A165=\"\",\"\",INDEX('Fundos-Lançamentos'!C:C,MATCH(A165,'Fundos-Lançamentos'!D:D,0)))","v":""},null,{"$f":"SUMIFS('Fundos-Lançamentos'!F:F,'Fundos-Lançamentos'!D:D,A165,'Fundos-Lançamentos'!B:B,\"D\")-SUMIFS('Fundos-Lançamentos'!F:F,'Fundos-Lançamentos'!D:D,A165,'Fundos-Lançamentos'!B:B,\"R\")","v":0},0,null,null,0,null,null,0,null,0,0,null,null,null,null,null,null,"",""]
[null,{"$f":"IF(A166=\"\",\"\",INDEX('Fundos-Lançamentos'!C:C,MATCH(A166,'Fundos-Lançamentos'!D:D,0)))","v":""},null,{"$f":"SUMIFS('Fundos-Lançamentos'!F:F,'Fundos-Lançamentos'!D:D,A166,'Fundos-Lançamentos'!B:B,\"D\")-SUMIFS('Fundos-Lançamentos'!F:F,'Fundos-Lançamentos'!D:D,A166,'Fundos-Lançamentos'!B:B,\"R\")","v":0},0,null,null,0,null,null,0,null,0,0,null,null,null,null,null,null,"",""]
[null,{"$f":"IF(A167=\"\",\"\",INDEX('Fundos-Lançamentos'!C:C,MATCH(A167,'Fundos-Lançamentos'!D:D,0)))","v":""},null,{"$f":"SUMIFS('Fundos-Lançamentos'!F:F,'Fundos-Lançamentos'!D:D,A167,'Fundos-Lançamentos'!B:B,\"D\")-SUMIFS('Fundos-Lançamentos'!F:F,'Fundos-Lançamentos'!D:D,A167,'Fundos-Lançamentos'!B:B,\"R\")","v":0},0,null,null,0,null,null,0,null,0,0,null,null,null,null,null,null,"",""]
[null,{"$f":"IF(A168=\"\",\"\",INDEX('Fundos-Lançamentos'!C:C,MATCH(A168,'Fundos-Lançamentos'!D:D,0)))","v":""},null,{"$f":"SUMIFS('Fundos-Lançamentos'!F:F,'Fundos-Lançamentos'!D:D,A168,'Fundos-Lançamentos'!B:B,\"D\")-SUMIFS('Fundos-Lançamentos'!F:F,'Fundos-Lançamentos'!D:D,A168,'Fundos-Lançamentos'!B:B,\"R\")","v":0},0,null,null,0,null,null,0,null,0,0,null,null,null,null,null,null,"",""]
[null,{"$f":"IF(A169=\"\",\"\",INDEX('Fundos-Lançamentos'!C:C,MATCH(A169,'Fundos-Lançamentos'!D:D,0)))","v":""},null,{"$f":"SUMIFS('Fundos-Lançamentos'!F:F,'Fundos-Lançamentos'!D:D,A169,'Fundos-Lançamentos'!B:B,\"D\")-SUMIFS('Fundos-Lançamentos'!F:F,'Fundos-Lançamentos'!D:D,A169,'Fundos-Lançamentos'!B:B,\"R\")","v":0},0,null,null,0,null,null,0,null,0,0,null,null,null,null,null,null,"",""]
[null,{"$f":"IF(A170=\"\",\"\",INDEX('Fundos-Lançamentos'!C:C,MATCH(A170,'Fundos-Lançamentos'!D:D,0)))","v":""},null,{"$f":"SUMIFS('Fundos-Lançamentos'!F:F,'Fundos-Lançamentos'!D:D,A170,'Fundos-Lançamentos'!B:B,\"D\")-SUMIFS('Fundos-Lançamentos'!F:F,'Fundos-Lançamentos'!D:D,A170,'Fundos-Lançamentos'!B:B,\"R\")","v":0},0,null,null,0,null,null,0,null,0,0,null,null,null,null,null,null,"",""]
[null,{"$f":"IF(A171=\"\",\"\",INDEX('Fundos-Lançamentos'!C:C,MATCH(A171,'Fundos-Lançamentos'!D:D,0)))","v":""},null,{"$f":"SUMIFS('Fundos-Lançamentos'!F:F,'Fundos-Lançamentos'!D:D,A171,'Fundos-Lançamentos'!B:B,\"D\")-SUMIFS('Fundos-Lançamentos'!F:F,'Fundos-Lançamentos'!D:D,A171,'Fundos-Lançamentos'!B:B,\"R\")","v":0},0,null,null,0,null,null,0,null,0,0,null,null,null,null,null,null,"",""]
[null,{"$f":"IF(A172=\"\",\"\",INDEX('Fundos-Lançamentos'!C:C,MATCH(A172,'Fundos-Lançamentos'!D:D,0)))","v":""},null,{"$f":"SUMIFS('Fundos-Lançamentos'!F:F,'Fundos-Lançamentos'!D:D,A172,'Fundos-Lançamentos'!B:B,\"D\")-SUMIFS('Fundos-Lançamentos'!F:F,'Fundos-Lançamentos'!D:D,A172,'Fundos-Lançamentos'!B:B,\"R\")","v":0},0,null,null,0,null,null,0,null,0,0,null,null,null,null,null,null,"",""]
[null,{"$f":"IF(A173=\"\",\"\",INDEX('Fundos-Lançamentos'!C:C,MATCH(A173,'Fundos-Lançamentos'!D:D,0)))","v":""},null,{"$f":"SUMIFS('Fundos-Lançamentos'!F:F,'Fundos-Lançamentos'!D:D,A173,'Fundos-Lançamentos'!B:B,\"D\")-SUMIFS('Fundos-Lançamentos'!F:F,'Fundos-Lançamentos'!D:D,A173,'Fundos-Lançamentos'!B:B,\"R\")","v":0},0,null,null,0,null,null,0,null,0,0,null,null,null,null,null,null,"",""]
[null,{"$f":"IF(A174=\"\",\"\",INDEX('Fundos-Lançamentos'!C:C,MATCH(A174,'Fundos-Lançamentos'!D:D,0)))","v":""},null,{"$f":"SUMIFS('Fundos-Lançamentos'!F:F,'Fundos-Lançamentos'!D:D,A174,'Fundos-Lançamentos'!B:B,\"D\")-SUMIFS('Fundos-Lançamentos'!F:F,'Fundos-Lançamentos'!D:D,A174,'Fundos-Lançamentos'!B:B,\"R\")","v":0},0,null,null,0,null,null,0,null,0,0,null,null,null,null,null,null,"",""]
[null,{"$f":"IF(A175=\"\",\"\",INDEX('Fundos-Lançamentos'!C:C,MATCH(A175,'Fundos-Lançamentos'!D:D,0)))","v":""},null,{"$f":"SUMIFS('Fundos-Lançamentos'!F:F,'Fundos-Lançamentos'!D:D,A175,'Fundos-Lançamentos'!B:B,\"D\")-SUMIFS('Fundos-Lançamentos'!F:F,'Fundos-Lançamentos'!D:D,A175,'Fundos-Lançamentos'!B:B,\"R\")","v":0},0,null,null,0,null,null,0,null,0,0,null,null,null,null,null,null,"",""]
[null,{"$f":"IF(A176=\"\",\"\",INDEX('Fundos-Lançamentos'!C:C,MATCH(A176,'Fundos-Lançamentos'!D:D,0)))","v":""},null,{"$f":"SUMIFS('Fundos-Lançamentos'!F:F,'Fundos-Lançamentos'!D:D,A176,'Fundos-Lançamentos'!B:B,\"D\")-SUMIFS('Fundos-Lançamentos'!F:F,'Fundos-Lançamentos'!D:D,A176,'Fundos-Lançamentos'!B:B,\"R\")","v":0},0,null,null,0,null,null,0,null,0,0,null,null,null,null,null,null,"",""]
[null,{"$f":"IF(A177=\"\",\"\",INDEX('Fundos-Lançamentos'!C:C,MATCH(A177,'Fundos-Lançamentos'!D:D,0)))","v":""},null,{"$f":"SUMIFS('Fundos-Lançamentos'!F:F,'Fundos-Lançamentos'!D:D,A177,'Fundos-Lançamentos'!B:B,\"D\")-SUMIFS('Fundos-Lançamentos'!F:F,'Fundos-Lançamentos'!D:D,A177,'Fundos-Lançamentos'!B:B,\"R\")","v":0},0,null,null,0,null,null,0,null,0,0,null,null,null,null,null,null,"",""]
[null,{"$f":"IF(A178=\"\",\"\",INDEX('Fundos-Lançamentos'!C:C,MATCH(A178,'Fundos-Lançamentos'!D:D,0)))","v":""},null,{"$f":"SUMIFS('Fundos-Lançamentos'!F:F,'Fundos-Lançamentos'!D:D,A178,'Fundos-Lançamentos'!B:B,\"D\")-SUMIFS('Fundos-Lançamentos'!F:F,'Fundos-Lançamentos'!D:D,A178,'Fundos-Lançamentos'!B:B,\"R\")","v":0},0,null,null,0,null,null,0,null,0,0,null,null,null,null,null,null,"",""]
[null,{"$f":"IF(A179=\"\",\"\",INDEX('Fundos-Lançamentos'!C:C,MATCH(A179,'Fundos-Lançamentos'!D:D,0)))","v":""},null,{"$f":"SUMIFS('Fundos-Lançamentos'!F:F,'Fundos-Lançamentos'!D:D,A179,'Fundos-Lançamentos'!B:B,\"D\")-SUMIFS('Fundos-Lançamentos'!F:F,'Fundos-Lançamentos'!D:D,A179,'Fundos-Lançamentos'!B:B,\"R\")","v":0},0,null,null,0,null,null,0,null,0,0,null,null,null,null,null,null,"",""]
[null,{"$f":"IF(A180=\"\",\"\",INDEX('Fundos-Lançamentos'!C:C,MATCH(A180,'Fundos-Lançamentos'!D:D,0)))","v":""},null,{"$f":"SUMIFS('Fundos-Lançamentos'!F:F,'Fundos-Lançamentos'!D:D,A180,'Fundos-Lançamentos'!B:B,\"D\")-SUMIFS('Fundos-Lançamentos'!F:F,'Fundos-Lançamentos'!D:D,A180,'Fundos-Lançamentos'!B:B,\"R\")","v":0},0,null,null,0,null,null,0,null,0,0,null,null,null,null,null,null,"",""]
[null,{"$f":"IF(A181=\"\",\"\",INDEX('Fundos-Lançamentos'!C:C,MATCH(A181,'Fundos-Lançamentos'!D:D,0)))","v":""},null,{"$f":"SUMIFS('Fundos-Lançamentos'!F:F,'Fundos-Lançamentos'!D:D,A181,'Fundos-Lançamentos'!B:B,\"D\")-SUMIFS('Fundos-Lançamentos'!F:F,'Fundos-Lançamentos'!D:D,A181,'Fundos-Lançamentos'!B:B,\"R\")","v":0},0,null,null,0,null,null,0,null,0,0,null,null,null,null,null,null,"",""]
[null,{"$f":"IF(A182=\"\",\"\",INDEX('Fundos-Lançamentos'!C:C,MATCH(A182,'Fundos-Lançamentos'!D:D,0)))","v":""},null,{"$f":"SUMIFS('Fundos-Lançamentos'!F:F,'Fundos-Lançamentos'!D:D,A182,'Fundos-Lançamentos'!B:B,\"D\")-SUMIFS('Fundos-Lançamentos'!F:F,'Fundos-Lançamentos'!D:D,A182,'Fundos-Lançamentos'!B:B,\"R\")","v":0},0,null,null,0,null,null,0,null,0,0,null,null,null,null,null,null,"",""]
[null,{"$f":"IF(A183=\"\",\"\",INDEX('Fundos-Lançamentos'!C:C,MATCH(A183,'Fundos-Lançamentos'!D:D,0)))","v":""},null,{"$f":"SUMIFS('Fundos-Lançamentos'!F:F,'Fundos-Lançamentos'!D:D,A183,'Fundos-Lançamentos'!B:B,\"D\")-SUMIFS('Fundos-Lançamentos'!F:F,'Fundos-Lançamentos'!D:D,A183,'Fundos-Lançamentos'!B:B,\"R\")","v":0},0,null,null,0,null,null,0,null,0,0,null,null,null,null,null,null,"",""]
[null,{"$f":"IF(A184=\"\",\"\",INDEX('Fundos-Lançamentos'!C:C,MATCH(A184,'Fundos-Lançamentos'!D:D,0)))","v":""},null,{"$f":"SUMIFS('Fundos-Lançamentos'!F:F,'Fundos-Lançamentos'!D:D,A184,'Fundos-Lançamentos'!B:B,\"D\")-SUMIFS('Fundos-Lançamentos'!F:F,'Fundos-Lançamentos'!D:D,A184,'Fundos-Lançamentos'!B:B,\"R\")","v":0},0,null,null,0,null,null,0,null,0,0,null,null,null,null,null,null,"",""]
[null,{"$f":"IF(A185=\"\",\"\",INDEX('Fundos-Lançamentos'!C:C,MATCH(A185,'Fundos-Lançamentos'!D:D,0)))","v":""},null,{"$f":"SUMIFS('Fundos-Lançamentos'!F:F,'Fundos-Lançamentos'!D:D,A185,'Fundos-Lançamentos'!B:B,\"D\")-SUMIFS('Fundos-Lançamentos'!F:F,'Fundos-Lançamentos'!D:D,A185,'Fundos-Lançamentos'!B:B,\"R\")","v":0},0,null,null,0,null,null,0,null,0,0,null,null,null,null,null,null,"",""]
[null,{"$f":"IF(A186=\"\",\"\",INDEX('Fundos-Lançamentos'!C:C,MATCH(A186,'Fundos-Lançamentos'!D:D,0)))","v":""},null,{"$f":"SUMIFS('Fundos-Lançamentos'!F:F,'Fundos-Lançamentos'!D:D,A186,'Fundos-Lançamentos'!B:B,\"D\")-SUMIFS('Fundos-Lançamentos'!F:F,'Fundos-Lançamentos'!D:D,A186,'Fundos-Lançamentos'!B:B,\"R\")","v":0},0,null,null,0,null,null,0,null,0,0,null,null,null,null,null,null,"",""]
[null,{"$f":"IF(A187=\"\",\"\",INDEX('Fundos-Lançamentos'!C:C,MATCH(A187,'Fundos-Lançamentos'!D:D,0)))","v":""},null,{"$f":"SUMIFS('Fundos-Lançamentos'!F:F,'Fundos-Lançamentos'!D:D,A187,'Fundos-Lançamentos'!B:B,\"D\")-SUMIFS('Fundos-Lançamentos'!F:F,'Fundos-Lançamentos'!D:D,A187,'Fundos-Lançamentos'!B:B,\"R\")","v":0},0,null,null,0,null,null,0,null,0,0,null,null,null,null,null,null,"",""]
[null,{"$f":"IF(A188=\"\",\"\",INDEX('Fundos-Lançamentos'!C:C,MATCH(A188,'Fundos-Lançamentos'!D:D,0)))","v":""},null,{"$f":"SUMIFS('Fundos-Lançamentos'!F:F,'Fundos-Lançamentos'!D:D,A188,'Fundos-Lançamentos'!B:B,\"D\")-SUMIFS('Fundos-Lançamentos'!F:F,'Fundos-Lançamentos'!D:D,A188,'Fundos-Lançamentos'!B:B,\"R\")","v":0},0,null,null,0,null,null,0,null,0,0,null,null,null,null,null,null,"",""]
[null,{"$f":"IF(A189=\"\",\"\",INDEX('Fundos-Lançamentos'!C:C,MATCH(A189,'Fundos-Lançamentos'!D:D,0)))","v":""},null,{"$f":"SUMIFS('Fundos-Lançamentos'!F:F,'Fundos-Lançamentos'!D:D,A189,'Fundos-Lançamentos'!B:B,\"D\")-SUMIFS('Fundos-Lançamentos'!F:F,'Fundos-Lançamentos'!D:D,A189,'Fundos-Lançamentos'!B:B,\"R\")","v":0},0,null,null,0,null,null,0,null,0,0,null,null,null,null,null,null,"",""]
[null,{"$f":"IF(A190=\"\",\"\",INDEX('Fundos-Lançamentos'!C:C,MATCH(A190,'Fundos-Lançamentos'!D:D,0)))","v":""},null,{"$f":"SUMIFS('Fundos-Lançamentos'!F:F,'Fundos-Lançamentos'!D:D,A190,'Fundos-Lançamentos'!B:B,\"D\")-SUMIFS('Fundos-Lançamentos'!F:F,'Fundos-Lançamentos'!D:D,A190,'Fundos-Lançamentos'!B:B,\"R\")","v":0},0,null,null,0,null,null,0,null,0,0,null,null,null,null,null,null,"",""]
[null,{"$f":"IF(A191=\"\",\"\",INDEX('Fundos-Lançamentos'!C:C,MATCH(A191,'Fundos-Lançamentos'!D:D,0)))","v":""},null,{"$f":"SUMIFS('Fundos-Lançamentos'!F:F,'Fundos-Lançamentos'!D:D,A191,'Fundos-Lançamentos'!B:B,\"D\")-SUMIFS('Fundos-Lançamentos'!F:F,'Fundos-Lançamentos'!D:D,A191,'Fundos-Lançamentos'!B:B,\"R\")","v":0},0,null,null,0,null,null,0,null,0,0,null,null,null,null,null,null,"",""]
[null,{"$f":"IF(A192=\"\",\"\",INDEX('Fundos-Lançamentos'!C:C,MATCH(A192,'Fundos-Lançamentos'!D:D,0)))","v":""},null,{"$f":"SUMIFS('Fundos-Lançamentos'!F:F,'Fundos-Lançamentos'!D:D,A192,'Fundos-Lançamentos'!B:B,\"D\")-SUMIFS('Fundos-Lançamentos'!F:F,'Fundos-Lançamentos'!D:D,A192,'Fundos-Lançamentos'!B:B,\"R\")","v":0},0,null,null,0,null,null,0,null,0,0,null,null,null,null,null,null,"",""]
[null,{"$f":"IF(A193=\"\",\"\",INDEX('Fundos-Lançamentos'!C:C,MATCH(A193,'Fundos-Lançamentos'!D:D,0)))","v":""},null,{"$f":"SUMIFS('Fundos-Lançamentos'!F:F,'Fundos-Lançamentos'!D:D,A193,'Fundos-Lançamentos'!B:B,\"D\")-SUMIFS('Fundos-Lançamentos'!F:F,'Fundos-Lançamentos'!D:D,A193,'Fundos-Lançamentos'!B:B,\"R\")","v":0},0,null,null,0,null,null,0,null,0,0,null,null,null,null,null,null,"",""]
[null,{"$f":"IF(A194=\"\",\"\",INDEX('Fundos-Lançamentos'!C:C,MATCH(A194,'Fundos-Lançamentos'!D:D,0)))","v":""},null,{"$f":"SUMIFS('Fundos-Lançamentos'!F:F,'Fundos-Lançamentos'!D:D,A194,'Fundos-Lançamentos'!B:B,\"D\")-SUMIFS('Fundos-Lançamentos'!F:F,'Fundos-Lançamentos'!D:D,A194,'Fundos-Lançamentos'!B:B,\"R\")","v":0},0,null,null,0,null,null,0,null,0,0,null,null,null,null,null,null,"",""]
[null,{"$f":"IF(A195=\"\",\"\",INDEX('Fundos-Lançamentos'!C:C,MATCH(A195,'Fundos-Lançamentos'!D:D,0)))","v":""},null,{"$f":"SUMIFS('Fundos-Lançamentos'!F:F,'Fundos-Lançamentos'!D:D,A195,'Fundos-Lançamentos'!B:B,\"D\")-SUMIFS('Fundos-Lançamentos'!F:F,'Fundos-Lançamentos'!D:D,A195,'Fundos-Lançamentos'!B:B,\"R\")","v":0},0,null,null,0,null,null,0,null,{"$f":"IF(G195=\"\",0,G195-D195)","v":0},{"$f":"IF(OR(D195=0),0,M195/D195)","v":0},null,null,null,null,null,null,"",""]
[null,{"$f":"IF(A196=\"\",\"\",INDEX('Fundos-Lançamentos'!C:C,MATCH(A196,'Fundos-Lançamentos'!D:D,0)))","v":""},null,{"$f":"SUMIFS('Fundos-Lançamentos'!F:F,'Fundos-Lançamentos'!D:D,A196,'Fundos-Lançamentos'!B:B,\"D\")-SUMIFS('Fundos-Lançamentos'!F:F,'Fundos-Lançamentos'!D:D,A196,'Fundos-Lançamentos'!B:B,\"R\")","v":0},{"$f":"IF(OR(D196=\"\",$Q$9=0),0,D196/$Q$9)","v":0},null,null,{"$f":"IF(OR(G196=\"\",$Q$11=0),0,G196/$Q$11)","v":0},null,null,{"$f":"IF(OR(J196=\"\",H196=\"\",E196=\"\"),0,IF($J$2=\"% ATUAL\",J196-H196,J196-E196))","v":0},null,0,0,null,null,null,null,null,null,"",""]
[null,{"$f":"IF(A197=\"\",\"\",INDEX('Fundos-Lançamentos'!C:C,MATCH(A197,'Fundos-Lançamentos'!D:D,0)))","v":""},null,{"$f":"SUMIFS('Fundos-Lançamentos'!F:F,'Fundos-Lançamentos'!D:D,A197,'Fundos-Lançamentos'!B:B,\"D\")-SUMIFS('Fundos-Lançamentos'!F:F,'Fundos-Lançamentos'!D:D,A197,'Fundos-Lançamentos'!B:B,\"R\")","v":0},0,null,null,0,null,null,0,null,0,0,null,null,null,null,null,null,"",""]
[null,{"$f":"IF(A198=\"\",\"\",INDEX('Fundos-Lançamentos'!C:C,MATCH(A198,'Fundos-Lançamentos'!D:D,0)))","v":""},null,{"$f":"SUMIFS('Fundos-Lançamentos'!F:F,'Fundos-Lançamentos'!D:D,A198,'Fundos-Lançamentos'!B:B,\"D\")-SUMIFS('Fundos-Lançamentos'!F:F,'Fundos-Lançamentos'!D:D,A198,'Fundos-Lançamentos'!B:B,\"R\")","v":0},0,null,null,0,null,null,0,null,0,0,null,null,null,null,null,null,"",""]
[null,{"$f":"IF(A199=\"\",\"\",INDEX('Fundos-Lançamentos'!C:C,MATCH(A199,'Fundos-Lançamentos'!D:D,0)))","v":""},null,{"$f":"SUMIFS('Fundos-Lançamentos'!F:F,'Fundos-Lançamentos'!D:D,A199,'Fundos-Lançamentos'!B:B,\"D\")-SUMIFS('Fundos-Lançamentos'!F:F,'Fundos-Lançamentos'!D:D,A199,'Fundos-Lançamentos'!B:B,\"R\")","v":0},0,null,null,0,null,null,0,null,0,0,null,null,null,null,null,null,"",""]
[null,{"$f":"IF(A200=\"\",\"\",INDEX('Fundos-Lançamentos'!C:C,MATCH(A200,'Fundos-Lançamentos'!D:D,0)))","v":""},null,{"$f":"SUMIFS('Fundos-Lançamentos'!F:F,'Fundos-Lançamentos'!D:D,A200,'Fundos-Lançamentos'!B:B,\"D\")-SUMIFS('Fundos-Lançamentos'!F:F,'Fundos-Lançamentos'!D:D,A200,'Fundos-Lançamentos'!B:B,\"R\")","v":0},0,null,null,0,null,null,0,null,0,0,null,null,null,null,null,null,"",""]
[null,{"$f":"IF(A201=\"\",\"\",INDEX('Fundos-Lançamentos'!C:C,MATCH(A201,'Fundos-Lançamentos'!D:D,0)))","v":""},null,{"$f":"SUMIFS('Fundos-Lançamentos'!F:F,'Fundos-Lançamentos'!D:D,A201,'Fundos-Lançamentos'!B:B,\"D\")-SUMIFS('Fundos-Lançamentos'!F:F,'Fundos-Lançamentos'!D:D,A201,'Fundos-Lançamentos'!B:B,\"R\")","v":0},0,null,null,0,null,null,0,null,0,0,null,null,null,null,null,null,"",""]
[null,{"$f":"IF(A202=\"\",\"\",INDEX('Fundos-Lançamentos'!C:C,MATCH(A202,'Fundos-Lançamentos'!D:D,0)))","v":""},null,{"$f":"SUMIFS('Fundos-Lançamentos'!F:F,'Fundos-Lançamentos'!D:D,A202,'Fundos-Lançamentos'!B:B,\"D\")-SUMIFS('Fundos-Lançamentos'!F:F,'Fundos-Lançamentos'!D:D,A202,'Fundos-Lançamentos'!B:B,\"R\")","v":0},0,null,null,0,null,null,0,null,0,0,null,null,null,null,null,null,"",""]
[null,{"$f":"IF(A203=\"\",\"\",INDEX('Fundos-Lançamentos'!C:C,MATCH(A203,'Fundos-Lançamentos'!D:D,0)))","v":""},null,{"$f":"SUMIFS('Fundos-Lançamentos'!F:F,'Fundos-Lançamentos'!D:D,A203,'Fundos-Lançamentos'!B:B,\"D\")-SUMIFS('Fundos-Lançamentos'!F:F,'Fundos-Lançamentos'!D:D,A203,'Fundos-Lançamentos'!B:B,\"R\")","v":0},0,null,null,0,null,null,0,null,0,0,null,null,null,null,null,null,"",""]
[null,{"$f":"IF(A204=\"\",\"\",INDEX('Fundos-Lançamentos'!C:C,MATCH(A204,'Fundos-Lançamentos'!D:D,0)))","v":""},null,{"$f":"SUMIFS('Fundos-Lançamentos'!F:F,'Fundos-Lançamentos'!D:D,A204,'Fundos-Lançamentos'!B:B,\"D\")-SUMIFS('Fundos-Lançamentos'!F:F,'Fundos-Lançamentos'!D:D,A204,'Fundos-Lançamentos'!B:B,\"R\")","v":0},0,null,null,0,null,null,0,null,0,0,null,null,null,null,null,null,"",""]
[null,{"$f":"IF(A205=\"\",\"\",INDEX('Fundos-Lançamentos'!C:C,MATCH(A205,'Fundos-Lançamentos'!D:D,0)))","v":""},null,{"$f":"SUMIFS('Fundos-Lançamentos'!F:F,'Fundos-Lançamentos'!D:D,A205,'Fundos-Lançamentos'!B:B,\"D\")-SUMIFS('Fundos-Lançamentos'!F:F,'Fundos-Lançamentos'!D:D,A205,'Fundos-Lançamentos'!B:B,\"R\")","v":0},0,null,null,0,null,null,0,null,0,0,null,null,null,null,null,null,"",""]
[null,{"$f":"IF(A206=\"\",\"\",INDEX('Fundos-Lançamentos'!C:C,MATCH(A206,'Fundos-Lançamentos'!D:D,0)))","v":""},null,{"$f":"SUMIFS('Fundos-Lançamentos'!F:F,'Fundos-Lançamentos'!D:D,A206,'Fundos-Lançamentos'!B:B,\"D\")-SUMIFS('Fundos-Lançamentos'!F:F,'Fundos-Lançamentos'!D:D,A206,'Fundos-Lançamentos'!B:B,\"R\")","v":0},0,null,null,0,null,null,0,null,0,0,null,null,null,null,null,null,{"$f":"IF(J206=\"\",\"\",J206-H206)","v":""},{"$f":"IF(OR($A553=\"TOTAL\",$A553=\"\"),\"\",$A553)","v":""}]
[null,{"$f":"IF(A207=\"\",\"\",INDEX('Fundos-Lançamentos'!C:C,MATCH(A207,'Fundos-Lançamentos'!D:D,0)))","v":""},null,{"$f":"SUMIFS('Fundos-Lançamentos'!F:F,'Fundos-Lançamentos'!D:D,A207,'Fundos-Lançamentos'!B:B,\"D\")-SUMIFS('Fundos-Lançamentos'!F:F,'Fundos-Lançamentos'!D:D,A207,'Fundos-Lançamentos'!B:B,\"R\")","v":0},0,null,null,0,null,null,0,null,0,0,null,null,null,null,null,null,"",""]
[null,{"$f":"IF(A208=\"\",\"\",INDEX('Fundos-Lançamentos'!C:C,MATCH(A208,'Fundos-Lançamentos'!D:D,0)))","v":""},null,{"$f":"SUMIFS('Fundos-Lançamentos'!F:F,'Fundos-Lançamentos'!D:D,A208,'Fundos-Lançamentos'!B:B,\"D\")-SUMIFS('Fundos-Lançamentos'!F:F,'Fundos-Lançamentos'!D:D,A208,'Fundos-Lançamentos'!B:B,\"R\")","v":0},0,null,null,0,null,null,0,null,0,0,null,null,null,null,null,null,"",""]
[null,{"$f":"IF(A209=\"\",\"\",INDEX('Fundos-Lançamentos'!C:C,MATCH(A209,'Fundos-Lançamentos'!D:D,0)))","v":""},null,{"$f":"SUMIFS('Fundos-Lançamentos'!F:F,'Fundos-Lançamentos'!D:D,A209,'Fundos-Lançamentos'!B:B,\"D\")-SUMIFS('Fundos-Lançamentos'!F:F,'Fundos-Lançamentos'!D:D,A209,'Fundos-Lançamentos'!B:B,\"R\")","v":0},0,null,null,0,null,null,0,null,0,0,null,null,null,null,null,null,"",""]
[null,{"$f":"IF(A210=\"\",\"\",INDEX('Fundos-Lançamentos'!C:C,MATCH(A210,'Fundos-Lançamentos'!D:D,0)))","v":""},null,{"$f":"SUMIFS('Fundos-Lançamentos'!F:F,'Fundos-Lançamentos'!D:D,A210,'Fundos-Lançamentos'!B:B,\"D\")-SUMIFS('Fundos-Lançamentos'!F:F,'Fundos-Lançamentos'!D:D,A210,'Fundos-Lançamentos'!B:B,\"R\")","v":0},0,null,null,0,null,null,0,null,0,0,null,null,null,null,null,null,"",""]
[null,{"$f":"IF(A211=\"\",\"\",INDEX('Fundos-Lançamentos'!C:C,MATCH(A211,'Fundos-Lançamentos'!D:D,0)))","v":""},null,{"$f":"SUMIFS('Fundos-Lançamentos'!F:F,'Fundos-Lançamentos'!D:D,A211,'Fundos-Lançamentos'!B:B,\"D\")-SUMIFS('Fundos-Lançamentos'!F:F,'Fundos-Lançamentos'!D:D,A211,'Fundos-Lançamentos'!B:B,\"R\")","v":0},0,null,null,0,null,null,0,null,0,0,null,null,null,null,null,null,"",""]
[null,{"$f":"IF(A212=\"\",\"\",INDEX('Fundos-Lançamentos'!C:C,MATCH(A212,'Fundos-Lançamentos'!D:D,0)))","v":""},null,{"$f":"SUMIFS('Fundos-Lançamentos'!F:F,'Fundos-Lançamentos'!D:D,A212,'Fundos-Lançamentos'!B:B,\"D\")-SUMIFS('Fundos-Lançamentos'!F:F,'Fundos-Lançamentos'!D:D,A212,'Fundos-Lançamentos'!B:B,\"R\")","v":0},0,null,null,0,null,null,0,null,0,0,null,null,null,null,null,null,"",""]
[null,{"$f":"IF(A213=\"\",\"\",INDEX('Fundos-Lançamentos'!C:C,MATCH(A213,'Fundos-Lançamentos'!D:D,0)))","v":""},null,{"$f":"SUMIFS('Fundos-Lançamentos'!F:F,'Fundos-Lançamentos'!D:D,A213,'Fundos-Lançamentos'!B:B,\"D\")-SUMIFS('Fundos-Lançamentos'!F:F,'Fundos-Lançamentos'!D:D,A213,'Fundos-Lançamentos'!B:B,\"R\")","v":0},0,null,null,0,null,null,0,null,0,0,null,null,null,null,null,null,"",""]
[null,{"$f":"IF(A214=\"\",\"\",INDEX('Fundos-Lançamentos'!C:C,MATCH(A214,'Fundos-Lançamentos'!D:D,0)))","v":""},null,{"$f":"SUMIFS('Fundos-Lançamentos'!F:F,'Fundos-Lançamentos'!D:D,A214,'Fundos-Lançamentos'!B:B,\"D\")-SUMIFS('Fundos-Lançamentos'!F:F,'Fundos-Lançamentos'!D:D,A214,'Fundos-Lançamentos'!B:B,\"R\")","v":0},0,null,null,0,null,null,0,null,0,0,null,null,null,null,null,null,"",""]
[null,{"$f":"IF(A215=\"\",\"\",INDEX('Fundos-Lançamentos'!C:C,MATCH(A215,'Fundos-Lançamentos'!D:D,0)))","v":""},null,{"$f":"SUMIFS('Fundos-Lançamentos'!F:F,'Fundos-Lançamentos'!D:D,A215,'Fundos-Lançamentos'!B:B,\"D\")-SUMIFS('Fundos-Lançamentos'!F:F,'Fundos-Lançamentos'!D:D,A215,'Fundos-Lançamentos'!B:B,\"R\")","v":0},0,null,null,0,null,null,0,null,0,0,null,null,null,null,null,null,"",""]
[null,{"$f":"IF(A216=\"\",\"\",INDEX('Fundos-Lançamentos'!C:C,MATCH(A216,'Fundos-Lançamentos'!D:D,0)))","v":""},null,{"$f":"SUMIFS('Fundos-Lançamentos'!F:F,'Fundos-Lançamentos'!D:D,A216,'Fundos-Lançamentos'!B:B,\"D\")-SUMIFS('Fundos-Lançamentos'!F:F,'Fundos-Lançamentos'!D:D,A216,'Fundos-Lançamentos'!B:B,\"R\")","v":0},0,null,null,0,null,null,0,null,0,0,null,null,null,null,null,null,"",""]
[null,{"$f":"IF(A217=\"\",\"\",INDEX('Fundos-Lançamentos'!C:C,MATCH(A217,'Fundos-Lançamentos'!D:D,0)))","v":""},null,{"$f":"SUMIFS('Fundos-Lançamentos'!F:F,'Fundos-Lançamentos'!D:D,A217,'Fundos-Lançamentos'!B:B,\"D\")-SUMIFS('Fundos-Lançamentos'!F:F,'Fundos-Lançamentos'!D:D,A217,'Fundos-Lançamentos'!B:B,\"R\")","v":0},0,null,null,0,null,null,0,null,0,0,null,null,null,null,null,null,"",""]
[null,{"$f":"IF(A218=\"\",\"\",INDEX('Fundos-Lançamentos'!C:C,MATCH(A218,'Fundos-Lançamentos'!D:D,0)))","v":""},null,{"$f":"SUMIFS('Fundos-Lançamentos'!F:F,'Fundos-Lançamentos'!D:D,A218,'Fundos-Lançamentos'!B:B,\"D\")-SUMIFS('Fundos-Lançamentos'!F:F,'Fundos-Lançamentos'!D:D,A218,'Fundos-Lançamentos'!B:B,\"R\")","v":0},0,null,null,0,null,null,0,null,0,0,null,null,null,null,null,null,"",""]
[null,{"$f":"IF(A219=\"\",\"\",INDEX('Fundos-Lançamentos'!C:C,MATCH(A219,'Fundos-Lançamentos'!D:D,0)))","v":""},null,{"$f":"SUMIFS('Fundos-Lançamentos'!F:F,'Fundos-Lançamentos'!D:D,A219,'Fundos-Lançamentos'!B:B,\"D\")-SUMIFS('Fundos-Lançamentos'!F:F,'Fundos-Lançamentos'!D:D,A219,'Fundos-Lançamentos'!B:B,\"R\")","v":0},0,null,null,0,null,null,0,null,0,0,null,null,null,null,null,null,"",""]
[null,{"$f":"IF(A220=\"\",\"\",INDEX('Fundos-Lançamentos'!C:C,MATCH(A220,'Fundos-Lançamentos'!D:D,0)))","v":""},null,{"$f":"SUMIFS('Fundos-Lançamentos'!F:F,'Fundos-Lançamentos'!D:D,A220,'Fundos-Lançamentos'!B:B,\"D\")-SUMIFS('Fundos-Lançamentos'!F:F,'Fundos-Lançamentos'!D:D,A220,'Fundos-Lançamentos'!B:B,\"R\")","v":0},0,null,null,0,null,null,0,null,0,0,null,null,null,null,null,null,"",""]
[null,{"$f":"IF(A221=\"\",\"\",INDEX('Fundos-Lançamentos'!C:C,MATCH(A221,'Fundos-Lançamentos'!D:D,0)))","v":""},null,{"$f":"SUMIFS('Fundos-Lançamentos'!F:F,'Fundos-Lançamentos'!D:D,A221,'Fundos-Lançamentos'!B:B,\"D\")-SUMIFS('Fundos-Lançamentos'!F:F,'Fundos-Lançamentos'!D:D,A221,'Fundos-Lançamentos'!B:B,\"R\")","v":0},0,null,null,0,null,null,0,null,0,0,null,null,null,null,null,null,"",""]
[null,{"$f":"IF(A222=\"\",\"\",INDEX('Fundos-Lançamentos'!C:C,MATCH(A222,'Fundos-Lançamentos'!D:D,0)))","v":""},null,{"$f":"SUMIFS('Fundos-Lançamentos'!F:F,'Fundos-Lançamentos'!D:D,A222,'Fundos-Lançamentos'!B:B,\"D\")-SUMIFS('Fundos-Lançamentos'!F:F,'Fundos-Lançamentos'!D:D,A222,'Fundos-Lançamentos'!B:B,\"R\")","v":0},0,null,null,0,null,null,0,null,0,0,null,null,null,null,null,null,"",""]
[null,{"$f":"IF(A223=\"\",\"\",INDEX('Fundos-Lançamentos'!C:C,MATCH(A223,'Fundos-Lançamentos'!D:D,0)))","v":""},null,{"$f":"SUMIFS('Fundos-Lançamentos'!F:F,'Fundos-Lançamentos'!D:D,A223,'Fundos-Lançamentos'!B:B,\"D\")-SUMIFS('Fundos-Lançamentos'!F:F,'Fundos-Lançamentos'!D:D,A223,'Fundos-Lançamentos'!B:B,\"R\")","v":0},0,null,null,0,null,null,0,null,0,0,null,null,null,null,null,null,"",""]
[null,{"$f":"IF(A224=\"\",\"\",INDEX('Fundos-Lançamentos'!C:C,MATCH(A224,'Fundos-Lançamentos'!D:D,0)))","v":""},null,{"$f":"SUMIFS('Fundos-Lançamentos'!F:F,'Fundos-Lançamentos'!D:D,A224,'Fundos-Lançamentos'!B:B,\"D\")-SUMIFS('Fundos-Lançamentos'!F:F,'Fundos-Lançamentos'!D:D,A224,'Fundos-Lançamentos'!B:B,\"R\")","v":0},0,null,null,0,null,null,0,null,0,0,null,null,null,null,null,null,"",""]
[null,{"$f":"IF(A225=\"\",\"\",INDEX('Fundos-Lançamentos'!C:C,MATCH(A225,'Fundos-Lançamentos'!D:D,0)))","v":""},null,{"$f":"SUMIFS('Fundos-Lançamentos'!F:F,'Fundos-Lançamentos'!D:D,A225,'Fundos-Lançamentos'!B:B,\"D\")-SUMIFS('Fundos-Lançamentos'!F:F,'Fundos-Lançamentos'!D:D,A225,'Fundos-Lançamentos'!B:B,\"R\")","v":0},0,null,null,0,null,null,0,null,0,0,null,null,null,null,null,null,"",""]
[null,{"$f":"IF(A226=\"\",\"\",INDEX('Fundos-Lançamentos'!C:C,MATCH(A226,'Fundos-Lançamentos'!D:D,0)))","v":""},null,{"$f":"SUMIFS('Fundos-Lançamentos'!F:F,'Fundos-Lançamentos'!D:D,A226,'Fundos-Lançamentos'!B:B,\"D\")-SUMIFS('Fundos-Lançamentos'!F:F,'Fundos-Lançamentos'!D:D,A226,'Fundos-Lançamentos'!B:B,\"R\")","v":0},0,null,null,0,null,null,0,null,0,0,null,null,null,null,null,null,"",""]
[null,{"$f":"IF(A227=\"\",\"\",INDEX('Fundos-Lançamentos'!C:C,MATCH(A227,'Fundos-Lançamentos'!D:D,0)))","v":""},null,{"$f":"SUMIFS('Fundos-Lançamentos'!F:F,'Fundos-Lançamentos'!D:D,A227,'Fundos-Lançamentos'!B:B,\"D\")-SUMIFS('Fundos-Lançamentos'!F:F,'Fundos-Lançamentos'!D:D,A227,'Fundos-Lançamentos'!B:B,\"R\")","v":0},0,null,null,0,null,null,0,null,0,0,null,null,null,null,null,null,"",""]
[null,{"$f":"IF(A228=\"\",\"\",INDEX('Fundos-Lançamentos'!C:C,MATCH(A228,'Fundos-Lançamentos'!D:D,0)))","v":""},null,{"$f":"SUMIFS('Fundos-Lançamentos'!F:F,'Fundos-Lançamentos'!D:D,A228,'Fundos-Lançamentos'!B:B,\"D\")-SUMIFS('Fundos-Lançamentos'!F:F,'Fundos-Lançamentos'!D:D,A228,'Fundos-Lançamentos'!B:B,\"R\")","v":0},0,null,null,0,null,null,0,null,0,0,null,null,null,null,null,null,"",""]
[null,{"$f":"IF(A229=\"\",\"\",INDEX('Fundos-Lançamentos'!C:C,MATCH(A229,'Fundos-Lançamentos'!D:D,0)))","v":""},null,{"$f":"SUMIFS('Fundos-Lançamentos'!F:F,'Fundos-Lançamentos'!D:D,A229,'Fundos-Lançamentos'!B:B,\"D\")-SUMIFS('Fundos-Lançamentos'!F:F,'Fundos-Lançamentos'!D:D,A229,'Fundos-Lançamentos'!B:B,\"R\")","v":0},0,null,null,0,null,null,0,null,0,0,null,null,null,null,null,null,"",""]
[null,{"$f":"IF(A230=\"\",\"\",INDEX('Fundos-Lançamentos'!C:C,MATCH(A230,'Fundos-Lançamentos'!D:D,0)))","v":""},null,{"$f":"SUMIFS('Fundos-Lançamentos'!F:F,'Fundos-Lançamentos'!D:D,A230,'Fundos-Lançamentos'!B:B,\"D\")-SUMIFS('Fundos-Lançamentos'!F:F,'Fundos-Lançamentos'!D:D,A230,'Fundos-Lançamentos'!B:B,\"R\")","v":0},0,null,null,0,null,null,0,null,0,0,null,null,null,null,null,null,"",""]
[null,{"$f":"IF(A231=\"\",\"\",INDEX('Fundos-Lançamentos'!C:C,MATCH(A231,'Fundos-Lançamentos'!D:D,0)))","v":""},null,{"$f":"SUMIFS('Fundos-Lançamentos'!F:F,'Fundos-Lançamentos'!D:D,A231,'Fundos-Lançamentos'!B:B,\"D\")-SUMIFS('Fundos-Lançamentos'!F:F,'Fundos-Lançamentos'!D:D,A231,'Fundos-Lançamentos'!B:B,\"R\")","v":0},0,null,null,0,null,null,0,null,0,0,null,null,null,null,null,null,"",""]
[null,{"$f":"IF(A232=\"\",\"\",INDEX('Fundos-Lançamentos'!C:C,MATCH(A232,'Fundos-Lançamentos'!D:D,0)))","v":""},null,{"$f":"SUMIFS('Fundos-Lançamentos'!F:F,'Fundos-Lançamentos'!D:D,A232,'Fundos-Lançamentos'!B:B,\"D\")-SUMIFS('Fundos-Lançamentos'!F:F,'Fundos-Lançamentos'!D:D,A232,'Fundos-Lançamentos'!B:B,\"R\")","v":0},0,null,null,0,null,null,0,null,0,0,null,null,null,null,null,null,"",""]
[null,{"$f":"IF(A233=\"\",\"\",INDEX('Fundos-Lançamentos'!C:C,MATCH(A233,'Fundos-Lançamentos'!D:D,0)))","v":""},null,{"$f":"SUMIFS('Fundos-Lançamentos'!F:F,'Fundos-Lançamentos'!D:D,A233,'Fundos-Lançamentos'!B:B,\"D\")-SUMIFS('Fundos-Lançamentos'!F:F,'Fundos-Lançamentos'!D:D,A233,'Fundos-Lançamentos'!B:B,\"R\")","v":0},0,null,null,0,null,null,0,null,0,0,null,null,null,null,null,null,"",""]
[null,{"$f":"IF(A234=\"\",\"\",INDEX('Fundos-Lançamentos'!C:C,MATCH(A234,'Fundos-Lançamentos'!D:D,0)))","v":""},null,{"$f":"SUMIFS('Fundos-Lançamentos'!F:F,'Fundos-Lançamentos'!D:D,A234,'Fundos-Lançamentos'!B:B,\"D\")-SUMIFS('Fundos-Lançamentos'!F:F,'Fundos-Lançamentos'!D:D,A234,'Fundos-Lançamentos'!B:B,\"R\")","v":0},0,null,null,0,null,null,0,null,0,0,null,null,null,null,null,null,"",""]
[null,{"$f":"IF(A235=\"\",\"\",INDEX('Fundos-Lançamentos'!C:C,MATCH(A235,'Fundos-Lançamentos'!D:D,0)))","v":""},null,{"$f":"SUMIFS('Fundos-Lançamentos'!F:F,'Fundos-Lançamentos'!D:D,A235,'Fundos-Lançamentos'!B:B,\"D\")-SUMIFS('Fundos-Lançamentos'!F:F,'Fundos-Lançamentos'!D:D,A235,'Fundos-Lançamentos'!B:B,\"R\")","v":0},0,null,null,0,null,null,0,null,0,0,null,null,null,null,null,null,"",""]
[null,{"$f":"IF(A236=\"\",\"\",INDEX('Fundos-Lançamentos'!C:C,MATCH(A236,'Fundos-Lançamentos'!D:D,0)))","v":""},null,{"$f":"SUMIFS('Fundos-Lançamentos'!F:F,'Fundos-Lançamentos'!D:D,A236,'Fundos-Lançamentos'!B:B,\"D\")-SUMIFS('Fundos-Lançamentos'!F:F,'Fundos-Lançamentos'!D:D,A236,'Fundos-Lançamentos'!B:B,\"R\")","v":0},0,null,null,0,null,null,0,null,0,0,null,null,null,null,null,null,"",""]
[null,{"$f":"IF(A237=\"\",\"\",INDEX('Fundos-Lançamentos'!C:C,MATCH(A237,'Fundos-Lançamentos'!D:D,0)))","v":""},null,{"$f":"SUMIFS('Fundos-Lançamentos'!F:F,'Fundos-Lançamentos'!D:D,A237,'Fundos-Lançamentos'!B:B,\"D\")-SUMIFS('Fundos-Lançamentos'!F:F,'Fundos-Lançamentos'!D:D,A237,'Fundos-Lançamentos'!B:B,\"R\")","v":0},0,null,null,0,null,null,0,null,0,0,null,null,null,null,null,null,"",""]
[null,{"$f":"IF(A238=\"\",\"\",INDEX('Fundos-Lançamentos'!C:C,MATCH(A238,'Fundos-Lançamentos'!D:D,0)))","v":""},null,{"$f":"SUMIFS('Fundos-Lançamentos'!F:F,'Fundos-Lançamentos'!D:D,A238,'Fundos-Lançamentos'!B:B,\"D\")-SUMIFS('Fundos-Lançamentos'!F:F,'Fundos-Lançamentos'!D:D,A238,'Fundos-Lançamentos'!B:B,\"R\")","v":0},0,null,null,0,null,null,0,null,0,0,null,null,null,null,null,null,"",""]
[null,{"$f":"IF(A239=\"\",\"\",INDEX('Fundos-Lançamentos'!C:C,MATCH(A239,'Fundos-Lançamentos'!D:D,0)))","v":""},null,{"$f":"SUMIFS('Fundos-Lançamentos'!F:F,'Fundos-Lançamentos'!D:D,A239,'Fundos-Lançamentos'!B:B,\"D\")-SUMIFS('Fundos-Lançamentos'!F:F,'Fundos-Lançamentos'!D:D,A239,'Fundos-Lançamentos'!B:B,\"R\")","v":0},0,null,null,0,null,null,0,null,0,0,null,null,null,null,null,null,"",""]
[null,{"$f":"IF(A240=\"\",\"\",INDEX('Fundos-Lançamentos'!C:C,MATCH(A240,'Fundos-Lançamentos'!D:D,0)))","v":""},null,{"$f":"SUMIFS('Fundos-Lançamentos'!F:F,'Fundos-Lançamentos'!D:D,A240,'Fundos-Lançamentos'!B:B,\"D\")-SUMIFS('Fundos-Lançamentos'!F:F,'Fundos-Lançamentos'!D:D,A240,'Fundos-Lançamentos'!B:B,\"R\")","v":0},0,null,null,0,null,null,0,null,0,0,null,null,null,null,null,null,"",""]
[null,{"$f":"IF(A241=\"\",\"\",INDEX('Fundos-Lançamentos'!C:C,MATCH(A241,'Fundos-Lançamentos'!D:D,0)))","v":""},null,{"$f":"SUMIFS('Fundos-Lançamentos'!F:F,'Fundos-Lançamentos'!D:D,A241,'Fundos-Lançamentos'!B:B,\"D\")-SUMIFS('Fundos-Lançamentos'!F:F,'Fundos-Lançamentos'!D:D,A241,'Fundos-Lançamentos'!B:B,\"R\")","v":0},0,null,null,0,null,null,0,null,0,0,null,null,null,null,null,null,"",""]
[null,{"$f":"IF(A242=\"\",\"\",INDEX('Fundos-Lançamentos'!C:C,MATCH(A242,'Fundos-Lançamentos'!D:D,0)))","v":""},null,{"$f":"SUMIFS('Fundos-Lançamentos'!F:F,'Fundos-Lançamentos'!D:D,A242,'Fundos-Lançamentos'!B:B,\"D\")-SUMIFS('Fundos-Lançamentos'!F:F,'Fundos-Lançamentos'!D:D,A242,'Fundos-Lançamentos'!B:B,\"R\")","v":0},0,null,null,0,null,null,0,null,0,0,null,null,null,null,null,null,"",""]
[null,{"$f":"IF(A243=\"\",\"\",INDEX('Fundos-Lançamentos'!C:C,MATCH(A243,'Fundos-Lançamentos'!D:D,0)))","v":""},null,{"$f":"SUMIFS('Fundos-Lançamentos'!F:F,'Fundos-Lançamentos'!D:D,A243,'Fundos-Lançamentos'!B:B,\"D\")-SUMIFS('Fundos-Lançamentos'!F:F,'Fundos-Lançamentos'!D:D,A243,'Fundos-Lançamentos'!B:B,\"R\")","v":0},0,null,null,0,null,null,0,null,0,0,null,null,null,null,null,null,"",""]
[null,{"$f":"IF(A244=\"\",\"\",INDEX('Fundos-Lançamentos'!C:C,MATCH(A244,'Fundos-Lançamentos'!D:D,0)))","v":""},null,{"$f":"SUMIFS('Fundos-Lançamentos'!F:F,'Fundos-Lançamentos'!D:D,A244,'Fundos-Lançamentos'!B:B,\"D\")-SUMIFS('Fundos-Lançamentos'!F:F,'Fundos-Lançamentos'!D:D,A244,'Fundos-Lançamentos'!B:B,\"R\")","v":0},0,null,null,0,null,null,0,null,0,0,null,null,null,null,null,null,"",""]
[null,{"$f":"IF(A245=\"\",\"\",INDEX('Fundos-Lançamentos'!C:C,MATCH(A245,'Fundos-Lançamentos'!D:D,0)))","v":""},null,{"$f":"SUMIFS('Fundos-Lançamentos'!F:F,'Fundos-Lançamentos'!D:D,A245,'Fundos-Lançamentos'!B:B,\"D\")-SUMIFS('Fundos-Lançamentos'!F:F,'Fundos-Lançamentos'!D:D,A245,'Fundos-Lançamentos'!B:B,\"R\")","v":0},0,null,null,0,null,null,0,null,0,0,null,null,null,null,null,null,"",""]
[null,{"$f":"IF(A246=\"\",\"\",INDEX('Fundos-Lançamentos'!C:C,MATCH(A246,'Fundos-Lançamentos'!D:D,0)))","v":""},null,{"$f":"SUMIFS('Fundos-Lançamentos'!F:F,'Fundos-Lançamentos'!D:D,A246,'Fundos-Lançamentos'!B:B,\"D\")-SUMIFS('Fundos-Lançamentos'!F:F,'Fundos-Lançamentos'!D:D,A246,'Fundos-Lançamentos'!B:B,\"R\")","v":0},0,null,null,0,null,null,0,null,0,0,null,null,null,null,null,null,"",""]
[null,{"$f":"IF(A247=\"\",\"\",INDEX('Fundos-Lançamentos'!C:C,MATCH(A247,'Fundos-Lançamentos'!D:D,0)))","v":""},null,{"$f":"SUMIFS('Fundos-Lançamentos'!F:F,'Fundos-Lançamentos'!D:D,A247,'Fundos-Lançamentos'!B:B,\"D\")-SUMIFS('Fundos-Lançamentos'!F:F,'Fundos-Lançamentos'!D:D,A247,'Fundos-Lançamentos'!B:B,\"R\")","v":0},0,null,null,0,null,null,0,null,0,0,null,null,null,null,null,null,"",""]
[null,{"$f":"IF(A248=\"\",\"\",INDEX('Fundos-Lançamentos'!C:C,MATCH(A248,'Fundos-Lançamentos'!D:D,0)))","v":""},null,{"$f":"SUMIFS('Fundos-Lançamentos'!F:F,'Fundos-Lançamentos'!D:D,A248,'Fundos-Lançamentos'!B:B,\"D\")-SUMIFS('Fundos-Lançamentos'!F:F,'Fundos-Lançamentos'!D:D,A248,'Fundos-Lançamentos'!B:B,\"R\")","v":0},0,null,null,0,null,null,0,null,0,0,null,null,null,null,null,null,"",""]
[null,{"$f":"IF(A249=\"\",\"\",INDEX('Fundos-Lançamentos'!C:C,MATCH(A249,'Fundos-Lançamentos'!D:D,0)))","v":""},null,{"$f":"SUMIFS('Fundos-Lançamentos'!F:F,'Fundos-Lançamentos'!D:D,A249,'Fundos-Lançamentos'!B:B,\"D\")-SUMIFS('Fundos-Lançamentos'!F:F,'Fundos-Lançamentos'!D:D,A249,'Fundos-Lançamentos'!B:B,\"R\")","v":0},0,null,null,0,null,null,0,null,0,0,null,null,null,null,null,null,"",""]
[null,{"$f":"IF(A250=\"\",\"\",INDEX('Fundos-Lançamentos'!C:C,MATCH(A250,'Fundos-Lançamentos'!D:D,0)))","v":""},null,{"$f":"SUMIFS('Fundos-Lançamentos'!F:F,'Fundos-Lançamentos'!D:D,A250,'Fundos-Lançamentos'!B:B,\"D\")-SUMIFS('Fundos-Lançamentos'!F:F,'Fundos-Lançamentos'!D:D,A250,'Fundos-Lançamentos'!B:B,\"R\")","v":0},0,null,null,0,null,null,0,null,0,0,null,null,null,null,null,null,"",""]
[null,{"$f":"IF(A251=\"\",\"\",INDEX('Fundos-Lançamentos'!C:C,MATCH(A251,'Fundos-Lançamentos'!D:D,0)))","v":""},null,{"$f":"SUMIFS('Fundos-Lançamentos'!F:F,'Fundos-Lançamentos'!D:D,A251,'Fundos-Lançamentos'!B:B,\"D\")-SUMIFS('Fundos-Lançamentos'!F:F,'Fundos-Lançamentos'!D:D,A251,'Fundos-Lançamentos'!B:B,\"R\")","v":0},0,null,null,0,null,null,0,null,0,0,null,null,null,null,null,null,"",""]
[null,{"$f":"IF(A252=\"\",\"\",INDEX('Fundos-Lançamentos'!C:C,MATCH(A252,'Fundos-Lançamentos'!D:D,0)))","v":""},null,{"$f":"SUMIFS('Fundos-Lançamentos'!F:F,'Fundos-Lançamentos'!D:D,A252,'Fundos-Lançamentos'!B:B,\"D\")-SUMIFS('Fundos-Lançamentos'!F:F,'Fundos-Lançamentos'!D:D,A252,'Fundos-Lançamentos'!B:B,\"R\")","v":0},0,null,null,0,null,null,0,null,0,0,null,null,null,null,null,null,"",""]
[null,{"$f":"IF(A253=\"\",\"\",INDEX('Fundos-Lançamentos'!C:C,MATCH(A253,'Fundos-Lançamentos'!D:D,0)))","v":""},null,{"$f":"SUMIFS('Fundos-Lançamentos'!F:F,'Fundos-Lançamentos'!D:D,A253,'Fundos-Lançamentos'!B:B,\"D\")-SUMIFS('Fundos-Lançamentos'!F:F,'Fundos-Lançamentos'!D:D,A253,'Fundos-Lançamentos'!B:B,\"R\")","v":0},0,null,null,0,null,null,0,null,0,0,null,null,null,null,null,null,"",""]
[null,{"$f":"IF(A254=\"\",\"\",INDEX('Fundos-Lançamentos'!C:C,MATCH(A254,'Fundos-Lançamentos'!D:D,0)))","v":""},null,{"$f":"SUMIFS('Fundos-Lançamentos'!F:F,'Fundos-Lançamentos'!D:D,A254,'Fundos-Lançamentos'!B:B,\"D\")-SUMIFS('Fundos-Lançamentos'!F:F,'Fundos-Lançamentos'!D:D,A254,'Fundos-Lançamentos'!B:B,\"R\")","v":0},0,null,null,0,null,null,0,null,0,0,null,null,null,null,null,null,"",""]
[null,{"$f":"IF(A255=\"\",\"\",INDEX('Fundos-Lançamentos'!C:C,MATCH(A255,'Fundos-Lançamentos'!D:D,0)))","v":""},null,{"$f":"SUMIFS('Fundos-Lançamentos'!F:F,'Fundos-Lançamentos'!D:D,A255,'Fundos-Lançamentos'!B:B,\"D\")-SUMIFS('Fundos-Lançamentos'!F:F,'Fundos-Lançamentos'!D:D,A255,'Fundos-Lançamentos'!B:B,\"R\")","v":0},0,null,null,0,null,null,0,null,0,0,null,null,null,null,null,null,"",""]
[null,{"$f":"IF(A256=\"\",\"\",INDEX('Fundos-Lançamentos'!C:C,MATCH(A256,'Fundos-Lançamentos'!D:D,0)))","v":""},null,{"$f":"SUMIFS('Fundos-Lançamentos'!F:F,'Fundos-Lançamentos'!D:D,A256,'Fundos-Lançamentos'!B:B,\"D\")-SUMIFS('Fundos-Lançamentos'!F:F,'Fundos-Lançamentos'!D:D,A256,'Fundos-Lançamentos'!B:B,\"R\")","v":0},0,null,null,0,null,null,0,null,0,0,null,null,null,null,null,null,"",""]
[null,{"$f":"IF(A257=\"\",\"\",INDEX('Fundos-Lançamentos'!C:C,MATCH(A257,'Fundos-Lançamentos'!D:D,0)))","v":""},null,{"$f":"SUMIFS('Fundos-Lançamentos'!F:F,'Fundos-Lançamentos'!D:D,A257,'Fundos-Lançamentos'!B:B,\"D\")-SUMIFS('Fundos-Lançamentos'!F:F,'Fundos-Lançamentos'!D:D,A257,'Fundos-Lançamentos'!B:B,\"R\")","v":0},0,null,null,0,null,null,0,null,0,0,null,null,null,null,null,null,"",""]
[null,{"$f":"IF(A258=\"\",\"\",INDEX('Fundos-Lançamentos'!C:C,MATCH(A258,'Fundos-Lançamentos'!D:D,0)))","v":""},null,{"$f":"SUMIFS('Fundos-Lançamentos'!F:F,'Fundos-Lançamentos'!D:D,A258,'Fundos-Lançamentos'!B:B,\"D\")-SUMIFS('Fundos-Lançamentos'!F:F,'Fundos-Lançamentos'!D:D,A258,'Fundos-Lançamentos'!B:B,\"R\")","v":0},0,null,null,0,null,null,0,null,0,0,null,null,null,null,null,null,"",""]
[null,{"$f":"IF(A259=\"\",\"\",INDEX('Fundos-Lançamentos'!C:C,MATCH(A259,'Fundos-Lançamentos'!D:D,0)))","v":""},null,{"$f":"SUMIFS('Fundos-Lançamentos'!F:F,'Fundos-Lançamentos'!D:D,A259,'Fundos-Lançamentos'!B:B,\"D\")-SUMIFS('Fundos-Lançamentos'!F:F,'Fundos-Lançamentos'!D:D,A259,'Fundos-Lançamentos'!B:B,\"R\")","v":0},0,null,null,0,null,null,0,null,{"$f":"IF(G259=\"\",0,G259-D259)","v":0},{"$f":"IF(OR(D259=0),0,M259/D259)","v":0},null,null,null,null,null,null,"",""]
[null,{"$f":"IF(A260=\"\",\"\",INDEX('Fundos-Lançamentos'!C:C,MATCH(A260,'Fundos-Lançamentos'!D:D,0)))","v":""},null,{"$f":"SUMIFS('Fundos-Lançamentos'!F:F,'Fundos-Lançamentos'!D:D,A260,'Fundos-Lançamentos'!B:B,\"D\")-SUMIFS('Fundos-Lançamentos'!F:F,'Fundos-Lançamentos'!D:D,A260,'Fundos-Lançamentos'!B:B,\"R\")","v":0},{"$f":"IF(OR(D260=\"\",$Q$9=0),0,D260/$Q$9)","v":0},null,null,{"$f":"IF(OR(G260=\"\",$Q$11=0),0,G260/$Q$11)","v":0},null,null,{"$f":"IF(OR(J260=\"\",H260=\"\",E260=\"\"),0,IF($J$2=\"% ATUAL\",J260-H260,J260-E260))","v":0},null,0,0,null,null,null,null,null,null,"",""]
[null,{"$f":"IF(A261=\"\",\"\",INDEX('Fundos-Lançamentos'!C:C,MATCH(A261,'Fundos-Lançamentos'!D:D,0)))","v":""},null,{"$f":"SUMIFS('Fundos-Lançamentos'!F:F,'Fundos-Lançamentos'!D:D,A261,'Fundos-Lançamentos'!B:B,\"D\")-SUMIFS('Fundos-Lançamentos'!F:F,'Fundos-Lançamentos'!D:D,A261,'Fundos-Lançamentos'!B:B,\"R\")","v":0},0,null,null,0,null,null,0,null,0,0,null,null,null,null,null,null,"",""]
[null,{"$f":"IF(A262=\"\",\"\",INDEX('Fundos-Lançamentos'!C:C,MATCH(A262,'Fundos-Lançamentos'!D:D,0)))","v":""},null,{"$f":"SUMIFS('Fundos-Lançamentos'!F:F,'Fundos-Lançamentos'!D:D,A262,'Fundos-Lançamentos'!B:B,\"D\")-SUMIFS('Fundos-Lançamentos'!F:F,'Fundos-Lançamentos'!D:D,A262,'Fundos-Lançamentos'!B:B,\"R\")","v":0},0,null,null,0,null,null,0,null,0,0,null,null,null,null,null,null,"",""]
[null,{"$f":"IF(A263=\"\",\"\",INDEX('Fundos-Lançamentos'!C:C,MATCH(A263,'Fundos-Lançamentos'!D:D,0)))","v":""},null,{"$f":"SUMIFS('Fundos-Lançamentos'!F:F,'Fundos-Lançamentos'!D:D,A263,'Fundos-Lançamentos'!B:B,\"D\")-SUMIFS('Fundos-Lançamentos'!F:F,'Fundos-Lançamentos'!D:D,A263,'Fundos-Lançamentos'!B:B,\"R\")","v":0},0,null,null,0,null,null,0,null,0,0,null,null,null,null,null,null,"",""]
[null,{"$f":"IF(A264=\"\",\"\",INDEX('Fundos-Lançamentos'!C:C,MATCH(A264,'Fundos-Lançamentos'!D:D,0)))","v":""},null,{"$f":"SUMIFS('Fundos-Lançamentos'!F:F,'Fundos-Lançamentos'!D:D,A264,'Fundos-Lançamentos'!B:B,\"D\")-SUMIFS('Fundos-Lançamentos'!F:F,'Fundos-Lançamentos'!D:D,A264,'Fundos-Lançamentos'!B:B,\"R\")","v":0},0,null,null,0,null,null,0,null,0,0,null,null,null,null,null,null,"",""]
[null,{"$f":"IF(A265=\"\",\"\",INDEX('Fundos-Lançamentos'!C:C,MATCH(A265,'Fundos-Lançamentos'!D:D,0)))","v":""},null,{"$f":"SUMIFS('Fundos-Lançamentos'!F:F,'Fundos-Lançamentos'!D:D,A265,'Fundos-Lançamentos'!B:B,\"D\")-SUMIFS('Fundos-Lançamentos'!F:F,'Fundos-Lançamentos'!D:D,A265,'Fundos-Lançamentos'!B:B,\"R\")","v":0},0,null,null,0,null,null,0,null,0,0,null,null,null,null,null,null,"",""]
[null,{"$f":"IF(A266=\"\",\"\",INDEX('Fundos-Lançamentos'!C:C,MATCH(A266,'Fundos-Lançamentos'!D:D,0)))","v":""},null,{"$f":"SUMIFS('Fundos-Lançamentos'!F:F,'Fundos-Lançamentos'!D:D,A266,'Fundos-Lançamentos'!B:B,\"D\")-SUMIFS('Fundos-Lançamentos'!F:F,'Fundos-Lançamentos'!D:D,A266,'Fundos-Lançamentos'!B:B,\"R\")","v":0},0,null,null,0,null,null,0,null,0,0,null,null,null,null,null,null,"",""]
[null,{"$f":"IF(A267=\"\",\"\",INDEX('Fundos-Lançamentos'!C:C,MATCH(A267,'Fundos-Lançamentos'!D:D,0)))","v":""},null,{"$f":"SUMIFS('Fundos-Lançamentos'!F:F,'Fundos-Lançamentos'!D:D,A267,'Fundos-Lançamentos'!B:B,\"D\")-SUMIFS('Fundos-Lançamentos'!F:F,'Fundos-Lançamentos'!D:D,A267,'Fundos-Lançamentos'!B:B,\"R\")","v":0},0,null,null,0,null,null,0,null,0,0,null,null,null,null,null,null,"",""]
[null,{"$f":"IF(A268=\"\",\"\",INDEX('Fundos-Lançamentos'!C:C,MATCH(A268,'Fundos-Lançamentos'!D:D,0)))","v":""},null,{"$f":"SUMIFS('Fundos-Lançamentos'!F:F,'Fundos-Lançamentos'!D:D,A268,'Fundos-Lançamentos'!B:B,\"D\")-SUMIFS('Fundos-Lançamentos'!F:F,'Fundos-Lançamentos'!D:D,A268,'Fundos-Lançamentos'!B:B,\"R\")","v":0},0,null,null,0,null,null,0,null,0,0,null,null,null,null,null,null,"",""]
[null,{"$f":"IF(A269=\"\",\"\",INDEX('Fundos-Lançamentos'!C:C,MATCH(A269,'Fundos-Lançamentos'!D:D,0)))","v":""},null,{"$f":"SUMIFS('Fundos-Lançamentos'!F:F,'Fundos-Lançamentos'!D:D,A269,'Fundos-Lançamentos'!B:B,\"D\")-SUMIFS('Fundos-Lançamentos'!F:F,'Fundos-Lançamentos'!D:D,A269,'Fundos-Lançamentos'!B:B,\"R\")","v":0},0,null,null,0,null,null,0,null,0,0,null,null,null,null,null,null,"",""]
[null,{"$f":"IF(A270=\"\",\"\",INDEX('Fundos-Lançamentos'!C:C,MATCH(A270,'Fundos-Lançamentos'!D:D,0)))","v":""},null,{"$f":"SUMIFS('Fundos-Lançamentos'!F:F,'Fundos-Lançamentos'!D:D,A270,'Fundos-Lançamentos'!B:B,\"D\")-SUMIFS('Fundos-Lançamentos'!F:F,'Fundos-Lançamentos'!D:D,A270,'Fundos-Lançamentos'!B:B,\"R\")","v":0},0,null,null,0,null,null,0,null,0,0,null,null,null,null,null,null,{"$f":"IF(J270=\"\",\"\",J270-H270)","v":""},{"$f":"IF(OR($A617=\"TOTAL\",$A617=\"\"),\"\",$A617)","v":""}]
[null,{"$f":"IF(A271=\"\",\"\",INDEX('Fundos-Lançamentos'!C:C,MATCH(A271,'Fundos-Lançamentos'!D:D,0)))","v":""},null,{"$f":"SUMIFS('Fundos-Lançamentos'!F:F,'Fundos-Lançamentos'!D:D,A271,'Fundos-Lançamentos'!B:B,\"D\")-SUMIFS('Fundos-Lançamentos'!F:F,'Fundos-Lançamentos'!D:D,A271,'Fundos-Lançamentos'!B:B,\"R\")","v":0},0,null,null,0,null,null,0,null,0,0,null,null,null,null,null,null,"",""]
[null,{"$f":"IF(A272=\"\",\"\",INDEX('Fundos-Lançamentos'!C:C,MATCH(A272,'Fundos-Lançamentos'!D:D,0)))","v":""},null,{"$f":"SUMIFS('Fundos-Lançamentos'!F:F,'Fundos-Lançamentos'!D:D,A272,'Fundos-Lançamentos'!B:B,\"D\")-SUMIFS('Fundos-Lançamentos'!F:F,'Fundos-Lançamentos'!D:D,A272,'Fundos-Lançamentos'!B:B,\"R\")","v":0},0,null,null,0,null,null,0,null,0,0,null,null,null,null,null,null,"",""]
[null,{"$f":"IF(A273=\"\",\"\",INDEX('Fundos-Lançamentos'!C:C,MATCH(A273,'Fundos-Lançamentos'!D:D,0)))","v":""},null,{"$f":"SUMIFS('Fundos-Lançamentos'!F:F,'Fundos-Lançamentos'!D:D,A273,'Fundos-Lançamentos'!B:B,\"D\")-SUMIFS('Fundos-Lançamentos'!F:F,'Fundos-Lançamentos'!D:D,A273,'Fundos-Lançamentos'!B:B,\"R\")","v":0},0,null,null,0,null,null,0,null,0,0,null,null,null,null,null,null,"",""]
[null,{"$f":"IF(A274=\"\",\"\",INDEX('Fundos-Lançamentos'!C:C,MATCH(A274,'Fundos-Lançamentos'!D:D,0)))","v":""},null,{"$f":"SUMIFS('Fundos-Lançamentos'!F:F,'Fundos-Lançamentos'!D:D,A274,'Fundos-Lançamentos'!B:B,\"D\")-SUMIFS('Fundos-Lançamentos'!F:F,'Fundos-Lançamentos'!D:D,A274,'Fundos-Lançamentos'!B:B,\"R\")","v":0},0,null,null,0,null,null,0,null,0,0,null,null,null,null,null,null,"",""]
[null,{"$f":"IF(A275=\"\",\"\",INDEX('Fundos-Lançamentos'!C:C,MATCH(A275,'Fundos-Lançamentos'!D:D,0)))","v":""},null,{"$f":"SUMIFS('Fundos-Lançamentos'!F:F,'Fundos-Lançamentos'!D:D,A275,'Fundos-Lançamentos'!B:B,\"D\")-SUMIFS('Fundos-Lançamentos'!F:F,'Fundos-Lançamentos'!D:D,A275,'Fundos-Lançamentos'!B:B,\"R\")","v":0},0,null,null,0,null,null,0,null,0,0,null,null,null,null,null,null,"",""]
[null,{"$f":"IF(A276=\"\",\"\",INDEX('Fundos-Lançamentos'!C:C,MATCH(A276,'Fundos-Lançamentos'!D:D,0)))","v":""},null,{"$f":"SUMIFS('Fundos-Lançamentos'!F:F,'Fundos-Lançamentos'!D:D,A276,'Fundos-Lançamentos'!B:B,\"D\")-SUMIFS('Fundos-Lançamentos'!F:F,'Fundos-Lançamentos'!D:D,A276,'Fundos-Lançamentos'!B:B,\"R\")","v":0},0,null,null,0,null,null,0,null,0,0,null,null,null,null,null,null,"",""]
[null,{"$f":"IF(A277=\"\",\"\",INDEX('Fundos-Lançamentos'!C:C,MATCH(A277,'Fundos-Lançamentos'!D:D,0)))","v":""},null,{"$f":"SUMIFS('Fundos-Lançamentos'!F:F,'Fundos-Lançamentos'!D:D,A277,'Fundos-Lançamentos'!B:B,\"D\")-SUMIFS('Fundos-Lançamentos'!F:F,'Fundos-Lançamentos'!D:D,A277,'Fundos-Lançamentos'!B:B,\"R\")","v":0},0,null,null,0,null,null,0,null,0,0,null,null,null,null,null,null,"",""]
[null,{"$f":"IF(A278=\"\",\"\",INDEX('Fundos-Lançamentos'!C:C,MATCH(A278,'Fundos-Lançamentos'!D:D,0)))","v":""},null,{"$f":"SUMIFS('Fundos-Lançamentos'!F:F,'Fundos-Lançamentos'!D:D,A278,'Fundos-Lançamentos'!B:B,\"D\")-SUMIFS('Fundos-Lançamentos'!F:F,'Fundos-Lançamentos'!D:D,A278,'Fundos-Lançamentos'!B:B,\"R\")","v":0},0,null,null,0,null,null,0,null,0,0,null,null,null,null,null,null,"",""]
[null,{"$f":"IF(A279=\"\",\"\",INDEX('Fundos-Lançamentos'!C:C,MATCH(A279,'Fundos-Lançamentos'!D:D,0)))","v":""},null,{"$f":"SUMIFS('Fundos-Lançamentos'!F:F,'Fundos-Lançamentos'!D:D,A279,'Fundos-Lançamentos'!B:B,\"D\")-SUMIFS('Fundos-Lançamentos'!F:F,'Fundos-Lançamentos'!D:D,A279,'Fundos-Lançamentos'!B:B,\"R\")","v":0},0,null,null,0,null,null,0,null,0,0,null,null,null,null,null,null,"",""]
[null,{"$f":"IF(A280=\"\",\"\",INDEX('Fundos-Lançamentos'!C:C,MATCH(A280,'Fundos-Lançamentos'!D:D,0)))","v":""},null,{"$f":"SUMIFS('Fundos-Lançamentos'!F:F,'Fundos-Lançamentos'!D:D,A280,'Fundos-Lançamentos'!B:B,\"D\")-SUMIFS('Fundos-Lançamentos'!F:F,'Fundos-Lançamentos'!D:D,A280,'Fundos-Lançamentos'!B:B,\"R\")","v":0},0,null,null,0,null,null,0,null,0,0,null,null,null,null,null,null,"",""]
[null,{"$f":"IF(A281=\"\",\"\",INDEX('Fundos-Lançamentos'!C:C,MATCH(A281,'Fundos-Lançamentos'!D:D,0)))","v":""},null,{"$f":"SUMIFS('Fundos-Lançamentos'!F:F,'Fundos-Lançamentos'!D:D,A281,'Fundos-Lançamentos'!B:B,\"D\")-SUMIFS('Fundos-Lançamentos'!F:F,'Fundos-Lançamentos'!D:D,A281,'Fundos-Lançamentos'!B:B,\"R\")","v":0},0,null,null,0,null,null,0,null,0,0,null,null,null,null,null,null,"",""]
[null,{"$f":"IF(A282=\"\",\"\",INDEX('Fundos-Lançamentos'!C:C,MATCH(A282,'Fundos-Lançamentos'!D:D,0)))","v":""},null,{"$f":"SUMIFS('Fundos-Lançamentos'!F:F,'Fundos-Lançamentos'!D:D,A282,'Fundos-Lançamentos'!B:B,\"D\")-SUMIFS('Fundos-Lançamentos'!F:F,'Fundos-Lançamentos'!D:D,A282,'Fundos-Lançamentos'!B:B,\"R\")","v":0},0,null,null,0,null,null,0,null,0,0,null,null,null,null,null,null,"",""]
[null,{"$f":"IF(A283=\"\",\"\",INDEX('Fundos-Lançamentos'!C:C,MATCH(A283,'Fundos-Lançamentos'!D:D,0)))","v":""},null,{"$f":"SUMIFS('Fundos-Lançamentos'!F:F,'Fundos-Lançamentos'!D:D,A283,'Fundos-Lançamentos'!B:B,\"D\")-SUMIFS('Fundos-Lançamentos'!F:F,'Fundos-Lançamentos'!D:D,A283,'Fundos-Lançamentos'!B:B,\"R\")","v":0},0,null,null,0,null,null,0,null,0,0,null,null,null,null,null,null,"",""]
[null,{"$f":"IF(A284=\"\",\"\",INDEX('Fundos-Lançamentos'!C:C,MATCH(A284,'Fundos-Lançamentos'!D:D,0)))","v":""},null,{"$f":"SUMIFS('Fundos-Lançamentos'!F:F,'Fundos-Lançamentos'!D:D,A284,'Fundos-Lançamentos'!B:B,\"D\")-SUMIFS('Fundos-Lançamentos'!F:F,'Fundos-Lançamentos'!D:D,A284,'Fundos-Lançamentos'!B:B,\"R\")","v":0},0,null,null,0,null,null,0,null,0,0,null,null,null,null,null,null,"",""]
[null,{"$f":"IF(A285=\"\",\"\",INDEX('Fundos-Lançamentos'!C:C,MATCH(A285,'Fundos-Lançamentos'!D:D,0)))","v":""},null,{"$f":"SUMIFS('Fundos-Lançamentos'!F:F,'Fundos-Lançamentos'!D:D,A285,'Fundos-Lançamentos'!B:B,\"D\")-SUMIFS('Fundos-Lançamentos'!F:F,'Fundos-Lançamentos'!D:D,A285,'Fundos-Lançamentos'!B:B,\"R\")","v":0},0,null,null,0,null,null,0,null,0,0,null,null,null,null,null,null,"",""]
[null,{"$f":"IF(A286=\"\",\"\",INDEX('Fundos-Lançamentos'!C:C,MATCH(A286,'Fundos-Lançamentos'!D:D,0)))","v":""},null,{"$f":"SUMIFS('Fundos-Lançamentos'!F:F,'Fundos-Lançamentos'!D:D,A286,'Fundos-Lançamentos'!B:B,\"D\")-SUMIFS('Fundos-Lançamentos'!F:F,'Fundos-Lançamentos'!D:D,A286,'Fundos-Lançamentos'!B:B,\"R\")","v":0},0,null,null,0,null,null,0,null,0,0,null,null,null,null,null,null,"",""]
[null,{"$f":"IF(A287=\"\",\"\",INDEX('Fundos-Lançamentos'!C:C,MATCH(A287,'Fundos-Lançamentos'!D:D,0)))","v":""},null,{"$f":"SUMIFS('Fundos-Lançamentos'!F:F,'Fundos-Lançamentos'!D:D,A287,'Fundos-Lançamentos'!B:B,\"D\")-SUMIFS('Fundos-Lançamentos'!F:F,'Fundos-Lançamentos'!D:D,A287,'Fundos-Lançamentos'!B:B,\"R\")","v":0},0,null,null,0,null,null,0,null,0,0,null,null,null,null,null,null,"",""]
[null,{"$f":"IF(A288=\"\",\"\",INDEX('Fundos-Lançamentos'!C:C,MATCH(A288,'Fundos-Lançamentos'!D:D,0)))","v":""},null,{"$f":"SUMIFS('Fundos-Lançamentos'!F:F,'Fundos-Lançamentos'!D:D,A288,'Fundos-Lançamentos'!B:B,\"D\")-SUMIFS('Fundos-Lançamentos'!F:F,'Fundos-Lançamentos'!D:D,A288,'Fundos-Lançamentos'!B:B,\"R\")","v":0},0,null,null,0,null,null,0,null,0,0,null,null,null,null,null,null,"",""]
[null,{"$f":"IF(A289=\"\",\"\",INDEX('Fundos-Lançamentos'!C:C,MATCH(A289,'Fundos-Lançamentos'!D:D,0)))","v":""},null,{"$f":"SUMIFS('Fundos-Lançamentos'!F:F,'Fundos-Lançamentos'!D:D,A289,'Fundos-Lançamentos'!B:B,\"D\")-SUMIFS('Fundos-Lançamentos'!F:F,'Fundos-Lançamentos'!D:D,A289,'Fundos-Lançamentos'!B:B,\"R\")","v":0},0,null,null,0,null,null,0,null,0,0,null,null,null,null,null,null,"",""]
[null,{"$f":"IF(A290=\"\",\"\",INDEX('Fundos-Lançamentos'!C:C,MATCH(A290,'Fundos-Lançamentos'!D:D,0)))","v":""},null,{"$f":"SUMIFS('Fundos-Lançamentos'!F:F,'Fundos-Lançamentos'!D:D,A290,'Fundos-Lançamentos'!B:B,\"D\")-SUMIFS('Fundos-Lançamentos'!F:F,'Fundos-Lançamentos'!D:D,A290,'Fundos-Lançamentos'!B:B,\"R\")","v":0},0,null,null,0,null,null,0,null,0,0,null,null,null,null,null,null,"",""]
[null,{"$f":"IF(A291=\"\",\"\",INDEX('Fundos-Lançamentos'!C:C,MATCH(A291,'Fundos-Lançamentos'!D:D,0)))","v":""},null,{"$f":"SUMIFS('Fundos-Lançamentos'!F:F,'Fundos-Lançamentos'!D:D,A291,'Fundos-Lançamentos'!B:B,\"D\")-SUMIFS('Fundos-Lançamentos'!F:F,'Fundos-Lançamentos'!D:D,A291,'Fundos-Lançamentos'!B:B,\"R\")","v":0},0,null,null,0,null,null,0,null,0,0,null,null,null,null,null,null,"",""]
[null,{"$f":"IF(A292=\"\",\"\",INDEX('Fundos-Lançamentos'!C:C,MATCH(A292,'Fundos-Lançamentos'!D:D,0)))","v":""},null,{"$f":"SUMIFS('Fundos-Lançamentos'!F:F,'Fundos-Lançamentos'!D:D,A292,'Fundos-Lançamentos'!B:B,\"D\")-SUMIFS('Fundos-Lançamentos'!F:F,'Fundos-Lançamentos'!D:D,A292,'Fundos-Lançamentos'!B:B,\"R\")","v":0},0,null,null,0,null,null,0,null,0,0,null,null,null,null,null,null,"",""]
[null,{"$f":"IF(A293=\"\",\"\",INDEX('Fundos-Lançamentos'!C:C,MATCH(A293,'Fundos-Lançamentos'!D:D,0)))","v":""},null,{"$f":"SUMIFS('Fundos-Lançamentos'!F:F,'Fundos-Lançamentos'!D:D,A293,'Fundos-Lançamentos'!B:B,\"D\")-SUMIFS('Fundos-Lançamentos'!F:F,'Fundos-Lançamentos'!D:D,A293,'Fundos-Lançamentos'!B:B,\"R\")","v":0},0,null,null,0,null,null,0,null,0,0,null,null,null,null,null,null,"",""]
[null,{"$f":"IF(A294=\"\",\"\",INDEX('Fundos-Lançamentos'!C:C,MATCH(A294,'Fundos-Lançamentos'!D:D,0)))","v":""},null,{"$f":"SUMIFS('Fundos-Lançamentos'!F:F,'Fundos-Lançamentos'!D:D,A294,'Fundos-Lançamentos'!B:B,\"D\")-SUMIFS('Fundos-Lançamentos'!F:F,'Fundos-Lançamentos'!D:D,A294,'Fundos-Lançamentos'!B:B,\"R\")","v":0},0,null,null,0,null,null,0,null,0,0,null,null,null,null,null,null,"",""]
[null,{"$f":"IF(A295=\"\",\"\",INDEX('Fundos-Lançamentos'!C:C,MATCH(A295,'Fundos-Lançamentos'!D:D,0)))","v":""},null,{"$f":"SUMIFS('Fundos-Lançamentos'!F:F,'Fundos-Lançamentos'!D:D,A295,'Fundos-Lançamentos'!B:B,\"D\")-SUMIFS('Fundos-Lançamentos'!F:F,'Fundos-Lançamentos'!D:D,A295,'Fundos-Lançamentos'!B:B,\"R\")","v":0},0,null,null,0,null,null,0,null,0,0,null,null,null,null,null,null,"",""]
[null,{"$f":"IF(A296=\"\",\"\",INDEX('Fundos-Lançamentos'!C:C,MATCH(A296,'Fundos-Lançamentos'!D:D,0)))","v":""},null,{"$f":"SUMIFS('Fundos-Lançamentos'!F:F,'Fundos-Lançamentos'!D:D,A296,'Fundos-Lançamentos'!B:B,\"D\")-SUMIFS('Fundos-Lançamentos'!F:F,'Fundos-Lançamentos'!D:D,A296,'Fundos-Lançamentos'!B:B,\"R\")","v":0},0,null,null,0,null,null,0,null,0,0,null,null,null,null,null,null,"",""]
[null,{"$f":"IF(A297=\"\",\"\",INDEX('Fundos-Lançamentos'!C:C,MATCH(A297,'Fundos-Lançamentos'!D:D,0)))","v":""},null,{"$f":"SUMIFS('Fundos-Lançamentos'!F:F,'Fundos-Lançamentos'!D:D,A297,'Fundos-Lançamentos'!B:B,\"D\")-SUMIFS('Fundos-Lançamentos'!F:F,'Fundos-Lançamentos'!D:D,A297,'Fundos-Lançamentos'!B:B,\"R\")","v":0},0,null,null,0,null,null,0,null,0,0,null,null,null,null,null,null,"",""]
[null,{"$f":"IF(A298=\"\",\"\",INDEX('Fundos-Lançamentos'!C:C,MATCH(A298,'Fundos-Lançamentos'!D:D,0)))","v":""},null,{"$f":"SUMIFS('Fundos-Lançamentos'!F:F,'Fundos-Lançamentos'!D:D,A298,'Fundos-Lançamentos'!B:B,\"D\")-SUMIFS('Fundos-Lançamentos'!F:F,'Fundos-Lançamentos'!D:D,A298,'Fundos-Lançamentos'!B:B,\"R\")","v":0},0,null,null,0,null,null,0,null,0,0,null,null,null,null,null,null,"",""]
[null,{"$f":"IF(A299=\"\",\"\",INDEX('Fundos-Lançamentos'!C:C,MATCH(A299,'Fundos-Lançamentos'!D:D,0)))","v":""},null,{"$f":"SUMIFS('Fundos-Lançamentos'!F:F,'Fundos-Lançamentos'!D:D,A299,'Fundos-Lançamentos'!B:B,\"D\")-SUMIFS('Fundos-Lançamentos'!F:F,'Fundos-Lançamentos'!D:D,A299,'Fundos-Lançamentos'!B:B,\"R\")","v":0},0,null,null,0,null,null,0,null,0,0,null,null,null,null,null,null,"",""]
[null,{"$f":"IF(A300=\"\",\"\",INDEX('Fundos-Lançamentos'!C:C,MATCH(A300,'Fundos-Lançamentos'!D:D,0)))","v":""},null,{"$f":"SUMIFS('Fundos-Lançamentos'!F:F,'Fundos-Lançamentos'!D:D,A300,'Fundos-Lançamentos'!B:B,\"D\")-SUMIFS('Fundos-Lançamentos'!F:F,'Fundos-Lançamentos'!D:D,A300,'Fundos-Lançamentos'!B:B,\"R\")","v":0},0,null,null,0,null,null,0,null,0,0,null,null,null,null,null,null,"",""]
[null,{"$f":"IF(A301=\"\",\"\",INDEX('Fundos-Lançamentos'!C:C,MATCH(A301,'Fundos-Lançamentos'!D:D,0)))","v":""},null,{"$f":"SUMIFS('Fundos-Lançamentos'!F:F,'Fundos-Lançamentos'!D:D,A301,'Fundos-Lançamentos'!B:B,\"D\")-SUMIFS('Fundos-Lançamentos'!F:F,'Fundos-Lançamentos'!D:D,A301,'Fundos-Lançamentos'!B:B,\"R\")","v":0},0,null,null,0,null,null,0,null,0,0,null,null,null,null,null,null,"",""]
[null,{"$f":"IF(A302=\"\",\"\",INDEX('Fundos-Lançamentos'!C:C,MATCH(A302,'Fundos-Lançamentos'!D:D,0)))","v":""},null,{"$f":"SUMIFS('Fundos-Lançamentos'!F:F,'Fundos-Lançamentos'!D:D,A302,'Fundos-Lançamentos'!B:B,\"D\")-SUMIFS('Fundos-Lançamentos'!F:F,'Fundos-Lançamentos'!D:D,A302,'Fundos-Lançamentos'!B:B,\"R\")","v":0},0,null,null,0,null,null,0,null,0,0,null,null,null,null,null,null,"",""]
[null,{"$f":"IF(A303=\"\",\"\",INDEX('Fundos-Lançamentos'!C:C,MATCH(A303,'Fundos-Lançamentos'!D:D,0)))","v":""},null,{"$f":"SUMIFS('Fundos-Lançamentos'!F:F,'Fundos-Lançamentos'!D:D,A303,'Fundos-Lançamentos'!B:B,\"D\")-SUMIFS('Fundos-Lançamentos'!F:F,'Fundos-Lançamentos'!D:D,A303,'Fundos-Lançamentos'!B:B,\"R\")","v":0},0,null,null,0,null,null,0,null,0,0,null,null,null,null,null,null,"",""]
[null,{"$f":"IF(A304=\"\",\"\",INDEX('Fundos-Lançamentos'!C:C,MATCH(A304,'Fundos-Lançamentos'!D:D,0)))","v":""},null,{"$f":"SUMIFS('Fundos-Lançamentos'!F:F,'Fundos-Lançamentos'!D:D,A304,'Fundos-Lançamentos'!B:B,\"D\")-SUMIFS('Fundos-Lançamentos'!F:F,'Fundos-Lançamentos'!D:D,A304,'Fundos-Lançamentos'!B:B,\"R\")","v":0},0,null,null,0,null,null,0,null,0,0,null,null,null,null,null,null,"",""]
[null,{"$f":"IF(A305=\"\",\"\",INDEX('Fundos-Lançamentos'!C:C,MATCH(A305,'Fundos-Lançamentos'!D:D,0)))","v":""},null,{"$f":"SUMIFS('Fundos-Lançamentos'!F:F,'Fundos-Lançamentos'!D:D,A305,'Fundos-Lançamentos'!B:B,\"D\")-SUMIFS('Fundos-Lançamentos'!F:F,'Fundos-Lançamentos'!D:D,A305,'Fundos-Lançamentos'!B:B,\"R\")","v":0},0,null,null,0,null,null,0,null,0,0,null,null,null,null,null,null,"",""]
[null,{"$f":"IF(A306=\"\",\"\",INDEX('Fundos-Lançamentos'!C:C,MATCH(A306,'Fundos-Lançamentos'!D:D,0)))","v":""},null,{"$f":"SUMIFS('Fundos-Lançamentos'!F:F,'Fundos-Lançamentos'!D:D,A306,'Fundos-Lançamentos'!B:B,\"D\")-SUMIFS('Fundos-Lançamentos'!F:F,'Fundos-Lançamentos'!D:D,A306,'Fundos-Lançamentos'!B:B,\"R\")","v":0},0,null,null,0,null,null,0,null,0,0,null,null,null,null,null,null,"",""]
[null,{"$f":"IF(A307=\"\",\"\",INDEX('Fundos-Lançamentos'!C:C,MATCH(A307,'Fundos-Lançamentos'!D:D,0)))","v":""},null,{"$f":"SUMIFS('Fundos-Lançamentos'!F:F,'Fundos-Lançamentos'!D:D,A307,'Fundos-Lançamentos'!B:B,\"D\")-SUMIFS('Fundos-Lançamentos'!F:F,'Fundos-Lançamentos'!D:D,A307,'Fundos-Lançamentos'!B:B,\"R\")","v":0},0,null,null,0,null,null,0,null,0,0,null,null,null,null,null,null,"",""]
[null,{"$f":"IF(A308=\"\",\"\",INDEX('Fundos-Lançamentos'!C:C,MATCH(A308,'Fundos-Lançamentos'!D:D,0)))","v":""},null,{"$f":"SUMIFS('Fundos-Lançamentos'!F:F,'Fundos-Lançamentos'!D:D,A308,'Fundos-Lançamentos'!B:B,\"D\")-SUMIFS('Fundos-Lançamentos'!F:F,'Fundos-Lançamentos'!D:D,A308,'Fundos-Lançamentos'!B:B,\"R\")","v":0},0,null,null,0,null,null,0,null,0,0,null,null,null,null,null,null,"",""]
[null,{"$f":"IF(A309=\"\",\"\",INDEX('Fundos-Lançamentos'!C:C,MATCH(A309,'Fundos-Lançamentos'!D:D,0)))","v":""},null,{"$f":"SUMIFS('Fundos-Lançamentos'!F:F,'Fundos-Lançamentos'!D:D,A309,'Fundos-Lançamentos'!B:B,\"D\")-SUMIFS('Fundos-Lançamentos'!F:F,'Fundos-Lançamentos'!D:D,A309,'Fundos-Lançamentos'!B:B,\"R\")","v":0},0,null,null,0,null,null,0,null,0,0,null,null,null,null,null,null,"",""]
[null,{"$f":"IF(A310=\"\",\"\",INDEX('Fundos-Lançamentos'!C:C,MATCH(A310,'Fundos-Lançamentos'!D:D,0)))","v":""},null,{"$f":"SUMIFS('Fundos-Lançamentos'!F:F,'Fundos-Lançamentos'!D:D,A310,'Fundos-Lançamentos'!B:B,\"D\")-SUMIFS('Fundos-Lançamentos'!F:F,'Fundos-Lançamentos'!D:D,A310,'Fundos-Lançamentos'!B:B,\"R\")","v":0},0,null,null,0,null,null,0,null,0,0,null,null,null,null,null,null,"",""]
[null,{"$f":"IF(A311=\"\",\"\",INDEX('Fundos-Lançamentos'!C:C,MATCH(A311,'Fundos-Lançamentos'!D:D,0)))","v":""},null,{"$f":"SUMIFS('Fundos-Lançamentos'!F:F,'Fundos-Lançamentos'!D:D,A311,'Fundos-Lançamentos'!B:B,\"D\")-SUMIFS('Fundos-Lançamentos'!F:F,'Fundos-Lançamentos'!D:D,A311,'Fundos-Lançamentos'!B:B,\"R\")","v":0},0,null,null,0,null,null,0,null,0,0,null,null,null,null,null,null,"",""]
[null,{"$f":"IF(A312=\"\",\"\",INDEX('Fundos-Lançamentos'!C:C,MATCH(A312,'Fundos-Lançamentos'!D:D,0)))","v":""},null,{"$f":"SUMIFS('Fundos-Lançamentos'!F:F,'Fundos-Lançamentos'!D:D,A312,'Fundos-Lançamentos'!B:B,\"D\")-SUMIFS('Fundos-Lançamentos'!F:F,'Fundos-Lançamentos'!D:D,A312,'Fundos-Lançamentos'!B:B,\"R\")","v":0},0,null,null,0,null,null,0,null,0,0,null,null,null,null,null,null,"",""]
[null,{"$f":"IF(A313=\"\",\"\",INDEX('Fundos-Lançamentos'!C:C,MATCH(A313,'Fundos-Lançamentos'!D:D,0)))","v":""},null,{"$f":"SUMIFS('Fundos-Lançamentos'!F:F,'Fundos-Lançamentos'!D:D,A313,'Fundos-Lançamentos'!B:B,\"D\")-SUMIFS('Fundos-Lançamentos'!F:F,'Fundos-Lançamentos'!D:D,A313,'Fundos-Lançamentos'!B:B,\"R\")","v":0},0,null,null,0,null,null,0,null,0,0,null,null,null,null,null,null,"",""]
[null,{"$f":"IF(A314=\"\",\"\",INDEX('Fundos-Lançamentos'!C:C,MATCH(A314,'Fundos-Lançamentos'!D:D,0)))","v":""},null,{"$f":"SUMIFS('Fundos-Lançamentos'!F:F,'Fundos-Lançamentos'!D:D,A314,'Fundos-Lançamentos'!B:B,\"D\")-SUMIFS('Fundos-Lançamentos'!F:F,'Fundos-Lançamentos'!D:D,A314,'Fundos-Lançamentos'!B:B,\"R\")","v":0},0,null,null,0,null,null,0,null,0,0,null,null,null,null,null,null,"",""]
[null,{"$f":"IF(A315=\"\",\"\",INDEX('Fundos-Lançamentos'!C:C,MATCH(A315,'Fundos-Lançamentos'!D:D,0)))","v":""},null,{"$f":"SUMIFS('Fundos-Lançamentos'!F:F,'Fundos-Lançamentos'!D:D,A315,'Fundos-Lançamentos'!B:B,\"D\")-SUMIFS('Fundos-Lançamentos'!F:F,'Fundos-Lançamentos'!D:D,A315,'Fundos-Lançamentos'!B:B,\"R\")","v":0},0,null,null,0,null,null,0,null,0,0,null,null,null,null,null,null,"",""]
[null,{"$f":"IF(A316=\"\",\"\",INDEX('Fundos-Lançamentos'!C:C,MATCH(A316,'Fundos-Lançamentos'!D:D,0)))","v":""},null,{"$f":"SUMIFS('Fundos-Lançamentos'!F:F,'Fundos-Lançamentos'!D:D,A316,'Fundos-Lançamentos'!B:B,\"D\")-SUMIFS('Fundos-Lançamentos'!F:F,'Fundos-Lançamentos'!D:D,A316,'Fundos-Lançamentos'!B:B,\"R\")","v":0},0,null,null,0,null,null,0,null,0,0,null,null,null,null,null,null,"",""]
[null,{"$f":"IF(A317=\"\",\"\",INDEX('Fundos-Lançamentos'!C:C,MATCH(A317,'Fundos-Lançamentos'!D:D,0)))","v":""},null,{"$f":"SUMIFS('Fundos-Lançamentos'!F:F,'Fundos-Lançamentos'!D:D,A317,'Fundos-Lançamentos'!B:B,\"D\")-SUMIFS('Fundos-Lançamentos'!F:F,'Fundos-Lançamentos'!D:D,A317,'Fundos-Lançamentos'!B:B,\"R\")","v":0},0,null,null,0,null,null,0,null,0,0,null,null,null,null,null,null,"",""]
[null,{"$f":"IF(A318=\"\",\"\",INDEX('Fundos-Lançamentos'!C:C,MATCH(A318,'Fundos-Lançamentos'!D:D,0)))","v":""},null,{"$f":"SUMIFS('Fundos-Lançamentos'!F:F,'Fundos-Lançamentos'!D:D,A318,'Fundos-Lançamentos'!B:B,\"D\")-SUMIFS('Fundos-Lançamentos'!F:F,'Fundos-Lançamentos'!D:D,A318,'Fundos-Lançamentos'!B:B,\"R\")","v":0},0,null,null,0,null,null,0,null,0,0,null,null,null,null,null,null,"",""]
[null,{"$f":"IF(A319=\"\",\"\",INDEX('Fundos-Lançamentos'!C:C,MATCH(A319,'Fundos-Lançamentos'!D:D,0)))","v":""},null,{"$f":"SUMIFS('Fundos-Lançamentos'!F:F,'Fundos-Lançamentos'!D:D,A319,'Fundos-Lançamentos'!B:B,\"D\")-SUMIFS('Fundos-Lançamentos'!F:F,'Fundos-Lançamentos'!D:D,A319,'Fundos-Lançamentos'!B:B,\"R\")","v":0},0,null,null,0,null,null,0,null,0,0,null,null,null,null,null,null,"",""]
[null,{"$f":"IF(A320=\"\",\"\",INDEX('Fundos-Lançamentos'!C:C,MATCH(A320,'Fundos-Lançamentos'!D:D,0)))","v":""},null,{"$f":"SUMIFS('Fundos-Lançamentos'!F:F,'Fundos-Lançamentos'!D:D,A320,'Fundos-Lançamentos'!B:B,\"D\")-SUMIFS('Fundos-Lançamentos'!F:F,'Fundos-Lançamentos'!D:D,A320,'Fundos-Lançamentos'!B:B,\"R\")","v":0},0,null,null,0,null,null,0,null,0,0,null,null,null,null,null,null,"",""]
[null,{"$f":"IF(A321=\"\",\"\",INDEX('Fundos-Lançamentos'!C:C,MATCH(A321,'Fundos-Lançamentos'!D:D,0)))","v":""},null,{"$f":"SUMIFS('Fundos-Lançamentos'!F:F,'Fundos-Lançamentos'!D:D,A321,'Fundos-Lançamentos'!B:B,\"D\")-SUMIFS('Fundos-Lançamentos'!F:F,'Fundos-Lançamentos'!D:D,A321,'Fundos-Lançamentos'!B:B,\"R\")","v":0},0,null,null,0,null,null,0,null,0,0,null,null,null,null,null,null,"",""]
[null,{"$f":"IF(A322=\"\",\"\",INDEX('Fundos-Lançamentos'!C:C,MATCH(A322,'Fundos-Lançamentos'!D:D,0)))","v":""},null,{"$f":"SUMIFS('Fundos-Lançamentos'!F:F,'Fundos-Lançamentos'!D:D,A322,'Fundos-Lançamentos'!B:B,\"D\")-SUMIFS('Fundos-Lançamentos'!F:F,'Fundos-Lançamentos'!D:D,A322,'Fundos-Lançamentos'!B:B,\"R\")","v":0},0,null,null,0,null,null,0,null,0,0,null,null,null,null,null,null,"",""]
[null,{"$f":"IF(A323=\"\",\"\",INDEX('Fundos-Lançamentos'!C:C,MATCH(A323,'Fundos-Lançamentos'!D:D,0)))","v":""},null,{"$f":"SUMIFS('Fundos-Lançamentos'!F:F,'Fundos-Lançamentos'!D:D,A323,'Fundos-Lançamentos'!B:B,\"D\")-SUMIFS('Fundos-Lançamentos'!F:F,'Fundos-Lançamentos'!D:D,A323,'Fundos-Lançamentos'!B:B,\"R\")","v":0},0,null,null,0,null,null,0,null,{"$f":"IF(G323=\"\",0,G323-D323)","v":0},{"$f":"IF(OR(D323=0),0,M323/D323)","v":0},null,null,null,null,null,null,"",""]
[null,{"$f":"IF(A324=\"\",\"\",INDEX('Fundos-Lançamentos'!C:C,MATCH(A324,'Fundos-Lançamentos'!D:D,0)))","v":""},null,{"$f":"SUMIFS('Fundos-Lançamentos'!F:F,'Fundos-Lançamentos'!D:D,A324,'Fundos-Lançamentos'!B:B,\"D\")-SUMIFS('Fundos-Lançamentos'!F:F,'Fundos-Lançamentos'!D:D,A324,'Fundos-Lançamentos'!B:B,\"R\")","v":0},{"$f":"IF(OR(D324=\"\",$Q$9=0),0,D324/$Q$9)","v":0},null,null,{"$f":"IF(OR(G324=\"\",$Q$11=0),0,G324/$Q$11)","v":0},null,null,{"$f":"IF(OR(J324=\"\",H324=\"\",E324=\"\"),0,IF($J$2=\"% ATUAL\",J324-H324,J324-E324))","v":0},null,0,0,null,null,null,null,null,null,"",""]
[null,{"$f":"IF(A325=\"\",\"\",INDEX('Fundos-Lançamentos'!C:C,MATCH(A325,'Fundos-Lançamentos'!D:D,0)))","v":""},null,{"$f":"SUMIFS('Fundos-Lançamentos'!F:F,'Fundos-Lançamentos'!D:D,A325,'Fundos-Lançamentos'!B:B,\"D\")-SUMIFS('Fundos-Lançamentos'!F:F,'Fundos-Lançamentos'!D:D,A325,'Fundos-Lançamentos'!B:B,\"R\")","v":0},0,null,null,0,null,null,0,null,0,0,null,null,null,null,null,null,"",""]
[null,{"$f":"IF(A326=\"\",\"\",INDEX('Fundos-Lançamentos'!C:C,MATCH(A326,'Fundos-Lançamentos'!D:D,0)))","v":""},null,{"$f":"SUMIFS('Fundos-Lançamentos'!F:F,'Fundos-Lançamentos'!D:D,A326,'Fundos-Lançamentos'!B:B,\"D\")-SUMIFS('Fundos-Lançamentos'!F:F,'Fundos-Lançamentos'!D:D,A326,'Fundos-Lançamentos'!B:B,\"R\")","v":0},0,null,null,0,null,null,0,null,0,0,null,null,null,null,null,null,"",""]
[null,{"$f":"IF(A327=\"\",\"\",INDEX('Fundos-Lançamentos'!C:C,MATCH(A327,'Fundos-Lançamentos'!D:D,0)))","v":""},null,{"$f":"SUMIFS('Fundos-Lançamentos'!F:F,'Fundos-Lançamentos'!D:D,A327,'Fundos-Lançamentos'!B:B,\"D\")-SUMIFS('Fundos-Lançamentos'!F:F,'Fundos-Lançamentos'!D:D,A327,'Fundos-Lançamentos'!B:B,\"R\")","v":0},0,null,null,0,null,null,0,null,0,0,null,null,null,null,null,null,"",""]
[null,{"$f":"IF(A328=\"\",\"\",INDEX('Fundos-Lançamentos'!C:C,MATCH(A328,'Fundos-Lançamentos'!D:D,0)))","v":""},null,{"$f":"SUMIFS('Fundos-Lançamentos'!F:F,'Fundos-Lançamentos'!D:D,A328,'Fundos-Lançamentos'!B:B,\"D\")-SUMIFS('Fundos-Lançamentos'!F:F,'Fundos-Lançamentos'!D:D,A328,'Fundos-Lançamentos'!B:B,\"R\")","v":0},0,null,null,0,null,null,0,null,0,0,null,null,null,null,null,null,"",""]
[null,{"$f":"IF(A329=\"\",\"\",INDEX('Fundos-Lançamentos'!C:C,MATCH(A329,'Fundos-Lançamentos'!D:D,0)))","v":""},null,{"$f":"SUMIFS('Fundos-Lançamentos'!F:F,'Fundos-Lançamentos'!D:D,A329,'Fundos-Lançamentos'!B:B,\"D\")-SUMIFS('Fundos-Lançamentos'!F:F,'Fundos-Lançamentos'!D:D,A329,'Fundos-Lançamentos'!B:B,\"R\")","v":0},0,null,null,0,null,null,0,null,0,0,null,null,null,null,null,null,"",""]
[null,{"$f":"IF(A330=\"\",\"\",INDEX('Fundos-Lançamentos'!C:C,MATCH(A330,'Fundos-Lançamentos'!D:D,0)))","v":""},null,{"$f":"SUMIFS('Fundos-Lançamentos'!F:F,'Fundos-Lançamentos'!D:D,A330,'Fundos-Lançamentos'!B:B,\"D\")-SUMIFS('Fundos-Lançamentos'!F:F,'Fundos-Lançamentos'!D:D,A330,'Fundos-Lançamentos'!B:B,\"R\")","v":0},0,null,null,0,null,null,0,null,0,0,null,null,null,null,null,null,"",""]
[null,{"$f":"IF(A331=\"\",\"\",INDEX('Fundos-Lançamentos'!C:C,MATCH(A331,'Fundos-Lançamentos'!D:D,0)))","v":""},null,{"$f":"SUMIFS('Fundos-Lançamentos'!F:F,'Fundos-Lançamentos'!D:D,A331,'Fundos-Lançamentos'!B:B,\"D\")-SUMIFS('Fundos-Lançamentos'!F:F,'Fundos-Lançamentos'!D:D,A331,'Fundos-Lançamentos'!B:B,\"R\")","v":0},0,null,null,0,null,null,0,null,0,0,null,null,null,null,null,null,"",""]
[null,{"$f":"IF(A332=\"\",\"\",INDEX('Fundos-Lançamentos'!C:C,MATCH(A332,'Fundos-Lançamentos'!D:D,0)))","v":""},null,{"$f":"SUMIFS('Fundos-Lançamentos'!F:F,'Fundos-Lançamentos'!D:D,A332,'Fundos-Lançamentos'!B:B,\"D\")-SUMIFS('Fundos-Lançamentos'!F:F,'Fundos-Lançamentos'!D:D,A332,'Fundos-Lançamentos'!B:B,\"R\")","v":0},0,null,null,0,null,null,0,null,0,0,null,null,null,null,null,null,"",""]
[null,{"$f":"IF(A333=\"\",\"\",INDEX('Fundos-Lançamentos'!C:C,MATCH(A333,'Fundos-Lançamentos'!D:D,0)))","v":""},null,{"$f":"SUMIFS('Fundos-Lançamentos'!F:F,'Fundos-Lançamentos'!D:D,A333,'Fundos-Lançamentos'!B:B,\"D\")-SUMIFS('Fundos-Lançamentos'!F:F,'Fundos-Lançamentos'!D:D,A333,'Fundos-Lançamentos'!B:B,\"R\")","v":0},0,null,null,0,null,null,0,null,0,0,null,null,null,null,null,null,"",""]
[null,{"$f":"IF(A334=\"\",\"\",INDEX('Fundos-Lançamentos'!C:C,MATCH(A334,'Fundos-Lançamentos'!D:D,0)))","v":""},null,{"$f":"SUMIFS('Fundos-Lançamentos'!F:F,'Fundos-Lançamentos'!D:D,A334,'Fundos-Lançamentos'!B:B,\"D\")-SUMIFS('Fundos-Lançamentos'!F:F,'Fundos-Lançamentos'!D:D,A334,'Fundos-Lançamentos'!B:B,\"R\")","v":0},0,null,null,0,null,null,0,null,0,0,null,null,null,null,null,null,{"$f":"IF(J334=\"\",\"\",J334-H334)","v":""},{"$f":"IF(OR($A681=\"TOTAL\",$A681=\"\"),\"\",$A681)","v":""}]
[null,{"$f":"IF(A335=\"\",\"\",INDEX('Fundos-Lançamentos'!C:C,MATCH(A335,'Fundos-Lançamentos'!D:D,0)))","v":""},null,{"$f":"SUMIFS('Fundos-Lançamentos'!F:F,'Fundos-Lançamentos'!D:D,A335,'Fundos-Lançamentos'!B:B,\"D\")-SUMIFS('Fundos-Lançamentos'!F:F,'Fundos-Lançamentos'!D:D,A335,'Fundos-Lançamentos'!B:B,\"R\")","v":0},0,null,null,0,null,null,0,null,0,0,null,null,null,null,null,null,"",""]
[null,{"$f":"IF(A336=\"\",\"\",INDEX('Fundos-Lançamentos'!C:C,MATCH(A336,'Fundos-Lançamentos'!D:D,0)))","v":""},null,{"$f":"SUMIFS('Fundos-Lançamentos'!F:F,'Fundos-Lançamentos'!D:D,A336,'Fundos-Lançamentos'!B:B,\"D\")-SUMIFS('Fundos-Lançamentos'!F:F,'Fundos-Lançamentos'!D:D,A336,'Fundos-Lançamentos'!B:B,\"R\")","v":0},0,null,null,0,null,null,0,null,0,0,null,null,null,null,null,null,"",""]
[null,{"$f":"IF(A337=\"\",\"\",INDEX('Fundos-Lançamentos'!C:C,MATCH(A337,'Fundos-Lançamentos'!D:D,0)))","v":""},null,{"$f":"SUMIFS('Fundos-Lançamentos'!F:F,'Fundos-Lançamentos'!D:D,A337,'Fundos-Lançamentos'!B:B,\"D\")-SUMIFS('Fundos-Lançamentos'!F:F,'Fundos-Lançamentos'!D:D,A337,'Fundos-Lançamentos'!B:B,\"R\")","v":0},0,null,null,0,null,null,0,null,0,0,null,null,null,null,null,null,"",""]
[null,{"$f":"IF(A338=\"\",\"\",INDEX('Fundos-Lançamentos'!C:C,MATCH(A338,'Fundos-Lançamentos'!D:D,0)))","v":""},null,{"$f":"SUMIFS('Fundos-Lançamentos'!F:F,'Fundos-Lançamentos'!D:D,A338,'Fundos-Lançamentos'!B:B,\"D\")-SUMIFS('Fundos-Lançamentos'!F:F,'Fundos-Lançamentos'!D:D,A338,'Fundos-Lançamentos'!B:B,\"R\")","v":0},0,null,null,0,null,null,0,null,0,0,null,null,null,null,null,null,"",""]
[null,{"$f":"IF(A339=\"\",\"\",INDEX('Fundos-Lançamentos'!C:C,MATCH(A339,'Fundos-Lançamentos'!D:D,0)))","v":""},null,{"$f":"SUMIFS('Fundos-Lançamentos'!F:F,'Fundos-Lançamentos'!D:D,A339,'Fundos-Lançamentos'!B:B,\"D\")-SUMIFS('Fundos-Lançamentos'!F:F,'Fundos-Lançamentos'!D:D,A339,'Fundos-Lançamentos'!B:B,\"R\")","v":0},0,null,null,0,null,null,0,null,0,0,null,null,null,null,null,null,"",""]
[null,{"$f":"IF(A340=\"\",\"\",INDEX('Fundos-Lançamentos'!C:C,MATCH(A340,'Fundos-Lançamentos'!D:D,0)))","v":""},null,{"$f":"SUMIFS('Fundos-Lançamentos'!F:F,'Fundos-Lançamentos'!D:D,A340,'Fundos-Lançamentos'!B:B,\"D\")-SUMIFS('Fundos-Lançamentos'!F:F,'Fundos-Lançamentos'!D:D,A340,'Fundos-Lançamentos'!B:B,\"R\")","v":0},0,null,null,0,null,null,0,null,0,0,null,null,null,null,null,null,"",""]
[null,{"$f":"IF(A341=\"\",\"\",INDEX('Fundos-Lançamentos'!C:C,MATCH(A341,'Fundos-Lançamentos'!D:D,0)))","v":""},null,{"$f":"SUMIFS('Fundos-Lançamentos'!F:F,'Fundos-Lançamentos'!D:D,A341,'Fundos-Lançamentos'!B:B,\"D\")-SUMIFS('Fundos-Lançamentos'!F:F,'Fundos-Lançamentos'!D:D,A341,'Fundos-Lançamentos'!B:B,\"R\")","v":0},0,null,null,0,null,null,0,null,0,0,null,null,null,null,null,null,"",""]
[null,{"$f":"IF(A342=\"\",\"\",INDEX('Fundos-Lançamentos'!C:C,MATCH(A342,'Fundos-Lançamentos'!D:D,0)))","v":""},null,{"$f":"SUMIFS('Fundos-Lançamentos'!F:F,'Fundos-Lançamentos'!D:D,A342,'Fundos-Lançamentos'!B:B,\"D\")-SUMIFS('Fundos-Lançamentos'!F:F,'Fundos-Lançamentos'!D:D,A342,'Fundos-Lançamentos'!B:B,\"R\")","v":0},0,null,null,0,null,null,0,null,0,0,null,null,null,null,null,null,"",""]
[null,{"$f":"IF(A343=\"\",\"\",INDEX('Fundos-Lançamentos'!C:C,MATCH(A343,'Fundos-Lançamentos'!D:D,0)))","v":""},null,{"$f":"SUMIFS('Fundos-Lançamentos'!F:F,'Fundos-Lançamentos'!D:D,A343,'Fundos-Lançamentos'!B:B,\"D\")-SUMIFS('Fundos-Lançamentos'!F:F,'Fundos-Lançamentos'!D:D,A343,'Fundos-Lançamentos'!B:B,\"R\")","v":0},0,null,null,0,null,null,0,null,0,0,null,null,null,null,null,null,"",""]
[null,{"$f":"IF(A344=\"\",\"\",INDEX('Fundos-Lançamentos'!C:C,MATCH(A344,'Fundos-Lançamentos'!D:D,0)))","v":""},null,{"$f":"SUMIFS('Fundos-Lançamentos'!F:F,'Fundos-Lançamentos'!D:D,A344,'Fundos-Lançamentos'!B:B,\"D\")-SUMIFS('Fundos-Lançamentos'!F:F,'Fundos-Lançamentos'!D:D,A344,'Fundos-Lançamentos'!B:B,\"R\")","v":0},0,null,null,0,null,null,0,null,0,0,null,null,null,null,null,null,"",""]
[null,{"$f":"IF(A345=\"\",\"\",INDEX('Fundos-Lançamentos'!C:C,MATCH(A345,'Fundos-Lançamentos'!D:D,0)))","v":""},null,{"$f":"SUMIFS('Fundos-Lançamentos'!F:F,'Fundos-Lançamentos'!D:D,A345,'Fundos-Lançamentos'!B:B,\"D\")-SUMIFS('Fundos-Lançamentos'!F:F,'Fundos-Lançamentos'!D:D,A345,'Fundos-Lançamentos'!B:B,\"R\")","v":0},0,null,null,0,null,null,0,null,0,0,null,null,null,null,null,null,"",""]
[null,{"$f":"IF(A346=\"\",\"\",INDEX('Fundos-Lançamentos'!C:C,MATCH(A346,'Fundos-Lançamentos'!D:D,0)))","v":""},null,{"$f":"SUMIFS('Fundos-Lançamentos'!F:F,'Fundos-Lançamentos'!D:D,A346,'Fundos-Lançamentos'!B:B,\"D\")-SUMIFS('Fundos-Lançamentos'!F:F,'Fundos-Lançamentos'!D:D,A346,'Fundos-Lançamentos'!B:B,\"R\")","v":0},0,null,null,0,null,null,0,null,0,0,null,null,null,null,null,null,"",""]
[null,{"$f":"IF(A347=\"\",\"\",INDEX('Fundos-Lançamentos'!C:C,MATCH(A347,'Fundos-Lançamentos'!D:D,0)))","v":""},null,{"$f":"SUMIFS('Fundos-Lançamentos'!F:F,'Fundos-Lançamentos'!D:D,A347,'Fundos-Lançamentos'!B:B,\"D\")-SUMIFS('Fundos-Lançamentos'!F:F,'Fundos-Lançamentos'!D:D,A347,'Fundos-Lançamentos'!B:B,\"R\")","v":0},0,null,null,0,null,null,0,null,0,0,null,null,null,null,null,null,"",""]
[null,{"$f":"IF(A348=\"\",\"\",INDEX('Fundos-Lançamentos'!C:C,MATCH(A348,'Fundos-Lançamentos'!D:D,0)))","v":""},null,{"$f":"SUMIFS('Fundos-Lançamentos'!F:F,'Fundos-Lançamentos'!D:D,A348,'Fundos-Lançamentos'!B:B,\"D\")-SUMIFS('Fundos-Lançamentos'!F:F,'Fundos-Lançamentos'!D:D,A348,'Fundos-Lançamentos'!B:B,\"R\")","v":0},0,null,null,0,null,null,0,null,0,0,null,null,null,null,null,null,"",""]
[null,{"$f":"IF(A349=\"\",\"\",INDEX('Fundos-Lançamentos'!C:C,MATCH(A349,'Fundos-Lançamentos'!D:D,0)))","v":""},null,{"$f":"SUMIFS('Fundos-Lançamentos'!F:F,'Fundos-Lançamentos'!D:D,A349,'Fundos-Lançamentos'!B:B,\"D\")-SUMIFS('Fundos-Lançamentos'!F:F,'Fundos-Lançamentos'!D:D,A349,'Fundos-Lançamentos'!B:B,\"R\")","v":0},0,null,null,0,null,null,0,null,0,0,null,null,null,null,null,null,"",""]
[null,{"$f":"IF(A350=\"\",\"\",INDEX('Fundos-Lançamentos'!C:C,MATCH(A350,'Fundos-Lançamentos'!D:D,0)))","v":""},null,{"$f":"SUMIFS('Fundos-Lançamentos'!F:F,'Fundos-Lançamentos'!D:D,A350,'Fundos-Lançamentos'!B:B,\"D\")-SUMIFS('Fundos-Lançamentos'!F:F,'Fundos-Lançamentos'!D:D,A350,'Fundos-Lançamentos'!B:B,\"R\")","v":0},0,null,null,0,null,null,0,null,0,0,null,null,null,null,null,null,"",""]
[{"$f":"IF(IFERROR('Fundos-Lançamentos'!#REF!,\"\")=\"\",\"\",IF('Fundos-Lançamentos'!#REF!=\"DESCRIÇÃO\",\"\",'Fundos-Lançamentos'!#REF!))","v":""}]
[{"$f":"IF(IFERROR('Fundos-Lançamentos'!#REF!,\"\")=\"\",\"\",IF('Fundos-Lançamentos'!#REF!=\"DESCRIÇÃO\",\"\",'Fundos-Lançamentos'!#REF!))","v":""}]
[{"$f":"IF(IFERROR('Fundos-Lançamentos'!#REF!,\"\")=\"\",\"\",IF('Fundos-Lançamentos'!#REF!=\"DESCRIÇÃO\",\"\",'Fundos-Lançamentos'!#REF!))","v":""}]
[{"$f":"IF(IFERROR('Fundos-Lançamentos'!#REF!,\"\")=\"\",\"\",IF('Fundos-Lançamentos'!#REF!=\"DESCRIÇÃO\",\"\",'Fundos-Lançamentos'!#REF!))","v":""}]
[{"$f":"IF(IFERROR('Fundos-Lançamentos'!#REF!,\"\")=\"\",\"\",IF('Fundos-Lançamentos'!#REF!=\"DESCRIÇÃO\",\"\",'Fundos-Lançamentos'!#REF!))","v":""}]
[{"$f":"IF(IFERROR('Fundos-Lançamentos'!#REF!,\"\")=\"\",\"\",IF('Fundos-Lançamentos'!#REF!=\"DESCRIÇÃO\",\"\",'Fundos-Lançamentos'!#REF!))","v":""}]
[{"$f":"IF(IFERROR('Fundos-Lançamentos'!#REF!,\"\")=\"\",\"\",IF('Fundos-Lançamentos'!#REF!=\"DESCRIÇÃO\",\"\",'Fundos-Lançamentos'!#REF!))","v":""}]
[{"$f":"IF(IFERROR('Fundos-Lançamentos'!#REF!,\"\")=\"\",\"\",IF('Fundos-Lançamentos'!#REF!=\"DESCRIÇÃO\",\"\",'Fundos-Lançamentos'!#REF!))","v":""}]
[{"$f":"IF(IFERROR('Fundos-Lançamentos'!#REF!,\"\")=\"\",\"\",IF('Fundos-Lançamentos'!#REF!=\"DESCRIÇÃO\",\"\",'Fundos-Lançamentos'!#REF!))","v":""}]
[{"$f":"IF(IFERROR('Fundos-Lançamentos'!#REF!,\"\")=\"\",\"\",IF('Fundos-Lançamentos'!#REF!=\"DESCRIÇÃO\",\"\",'Fundos-Lançamentos'!#REF!))","v":""}]
[{"$f":"IF(IFERROR('Fundos-Lançamentos'!#REF!,\"\")=\"\",\"\",IF('Fundos-Lançamentos'!#REF!=\"DESCRIÇÃO\",\"\",'Fundos-Lançamentos'!#REF!))","v":""}]
[{"$f":"IF(IFERROR('Fundos-Lançamentos'!#REF!,\"\")=\"\",\"\",IF('Fundos-Lançamentos'!#REF!=\"DESCRIÇÃO\",\"\",'Fundos-Lançamentos'!#REF!))","v":""}]
[{"$f":"IF(IFERROR('Fundos-Lançamentos'!#REF!,\"\")=\"\",\"\",IF('Fundos-Lançamentos'!#REF!=\"DESCRIÇÃO\",\"\",'Fundos-Lançamentos'!#REF!))","v":""}]
[{"$f":"IF(IFERROR('Fundos-Lançamentos'!#REF!,\"\")=\"\",\"\",IF('Fundos-Lançamentos'!#REF!=\"DESCRIÇÃO\",\"\",'Fundos-Lançamentos'!#REF!))","v":""}]
[{"$f":"IF(IFERROR('Fundos-Lançamentos'!#REF!,\"\")=\"\",\"\",IF('Fundos-Lançamentos'!#REF!=\"DESCRIÇÃO\",\"\",'Fundos-Lançamentos'!#REF!))","v":""}]
[{"$f":"IF(IFERROR('Fundos-Lançamentos'!#REF!,\"\")=\"\",\"\",IF('Fundos-Lançamentos'!#REF!=\"DESCRIÇÃO\",\"\",'Fundos-Lançamentos'!#REF!))","v":""}]
[{"$f":"IF(IFERROR('Fundos-Lançamentos'!#REF!,\"\")=\"\",\"\",IF('Fundos-Lançamentos'!#REF!=\"DESCRIÇÃO\",\"\",'Fundos-Lançamentos'!#REF!))","v":""}]
[{"$f":"IF(IFERROR('Fundos-Lançamentos'!#REF!,\"\")=\"\",\"\",IF('Fundos-Lançamentos'!#REF!=\"DESCRIÇÃO\",\"\",'Fundos-Lançamentos'!#REF!))","v":""}]
[{"$f":"IF(IFERROR('Fundos-Lançamentos'!#REF!,\"\")=\"\",\"\",IF('Fundos-Lançamentos'!#REF!=\"DESCRIÇÃO\",\"\",'Fundos-Lançamentos'!#REF!))","v":""}]
[{"$f":"IF(IFERROR('Fundos-Lançamentos'!#REF!,\"\")=\"\",\"\",IF('Fundos-Lançamentos'!#REF!=\"DESCRIÇÃO\",\"\",'Fundos-Lançamentos'!#REF!))","v":""}]
[{"$f":"IF(IFERROR('Fundos-Lançamentos'!#REF!,\"\")=\"\",\"\",IF('Fundos-Lançamentos'!#REF!=\"DESCRIÇÃO\",\"\",'Fundos-Lançamentos'!#REF!))","v":""}]
[{"$f":"IF(IFERROR('Fundos-Lançamentos'!#REF!,\"\")=\"\",\"\",IF('Fundos-Lançamentos'!#REF!=\"DESCRIÇÃO\",\"\",'Fundos-Lançamentos'!#REF!))","v":""}]
[{"$f":"IF(IFERROR('Fundos-Lançamentos'!#REF!,\"\")=\"\",\"\",IF('Fundos-Lançamentos'!#REF!=\"DESCRIÇÃO\",\"\",'Fundos-Lançamentos'!#REF!))","v":""}]
[{"$f":"IF(IFERROR('Fundos-Lançamentos'!#REF!,\"\")=\"\",\"\",IF('Fundos-Lançamentos'!#REF!=\"DESCRIÇÃO\",\"\",'Fundos-Lançamentos'!#REF!))","v":""}]
[{"$f":"IF(IFERROR('Fundos-Lançamentos'!#REF!,\"\")=\"\",\"\",IF('Fundos-Lançamentos'!#REF!=\"DESCRIÇÃO\",\"\",'Fundos-Lançamentos'!#REF!))","v":""}]
[{"$f":"IF(IFERROR('Fundos-Lançamentos'!#REF!,\"\")=\"\",\"\",IF('Fundos-Lançamentos'!#REF!=\"DESCRIÇÃO\",\"\",'Fundos-Lançamentos'!#REF!))","v":""}]
[{"$f":"IF(IFERROR('Fundos-Lançamentos'!#REF!,\"\")=\"\",\"\",IF('Fundos-Lançamentos'!#REF!=\"DESCRIÇÃO\",\"\",'Fundos-Lançamentos'!#REF!))","v":""}]
[{"$f":"IF(IFERROR('Fundos-Lançamentos'!#REF!,\"\")=\"\",\"\",IF('Fundos-Lançamentos'!#REF!=\"DESCRIÇÃO\",\"\",'Fundos-Lançamentos'!#REF!))","v":""}]
[{"$f":"IF(IFERROR('Fundos-Lançamentos'!#REF!,\"\")=\"\",\"\",IF('Fundos-Lançamentos'!#REF!=\"DESCRIÇÃO\",\"\",'Fundos-Lançamentos'!#REF!))","v":""}]
[{"$f":"IF(IFERROR('Fundos-Lançamentos'!#REF!,\"\")=\"\",\"\",IF('Fundos-Lançamentos'!#REF!=\"DESCRIÇÃO\",\"\",'Fundos-Lançamentos'!#REF!))","v":""}]
[{"$f":"IF(IFERROR('Fundos-Lançamentos'!#REF!,\"\")=\"\",\"\",IF('Fundos-Lançamentos'!#REF!=\"DESCRIÇÃO\",\"\",'Fundos-Lançamentos'!#REF!))","v":""}]
[{"$f":"IF(IFERROR('Fundos-Lançamentos'!#REF!,\"\")=\"\",\"\",IF('Fundos-Lançamentos'!#REF!=\"DESCRIÇÃO\",\"\",'Fundos-Lançamentos'!#REF!))","v":""}]
[{"$f":"IF(IFERROR('Fundos-Lançamentos'!#REF!,\"\")=\"\",\"\",IF('Fundos-Lançamentos'!#REF!=\"DESCRIÇÃO\",\"\",'Fundos-Lançamentos'!#REF!))","v":""}]
[{"$f":"IF(IFERROR('Fundos-Lançamentos'!#REF!,\"\")=\"\",\"\",IF('Fundos-Lançamentos'!#REF!=\"DESCRIÇÃO\",\"\",'Fundos-Lançamentos'!#REF!))","v":""}]
[{"$f":"IF(IFERROR('Fundos-Lançamentos'!#REF!,\"\")=\"\",\"\",IF('Fundos-Lançamentos'!#REF!=\"DESCRIÇÃO\",\"\",'Fundos-Lançamentos'!#REF!))","v":""}]
[{"$f":"IF(IFERROR('Fundos-Lançamentos'!#REF!,\"\")=\"\",\"\",IF('Fundos-Lançamentos'!#REF!=\"DESCRIÇÃO\",\"\",'Fundos-Lançamentos'!#REF!))","v":""}]
[{"$f":"IF(IFERROR('Fundos-Lançamentos'!#REF!,\"\")=\"\",\"\",IF('Fundos-Lançamentos'!#REF!=\"DESCRIÇÃO\",\"\",'Fundos-Lançamentos'!#REF!))","v":""}]
[{"$f":"IF(IFERROR('Fundos-Lançamentos'!#REF!,\"\")=\"\",\"\",IF('Fundos-Lançamentos'!#REF!=\"DESCRIÇÃO\",\"\",'Fundos-Lançamentos'!#REF!))","v":""}]
[{"$f":"IF(IFERROR('Fundos-Lançamentos'!#REF!,\"\")=\"\",\"\",IF('Fundos-Lançamentos'!#REF!=\"DESCRIÇÃO\",\"\",'Fundos-Lançamentos'!#REF!))","v":""}]
[{"$f":"IF(IFERROR('Fundos-Lançamentos'!#REF!,\"\")=\"\",\"\",IF('Fundos-Lançamentos'!#REF!=\"DESCRIÇÃO\",\"\",'Fundos-Lançamentos'!#REF!))","v":""}]
[{"$f":"IF(IFERROR('Fundos-Lançamentos'!#REF!,\"\")=\"\",\"\",IF('Fundos-Lançamentos'!#REF!=\"DESCRIÇÃO\",\"\",'Fundos-Lançamentos'!#REF!))","v":""}]
[{"$f":"IF(IFERROR('Fundos-Lançamentos'!#REF!,\"\")=\"\",\"\",IF('Fundos-Lançamentos'!#REF!=\"DESCRIÇÃO\",\"\",'Fundos-Lançamentos'!#REF!))","v":""}]
[{"$f":"IF(IFERROR('Fundos-Lançamentos'!#REF!,\"\")=\"\",\"\",IF('Fundos-Lançamentos'!#REF!=\"DESCRIÇÃO\",\"\",'Fundos-Lançamentos'!#REF!))","v":""}]
[{"$f":"IF(IFERROR('Fundos-Lançamentos'!#REF!,\"\")=\"\",\"\",IF('Fundos-Lançamentos'!#REF!=\"DESCRIÇÃO\",\"\",'Fundos-Lançamentos'!#REF!))","v":""}]
[{"$f":"IF(IFERROR('Fundos-Lançamentos'!#REF!,\"\")=\"\",\"\",IF('Fundos-Lançamentos'!#REF!=\"DESCRIÇÃO\",\"\",'Fundos-Lançamentos'!#REF!))","v":""}]
[{"$f":"IF(IFERROR('Fundos-Lançamentos'!#REF!,\"\")=\"\",\"\",IF('Fundos-Lançamentos'!#REF!=\"DESCRIÇÃO\",\"\",'Fundos-Lançamentos'!#REF!))","v":""}]
[{"$f":"IF(IFERROR('Fundos-Lançamentos'!#REF!,\"\")=\"\",\"\",IF('Fundos-Lançamentos'!#REF!=\"DESCRIÇÃO\",\"\",'Fundos-Lançamentos'!#REF!))","v":""}]
[{"$f":"IF(IFERROR('Fundos-Lançamentos'!#REF!,\"\")=\"\",\"\",IF('Fundos-Lançamentos'!#REF!=\"DESCRIÇÃO\",\"\",'Fundos-Lançamentos'!#REF!))","v":""}]
[{"$f":"IF(IFERROR('Fundos-Lançamentos'!#REF!,\"\")=\"\",\"\",IF('Fundos-Lançamentos'!#REF!=\"DESCRIÇÃO\",\"\",'Fundos-Lançamentos'!#REF!))","v":""}]
[{"$f":"IF(IFERROR('Fundos-Lançamentos'!#REF!,\"\")=\"\",\"\",IF('Fundos-Lançamentos'!#REF!=\"DESCRIÇÃO\",\"\",'Fundos-Lançamentos'!#REF!))","v":""}]
[{"$f":"IF(IFERROR('Fundos-Lançamentos'!#REF!,\"\")=\"\",\"\",IF('Fundos-Lançamentos'!#REF!=\"DESCRIÇÃO\",\"\",'Fundos-Lançamentos'!#REF!))","v":""}]
[{"$f":"IF(IFERROR('Fundos-Lançamentos'!#REF!,\"\")=\"\",\"\",IF('Fundos-Lançamentos'!#REF!=\"DESCRIÇÃO\",\"\",'Fundos-Lançamentos'!#REF!))","v":""}]
[{"$f":"IF(IFERROR('Fundos-Lançamentos'!#REF!,\"\")=\"\",\"\",IF('Fundos-Lançamentos'!#REF!=\"DESCRIÇÃO\",\"\",'Fundos-Lançamentos'!#REF!))","v":""}]
[{"$f":"IF(IFERROR('Fundos-Lançamentos'!#REF!,\"\")=\"\",\"\",IF('Fundos-Lançamentos'!#REF!=\"DESCRIÇÃO\",\"\",'Fundos-Lançamentos'!#REF!))","v":""}]
[{"$f":"IF(IFERROR('Fundos-Lançamentos'!#REF!,\"\")=\"\",\"\",IF('Fundos-Lançamentos'!#REF!=\"DESCRIÇÃO\",\"\",'Fundos-Lançamentos'!#REF!))","v":""}]
[{"$f":"IF(IFERROR('Fundos-Lançamentos'!#REF!,\"\")=\"\",\"\",IF('Fundos-Lançamentos'!#REF!=\"DESCRIÇÃO\",\"\",'Fundos-Lançamentos'!#REF!))","v":""}]
[{"$f":"IF(IFERROR('Fundos-Lançamentos'!#REF!,\"\")=\"\",\"\",IF('Fundos-Lançamentos'!#REF!=\"DESCRIÇÃO\",\"\",'Fundos-Lançamentos'!#REF!))","v":""}]
[{"$f":"IF(IFERROR('Fundos-Lançamentos'!#REF!,\"\")=\"\",\"\",IF('Fundos-Lançamentos'!#REF!=\"DESCRIÇÃO\",\"\",'Fundos-Lançamentos'!#REF!))","v":""}]
[{"$f":"IF(IFERROR('Fundos-Lançamentos'!#REF!,\"\")=\"\",\"\",IF('Fundos-Lançamentos'!#REF!=\"DESCRIÇÃO\",\"\",'Fundos-Lançamentos'!#REF!))","v":""}]
[{"$f":"IF(IFERROR('Fundos-Lançamentos'!#REF!,\"\")=\"\",\"\",IF('Fundos-Lançamentos'!#REF!=\"DESCRIÇÃO\",\"\",'Fundos-Lançamentos'!#REF!))","v":""}]
[{"$f":"IF(IFERROR('Fundos-Lançamentos'!#REF!,\"\")=\"\",\"\",IF('Fundos-Lançamentos'!#REF!=\"DESCRIÇÃO\",\"\",'Fundos-Lançamentos'!#REF!))","v":""}]
[{"$f":"IF(IFERROR('Fundos-Lançamentos'!#REF!,\"\")=\"\",\"\",IF('Fundos-Lançamentos'!#REF!=\"DESCRIÇÃO\",\"\",'Fundos-Lançamentos'!#REF!))","v":""}]
[{"$f":"IF(IFERROR('Fundos-Lançamentos'!#REF!,\"\")=\"\",\"\",IF('Fundos-Lançamentos'!#REF!=\"DESCRIÇÃO\",\"\",'Fundos-Lançamentos'!#REF!))","v":""}]
[{"$f":"IF(IFERROR('Fundos-Lançamentos'!#REF!,\"\")=\"\",\"\",IF('Fundos-Lançamentos'!#REF!=\"DESCRIÇÃO\",\"\",'Fundos-Lançamentos'!#REF!))","v":""}]
[{"$f":"IF(IFERROR('Fundos-Lançamentos'!#REF!,\"\")=\"\",\"\",IF('Fundos-Lançamentos'!#REF!=\"DESCRIÇÃO\",\"\",'Fundos-Lançamentos'!#REF!))","v":""}]
[{"$f":"IF(IFERROR('Fundos-Lançamentos'!#REF!,\"\")=\"\",\"\",IF('Fundos-Lançamentos'!#REF!=\"DESCRIÇÃO\",\"\",'Fundos-Lançamentos'!#REF!))","v":""}]
[{"$f":"IF(IFERROR('Fundos-Lançamentos'!#REF!,\"\")=\"\",\"\",IF('Fundos-Lançamentos'!#REF!=\"DESCRIÇÃO\",\"\",'Fundos-Lançamentos'!#REF!))","v":""}]
[{"$f":"IF(IFERROR('Fundos-Lançamentos'!#REF!,\"\")=\"\",\"\",IF('Fundos-Lançamentos'!#REF!=\"DESCRIÇÃO\",\"\",'Fundos-Lançamentos'!#REF!))","v":""}]
[{"$f":"IF(IFERROR('Fundos-Lançamentos'!#REF!,\"\")=\"\",\"\",IF('Fundos-Lançamentos'!#REF!=\"DESCRIÇÃO\",\"\",'Fundos-Lançamentos'!#REF!))","v":""}]
[{"$f":"IF(IFERROR('Fundos-Lançamentos'!#REF!,\"\")=\"\",\"\",IF('Fundos-Lançamentos'!#REF!=\"DESCRIÇÃO\",\"\",'Fundos-Lançamentos'!#REF!))","v":""}]
[{"$f":"IF(IFERROR('Fundos-Lançamentos'!#REF!,\"\")=\"\",\"\",IF('Fundos-Lançamentos'!#REF!=\"DESCRIÇÃO\",\"\",'Fundos-Lançamentos'!#REF!))","v":""}]
[{"$f":"IF(IFERROR('Fundos-Lançamentos'!#REF!,\"\")=\"\",\"\",IF('Fundos-Lançamentos'!#REF!=\"DESCRIÇÃO\",\"\",'Fundos-Lançamentos'!#REF!))","v":""}]
[{"$f":"IF(IFERROR('Fundos-Lançamentos'!#REF!,\"\")=\"\",\"\",IF('Fundos-Lançamentos'!#REF!=\"DESCRIÇÃO\",\"\",'Fundos-Lançamentos'!#REF!))","v":""}]
[{"$f":"IF(IFERROR('Fundos-Lançamentos'!#REF!,\"\")=\"\",\"\",IF('Fundos-Lançamentos'!#REF!=\"DESCRIÇÃO\",\"\",'Fundos-Lançamentos'!#REF!))","v":""}]
[{"$f":"IF(IFERROR('Fundos-Lançamentos'!#REF!,\"\")=\"\",\"\",IF('Fundos-Lançamentos'!#REF!=\"DESCRIÇÃO\",\"\",'Fundos-Lançamentos'!#REF!))","v":""}]
[{"$f":"IF(IFERROR('Fundos-Lançamentos'!#REF!,\"\")=\"\",\"\",IF('Fundos-Lançamentos'!#REF!=\"DESCRIÇÃO\",\"\",'Fundos-Lançamentos'!#REF!))","v":""}]
[{"$f":"IF(IFERROR('Fundos-Lançamentos'!#REF!,\"\")=\"\",\"\",IF('Fundos-Lançamentos'!#REF!=\"DESCRIÇÃO\",\"\",'Fundos-Lançamentos'!#REF!))","v":""}]
[{"$f":"IF(IFERROR('Fundos-Lançamentos'!#REF!,\"\")=\"\",\"\",IF('Fundos-Lançamentos'!#REF!=\"DESCRIÇÃO\",\"\",'Fundos-Lançamentos'!#REF!))","v":""}]
[{"$f":"IF(IFERROR('Fundos-Lançamentos'!#REF!,\"\")=\"\",\"\",IF('Fundos-Lançamentos'!#REF!=\"DESCRIÇÃO\",\"\",'Fundos-Lançamentos'!#REF!))","v":""}]
[{"$f":"IF(IFERROR('Fundos-Lançamentos'!#REF!,\"\")=\"\",\"\",IF('Fundos-Lançamentos'!#REF!=\"DESCRIÇÃO\",\"\",'Fundos-Lançamentos'!#REF!))","v":""}]
[{"$f":"IF(IFERROR('Fundos-Lançamentos'!#REF!,\"\")=\"\",\"\",IF('Fundos-Lançamentos'!#REF!=\"DESCRIÇÃO\",\"\",'Fundos-Lançamentos'!#REF!))","v":""}]
[{"$f":"IF(IFERROR('Fundos-Lançamentos'!#REF!,\"\")=\"\",\"\",IF('Fundos-Lançamentos'!#REF!=\"DESCRIÇÃO\",\"\",'Fundos-Lançamentos'!#REF!))","v":""}]
[{"$f":"IF(IFERROR('Fundos-Lançamentos'!#REF!,\"\")=\"\",\"\",IF('Fundos-Lançamentos'!#REF!=\"DESCRIÇÃO\",\"\",'Fundos-Lançamentos'!#REF!))","v":""}]
[{"$f":"IF(IFERROR('Fundos-Lançamentos'!#REF!,\"\")=\"\",\"\",IF('Fundos-Lançamentos'!#REF!=\"DESCRIÇÃO\",\"\",'Fundos-Lançamentos'!#REF!))","v":""}]
[{"$f":"IF(IFERROR('Fundos-Lançamentos'!#REF!,\"\")=\"\",\"\",IF('Fundos-Lançamentos'!#REF!=\"DESCRIÇÃO\",\"\",'Fundos-Lançamentos'!#REF!))","v":""}]
[{"$f":"IF(IFERROR('Fundos-Lançamentos'!#REF!,\"\")=\"\",\"\",IF('Fundos-Lançamentos'!#REF!=\"DESCRIÇÃO\",\"\",'Fundos-Lançamentos'!#REF!))","v":""}]
[{"$f":"IF(IFERROR('Fundos-Lançamentos'!#REF!,\"\")=\"\",\"\",IF('Fundos-Lançamentos'!#REF!=\"DESCRIÇÃO\",\"\",'Fundos-Lançamentos'!#REF!))","v":""}]
[{"$f":"IF(IFERROR('Fundos-Lançamentos'!#REF!,\"\")=\"\",\"\",IF('Fundos-Lançamentos'!#REF!=\"DESCRIÇÃO\",\"\",'Fundos-Lançamentos'!#REF!))","v":""}]
[{"$f":"IF(IFERROR('Fundos-Lançamentos'!#REF!,\"\")=\"\",\"\",IF('Fundos-Lançamentos'!#REF!=\"DESCRIÇÃO\",\"\",'Fundos-Lançamentos'!#REF!))","v":""}]
[{"$f":"IF(IFERROR('Fundos-Lançamentos'!#REF!,\"\")=\"\",\"\",IF('Fundos-Lançamentos'!#REF!=\"DESCRIÇÃO\",\"\",'Fundos-Lançamentos'!#REF!))","v":""}]
[{"$f":"IF(IFERROR('Fundos-Lançamentos'!#REF!,\"\")=\"\",\"\",IF('Fundos-Lançamentos'!#REF!=\"DESCRIÇÃO\",\"\",'Fundos-Lançamentos'!#REF!))","v":""}]
[{"$f":"IF(IFERROR('Fundos-Lançamentos'!#REF!,\"\")=\"\",\"\",IF('Fundos-Lançamentos'!#REF!=\"DESCRIÇÃO\",\"\",'Fundos-Lançamentos'!#REF!))","v":""}]
[{"$f":"IF(IFERROR('Fundos-Lançamentos'!#REF!,\"\")=\"\",\"\",IF('Fundos-Lançamentos'!#REF!=\"DESCRIÇÃO\",\"\",'Fundos-Lançamentos'!#REF!))","v":""}]
[{"$f":"IF(IFERROR('Fundos-Lançamentos'!#REF!,\"\")=\"\",\"\",IF('Fundos-Lançamentos'!#REF!=\"DESCRIÇÃO\",\"\",'Fundos-Lançamentos'!#REF!))","v":""}]
[{"$f":"IF(IFERROR('Fundos-Lançamentos'!#REF!,\"\")=\"\",\"\",IF('Fundos-Lançamentos'!#REF!=\"DESCRIÇÃO\",\"\",'Fundos-Lançamentos'!#REF!))","v":""}]
[{"$f":"IF(IFERROR('Fundos-Lançamentos'!#REF!,\"\")=\"\",\"\",IF('Fundos-Lançamentos'!#REF!=\"DESCRIÇÃO\",\"\",'Fundos-Lançamentos'!#REF!))","v":""}]
[{"$f":"IF(IFERROR('Fundos-Lançamentos'!#REF!,\"\")=\"\",\"\",IF('Fundos-Lançamentos'!#REF!=\"DESCRIÇÃO\",\"\",'Fundos-Lançamentos'!#REF!))","v":""}]
[{"$f":"IF(IFERROR('Fundos-Lançamentos'!#REF!,\"\")=\"\",\"\",IF('Fundos-Lançamentos'!#REF!=\"DESCRIÇÃO\",\"\",'Fundos-Lançamentos'!#REF!))","v":""}]
[{"$f":"IF(IFERROR('Fundos-Lançamentos'!#REF!,\"\")=\"\",\"\",IF('Fundos-Lançamentos'!#REF!=\"DESCRIÇÃO\",\"\",'Fundos-Lançamentos'!#REF!))","v":""}]
[{"$f":"IF(IFERROR('Fundos-Lançamentos'!#REF!,\"\")=\"\",\"\",IF('Fundos-Lançamentos'!#REF!=\"DESCRIÇÃO\",\"\",'Fundos-Lançamentos'!#REF!))","v":""}]
[{"$f":"IF(IFERROR('Fundos-Lançamentos'!#REF!,\"\")=\"\",\"\",IF('Fundos-Lançamentos'!#REF!=\"DESCRIÇÃO\",\"\",'Fundos-Lançamentos'!#REF!))","v":""}]
[{"$f":"IF(IFERROR('Fundos-Lançamentos'!#REF!,\"\")=\"\",\"\",IF('Fundos-Lançamentos'!#REF!=\"DESCRIÇÃO\",\"\",'Fundos-Lançamentos'!#REF!))","v":""}]
[{"$f":"IF(IFERROR('Fundos-Lançamentos'!#REF!,\"\")=\"\",\"\",IF('Fundos-Lançamentos'!#REF!=\"DESCRIÇÃO\",\"\",'Fundos-Lançamentos'!#REF!))","v":""}]
[{"$f":"IF(IFERROR('Fundos-Lançamentos'!#REF!,\"\")=\"\",\"\",IF('Fundos-Lançamentos'!#REF!=\"DESCRIÇÃO\",\"\",'Fundos-Lançamentos'!#REF!))","v":""}]
[{"$f":"IF(IFERROR('Fundos-Lançamentos'!#REF!,\"\")=\"\",\"\",IF('Fundos-Lançamentos'!#REF!=\"DESCRIÇÃO\",\"\",'Fundos-Lançamentos'!#REF!))","v":""}]
[{"$f":"IF(IFERROR('Fundos-Lançamentos'!#REF!,\"\")=\"\",\"\",IF('Fundos-Lançamentos'!#REF!=\"DESCRIÇÃO\",\"\",'Fundos-Lançamentos'!#REF!))","v":""}]
[{"$f":"IF(IFERROR('Fundos-Lançamentos'!#REF!,\"\")=\"\",\"\",IF('Fundos-Lançamentos'!#REF!=\"DESCRIÇÃO\",\"\",'Fundos-Lançamentos'!#REF!))","v":""}]
[{"$f":"IF(IFERROR('Fundos-Lançamentos'!#REF!,\"\")=\"\",\"\",IF('Fundos-Lançamentos'!#REF!=\"DESCRIÇÃO\",\"\",'Fundos-Lançamentos'!#REF!))","v":""}]
[{"$f":"IF(IFERROR('Fundos-Lançamentos'!#REF!,\"\")=\"\",\"\",IF('Fundos-Lançamentos'!#REF!=\"DESCRIÇÃO\",\"\",'Fundos-Lançamentos'!#REF!))","v":""}]
[{"$f":"IF(IFERROR('Fundos-Lançamentos'!#REF!,\"\")=\"\",\"\",IF('Fundos-Lançamentos'!#REF!=\"DESCRIÇÃO\",\"\",'Fundos-Lançamentos'!#REF!))","v":""}]
[{"$f":"IF(IFERROR('Fundos-Lançamentos'!#REF!,\"\")=\"\",\"\",IF('Fundos-Lançamentos'!#REF!=\"DESCRIÇÃO\",\"\",'Fundos-Lançamentos'!#REF!))","v":""}]
[{"$f":"IF(IFERROR('Fundos-Lançamentos'!#REF!,\"\")=\"\",\"\",IF('Fundos-Lançamentos'!#REF!=\"DESCRIÇÃO\",\"\",'Fundos-Lançamentos'!#REF!))","v":""}]
[{"$f":"IF(IFERROR('Fundos-Lançamentos'!#REF!,\"\")=\"\",\"\",IF('Fundos-Lançamentos'!#REF!=\"DESCRIÇÃO\",\"\",'Fundos-Lançamentos'!#REF!))","v":""}]
[{"$f":"IF(IFERROR('Fundos-Lançamentos'!#REF!,\"\")=\"\",\"\",IF('Fundos-Lançamentos'!#REF!=\"DESCRIÇÃO\",\"\",'Fundos-Lançamentos'!#REF!))","v":""}]
[{"$f":"IF(IFERROR('Fundos-Lançamentos'!#REF!,\"\")=\"\",\"\",IF('Fundos-Lançamentos'!#REF!=\"DESCRIÇÃO\",\"\",'Fundos-Lançamentos'!#REF!))","v":""}]
[{"$f":"IF(IFERROR('Fundos-Lançamentos'!#REF!,\"\")=\"\",\"\",IF('Fundos-Lançamentos'!#REF!=\"DESCRIÇÃO\",\"\",'Fundos-Lançamentos'!#REF!))","v":""}]
[{"$f":"IF(IFERROR('Fundos-Lançamentos'!#REF!,\"\")=\"\",\"\",IF('Fundos-Lançamentos'!#REF!=\"DESCRIÇÃO\",\"\",'Fundos-Lançamentos'!#REF!))","v":""}]
[{"$f":"IF(IFERROR('Fundos-Lançamentos'!#REF!,\"\")=\"\",\"\",IF('Fundos-Lançamentos'!#REF!=\"DESCRIÇÃO\",\"\",'Fundos-Lançamentos'!#REF!))","v":""}]
[{"$f":"IF(IFERROR('Fundos-Lançamentos'!#REF!,\"\")=\"\",\"\",IF('Fundos-Lançamentos'!#REF!=\"DESCRIÇÃO\",\"\",'Fundos-Lançamentos'!#REF!))","v":""}]
[{"$f":"IF(IFERROR('Fundos-Lançamentos'!#REF!,\"\")=\"\",\"\",IF('Fundos-Lançamentos'!#REF!=\"DESCRIÇÃO\",\"\",'Fundos-Lançamentos'!#REF!))","v":""}]
[{"$f":"IF(IFERROR('Fundos-Lançamentos'!#REF!,\"\")=\"\",\"\",IF('Fundos-Lançamentos'!#REF!=\"DESCRIÇÃO\",\"\",'Fundos-Lançamentos'!#REF!))","v":""}]
[{"$f":"IF(IFERROR('Fundos-Lançamentos'!#REF!,\"\")=\"\",\"\",IF('Fundos-Lançamentos'!#REF!=\"DESCRIÇÃO\",\"\",'Fundos-Lançamentos'!#REF!))","v":""}]
[{"$f":"IF(IFERROR('Fundos-Lançamentos'!#REF!,\"\")=\"\",\"\",IF('Fundos-Lançamentos'!#REF!=\"DESCRIÇÃO\",\"\",'Fundos-Lançamentos'!#REF!))","v":""}]
[{"$f":"IF(IFERROR('Fundos-Lançamentos'!#REF!,\"\")=\"\",\"\",IF('Fundos-Lançamentos'!#REF!=\"DESCRIÇÃO\",\"\",'Fundos-Lançamentos'!#REF!))","v":""}]
[{"$f":"IF(IFERROR('Fundos-Lançamentos'!#REF!,\"\")=\"\",\"\",IF('Fundos-Lançamentos'!#REF!=\"DESCRIÇÃO\",\"\",'Fundos-Lançamentos'!#REF!))","v":""}]
[{"$f":"IF(IFERROR('Fundos-Lançamentos'!#REF!,\"\")=\"\",\"\",IF('Fundos-Lançamentos'!#REF!=\"DESCRIÇÃO\",\"\",'Fundos-Lançamentos'!#REF!))","v":""}]
[{"$f":"IF(IFERROR('Fundos-Lançamentos'!#REF!,\"\")=\"\",\"\",IF('Fundos-Lançamentos'!#REF!=\"DESCRIÇÃO\",\"\",'Fundos-Lançamentos'!#REF!))","v":""}]
[{"$f":"IF(IFERROR('Fundos-Lançamentos'!#REF!,\"\")=\"\",\"\",IF('Fundos-Lançamentos'!#REF!=\"DESCRIÇÃO\",\"\",'Fundos-Lançamentos'!#REF!))","v":""}]
[{"$f":"IF(IFERROR('Fundos-Lançamentos'!#REF!,\"\")=\"\",\"\",IF('Fundos-Lançamentos'!#REF!=\"DESCRIÇÃO\",\"\",'Fundos-Lançamentos'!#REF!))","v":""}]
[{"$f":"IF(IFERROR('Fundos-Lançamentos'!#REF!,\"\")=\"\",\"\",IF('Fundos-Lançamentos'!#REF!=\"DESCRIÇÃO\",\"\",'Fundos-Lançamentos'!#REF!))","v":""}]
[{"$f":"IF(IFERROR('Fundos-Lançamentos'!#REF!,\"\")=\"\",\"\",IF('Fundos-Lançamentos'!#REF!=\"DESCRIÇÃO\",\"\",'Fundos-Lançamentos'!#REF!))","v":""}]
[{"$f":"IF(IFERROR('Fundos-Lançamentos'!#REF!,\"\")=\"\",\"\",IF('Fundos-Lançamentos'!#REF!=\"DESCRIÇÃO\",\"\",'Fundos-Lançamentos'!#REF!))","v":""}]
[{"$f":"IF(IFERROR('Fundos-Lançamentos'!#REF!,\"\")=\"\",\"\",IF('Fundos-Lançamentos'!#REF!=\"DESCRIÇÃO\",\"\",'Fundos-Lançamentos'!#REF!))","v":""}]
[{"$f":"IF(IFERROR('Fundos-Lançamentos'!#REF!,\"\")=\"\",\"\",IF('Fundos-Lançamentos'!#REF!=\"DESCRIÇÃO\",\"\",'Fundos-Lançamentos'!#REF!))","v":""}]
[{"$f":"IF(IFERROR('Fundos-Lançamentos'!#REF!,\"\")=\"\",\"\",IF('Fundos-Lançamentos'!#REF!=\"DESCRIÇÃO\",\"\",'Fundos-Lançamentos'!#REF!))","v":""}]
[{"$f":"IF(IFERROR('Fundos-Lançamentos'!#REF!,\"\")=\"\",\"\",IF('Fundos-Lançamentos'!#REF!=\"DESCRIÇÃO\",\"\",'Fundos-Lançamentos'!#REF!))","v":""}]
[{"$f":"IF(IFERROR('Fundos-Lançamentos'!#REF!,\"\")=\"\",\"\",IF('Fundos-Lançamentos'!#REF!=\"DESCRIÇÃO\",\"\",'Fundos-Lançamentos'!#REF!))","v":""}]
[{"$f":"IF(IFERROR('Fundos-Lançamentos'!#REF!,\"\")=\"\",\"\",IF('Fundos-Lançamentos'!#REF!=\"DESCRIÇÃO\",\"\",'Fundos-Lançamentos'!#REF!))","v":""}]
[{"$f":"IF(IFERROR('Fundos-Lançamentos'!#REF!,\"\")=\"\",\"\",IF('Fundos-Lançamentos'!#REF!=\"DESCRIÇÃO\",\"\",'Fundos-Lançamentos'!#REF!))","v":""}]
[{"$f":"IF(IFERROR('Fundos-Lançamentos'!#REF!,\"\")=\"\",\"\",IF('Fundos-Lançamentos'!#REF!=\"DESCRIÇÃO\",\"\",'Fundos-Lançamentos'!#REF!))","v":""}]
[{"$f":"IF(IFERROR('Fundos-Lançamentos'!#REF!,\"\")=\"\",\"\",IF('Fundos-Lançamentos'!#REF!=\"DESCRIÇÃO\",\"\",'Fundos-Lançamentos'!#REF!))","v":""}]
[{"$f":"IF(IFERROR('Fundos-Lançamentos'!#REF!,\"\")=\"\",\"\",IF('Fundos-Lançamentos'!#REF!=\"DESCRIÇÃO\",\"\",'Fundos-Lançamentos'!#REF!))","v":""}]
[{"$f":"IF(IFERROR('Fundos-Lançamentos'!#REF!,\"\")=\"\",\"\",IF('Fundos-Lançamentos'!#REF!=\"DESCRIÇÃO\",\"\",'Fundos-Lançamentos'!#REF!))","v":""}]
[{"$f":"IF(IFERROR('Fundos-Lançamentos'!#REF!,\"\")=\"\",\"\",IF('Fundos-Lançamentos'!#REF!=\"DESCRIÇÃO\",\"\",'Fundos-Lançamentos'!#REF!))","v":""}]
[{"$f":"IF(IFERROR('Fundos-Lançamentos'!#REF!,\"\")=\"\",\"\",IF('Fundos-Lançamentos'!#REF!=\"DESCRIÇÃO\",\"\",'Fundos-Lançamentos'!#REF!))","v":""}]
[{"$f":"IF(IFERROR('Fundos-Lançamentos'!#REF!,\"\")=\"\",\"\",IF('Fundos-Lançamentos'!#REF!=\"DESCRIÇÃO\",\"\",'Fundos-Lançamentos'!#REF!))","v":""}]
[{"$f":"IF(IFERROR('Fundos-Lançamentos'!#REF!,\"\")=\"\",\"\",IF('Fundos-Lançamentos'!#REF!=\"DESCRIÇÃO\",\"\",'Fundos-Lançamentos'!#REF!))","v":""}]
[{"$f":"IF(IFERROR('Fundos-Lançamentos'!#REF!,\"\")=\"\",\"\",IF('Fundos-Lançamentos'!#REF!=\"DESCRIÇÃO\",\"\",'Fundos-Lançamentos'!#REF!))","v":""}]
[{"$f":"IF(IFERROR('Fundos-Lançamentos'!#REF!,\"\")=\"\",\"\",IF('Fundos-Lançamentos'!#REF!=\"DESCRIÇÃO\",\"\",'Fundos-Lançamentos'!#REF!))","v":""}]
[{"$f":"IF(IFERROR('Fundos-Lançamentos'!#REF!,\"\")=\"\",\"\",IF('Fundos-Lançamentos'!#REF!=\"DESCRIÇÃO\",\"\",'Fundos-Lançamentos'!#REF!))","v":""}]
[{"$f":"IF(IFERROR('Fundos-Lançamentos'!#REF!,\"\")=\"\",\"\",IF('Fundos-Lançamentos'!#REF!=\"DESCRIÇÃO\",\"\",'Fundos-Lançamentos'!#REF!))","v":""}]
[{"$f":"IF(IFERROR('Fundos-Lançamentos'!#REF!,\"\")=\"\",\"\",IF('Fundos-Lançamentos'!#REF!=\"DESCRIÇÃO\",\"\",'Fundos-Lançamentos'!#REF!))","v":""}]
[{"$f":"IF(IFERROR('Fundos-Lançamentos'!#REF!,\"\")=\"\",\"\",IF('Fundos-Lançamentos'!#REF!=\"DESCRIÇÃO\",\"\",'Fundos-Lançamentos'!#REF!))","v":""}]
[{"$f":"IF(IFERROR('Fundos-Lançamentos'!#REF!,\"\")=\"\",\"\",IF('Fundos-Lançamentos'!#REF!=\"DESCRIÇÃO\",\"\",'Fundos-Lançamentos'!#REF!))","v":""}]
[{"$f":"IF(IFERROR('Fundos-Lançamentos'!#REF!,\"\")=\"\",\"\",IF('Fundos-Lançamentos'!#REF!=\"DESCRIÇÃO\",\"\",'Fundos-Lançamentos'!#REF!))","v":""}]
[{"$f":"IF(IFERROR('Fundos-Lançamentos'!#REF!,\"\")=\"\",\"\",IF('Fundos-Lançamentos'!#REF!=\"DESCRIÇÃO\",\"\",'Fundos-Lançamentos'!#REF!))","v":""}]
[{"$f":"IF(IFERROR('Fundos-Lançamentos'!#REF!,\"\")=\"\",\"\",IF('Fundos-Lançamentos'!#REF!=\"DESCRIÇÃO\",\"\",'Fundos-Lançamentos'!#REF!))","v":""}]
[{"$f":"IF(IFERROR('Fundos-Lançamentos'!#REF!,\"\")=\"\",\"\",IF('Fundos-Lançamentos'!#REF!=\"DESCRIÇÃO\",\"\",'Fundos-Lançamentos'!#REF!))","v":""}]
[{"$f":"IF(IFERROR('Fundos-Lançamentos'!#REF!,\"\")=\"\",\"\",IF('Fundos-Lançamentos'!#REF!=\"DESCRIÇÃO\",\"\",'Fundos-Lançamentos'!#REF!))","v":""}]
[{"$f":"IF(IFERROR('Fundos-Lançamentos'!#REF!,\"\")=\"\",\"\",IF('Fundos-Lançamentos'!#REF!=\"DESCRIÇÃO\",\"\",'Fundos-Lançamentos'!#REF!))","v":""}]
[{"$f":"IF(IFERROR('Fundos-Lançamentos'!#REF!,\"\")=\"\",\"\",IF('Fundos-Lançamentos'!#REF!=\"DESCRIÇÃO\",\"\",'Fundos-Lançamentos'!#REF!))","v":""}]
[{"$f":"IF(IFERROR('Fundos-Lançamentos'!#REF!,\"\")=\"\",\"\",IF('Fundos-Lançamentos'!#REF!=\"DESCRIÇÃO\",\"\",'Fundos-Lançamentos'!#REF!))","v":""}]
[{"$f":"IF(IFERROR('Fundos-Lançamentos'!#REF!,\"\")=\"\",\"\",IF('Fundos-Lançamentos'!#REF!=\"DESCRIÇÃO\",\"\",'Fundos-Lançamentos'!#REF!))","v":""}]
[{"$f":"IF(IFERROR('Fundos-Lançamentos'!#REF!,\"\")=\"\",\"\",IF('Fundos-Lançamentos'!#REF!=\"DESCRIÇÃO\",\"\",'Fundos-Lançamentos'!#REF!))","v":""}]
[{"$f":"IF(IFERROR('Fundos-Lançamentos'!#REF!,\"\")=\"\",\"\",IF('Fundos-Lançamentos'!#REF!=\"DESCRIÇÃO\",\"\",'Fundos-Lançamentos'!#REF!))","v":""}]
[{"$f":"IF(IFERROR('Fundos-Lançamentos'!#REF!,\"\")=\"\",\"\",IF('Fundos-Lançamentos'!#REF!=\"DESCRIÇÃO\",\"\",'Fundos-Lançamentos'!#REF!))","v":""}]
[{"$f":"IF(IFERROR('Fundos-Lançamentos'!#REF!,\"\")=\"\",\"\",IF('Fundos-Lançamentos'!#REF!=\"DESCRIÇÃO\",\"\",'Fundos-Lançamentos'!#REF!))","v":""}]
[{"$f":"IF(IFERROR('Fundos-Lançamentos'!#REF!,\"\")=\"\",\"\",IF('Fundos-Lançamentos'!#REF!=\"DESCRIÇÃO\",\"\",'Fundos-Lançamentos'!#REF!))","v":""}]
[{"$f":"IF(IFERROR('Fundos-Lançamentos'!#REF!,\"\")=\"\",\"\",IF('Fundos-Lançamentos'!#REF!=\"DESCRIÇÃO\",\"\",'Fundos-Lançamentos'!#REF!))","v":""}]
[{"$f":"IF(IFERROR('Fundos-Lançamentos'!#REF!,\"\")=\"\",\"\",IF('Fundos-Lançamentos'!#REF!=\"DESCRIÇÃO\",\"\",'Fundos-Lançamentos'!#REF!))","v":""}]
[{"$f":"IF(IFERROR('Fundos-Lançamentos'!#REF!,\"\")=\"\",\"\",IF('Fundos-Lançamentos'!#REF!=\"DESCRIÇÃO\",\"\",'Fundos-Lançamentos'!#REF!))","v":""}]
[{"$f":"IF(IFERROR('Fundos-Lançamentos'!#REF!,\"\")=\"\",\"\",IF('Fundos-Lançamentos'!#REF!=\"DESCRIÇÃO\",\"\",'Fundos-Lançamentos'!#REF!))","v":""}]
[{"$f":"IF(IFERROR('Fundos-Lançamentos'!#REF!,\"\")=\"\",\"\",IF('Fundos-Lançamentos'!#REF!=\"DESCRIÇÃO\",\"\",'Fundos-Lançamentos'!#REF!))","v":""}]
[{"$f":"IF(IFERROR('Fundos-Lançamentos'!#REF!,\"\")=\"\",\"\",IF('Fundos-Lançamentos'!#REF!=\"DESCRIÇÃO\",\"\",'Fundos-Lançamentos'!#REF!))","v":""}]
[{"$f":"IF(IFERROR('Fundos-Lançamentos'!#REF!,\"\")=\"\",\"\",IF('Fundos-Lançamentos'!#REF!=\"DESCRIÇÃO\",\"\",'Fundos-Lançamentos'!#REF!))","v":""}]
[{"$f":"IF(IFERROR('Fundos-Lançamentos'!#REF!,\"\")=\"\",\"\",IF('Fundos-Lançamentos'!#REF!=\"DESCRIÇÃO\",\"\",'Fundos-Lançamentos'!#REF!))","v":""}]
[{"$f":"IF(IFERROR('Fundos-Lançamentos'!#REF!,\"\")=\"\",\"\",IF('Fundos-Lançamentos'!#REF!=\"DESCRIÇÃO\",\"\",'Fundos-Lançamentos'!#REF!))","v":""}]
[{"$f":"IF(IFERROR('Fundos-Lançamentos'!#REF!,\"\")=\"\",\"\",IF('Fundos-Lançamentos'!#REF!=\"DESCRIÇÃO\",\"\",'Fundos-Lançamentos'!#REF!))","v":""}]
[{"$f":"IF(IFERROR('Fundos-Lançamentos'!#REF!,\"\")=\"\",\"\",IF('Fundos-Lançamentos'!#REF!=\"DESCRIÇÃO\",\"\",'Fundos-Lançamentos'!#REF!))","v":""}]
[{"$f":"IF(IFERROR('Fundos-Lançamentos'!#REF!,\"\")=\"\",\"\",IF('Fundos-Lançamentos'!#REF!=\"DESCRIÇÃO\",\"\",'Fundos-Lançamentos'!#REF!))","v":""}]
[{"$f":"IF(IFERROR('Fundos-Lançamentos'!#REF!,\"\")=\"\",\"\",IF('Fundos-Lançamentos'!#REF!=\"DESCRIÇÃO\",\"\",'Fundos-Lançamentos'!#REF!))","v":""}]
[{"$f":"IF(IFERROR('Fundos-Lançamentos'!#REF!,\"\")=\"\",\"\",IF('Fundos-Lançamentos'!#REF!=\"DESCRIÇÃO\",\"\",'Fundos-Lançamentos'!#REF!))","v":""}]
[{"$f":"IF(IFERROR('Fundos-Lançamentos'!#REF!,\"\")=\"\",\"\",IF('Fundos-Lançamentos'!#REF!=\"DESCRIÇÃO\",\"\",'Fundos-Lançamentos'!#REF!))","v":""}]
[{"$f":"IF(IFERROR('Fundos-Lançamentos'!#REF!,\"\")=\"\",\"\",IF('Fundos-Lançamentos'!#REF!=\"DESCRIÇÃO\",\"\",'Fundos-Lançamentos'!#REF!))","v":""}]
[{"$f":"IF(IFERROR('Fundos-Lançamentos'!#REF!,\"\")=\"\",\"\",IF('Fundos-Lançamentos'!#REF!=\"DESCRIÇÃO\",\"\",'Fundos-Lançamentos'!#REF!))","v":""}]
[{"$f":"IF(IFERROR('Fundos-Lançamentos'!#REF!,\"\")=\"\",\"\",IF('Fundos-Lançamentos'!#REF!=\"DESCRIÇÃO\",\"\",'Fundos-Lançamentos'!#REF!))","v":""}]
[{"$f":"IF(IFERROR('Fundos-Lançamentos'!#REF!,\"\")=\"\",\"\",IF('Fundos-Lançamentos'!#REF!=\"DESCRIÇÃO\",\"\",'Fundos-Lançamentos'!#REF!))","v":""}]
[{"$f":"IF(IFERROR('Fundos-Lançamentos'!#REF!,\"\")=\"\",\"\",IF('Fundos-Lançamentos'!#REF!=\"DESCRIÇÃO\",\"\",'Fundos-Lançamentos'!#REF!))","v":""}]
[{"$f":"IF(IFERROR('Fundos-Lançamentos'!#REF!,\"\")=\"\",\"\",IF('Fundos-Lançamentos'!#REF!=\"DESCRIÇÃO\",\"\",'Fundos-Lançamentos'!#REF!))","v":""}]
[{"$f":"IF(IFERROR('Fundos-Lançamentos'!#REF!,\"\")=\"\",\"\",IF('Fundos-Lançamentos'!#REF!=\"DESCRIÇÃO\",\"\",'Fundos-Lançamentos'!#REF!))","v":""}]
[{"$f":"IF(IFERROR('Fundos-Lançamentos'!#REF!,\"\")=\"\",\"\",IF('Fundos-Lançamentos'!#REF!=\"DESCRIÇÃO\",\"\",'Fundos-Lançamentos'!#REF!))","v":""}]
[{"$f":"IF(IFERROR('Fundos-Lançamentos'!#REF!,\"\")=\"\",\"\",IF('Fundos-Lançamentos'!#REF!=\"DESCRIÇÃO\",\"\",'Fundos-Lançamentos'!#REF!))","v":""}]
[{"$f":"IF(IFERROR('Fundos-Lançamentos'!#REF!,\"\")=\"\",\"\",IF('Fundos-Lançamentos'!#REF!=\"DESCRIÇÃO\",\"\",'Fundos-Lançamentos'!#REF!))","v":""}]
[{"$f":"IF(IFERROR('Fundos-Lançamentos'!#REF!,\"\")=\"\",\"\",IF('Fundos-Lançamentos'!#REF!=\"DESCRIÇÃO\",\"\",'Fundos-Lançamentos'!#REF!))","v":""}]
[{"$f":"IF(IFERROR('Fundos-Lançamentos'!#REF!,\"\")=\"\",\"\",IF('Fundos-Lançamentos'!#REF!=\"DESCRIÇÃO\",\"\",'Fundos-Lançamentos'!#REF!))","v":""}]
[{"$f":"IF(IFERROR('Fundos-Lançamentos'!#REF!,\"\")=\"\",\"\",IF('Fundos-Lançamentos'!#REF!=\"DESCRIÇÃO\",\"\",'Fundos-Lançamentos'!#REF!))","v":""}]
[{"$f":"IF(IFERROR('Fundos-Lançamentos'!#REF!,\"\")=\"\",\"\",IF('Fundos-Lançamentos'!#REF!=\"DESCRIÇÃO\",\"\",'Fundos-Lançamentos'!#REF!))","v":""}]
[{"$f":"IF(IFERROR('Fundos-Lançamentos'!#REF!,\"\")=\"\",\"\",IF('Fundos-Lançamentos'!#REF!=\"DESCRIÇÃO\",\"\",'Fundos-Lançamentos'!#REF!))","v":""}]
[{"$f":"IF(IFERROR('Fundos-Lançamentos'!#REF!,\"\")=\"\",\"\",IF('Fundos-Lançamentos'!#REF!=\"DESCRIÇÃO\",\"\",'Fundos-Lançamentos'!#REF!))","v":""}]
[{"$f":"IF(IFERROR('Fundos-Lançamentos'!#REF!,\"\")=\"\",\"\",IF('Fundos-Lançamentos'!#REF!=\"DESCRIÇÃO\",\"\",'Fundos-Lançamentos'!#REF!))","v":""}]
[{"$f":"IF(IFERROR('Fundos-Lançamentos'!#REF!,\"\")=\"\",\"\",IF('Fundos-Lançamentos'!#REF!=\"DESCRIÇÃO\",\"\",'Fundos-Lançamentos'!#REF!))","v":""}]
[{"$f":"IF(IFERROR('Fundos-Lançamentos'!#REF!,\"\")=\"\",\"\",IF('Fundos-Lançamentos'!#REF!=\"DESCRIÇÃO\",\"\",'Fundos-Lançamentos'!#REF!))","v":""}]
[{"$f":"IF(IFERROR('Fundos-Lançamentos'!#REF!,\"\")=\"\",\"\",IF('Fundos-Lançamentos'!#REF!=\"DESCRIÇÃO\",\"\",'Fundos-Lançamentos'!#REF!))","v":""}]
[{"$f":"IF(IFERROR('Fundos-Lançamentos'!#REF!,\"\")=\"\",\"\",IF('Fundos-Lançamentos'!#REF!=\"DESCRIÇÃO\",\"\",'Fundos-Lançamentos'!#REF!))","v":""}]
[{"$f":"IF(IFERROR('Fundos-Lançamentos'!#REF!,\"\")=\"\",\"\",IF('Fundos-Lançamentos'!#REF!=\"DESCRIÇÃO\",\"\",'Fundos-Lançamentos'!#REF!))","v":""}]
[{"$f":"IF(IFERROR('Fundos-Lançamentos'!#REF!,\"\")=\"\",\"\",IF('Fundos-Lançamentos'!#REF!=\"DESCRIÇÃO\",\"\",'Fundos-Lançamentos'!#REF!))","v":""}]
[{"$f":"IF(IFERROR('Fundos-Lançamentos'!#REF!,\"\")=\"\",\"\",IF('Fundos-Lançamentos'!#REF!=\"DESCRIÇÃO\",\"\",'Fundos-Lançamentos'!#REF!))","v":""}]
[{"$f":"IF(IFERROR('Fundos-Lançamentos'!#REF!,\"\")=\"\",\"\",IF('Fundos-Lançamentos'!#REF!=\"DESCRIÇÃO\",\"\",'Fundos-Lançamentos'!#REF!))","v":""}]
[{"$f":"IF(IFERROR('Fundos-Lançamentos'!#REF!,\"\")=\"\",\"\",IF('Fundos-Lançamentos'!#REF!=\"DESCRIÇÃO\",\"\",'Fundos-Lançamentos'!#REF!))","v":""}]
[{"$f":"IF(IFERROR('Fundos-Lançamentos'!#REF!,\"\")=\"\",\"\",IF('Fundos-Lançamentos'!#REF!=\"DESCRIÇÃO\",\"\",'Fundos-Lançamentos'!#REF!))","v":""}]
[{"$f":"IF(IFERROR('Fundos-Lançamentos'!#REF!,\"\")=\"\",\"\",IF('Fundos-Lançamentos'!#REF!=\"DESCRIÇÃO\",\"\",'Fundos-Lançamentos'!#REF!))","v":""}]
[{"$f":"IF(IFERROR('Fundos-Lançamentos'!#REF!,\"\")=\"\",\"\",IF('Fundos-Lançamentos'!#REF!=\"DESCRIÇÃO\",\"\",'Fundos-Lançamentos'!#REF!))","v":""}]
[{"$f":"IF(IFERROR('Fundos-Lançamentos'!#REF!,\"\")=\"\",\"\",IF('Fundos-Lançamentos'!#REF!=\"DESCRIÇÃO\",\"\",'Fundos-Lançamentos'!#REF!))","v":""}]
[{"$f":"IF(IFERROR('Fundos-Lançamentos'!#REF!,\"\")=\"\",\"\",IF('Fundos-Lançamentos'!#REF!=\"DESCRIÇÃO\",\"\",'Fundos-Lançamentos'!#REF!))","v":""}]
[{"$f":"IF(IFERROR('Fundos-Lançamentos'!#REF!,\"\")=\"\",\"\",IF('Fundos-Lançamentos'!#REF!=\"DESCRIÇÃO\",\"\",'Fundos-Lançamentos'!#REF!))","v":""}]
[{"$f":"IF(IFERROR('Fundos-Lançamentos'!#REF!,\"\")=\"\",\"\",IF('Fundos-Lançamentos'!#REF!=\"DESCRIÇÃO\",\"\",'Fundos-Lançamentos'!#REF!))","v":""}]
[{"$f":"IF(IFERROR('Fundos-Lançamentos'!#REF!,\"\")=\"\",\"\",IF('Fundos-Lançamentos'!#REF!=\"DESCRIÇÃO\",\"\",'Fundos-Lançamentos'!#REF!))","v":""}]
[{"$f":"IF(IFERROR('Fundos-Lançamentos'!#REF!,\"\")=\"\",\"\",IF('Fundos-Lançamentos'!#REF!=\"DESCRIÇÃO\",\"\",'Fundos-Lançamentos'!#REF!))","v":""}]
[{"$f":"IF(IFERROR('Fundos-Lançamentos'!#REF!,\"\")=\"\",\"\",IF('Fundos-Lançamentos'!#REF!=\"DESCRIÇÃO\",\"\",'Fundos-Lançamentos'!#REF!))","v":""}]
[{"$f":"IF(IFERROR('Fundos-Lançamentos'!#REF!,\"\")=\"\",\"\",IF('Fundos-Lançamentos'!#REF!=\"DESCRIÇÃO\",\"\",'Fundos-Lançamentos'!#REF!))","v":""}]
[{"$f":"IF(IFERROR('Fundos-Lançamentos'!#REF!,\"\")=\"\",\"\",IF('Fundos-Lançamentos'!#REF!=\"DESCRIÇÃO\",\"\",'Fundos-Lançamentos'!#REF!))","v":""}]
[{"$f":"IF(IFERROR('Fundos-Lançamentos'!#REF!,\"\")=\"\",\"\",IF('Fundos-Lançamentos'!#REF!=\"DESCRIÇÃO\",\"\",'Fundos-Lançamentos'!#REF!))","v":""}]
[{"$f":"IF(IFERROR('Fundos-Lançamentos'!#REF!,\"\")=\"\",\"\",IF('Fundos-Lançamentos'!#REF!=\"DESCRIÇÃO\",\"\",'Fundos-Lançamentos'!#REF!))","v":""}]
[{"$f":"IF(IFERROR('Fundos-Lançamentos'!#REF!,\"\")=\"\",\"\",IF('Fundos-Lançamentos'!#REF!=\"DESCRIÇÃO\",\"\",'Fundos-Lançamentos'!#REF!))","v":""}]
[{"$f":"IF(IFERROR('Fundos-Lançamentos'!#REF!,\"\")=\"\",\"\",IF('Fundos-Lançamentos'!#REF!=\"DESCRIÇÃO\",\"\",'Fundos-Lançamentos'!#REF!))","v":""}]
[{"$f":"IF(IFERROR('Fundos-Lançamentos'!#REF!,\"\")=\"\",\"\",IF('Fundos-Lançamentos'!#REF!=\"DESCRIÇÃO\",\"\",'Fundos-Lançamentos'!#REF!))","v":""}]
[{"$f":"IF(IFERROR('Fundos-Lançamentos'!#REF!,\"\")=\"\",\"\",IF('Fundos-Lançamentos'!#REF!=\"DESCRIÇÃO\",\"\",'Fundos-Lançamentos'!#REF!))","v":""}]
[{"$f":"IF(IFERROR('Fundos-Lançamentos'!#REF!,\"\")=\"\",\"\",IF('Fundos-Lançamentos'!#REF!=\"DESCRIÇÃO\",\"\",'Fundos-Lançamentos'!#REF!))","v":""}]
[{"$f":"IF(IFERROR('Fundos-Lançamentos'!#REF!,\"\")=\"\",\"\",IF('Fundos-Lançamentos'!#REF!=\"DESCRIÇÃO\",\"\",'Fundos-Lançamentos'!#REF!))","v":""}]
[{"$f":"IF(IFERROR('Fundos-Lançamentos'!#REF!,\"\")=\"\",\"\",IF('Fundos-Lançamentos'!#REF!=\"DESCRIÇÃO\",\"\",'Fundos-Lançamentos'!#REF!))","v":""}]
[{"$f":"IF(IFERROR('Fundos-Lançamentos'!#REF!,\"\")=\"\",\"\",IF('Fundos-Lançamentos'!#REF!=\"DESCRIÇÃO\",\"\",'Fundos-Lançamentos'!#REF!))","v":""}]
[{"$f":"IF(IFERROR('Fundos-Lançamentos'!#REF!,\"\")=\"\",\"\",IF('Fundos-Lançamentos'!#REF!=\"DESCRIÇÃO\",\"\",'Fundos-Lançamentos'!#REF!))","v":""}]
[{"$f":"IF(IFERROR('Fundos-Lançamentos'!#REF!,\"\")=\"\",\"\",IF('Fundos-Lançamentos'!#REF!=\"DESCRIÇÃO\",\"\",'Fundos-Lançamentos'!#REF!))","v":""}]
[{"$f":"IF(IFERROR('Fundos-Lançamentos'!#REF!,\"\")=\"\",\"\",IF('Fundos-Lançamentos'!#REF!=\"DESCRIÇÃO\",\"\",'Fundos-Lançamentos'!#REF!))","v":""}]
[{"$f":"IF(IFERROR('Fundos-Lançamentos'!#REF!,\"\")=\"\",\"\",IF('Fundos-Lançamentos'!#REF!=\"DESCRIÇÃO\",\"\",'Fundos-Lançamentos'!#REF!))","v":""}]
[{"$f":"IF(IFERROR('Fundos-Lançamentos'!#REF!,\"\")=\"\",\"\",IF('Fundos-Lançamentos'!#REF!=\"DESCRIÇÃO\",\"\",'Fundos-Lançamentos'!#REF!))","v":""}]
[{"$f":"IF(IFERROR('Fundos-Lançamentos'!#REF!,\"\")=\"\",\"\",IF('Fundos-Lançamentos'!#REF!=\"DESCRIÇÃO\",\"\",'Fundos-Lançamentos'!#REF!))","v":""}]
[{"$f":"IF(IFERROR('Fundos-Lançamentos'!#REF!,\"\")=\"\",\"\",IF('Fundos-Lançamentos'!#REF!=\"DESCRIÇÃO\",\"\",'Fundos-Lançamentos'!#REF!))","v":""}]
[{"$f":"IF(IFERROR('Fundos-Lançamentos'!#REF!,\"\")=\"\",\"\",IF('Fundos-Lançamentos'!#REF!=\"DESCRIÇÃO\",\"\",'Fundos-Lançamentos'!#REF!))","v":""}]
[{"$f":"IF(IFERROR('Fundos-Lançamentos'!#REF!,\"\")=\"\",\"\",IF('Fundos-Lançamentos'!#REF!=\"DESCRIÇÃO\",\"\",'Fundos-Lançamentos'!#REF!))","v":""}]
[{"$f":"IF(IFERROR('Fundos-Lançamentos'!#REF!,\"\")=\"\",\"\",IF('Fundos-Lançamentos'!#REF!=\"DESCRIÇÃO\",\"\",'Fundos-Lançamentos'!#REF!))","v":""}]
[{"$f":"IF(IFERROR('Fundos-Lançamentos'!#REF!,\"\")=\"\",\"\",IF('Fundos-Lançamentos'!#REF!=\"DESCRIÇÃO\",\"\",'Fundos-Lançamentos'!#REF!))","v":""}]
[{"$f":"IF(IFERROR('Fundos-Lançamentos'!#REF!,\"\")=\"\",\"\",IF('Fundos-Lançamentos'!#REF!=\"DESCRIÇÃO\",\"\",'Fundos-Lançamentos'!#REF!))","v":""}]
[{"$f":"IF(IFERROR('Fundos-Lançamentos'!#REF!,\"\")=\"\",\"\",IF('Fundos-Lançamentos'!#REF!=\"DESCRIÇÃO\",\"\",'Fundos-Lançamentos'!#REF!))","v":""}]
[{"$f":"IF(IFERROR('Fundos-Lançamentos'!#REF!,\"\")=\"\",\"\",IF('Fundos-Lançamentos'!#REF!=\"DESCRIÇÃO\",\"\",'Fundos-Lançamentos'!#REF!))","v":""}]
[{"$f":"IF(IFERROR('Fundos-Lançamentos'!#REF!,\"\")=\"\",\"\",IF('Fundos-Lançamentos'!#REF!=\"DESCRIÇÃO\",\"\",'Fundos-Lançamentos'!#REF!))","v":""}]
[{"$f":"IF(IFERROR('Fundos-Lançamentos'!#REF!,\"\")=\"\",\"\",IF('Fundos-Lançamentos'!#REF!=\"DESCRIÇÃO\",\"\",'Fundos-Lançamentos'!#REF!))","v":""}]
[{"$f":"IF(IFERROR('Fundos-Lançamentos'!#REF!,\"\")=\"\",\"\",IF('Fundos-Lançamentos'!#REF!=\"DESCRIÇÃO\",\"\",'Fundos-Lançamentos'!#REF!))","v":""}]
[{"$f":"IF(IFERROR('Fundos-Lançamentos'!#REF!,\"\")=\"\",\"\",IF('Fundos-Lançamentos'!#REF!=\"DESCRIÇÃO\",\"\",'Fundos-Lançamentos'!#REF!))","v":""}]
[{"$f":"IF(IFERROR('Fundos-Lançamentos'!#REF!,\"\")=\"\",\"\",IF('Fundos-Lançamentos'!#REF!=\"DESCRIÇÃO\",\"\",'Fundos-Lançamentos'!#REF!))","v":""}]
[{"$f":"IF(IFERROR('Fundos-Lançamentos'!#REF!,\"\")=\"\",\"\",IF('Fundos-Lançamentos'!#REF!=\"DESCRIÇÃO\",\"\",'Fundos-Lançamentos'!#REF!))","v":""}]
[{"$f":"IF(IFERROR('Fundos-Lançamentos'!#REF!,\"\")=\"\",\"\",IF('Fundos-Lançamentos'!#REF!=\"DESCRIÇÃO\",\"\",'Fundos-Lançamentos'!#REF!))","v":""}]
[{"$f":"IF(IFERROR('Fundos-Lançamentos'!#REF!,\"\")=\"\",\"\",IF('Fundos-Lançamentos'!#REF!=\"DESCRIÇÃO\",\"\",'Fundos-Lançamentos'!#REF!))","v":""}]
[{"$f":"IF(IFERROR('Fundos-Lançamentos'!#REF!,\"\")=\"\",\"\",IF('Fundos-Lançamentos'!#REF!=\"DESCRIÇÃO\",\"\",'Fundos-Lançamentos'!#REF!))","v":""}]
[{"$f":"IF(IFERROR('Fundos-Lançamentos'!#REF!,\"\")=\"\",\"\",IF('Fundos-Lançamentos'!#REF!=\"DESCRIÇÃO\",\"\",'Fundos-Lançamentos'!#REF!))","v":""}]
[{"$f":"IF(IFERROR('Fundos-Lançamentos'!#REF!,\"\")=\"\",\"\",IF('Fundos-Lançamentos'!#REF!=\"DESCRIÇÃO\",\"\",'Fundos-Lançamentos'!#REF!))","v":""}]
[{"$f":"IF(IFERROR('Fundos-Lançamentos'!#REF!,\"\")=\"\",\"\",IF('Fundos-Lançamentos'!#REF!=\"DESCRIÇÃO\",\"\",'Fundos-Lançamentos'!#REF!))","v":""}]
[{"$f":"IF(IFERROR('Fundos-Lançamentos'!#REF!,\"\")=\"\",\"\",IF('Fundos-Lançamentos'!#REF!=\"DESCRIÇÃO\",\"\",'Fundos-Lançamentos'!#REF!))","v":""}]
[{"$f":"IF(IFERROR('Fundos-Lançamentos'!#REF!,\"\")=\"\",\"\",IF('Fundos-Lançamentos'!#REF!=\"DESCRIÇÃO\",\"\",'Fundos-Lançamentos'!#REF!))","v":""}]
[{"$f":"IF(IFERROR('Fundos-Lançamentos'!#REF!,\"\")=\"\",\"\",IF('Fundos-Lançamentos'!#REF!=\"DESCRIÇÃO\",\"\",'Fundos-Lançamentos'!#REF!))","v":""}]
[{"$f":"IF(IFERROR('Fundos-Lançamentos'!#REF!,\"\")=\"\",\"\",IF('Fundos-Lançamentos'!#REF!=\"DESCRIÇÃO\",\"\",'Fundos-Lançamentos'!#REF!))","v":""}]
[{"$f":"IF(IFERROR('Fundos-Lançamentos'!#REF!,\"\")=\"\",\"\",IF('Fundos-Lançamentos'!#REF!=\"DESCRIÇÃO\",\"\",'Fundos-Lançamentos'!#REF!))","v":""}]
[{"$f":"IF(IFERROR('Fundos-Lançamentos'!#REF!,\"\")=\"\",\"\",IF('Fundos-Lançamentos'!#REF!=\"DESCRIÇÃO\",\"\",'Fundos-Lançamentos'!#REF!))","v":""}]
[{"$f":"IF(IFERROR('Fundos-Lançamentos'!#REF!,\"\")=\"\",\"\",IF('Fundos-Lançamentos'!#REF!=\"DESCRIÇÃO\",\"\",'Fundos-Lançamentos'!#REF!))","v":""}]
[{"$f":"IF(IFERROR('Fundos-Lançamentos'!#REF!,\"\")=\"\",\"\",IF('Fundos-Lançamentos'!#REF!=\"DESCRIÇÃO\",\"\",'Fundos-Lançamentos'!#REF!))","v":""}]
[{"$f":"IF(IFERROR('Fundos-Lançamentos'!#REF!,\"\")=\"\",\"\",IF('Fundos-Lançamentos'!#REF!=\"DESCRIÇÃO\",\"\",'Fundos-Lançamentos'!#REF!))","v":""}]
[{"$f":"IF(IFERROR('Fundos-Lançamentos'!#REF!,\"\")=\"\",\"\",IF('Fundos-Lançamentos'!#REF!=\"DESCRIÇÃO\",\"\",'Fundos-Lançamentos'!#REF!))","v":""}]
[{"$f":"IF(IFERROR('Fundos-Lançamentos'!#REF!,\"\")=\"\",\"\",IF('Fundos-Lançamentos'!#REF!=\"DESCRIÇÃO\",\"\",'Fundos-Lançamentos'!#REF!))","v":""}]
[{"$f":"IF(IFERROR('Fundos-Lançamentos'!#REF!,\"\")=\"\",\"\",IF('Fundos-Lançamentos'!#REF!=\"DESCRIÇÃO\",\"\",'Fundos-Lançamentos'!#REF!))","v":""}]
[{"$f":"IF(IFERROR('Fundos-Lançamentos'!#REF!,\"\")=\"\",\"\",IF('Fundos-Lançamentos'!#REF!=\"DESCRIÇÃO\",\"\",'Fundos-Lançamentos'!#REF!))","v":""}]
[{"$f":"IF(IFERROR('Fundos-Lançamentos'!#REF!,\"\")=\"\",\"\",IF('Fundos-Lançamentos'!#REF!=\"DESCRIÇÃO\",\"\",'Fundos-Lançamentos'!#REF!))","v":""}]
[{"$f":"IF(IFERROR('Fundos-Lançamentos'!#REF!,\"\")=\"\",\"\",IF('Fundos-Lançamentos'!#REF!=\"DESCRIÇÃO\",\"\",'Fundos-Lançamentos'!#REF!))","v":""}]
[{"$f":"IF(IFERROR('Fundos-Lançamentos'!#REF!,\"\")=\"\",\"\",IF('Fundos-Lançamentos'!#REF!=\"DESCRIÇÃO\",\"\",'Fundos-Lançamentos'!#REF!))","v":""}]
[{"$f":"IF(IFERROR('Fundos-Lançamentos'!#REF!,\"\")=\"\",\"\",IF('Fundos-Lançamentos'!#REF!=\"DESCRIÇÃO\",\"\",'Fundos-Lançamentos'!#REF!))","v":""}]
[{"$f":"IF(IFERROR('Fundos-Lançamentos'!#REF!,\"\")=\"\",\"\",IF('Fundos-Lançamentos'!#REF!=\"DESCRIÇÃO\",\"\",'Fundos-Lançamentos'!#REF!))","v":""}]
[{"$f":"IF(IFERROR('Fundos-Lançamentos'!#REF!,\"\")=\"\",\"\",IF('Fundos-Lançamentos'!#REF!=\"DESCRIÇÃO\",\"\",'Fundos-Lançamentos'!#REF!))","v":""}]
[{"$f":"IF(IFERROR('Fundos-Lançamentos'!#REF!,\"\")=\"\",\"\",IF('Fundos-Lançamentos'!#REF!=\"DESCRIÇÃO\",\"\",'Fundos-Lançamentos'!#REF!))","v":""}]
[{"$f":"IF(IFERROR('Fundos-Lançamentos'!#REF!,\"\")=\"\",\"\",IF('Fundos-Lançamentos'!#REF!=\"DESCRIÇÃO\",\"\",'Fundos-Lançamentos'!#REF!))","v":""}]
[{"$f":"IF(IFERROR('Fundos-Lançamentos'!#REF!,\"\")=\"\",\"\",IF('Fundos-Lançamentos'!#REF!=\"DESCRIÇÃO\",\"\",'Fundos-Lançamentos'!#REF!))","v":""}]
[{"$f":"IF(IFERROR('Fundos-Lançamentos'!#REF!,\"\")=\"\",\"\",IF('Fundos-Lançamentos'!#REF!=\"DESCRIÇÃO\",\"\",'Fundos-Lançamentos'!#REF!))","v":""}]
[{"$f":"IF(IFERROR('Fundos-Lançamentos'!#REF!,\"\")=\"\",\"\",IF('Fundos-Lançamentos'!#REF!=\"DESCRIÇÃO\",\"\",'Fundos-Lançamentos'!#REF!))","v":""}]
[{"$f":"IF(IFERROR('Fundos-Lançamentos'!#REF!,\"\")=\"\",\"\",IF('Fundos-Lançamentos'!#REF!=\"DESCRIÇÃO\",\"\",'Fundos-Lançamentos'!#REF!))","v":""}]
[{"$f":"IF(IFERROR('Fundos-Lançamentos'!#REF!,\"\")=\"\",\"\",IF('Fundos-Lançamentos'!#REF!=\"DESCRIÇÃO\",\"\",'Fundos-Lançamentos'!#REF!))","v":""}]
[{"$f":"IF(IFERROR('Fundos-Lançamentos'!#REF!,\"\")=\"\",\"\",IF('Fundos-Lançamentos'!#REF!=\"DESCRIÇÃO\",\"\",'Fundos-Lançamentos'!#REF!))","v":""}]
[{"$f":"IF(IFERROR('Fundos-Lançamentos'!#REF!,\"\")=\"\",\"\",IF('Fundos-Lançamentos'!#REF!=\"DESCRIÇÃO\",\"\",'Fundos-Lançamentos'!#REF!))","v":""}]
[{"$f":"IF(IFERROR('Fundos-Lançamentos'!#REF!,\"\")=\"\",\"\",IF('Fundos-Lançamentos'!#REF!=\"DESCRIÇÃO\",\"\",'Fundos-Lançamentos'!#REF!))","v":""}]
[{"$f":"IF(IFERROR('Fundos-Lançamentos'!#REF!,\"\")=\"\",\"\",IF('Fundos-Lançamentos'!#REF!=\"DESCRIÇÃO\",\"\",'Fundos-Lançamentos'!#REF!))","v":""}]
[{"$f":"IF(IFERROR('Fundos-Lançamentos'!#REF!,\"\")=\"\",\"\",IF('Fundos-Lançamentos'!#REF!=\"DESCRIÇÃO\",\"\",'Fundos-Lançamentos'!#REF!))","v":""}]
[{"$f":"IF(IFERROR('Fundos-Lançamentos'!#REF!,\"\")=\"\",\"\",IF('Fundos-Lançamentos'!#REF!=\"DESCRIÇÃO\",\"\",'Fundos-Lançamentos'!#REF!))","v":""}]
[{"$f":"IF(IFERROR('Fundos-Lançamentos'!#REF!,\"\")=\"\",\"\",IF('Fundos-Lançamentos'!#REF!=\"DESCRIÇÃO\",\"\",'Fundos-Lançamentos'!#REF!))","v":""}]
[{"$f":"IF(IFERROR('Fundos-Lançamentos'!#REF!,\"\")=\"\",\"\",IF('Fundos-Lançamentos'!#REF!=\"DESCRIÇÃO\",\"\",'Fundos-Lançamentos'!#REF!))","v":""}]
[{"$f":"IF(IFERROR('Fundos-Lançamentos'!#REF!,\"\")=\"\",\"\",IF('Fundos-Lançamentos'!#REF!=\"DESCRIÇÃO\",\"\",'Fundos-Lançamentos'!#REF!))","v":""}]
[{"$f":"IF(IFERROR('Fundos-Lançamentos'!#REF!,\"\")=\"\",\"\",IF('Fundos-Lançamentos'!#REF!=\"DESCRIÇÃO\",\"\",'Fundos-Lançamentos'!#REF!))","v":""}]
[{"$f":"IF(IFERROR('Fundos-Lançamentos'!#REF!,\"\")=\"\",\"\",IF('Fundos-Lançamentos'!#REF!=\"DESCRIÇÃO\",\"\",'Fundos-Lançamentos'!#REF!))","v":""}]
[{"$f":"IF(IFERROR('Fundos-Lançamentos'!#REF!,\"\")=\"\",\"\",IF('Fundos-Lançamentos'!#REF!=\"DESCRIÇÃO\",\"\",'Fundos-Lançamentos'!#REF!))","v":""}]
[{"$f":"IF(IFERROR('Fundos-Lançamentos'!#REF!,\"\")=\"\",\"\",IF('Fundos-Lançamentos'!#REF!=\"DESCRIÇÃO\",\"\",'Fundos-Lançamentos'!#REF!))","v":""}]
[{"$f":"IF(IFERROR('Fundos-Lançamentos'!#REF!,\"\")=\"\",\"\",IF('Fundos-Lançamentos'!#REF!=\"DESCRIÇÃO\",\"\",'Fundos-Lançamentos'!#REF!))","v":""}]
[{"$f":"IF(IFERROR('Fundos-Lançamentos'!#REF!,\"\")=\"\",\"\",IF('Fundos-Lançamentos'!#REF!=\"DESCRIÇÃO\",\"\",'Fundos-Lançamentos'!#REF!))","v":""}]
[{"$f":"IF(IFERROR('Fundos-Lançamentos'!#REF!,\"\")=\"\",\"\",IF('Fundos-Lançamentos'!#REF!=\"DESCRIÇÃO\",\"\",'Fundos-Lançamentos'!#REF!))","v":""}]
[{"$f":"IF(IFERROR('Fundos-Lançamentos'!#REF!,\"\")=\"\",\"\",IF('Fundos-Lançamentos'!#REF!=\"DESCRIÇÃO\",\"\",'Fundos-Lançamentos'!#REF!))","v":""}]
[{"$f":"IF(IFERROR('Fundos-Lançamentos'!#REF!,\"\")=\"\",\"\",IF('Fundos-Lançamentos'!#REF!=\"DESCRIÇÃO\",\"\",'Fundos-Lançamentos'!#REF!))","v":""}]
[{"$f":"IF(IFERROR('Fundos-Lançamentos'!#REF!,\"\")=\"\",\"\",IF('Fundos-Lançamentos'!#REF!=\"DESCRIÇÃO\",\"\",'Fundos-Lançamentos'!#REF!))","v":""}]
[{"$f":"IF(IFERROR('Fundos-Lançamentos'!#REF!,\"\")=\"\",\"\",IF('Fundos-Lançamentos'!#REF!=\"DESCRIÇÃO\",\"\",'Fundos-Lançamentos'!#REF!))","v":""}]
[{"$f":"IF(IFERROR('Fundos-Lançamentos'!#REF!,\"\")=\"\",\"\",IF('Fundos-Lançamentos'!#REF!=\"DESCRIÇÃO\",\"\",'Fundos-Lançamentos'!#REF!))","v":""}]
[{"$f":"IF(IFERROR('Fundos-Lançamentos'!#REF!,\"\")=\"\",\"\",IF('Fundos-Lançamentos'!#REF!=\"DESCRIÇÃO\",\"\",'Fundos-Lançamentos'!#REF!))","v":""}]
[{"$f":"IF(IFERROR('Fundos-Lançamentos'!#REF!,\"\")=\"\",\"\",IF('Fundos-Lançamentos'!#REF!=\"DESCRIÇÃO\",\"\",'Fundos-Lançamentos'!#REF!))","v":""}]
[{"$f":"IF(IFERROR('Fundos-Lançamentos'!#REF!,\"\")=\"\",\"\",IF('Fundos-Lançamentos'!#REF!=\"DESCRIÇÃO\",\"\",'Fundos-Lançamentos'!#REF!))","v":""}]
[{"$f":"IF(IFERROR('Fundos-Lançamentos'!#REF!,\"\")=\"\",\"\",IF('Fundos-Lançamentos'!#REF!=\"DESCRIÇÃO\",\"\",'Fundos-Lançamentos'!#REF!))","v":""}]
[{"$f":"IF(IFERROR('Fundos-Lançamentos'!#REF!,\"\")=\"\",\"\",IF('Fundos-Lançamentos'!#REF!=\"DESCRIÇÃO\",\"\",'Fundos-Lançamentos'!#REF!))","v":""}]
[{"$f":"IF(IFERROR('Fundos-Lançamentos'!#REF!,\"\")=\"\",\"\",IF('Fundos-Lançamentos'!#REF!=\"DESCRIÇÃO\",\"\",'Fundos-Lançamentos'!#REF!))","v":""}]
[{"$f":"IF(IFERROR('Fundos-Lançamentos'!#REF!,\"\")=\"\",\"\",IF('Fundos-Lançamentos'!#REF!=\"DESCRIÇÃO\",\"\",'Fundos-Lançamentos'!#REF!))","v":""}]
[{"$f":"IF(IFERROR('Fundos-Lançamentos'!#REF!,\"\")=\"\",\"\",IF('Fundos-Lançamentos'!#REF!=\"DESCRIÇÃO\",\"\",'Fundos-Lançamentos'!#REF!))","v":""}]
[{"$f":"IF(IFERROR('Fundos-Lançamentos'!#REF!,\"\")=\"\",\"\",IF('Fundos-Lançamentos'!#REF!=\"DESCRIÇÃO\",\"\",'Fundos-Lançamentos'!#REF!))","v":""}]
[{"$f":"IF(IFERROR('Fundos-Lançamentos'!#REF!,\"\")=\"\",\"\",IF('Fundos-Lançamentos'!#REF!=\"DESCRIÇÃO\",\"\",'Fundos-Lançamentos'!#REF!))","v":""}]
[{"$f":"IF(IFERROR('Fundos-Lançamentos'!#REF!,\"\")=\"\",\"\",IF('Fundos-Lançamentos'!#REF!=\"DESCRIÇÃO\",\"\",'Fundos-Lançamentos'!#REF!))","v":""}]
[{"$f":"IF(IFERROR('Fundos-Lançamentos'!#REF!,\"\")=\"\",\"\",IF('Fundos-Lançamentos'!#REF!=\"DESCRIÇÃO\",\"\",'Fundos-Lançamentos'!#REF!))","v":""}]
[{"$f":"IF(IFERROR('Fundos-Lançamentos'!#REF!,\"\")=\"\",\"\",IF('Fundos-Lançamentos'!#REF!=\"DESCRIÇÃO\",\"\",'Fundos-Lançamentos'!#REF!))","v":""}]
[{"$f":"IF(IFERROR('Fundos-Lançamentos'!#REF!,\"\")=\"\",\"\",IF('Fundos-Lançamentos'!#REF!=\"DESCRIÇÃO\",\"\",'Fundos-Lançamentos'!#REF!))","v":""}]
[{"$f":"IF(IFERROR('Fundos-Lançamentos'!#REF!,\"\")=\"\",\"\",IF('Fundos-Lançamentos'!#REF!=\"DESCRIÇÃO\",\"\",'Fundos-Lançamentos'!#REF!))","v":""}]
[{"$f":"IF(IFERROR('Fundos-Lançamentos'!#REF!,\"\")=\"\",\"\",IF('Fundos-Lançamentos'!#REF!=\"DESCRIÇÃO\",\"\",'Fundos-Lançamentos'!#REF!))","v":""}]
[{"$f":"IF(IFERROR('Fundos-Lançamentos'!#REF!,\"\")=\"\",\"\",IF('Fundos-Lançamentos'!#REF!=\"DESCRIÇÃO\",\"\",'Fundos-Lançamentos'!#REF!))","v":""}]
[{"$f":"IF(IFERROR('Fundos-Lançamentos'!#REF!,\"\")=\"\",\"\",IF('Fundos-Lançamentos'!#REF!=\"DESCRIÇÃO\",\"\",'Fundos-Lançamentos'!#REF!))","v":""}]
[{"$f":"IF(IFERROR('Fundos-Lançamentos'!#REF!,\"\")=\"\",\"\",IF('Fundos-Lançamentos'!#REF!=\"DESCRIÇÃO\",\"\",'Fundos-Lançamentos'!#REF!))","v":""}]
[{"$f":"IF(IFERROR('Fundos-Lançamentos'!#REF!,\"\")=\"\",\"\",IF('Fundos-Lançamentos'!#REF!=\"DESCRIÇÃO\",\"\",'Fundos-Lançamentos'!#REF!))","v":""}]
[{"$f":"IF(IFERROR('Fundos-Lançamentos'!#REF!,\"\")=\"\",\"\",IF('Fundos-Lançamentos'!#REF!=\"DESCRIÇÃO\",\"\",'Fundos-Lançamentos'!#REF!))","v":""}]
[{"$f":"IF(IFERROR('Fundos-Lançamentos'!#REF!,\"\")=\"\",\"\",IF('Fundos-Lançamentos'!#REF!=\"DESCRIÇÃO\",\"\",'Fundos-Lançamentos'!#REF!))","v":""}]
[{"$f":"IF(IFERROR('Fundos-Lançamentos'!#REF!,\"\")=\"\",\"\",IF('Fundos-Lançamentos'!#REF!=\"DESCRIÇÃO\",\"\",'Fundos-Lançamentos'!#REF!))","v":""}]
[{"$f":"IF(IFERROR('Fundos-Lançamentos'!#REF!,\"\")=\"\",\"\",IF('Fundos-Lançamentos'!#REF!=\"DESCRIÇÃO\",\"\",'Fundos-Lançamentos'!#REF!))","v":""}]
[{"$f":"IF(IFERROR('Fundos-Lançamentos'!#REF!,\"\")=\"\",\"\",IF('Fundos-Lançamentos'!#REF!=\"DESCRIÇÃO\",\"\",'Fundos-Lançamentos'!#REF!))","v":""}]
[{"$f":"IF(IFERROR('Fundos-Lançamentos'!#REF!,\"\")=\"\",\"\",IF('Fundos-Lançamentos'!#REF!=\"DESCRIÇÃO\",\"\",'Fundos-Lançamentos'!#REF!))","v":""}]
[{"$f":"IF(IFERROR('Fundos-Lançamentos'!#REF!,\"\")=\"\",\"\",IF('Fundos-Lançamentos'!#REF!=\"DESCRIÇÃO\",\"\",'Fundos-Lançamentos'!#REF!))","v":""}]
[{"$f":"IF(IFERROR('Fundos-Lançamentos'!#REF!,\"\")=\"\",\"\",IF('Fundos-Lançamentos'!#REF!=\"DESCRIÇÃO\",\"\",'Fundos-Lançamentos'!#REF!))","v":""}]
[{"$f":"IF(IFERROR('Fundos-Lançamentos'!#REF!,\"\")=\"\",\"\",IF('Fundos-Lançamentos'!#REF!=\"DESCRIÇÃO\",\"\",'Fundos-Lançamentos'!#REF!))","v":""}]
[{"$f":"IF(IFERROR('Fundos-Lançamentos'!#REF!,\"\")=\"\",\"\",IF('Fundos-Lançamentos'!#REF!=\"DESCRIÇÃO\",\"\",'Fundos-Lançamentos'!#REF!))","v":""}]
[{"$f":"IF(IFERROR('Fundos-Lançamentos'!#REF!,\"\")=\"\",\"\",IF('Fundos-Lançamentos'!#REF!=\"DESCRIÇÃO\",\"\",'Fundos-Lançamentos'!#REF!))","v":""}]
[{"$f":"IF(IFERROR('Fundos-Lançamentos'!#REF!,\"\")=\"\",\"\",IF('Fundos-Lançamentos'!#REF!=\"DESCRIÇÃO\",\"\",'Fundos-Lançamentos'!#REF!))","v":""}]
[{"$f":"IF(IFERROR('Fundos-Lançamentos'!#REF!,\"\")=\"\",\"\",IF('Fundos-Lançamentos'!#REF!=\"DESCRIÇÃO\",\"\",'Fundos-Lançamentos'!#REF!))","v":""}]
[{"$f":"IF(IFERROR('Fundos-Lançamentos'!#REF!,\"\")=\"\",\"\",IF('Fundos-Lançamentos'!#REF!=\"DESCRIÇÃO\",\"\",'Fundos-Lançamentos'!#REF!))","v":""}]
[{"$f":"IF(IFERROR('Fundos-Lançamentos'!#REF!,\"\")=\"\",\"\",IF('Fundos-Lançamentos'!#REF!=\"DESCRIÇÃO\",\"\",'Fundos-Lançamentos'!#REF!))","v":""}]
[{"$f":"IF(IFERROR('Fundos-Lançamentos'!#REF!,\"\")=\"\",\"\",IF('Fundos-Lançamentos'!#REF!=\"DESCRIÇÃO\",\"\",'Fundos-Lançamentos'!#REF!))","v":""}]
[{"$f":"IF(IFERROR('Fundos-Lançamentos'!#REF!,\"\")=\"\",\"\",IF('Fundos-Lançamentos'!#REF!=\"DESCRIÇÃO\",\"\",'Fundos-Lançamentos'!#REF!))","v":""}]
[{"$f":"IF(IFERROR('Fundos-Lançamentos'!#REF!,\"\")=\"\",\"\",IF('Fundos-Lançamentos'!#REF!=\"DESCRIÇÃO\",\"\",'Fundos-Lançamentos'!#REF!))","v":""}]
[{"$f":"IF(IFERROR('Fundos-Lançamentos'!#REF!,\"\")=\"\",\"\",IF('Fundos-Lançamentos'!#REF!=\"DESCRIÇÃO\",\"\",'Fundos-Lançamentos'!#REF!))","v":""}]
[{"$f":"IF(IFERROR('Fundos-Lançamentos'!#REF!,\"\")=\"\",\"\",IF('Fundos-Lançamentos'!#REF!=\"DESCRIÇÃO\",\"\",'Fundos-Lançamentos'!#REF!))","v":""}]
[{"$f":"IF(IFERROR('Fundos-Lançamentos'!#REF!,\"\")=\"\",\"\",IF('Fundos-Lançamentos'!#REF!=\"DESCRIÇÃO\",\"\",'Fundos-Lançamentos'!#REF!))","v":""}]
[{"$f":"IF(IFERROR('Fundos-Lançamentos'!#REF!,\"\")=\"\",\"\",IF('Fundos-Lançamentos'!#REF!=\"DESCRIÇÃO\",\"\",'Fundos-Lançamentos'!#REF!))","v":""}]
[{"$f":"IF(IFERROR('Fundos-Lançamentos'!#REF!,\"\")=\"\",\"\",IF('Fundos-Lançamentos'!#REF!=\"DESCRIÇÃO\",\"\",'Fundos-Lançamentos'!#REF!))","v":""}]

{"sheet":"Fundos-Recebidos","index":15,"n_rows":1,"n_cols":5,"rows_kept":1,"cut":false,"hidden":false,"merged":[]}
["DATA","TIPO","VALOR","FUNDO","IRRF"]

{"sheet":"Patrimônio","index":16,"n_rows":163,"n_cols":23,"rows_kept":163,"cut":false,"hidden":false,"merged":[[162,0,162,2],[162,3,162,5],[162,6,162,8],[0,10,0,18],[2,10,2,18],[2,20,2,28],[159,0,159,2],[159,3,159,5],[159,6,159,8],[160,0,160,2],[160,3,160,5],[160,6,160,8],[161,0,161,2],[161,3,161,5],[161,6,161,8],[156,0,156,2],[156,3,156,5],[156,6,156,8],[157,0,157,2],[157,3,157,5],[157,6,157,8],[158,0,158,2],[158,3,158,5],[158,6,158,8],[153,0,153,2],[153,3,153,5],[153,6,153,8],[154,0,154,2],[154,3,154,5],[154,6,154,8],[155,0,155,2],[155,3,155,5],[155,6,155,8],[149,0,149,2],[149,3,149,5],[149,6,149,8],[151,0,151,2],[151,3,151,5],[151,6,151,8],[152,0,152,2],[152,3,152,5],[152,6,152,8],[146,0,146,2],[146,3,146,5],[146,6,146,8],[147,0,147,2],[147,3,147,5],[147,6,147,8],[148,0,148,2],[148,3,148,5],[148,6,148,8],[143,0,143,2],[143,3,143,5],[143,6,143,8],[144,0,144,2],[144,3,144,5],[144,6,144,8],[145,0,145,2],[145,3,145,5],[145,6,145,8],[137,0,137,2],[137,3,137,5],[137,6,137,8],[139,0,139,8],[141,0,141,2],[141,3,141,5],[141,6,141,8],[142,3,142,5],[142,6,142,8],[142,0,142,2],[134,0,134,2],[134,3,134,5],[134,6,134,8],[135,0,135,2],[135,3,135,5],[135,6,135,8],[136,0,136,2],[136,3,136,5],[136,6,136,8],[130,0,130,8],[131,0,131,2],[131,3,131,5],[131,6,131,8],[132,0,132,2],[132,3,132,5],[132,6,132,8],[133,0,133,2],[133,3,133,5],[133,6,133,8],[126,0,126,2],[126,3,126,5],[126,6,126,8],[127,0,127,2],[127,3,127,5],[127,6,127,8],[128,0,128,2],[128,3,128,5],[128,6,128,8],[122,0,122,2],[122,3,122,5],[122,6,122,8],[123,0,123,2],[123,3,123,5],[123,6,123,8],[125,0,125,2],[125,3,125,5],[125,6,125,8],[119,0,119,2],[119,3,119,5],[119,6,119,8],[120,0,120,2],[120,3,120,5],[120,6,120,8],[121,0,121,2],[121,3,121,5],[121,6,121,8],[116,0,116,2],[116,3,116,5],[116,6,116,8],[117,0,117,2],[117,3,117,5],[117,6,117,8],[115,0,115,2],[118,0,118,2],[118,3,118,5],[118,6,118,8],[111,0,111,2],[111,3,111,5],[111,6,111,8],[112,0,112,2],[112,3,112,5],[112,6,112,8],[114,0,114,8],[115,3,115,5],[115,6,115,8],[106,0,106,2],[106,3,106,5],[106,6,106,8],[107,0,107,2],[107,3,107,5],[107,6,107,8],[109,0,109,8],[110,0,110,2],[110,3,110,5],[110,6,110,8],[103,0,103,2],[103,3,103,5],[103,6,103,8],[104,0,104,2],[104,3,104,5],[104,6,104,8],[105,0,105,2],[105,3,105,5],[105,6,105,8],[100,0,100,2],[100,3,100,5],[100,6,100,8],[101,0,101,2],[101,3,101,5],[101,6,101,8],[102,0,102,2],[102,3,102,5],[102,6,102,8],[97,0,97,2],[97,3,97,5],[97,6,97,8],[98,0,98,2],[98,3,98,5],[98,6,98,8],[99,0,99,2],[99,3,99,5],[99,6,99,8],[93,0,93,2],[93,3,93,5],[93,6,93,8],[94,0,94,2],[94,3,94,5],[94,6,94,8],[96,0,96,2],[96,3,96,5],[96,6,96,8],[90,0,90,2],[90,3,90,5],[90,6,90,8],[91,0,91,2],[91,3,91,5],[91,6,91,8],[92,0,92,2],[92,3,92,5],[92,6,92,8],[86,3,86,5],[86,6,86,8],[87,0,87,2],[87,3,87,5],[87,6,87,8],[88,0,88,2],[88,3,88,5],[88,6,88,8],[89,0,89,2],[89,3,89,5],[89,6,89,8],[60,0,60,2],[60,3,60,5],[60,6,60,8],[61,0,61,2],[62,0,62,2],[63,0,63,2],[64,0,64,2],[65,0,65,2],[66,0,66,2],[64,6,64,8],[65,6,65,8],[61,6,61,8],[62,6,62,8],[61,3,61,5],[62,3,62,5],[63,3,63,5],[64,3,64,5],[65,3,65,5],[66,3,66,5],[66,6,66,8],[63,6,63,8],[67,3,67,5],[68,3,68,5],[70,3,70,5],[71,3,71,5],[72,3,72,5],[73,3,73,5],[47,6,47,8],[48,6,48,8],[49,6,49,8],[73,6,73,8],[70,6,70,8],[71,6,71,8],[72,6,72,8],[67,6,67,8],[68,6,68,8],[59,0,59,8],[50,0,50,2],[51,0,51,2],[52,0,52,2],[50,3,50,5],[51,3,51,5],[52,3,52,5],[47,0,47,2],[48,0,48,2],[0,20,0,28],[54,0,54,8],[41,3,41,5],[42,3,42,5],[43,3,43,5],[44,3,44,5],[45,3,45,5],[46,3,46,5],[47,3,47,5],[48,3,48,5],[49,3,49,5],[29,0,29,8],[31,0,31,2],[32,0,32,2],[33,0,33,2],[34,0,34,2],[32,6,32,8],[33,6,33,8],[34,6,34,8],[36,6,36,8],[37,6,37,8],[44,6,44,8],[38,6,38,8],[39,6,39,8],[49,0,49,2],[38,3,38,5],[39,3,39,5],[41,6,41,8],[42,6,42,8],[43,6,43,8],[50,6,50,8],[51,6,51,8],[52,6,52,8],[45,6,45,8],[46,6,46,8],[40,6,40,8],[56,0,56,2],[57,0,57,2],[56,3,56,5],[57,3,57,5],[55,3,55,5],[82,0,82,2],[75,0,75,8],[76,0,76,2],[76,3,76,5],[76,6,76,8],[67,0,67,2],[68,0,68,2],[70,0,70,2],[71,0,71,2],[77,0,77,2],[78,0,78,2],[79,0,79,2],[80,0,80,2],[81,0,81,2],[72,0,72,2],[73,0,73,2],[81,6,81,8],[82,3,82,5],[55,6,55,8],[56,6,56,8],[57,6,57,8],[14,0,14,2],[15,0,15,2],[14,3,14,5],[17,3,17,5],[17,6,17,8],[37,0,37,2],[31,3,31,5],[32,3,32,5],[33,3,33,5],[34,3,34,5],[35,3,35,5],[36,3,36,5],[37,3,37,5],[31,6,31,8],[24,6,24,8],[26,6,26,8],[36,0,36,2],[35,6,35,8],[44,0,44,2],[45,0,45,2],[46,0,46,2],[55,0,55,2],[0,0,0,8],[2,0,2,8],[3,0,3,8],[5,6,5,8],[6,3,6,5],[14,6,14,8],[6,6,6,8],[20,0,20,8],[23,6,23,8],[11,0,11,8],[15,6,15,8],[15,3,15,5],[12,0,12,8],[21,2,21,3],[21,5,21,6],[23,0,23,2],[23,3,23,5],[5,0,5,2],[6,0,6,2],[8,0,8,2],[5,3,5,5],[8,3,8,5],[8,6,8,8],[17,0,17,2],[24,3,24,5],[26,3,26,5],[24,0,24,2],[26,0,26,2],[38,0,38,2],[39,0,39,2],[41,0,41,2],[42,0,42,2],[43,0,43,2],[35,0,35,2],[40,3,40,5],[40,0,40,2],[69,0,69,2],[69,3,69,5],[69,6,69,8],[150,0,150,2],[150,3,150,5],[150,6,150,8],[124,0,124,2],[124,3,124,5],[124,6,124,8],[95,0,95,2],[95,3,95,5],[95,6,95,8],[82,6,82,8],[81,3,81,5],[78,3,78,5],[78,6,78,8],[79,3,79,5],[79,6,79,8],[80,3,80,5],[80,6,80,8],[77,3,77,5],[77,6,77,8],[84,0,84,8],[86,0,86,2]]}
["PATRIMÔNIO",null,null,null,null,null,null,null,null,null,"PROVENTOS",null,null,null,null,null,null,null,null,null,"PROVENTOS"]
[]
["VALORES INVESTIDOS",null,null,null,null,null,null,null,null,null,"AÇÕES",null,"AÇÕES",null,null,null,null,null,null,null,"FII",null,"AÇÕES"]
[{"$f":"rendafixa_in+rendavariavel_in+fundos_in","v":0},null,null,null,null,null,null,null,null,"RENDA FIXA"]
[null,null,null,null,null,null,null,null,null,"FUNDOS DE INVESTIMENTO","Anos","Total",null,null,null,null,null,null,null,null,"Ano","Total"]
[{"$f":"IFERROR(rendafixa_in/investido,0)","v":0},null,null,{"$f":"IFERROR(fundos_in/investido,0)","v":0},null,null,{"$f":"IFERROR(rendavariavel_in/investido,0)","v":0},null,null,"RENDA VARIAVEL","<01/01/1905",null,null,null,null,null,null,null,null,null,"Total Geral"]
["RENDA FIXA",null,null,"FUNDOS DE INVESTIMENTO",null,null,"RENDA VARIÁVEL",null,null,null,"(vazio)"]
[null,null,null,null,null,null,null,null,null,null,"Total Geral"]
[{"$f":"SUM(D33:D45)","v":0},null,null,{"$f":"SUM(D46:D51)","v":0},null,null,{"$f":"SUM(D52:D53)","v":0}]
[]
[]
["VALORES ATUAIS"]
[{"$f":"rendafixa_at+fundos_at+rendavariavel_at","v":0},null,null,null,null,null,null,null,null,"RENDA FIXA"]
[null,null,null,null,null,null,null,null,null,"FUNDOS DE INVESTIMENTO"]
[{"$f":"IF(atual=0,0,rendafixa_at/atual)","v":0},null,null,{"$f":"IF(atual=0,0,fundos_at/atual)","v":0},null,null,{"$f":"IF(atual=0,0,rendavariavel_at/atual)","v":0},null,null,"RENDA VARIAVEL"]
["RENDA FIXA",null,null,"FUNDOS DE INVESTIMENTO",null,null,"RENDA VARIÁVEL"]
[]
[{"$f":"SUM(D88:F100)","v":0},null,null,{"$f":"SUM(D101:F106)","v":0},null,null,{"$f":"SUM(D107:D108)","v":0}]
[]
[]
["VARIAÇÃO"]
[null,null,{"$f":"atual-investido","v":0},null,null,{"$f":"IFERROR(atual/investido-1,0)","v":0}]
[]
[{"$f":"IFERROR(rendafixa_at/rendafixa_in-1,0)","v":0},null,null,{"$f":"IFERROR(fundos_at/fundos_in-1,0)","v":0},null,null,{"$f":"IFERROR(rendavariavel_at/rendavariavel_in-1,0)","v":0},null,null,"RENDA FIXA"]
["RENDA FIXA",null,null,"FUNDOS DE INVESTIMENTO",null,null,"RENDA VARIÁVEL",null,null,"FUNDOS DE INVESTIMENTO"]
[null,null,null,null,null,null,null,null,null,"RENDA VARIAVEL"]
[{"$f":"rendafixa_at-rendafixa_in","v":0},null,null,{"$f":"fundos_at-fundos_in","v":0},null,null,{"$f":"rendavariavel_at-rendavariavel_in","v":0}]
[]
[]
["VALORES INVESTIDOS"]
[]
["TIPO",null,null,"VALOR",null,null,"PARTICIPAÇÃO NO PATRIMÔNIO"]
["LFT",null,null,{"$f":"INDIRECT(CONCATENATE(A33,\"_in\"))","v":0},null,null,{"$f":"IF(investido=0,0,D33/investido)","v":0}]
["LTN",null,null,{"$f":"INDIRECT(CONCATENATE(A34,\"_in\"))","v":0},null,null,0]
["NTNF",null,null,{"$f":"INDIRECT(CONCATENATE(A35,\"_in\"))","v":0},null,null,0]
["NTNB",null,null,{"$f":"INDIRECT(CONCATENATE(A36,\"_in\"))","v":0},null,null,0]
["NTNB-P",null,null,{"$f":"ntnbp_in","v":0},null,null,0]
["LCI",null,null,{"$f":"INDIRECT(CONCATENATE(A38,\"_in\"))","v":0},null,null,0]
["LCA",null,null,0,null,null,0]
["CDB",null,null,0,null,null,0]
["RDB",null,null,0,null,null,{"$f":"IF(investido=0,0,D41/investido)","v":0}]
["CRI",null,null,0,null,null,0]
["DEBENTURE",null,null,0,null,null,0]
["POUPANÇA",null,null,{"$f":"poupanca_in","v":0},null,null,0]
["OUTROS RF",null,null,{"$f":"outrosrf_in","v":0},null,null,0]
["FUNDO DE RENDA FIXA",null,null,{"$f":"frendafixa_in","v":0},null,null,0]
["FUNDO DE AÇÕES",null,null,{"$f":"facoes_in","v":0},null,null,0]
["FUNDO MULTIMERCADO",null,null,{"$f":"fmultimercado_in","v":0},null,null,0]
["FUNDO DE CÂMBIO",null,null,{"$f":"fcambio_in","v":0},null,null,0]
["FUNDO DI",null,null,{"$f":"fdi_in","v":0},null,null,0]
["OUTROS FUNDOS",null,null,{"$f":"foutros_in","v":0},null,null,0]
["AÇÕES",null,null,{"$f":"acoes_in","v":0},null,null,0]
["FII",null,null,{"$f":"fii_in","v":0},null,null,0]
[{"$f":"G24","v":0}]
["RENDA VARIÁVEL"]
["TIPO",null,null,"VALOR",null,null,"%"]
["AÇÕES",null,null,{"$f":"D52","v":0},null,null,{"$f":"D57/SUM(D57:F58)","v":{"$error":"#DIV/0!"}}]
["FII",null,null,{"$f":"D53","v":0},null,null,{"$f":"D58/SUM(D57:F58)","v":{"$error":"#DIV/0!"}}]
[]
["RENDA FIXA"]
["TIPO",null,null,"VALOR",null,null,"%"]
["LFT",null,null,{"$f":"D33","v":0},null,null,{"$f":"D62/SUM($D$62:$D$74)","v":{"$error":"#DIV/0!"}}]
["LTN",null,null,0,null,null,{"$error":"#DIV/0!"}]
["NTNF",null,null,0,null,null,{"$error":"#DIV/0!"}]
["NTNB",null,null,0,null,null,{"$error":"#DIV/0!"}]
["NTNB-P",null,null,0,null,null,{"$error":"#DIV/0!"}]
["LCI",null,null,0,null,null,{"$error":"#DIV/0!"}]
["LCA",null,null,0,null,null,{"$error":"#DIV/0!"}]
["CDB",null,null,0,null,null,{"$error":"#DIV/0!"}]
["RDB",null,null,0,null,null,{"$error":"#DIV/0!"}]
["CRI",null,null,0,null,null,{"$error":"#DIV/0!"}]
["DEBÊNTURE",null,null,0,null,null,{"$error":"#DIV/0!"}]
["POUPANÇA",null,null,0,null,null,{"$error":"#DIV/0!"}]
["OUTROS RF",null,null,0,null,null,{"$error":"#DIV/0!"}]
[]
["FUNDOS"]
["TIPO",null,null,"VALOR",null,null,"%"]
["RENDA FIXA",null,null,{"$f":"D46","v":0},null,null,{"$f":"D78/SUM($D$78:$D$83)","v":{"$error":"#DIV/0!"}}]
["AÇÕES",null,null,0,null,null,{"$f":"D79/SUM($D$78:$D$83)","v":{"$error":"#DIV/0!"}}]
["MULTIMERCADO",null,null,0,null,null,{"$error":"#DIV/0!"}]
["CÂMBIO",null,null,0,null,null,{"$error":"#DIV/0!"}]
["DI",null,null,0,null,null,{"$error":"#DIV/0!"}]
["OUTROS",null,null,0,null,null,{"$error":"#DIV/0!"}]
[]
["VALORES ATUAIS"]
[]
["TIPO",null,null,"VALOR",null,null,"PARTICIPAÇÃO NO PATRIMÔNIO"]
["LFT",null,null,{"$f":"INDIRECT(CONCATENATE(A88,\"_at\"))","v":0},null,null,{"$f":"IF(atual=0,0,D88/atual)","v":0}]
["LTN",null,null,{"$f":"INDIRECT(CONCATENATE(A89,\"_at\"))","v":0},null,null,0]
["NTNF",null,null,{"$f":"INDIRECT(CONCATENATE(A90,\"_at\"))","v":0},null,null,0]
["NTNB",null,null,0,null,null,0]
["NTNB-P",null,null,{"$f":"ntnbp_at","v":0},null,null,0]
["LCI",null,null,{"$f":"INDIRECT(CONCATENATE(A93,\"_at\"))","v":0},null,null,0]
["LCA",null,null,{"$f":"INDIRECT(CONCATENATE(A94,\"_at\"))","v":0},null,null,0]
["CDB",null,null,0,null,null,0]
["RDB",null,null,{"$f":"INDIRECT(CONCATENATE(A96,\"_at\"))","v":0},null,null,{"$f":"IF(atual=0,0,D96/atual)","v":0}]
["CRI",null,null,0,null,null,0]
["DEBENTURE",null,null,0,null,null,0]
["POUPANÇA",null,null,{"$f":"poupanca_at","v":0},null,null,0]
["OUTROS RF",null,null,{"$f":"outrosrf_at","v":0},null,null,0]
["FUNDO DE RENDA FIXA",null,null,{"$f":"frendafixa_at","v":0},null,null,0]
["FUNDO DE AÇÕES",null,null,{"$f":"facoes_at","v":0},null,null,0]
["FUNDO MULTIMERCADO",null,null,{"$f":"fmultimercado_at","v":0},null,null,0]
["FUNDO DE CÂMBIO",null,null,{"$f":"fcambio_at","v":0},null,null,0]
["FUNDO DI",null,null,{"$f":"fdi_at","v":0},null,null,0]
["OUTROS FUNDOS",null,null,{"$f":"foutros_at","v":0},null,null,0]
["AÇÕES",null,null,{"$f":"acoes_at","v":0},null,null,0]
["FII",null,null,{"$f":"fii_at","v":0},null,null,0]
[{"$f":"G79","v":{"$error":"#DIV/0!"}}]
["RENDA VARIÁVEL"]
["TIPO",null,null,"VALOR",null,null,"%"]
["AÇÕES",null,null,{"$f":"D107","v":0},null,null,{"$f":"D112/SUM(D112:F113)","v":{"$error":"#DIV/0!"}}]
["FII",null,null,{"$f":"D108","v":0},null,null,{"$f":"D113/SUM(D112:F113)","v":{"$error":"#DIV/0!"}}]
[]
["RENDA FIXA"]
["TIPO",null,null,"VALOR",null,null,"%"]
["LFT",null,null,{"$f":"D88","v":0},null,null,{"$f":"D117/SUM($D$117:$D$129)","v":{"$error":"#DIV/0!"}}]
["LTN",null,null,0,null,null,{"$error":"#DIV/0!"}]
["NTNF",null,null,0,null,null,{"$error":"#DIV/0!"}]
["NTNB",null,null,0,null,null,{"$error":"#DIV/0!"}]
["NTNB-P",null,null,0,null,null,{"$error":"#DIV/0!"}]
["LCI",null,null,0,null,null,{"$error":"#DIV/0!"}]
["LCA",null,null,0,null,null,{"$error":"#DIV/0!"}]
["CDB",null,null,0,null,null,{"$error":"#DIV/0!"}]
["RDB",null,null,0,null,null,{"$error":"#DIV/0!"}]
["CRI",null,null,0,null,null,{"$error":"#DIV/0!"}]
["DEBÊNTURE",null,null,0,null,null,{"$error":"#DIV/0!"}]
["POUPANÇA",null,null,0,null,null,{"$error":"#DIV/0!"}]
["OUTROS RF",null,null,0,null,null,{"$error":"#DIV/0!"}]
[]
["FUNDOS"]
["TIPO",null,null,"VALOR",null,null,"%"]
["RENDA FIXA",null,null,{"$f":"D101","v":0},null,null,{"$f":"D133/SUM(D$133:F$138)","v":{"$error":"#DIV/0!"}}]
["AÇÕES",null,null,0,null,null,{"$f":"D134/SUM(D$133:F$138)","v":{"$error":"#DIV/0!"}}]
["MULTIMERCADO",null,null,0,null,null,{"$error":"#DIV/0!"}]
["CÂMBIO",null,null,0,null,null,{"$error":"#DIV/0!"}]
["DI",null,null,0,null,null,{"$error":"#DIV/0!"}]
["OUTROS",null,null,0,null,null,{"$error":"#DIV/0!"}]
[]
["VARIAÇÃO"]
[]
["TIPO",null,null,"EM R$",null,null,"EM %"]
["LFT",null,null,{"$f":"D88-D33","v":0},null,null,{"$f":"IF(D143=0,0,D143/D33)","v":0}]
["LTN",null,null,0,null,null,0]
["NTNF",null,null,0,null,null,0]
["NTNB",null,null,0,null,null,0]
["NTNB-P",null,null,0,null,null,0]
["LCI",null,null,0,null,null,0]
["LCA",null,null,0,null,null,0]
["CDB",null,null,0,null,null,0]
["RDB",null,null,0,null,null,0]
["CRI",null,null,0,null,null,0]
["DEBENTURE",null,null,0,null,null,0]
["POUPANÇA",null,null,0,null,null,0]
["OUTROS RF",null,null,0,null,null,0]
["FUNDO DE RENDA FIXA",null,null,0,null,null,0]
["FUNDO DE AÇÕES",null,null,0,null,null,0]
["FUNDO MULTIMERCADO",null,null,0,null,null,0]
["FUNDO DE CÂMBIO",null,null,0,null,null,0]
["FUNDO DI",null,null,0,null,null,0]
["OUTROS FUNDOS",null,null,0,null,null,0]
["AÇÕES",null,null,0,null,null,0]
["FII",null,null,0,null,null,0]

{"sheet":"Configurações","index":17,"n_rows":25,"n_cols":18,"rows_kept":25,"cut":false,"hidden":false,"merged":[[20,10,20,11],[2,1,2,19],[14,11,14,12],[0,1,0,19],[12,8,12,12],[13,11,13,12],[12,14,12,18],[13,14,13,15],[13,17,13,18],[19,10,19,11],[14,8,14,9],[14,14,14,15],[14,17,14,18],[12,4,12,6],[13,3,13,5],[6,4,6,6],[7,3,7,5],[7,6,7,7],[7,8,7,9],[19,2,19,3],[7,11,7,12],[8,8,8,9],[8,11,8,12],[13,6,13,7],[13,8,13,9]]}
[null,"CONFIGURAÇÕES"]
[]
[null,"INSIRA OS VALORES PARA POSSIBILITAR O CÁLCULO AUTOMÁTICO"]
[]
[]
[]
[null,null,null,null,"CORRETAGEM"]
[null,null,"AÇÃO","MERCADO A VISTA",null,null,"MERCADO FRAC.",null,"CBLC",null,null,"EMOLUMENTOS"]
[null,null,null,null,11.9,null,4.9000000000000004,null,2.7500000000000002E-4,null,null,5.0000000000000002E-5]
[]
[]
[]
[null,null,null,null,"CORRETAGEM",null,null,null,"MERCADO A VISTA",null,null,null,null,null,"MERCADO DE BALCÃO"]
[null,null,"FII","MERCADO A VISTA",null,null,"MERCADO FRAC.",null,"CLBC",null,null,"EMOLUMENTOS",null,null,"CLBC",null,null,"EMOLUMENTOS"]
[null,null,null,null,11.9,null,11.9,null,2.7500000000000002E-4,null,null,5.0000000000000002E-5,null,null,2.7500000000000002E-4,null,null,6.9999999999999994E-5]
[]
[]
[]
[]
[null,null,"TESOURO DIRETO",null,null,null,null,null,null,null,"CORRETAGEM"]
[null,null,null,null,null,null,null,null,null,null,8.0000000000000004E-4]
[]
[]
[null,null,null,null,null,null,null,null,"SIM"]
[null,null,"MENSAGEM INICIAL",null,null,"SIM",null,null,"NÃO"]

{"sheet":"Cotações","index":18,"n_rows":847,"n_cols":5,"rows_kept":847,"cut":false,"hidden":false,"merged":[[0,0,0,4]]}
["BOVESPA"]
["Column1","Column2","Column3","Column4","Column5"]
["BVMF:AALL34","AALL34","R$ 0,00",""]
["BVMF:AALR3","AALR3","R$ 14,79",""]
["BVMF:AAPL34","AAPL34","R$ 81,20",""]
["BVMF:ABBV34","ABBV34","R$ 254,41",""]
["BVMF:ABCB4","ABCB4","R$ 17,93",""]
["BVMF:ABEV3","ABEV3","R$ 20,13",""]
["BVMF:ACNB34","ACNB34","R$ 737,01",""]
["BVMF:ADHM3","ADHM3","R$ 1,60",""]
["BVMF:AELP3","AELP3","#N/A",""]
["BVMF:AETB34","AETB34","#N/A",""]
["BVMF:AFLT3","AFLT3","R$ 5,55",""]
["BVMF:AGRO3","AGRO3","R$ 16,69",""]
["BVMF:AHEB3","AHEB3","R$ 56,00",""]
["BVMF:AHEB5","AHEB5","R$ 33,00",""]
["BVMF:AHEB6","AHEB6","R$ 0,00",""]
["BVMF:AIGB34","AIGB34","R$ 215,45",""]
["BVMF:ALEF3B","ALEF3B","R$ 0,00",""]
["BVMF:ALPA3","ALPA3","R$ 19,71",""]
["BVMF:ALPA4","ALPA4","R$ 20,75",""]
["BVMF:ALSC3","ALSC3","R$ 28,19",""]
["BVMF:ALTS3","ALTS3","#N/A",""]
["BVMF:ALUP11","ALUP11","R$ 26,51",""]
["BVMF:ALUP3","ALUP3","R$ 9,91",""]
["BVMF:ALUP4","ALUP4","R$ 8,39",""]
["BVMF:AMAR3","AMAR3","R$ 8,46",""]
["BVMF:AMGN34","AMGN34","R$ 655,71",""]
["BVMF:AMZO34","AMZO34","R$ 3.622,00",""]
["BVMF:ANDG3B","ANDG3B","#N/A",""]
["BVMF:ANDG4B","ANDG4B","#N/A",""]
["BVMF:ANIM3","ANIM3","R$ 21,52",""]
["BVMF:APTI3","APTI3","R$ 0,00",""]
["BVMF:APTI4","APTI4","R$ 0,00",""]
["BVMF:ARMT34","ARMT34","R$ 30,96",""]
["BVMF:ARNC34","ARNC34","R$ 96,08",""]
["BVMF:ARZZ3","ARZZ3","R$ 50,39",""]
["BVMF:ATOM3","ATOM3","R$ 1,79",""]
["BVMF:ATTB34","ATTB34","R$ 129,52",""]
["BVMF:AVON34","AVON34","R$ 7,79",""]
["BVMF:AXPB34","AXPB34","R$ 481,84",""]
["BVMF:AZEV3","AZEV3","R$ 5,00",""]
["BVMF:AZEV4","AZEV4","R$ 2,45",""]
["BVMF:AZUL4","AZUL4","R$ 51,78",""]
["BVMF:BAHI3","BAHI3","R$ 110,00",""]
["BVMF:BALM3","BALM3","R$ 11,00",""]
["BVMF:BALM4","BALM4","R$ 13,19",""]
["BVMF:BAUH3","BAUH3","R$ 0,00",""]
["BVMF:BAUH4","BAUH4","R$ 41,00",""]
["BVMF:BAZA3","BAZA3","R$ 30,50",""]
["BVMF:BBAS11","BBAS11","R$ 0,00",""]
["BVMF:BBAS12","BBAS12","R$ 0,00",""]
["BVMF:BBAS3","BBAS3","R$ 49,22",""]
["BVMF:BBDC3","BBDC3","R$ 31,11",""]
["BVMF:BBDC4","BBDC4","R$ 34,50",""]
["BVMF:BBRK3","BBRK3","R$ 6,37",""]
["BVMF:BBSE3","BBSE3","R$ 32,45",""]
["BVMF:BBYY34","BBYY34","R$ 269,42",""]
["BVMF:BDLL3","BDLL3","R$ 0,00",""]
["BVMF:BDLL4","BDLL4","R$ 10,50",""]
["BVMF:BEEF3","BEEF3","R$ 8,62",""]
["BVMF:BEES3","BEES3","R$ 5,94",""]
["BVMF:BEES4","BEES4","R$ 5,90",""]
["BVMF:BERK34","BERK34","R$ 790,30",""]
["BVMF:BETP3B","BETP3B","R$ 0,00",""]
["BVMF:BFRE11","BFRE11","#N/A",""]
["BVMF:BFRE12","BFRE12","#N/A",""]
["BVMF:BGIP3","BGIP3","R$ 31,56",""]
["BVMF:BGIP4","BGIP4","R$ 36,95",""]
["BVMF:BIIB34","BIIB34","R$ 149,21",""]
["BVMF:BIOM3","BIOM3","R$ 8,26",""]
["BVMF:BLAK34","BLAK34","R$ 302,74",""]
["BVMF:BMEB3","BMEB3","R$ 9,81",""]
["BVMF:BMEB4","BMEB4","R$ 10,00",""]
["BVMF:BMEB9","BMEB9","#N/A",""]
["BVMF:BMIN3","BMIN3","R$ 16,93",""]
["BVMF:BMIN4","BMIN4","R$ 18,01",""]
["BVMF:BMKS3","BMKS3","R$ 260,00",""]
["BVMF:BMYB34","BMYB34","R$ 172,53",""]
["BVMF:BNBR3","BNBR3","R$ 80,00",""]
["BVMF:BNPA3B","BNPA3B","#N/A",""]
["BVMF:BOAC34","BOAC34","R$ 116,98",""]
["BVMF:BOBR3","BOBR3","R$ 0,00",""]
["BVMF:BOBR4","BOBR4","R$ 1,95",""]
["BVMF:BOEI34","BOEI34","R$ 1.302,88",""]
["BVMF:BONY34","BONY34","R$ 178,96",""]
["BVMF:BOXP34","BOXP34","R$ 49,09",""]
["BVMF:BPAC3","BPAC3","R$ 21,01",""]
["BVMF:BPAC5","BPAC5","R$ 19,58",""]
["BVMF:BPAN4","BPAN4","R$ 9,45",""]
["BVMF:BPAR3","BPAR3","R$ 182,07",""]
["BVMF:BPAT33","BPAT33","R$ 0,00",""]
["BVMF:BPHA3","BPHA3","#N/A",""]
["BVMF:BRAP3","BRAP3","R$ 28,59",""]
["BVMF:BRAP4","BRAP4","R$ 31,62",""]
["BVMF:BRFS3","BRFS3","R$ 33,41",""]
["BVMF:BRGE11","BRGE11","R$ 5,91",""]
["BVMF:BRGE12","BRGE12","R$ 4,60",""]
["BVMF:BRGE3","BRGE3","R$ 5,50",""]
["BVMF:BRGE5","BRGE5","R$ 3,61",""]
["BVMF:BRGE6","BRGE6","R$ 10,12",""]
["BVMF:BRGE7","BRGE7","R$ 5,40",""]
["BVMF:BRGE8","BRGE8","R$ 4,73",""]
["BVMF:BRIN3","BRIN3","#N/A",""]
["BVMF:BRIV3","BRIV3","R$ 8,20",""]
["BVMF:BRIV4","BRIV4","R$ 8,00",""]
["BVMF:BRKM3","BRKM3","R$ 34,84",""]
["BVMF:BRKM5","BRKM5","R$ 34,04",""]
["BVMF:BRKM6","BRKM6","R$ 50,40",""]
["BVMF:BRML3","BRML3","R$ 15,01",""]
["BVMF:BRPR3","BRPR3","R$ 10,04",""]
["BVMF:BRQB3","BRQB3","R$ 0,00",""]
["BVMF:BRSR3","BRSR3","R$ 23,69",""]
["BVMF:BRSR5","BRSR5","R$ 25,50",""]
["BVMF:BRSR6","BRSR6","R$ 23,51",""]
["BVMF:BSAN33","BSAN33","#N/A",""]
["BVMF:BSEV3","BSEV3","R$ 2,68",""]
["BVMF:BSLI3","BSLI3","R$ 39,00",""]
["BVMF:BSLI4","BSLI4","R$ 42,00",""]
["BVMF:BTOW3","BTOW3","R$ 37,94",""]
["BVMF:BTTL3","BTTL3","R$ 4,58",""]
["BVMF:BTTL4","BTTL4","#N/A",""]
["BVMF:B3SA3","B3SA3","R$ 42,19",""]
["BVMF:CABI3B","CABI3B","R$ 0,00",""]
["BVMF:CACO3B","CACO3B","R$ 0,00",""]
["BVMF:CAIA3B","CAIA3B","#N/A",""]
["BVMF:CALI3","CALI3","R$ 98,18",""]
["BVMF:CALI4","CALI4","R$ 75,00",""]
["BVMF:CAMB3","CAMB3","R$ 0,00",""]
["BVMF:CAMB4","CAMB4","R$ 36,50",""]
["BVMF:CAML3","CAML3","R$ 7,39",""]
["BVMF:CANT3B","CANT3B","R$ 0,00",""]
["BVMF:CANT4B","CANT4B","R$ 0,00",""]
["BVMF:CARD3","CARD3","R$ 6,43",""]
["BVMF:CASN3","CASN3","R$ 18,00",""]
["BVMF:CASN4","CASN4","R$ 12,02",""]
["BVMF:CATA3","CATA3","R$ 0,00",""]
["BVMF:CATA4","CATA4","R$ 0,00",""]
["BVMF:CATP34","CATP34","R$ 518,92",""]
["BVMF:CBEE3","CBEE3","R$ 19,73",""]
["BVMF:CCPR3","CCPR3","R$ 14,00",""]
["BVMF:CCRO3","CCRO3","R$ 14,95",""]
["BVMF:CCXC3","CCXC3","R$ 2,34",""]
["BVMF:CEBR3","CEBR3","R$ 36,00",""]
["BVMF:CEBR5","CEBR5","R$ 42,00",""]
["BVMF:CEBR6","CEBR6","R$ 38,99",""]
["BVMF:CEDO3","CEDO3","R$ 5,50",""]
["BVMF:CEDO4","CEDO4","R$ 6,49",""]
["BVMF:CEEB3","CEEB3","R$ 34,50",""]
["BVMF:CEEB5","CEEB5","R$ 36,00",""]
["BVMF:CEEB6","CEEB6","R$ 0,00",""]
["BVMF:CEED3","CEED3","R$ 100,00",""]
["BVMF:CEED4","CEED4","R$ 100,00",""]
["BVMF:CEGR3","CEGR3","R$ 47,03",""]
["BVMF:CELP3","CELP3","R$ 2,76",""]
["BVMF:CELP5","CELP5","R$ 6,51",""]
["BVMF:CELP6","CELP6","R$ 14,45",""]
["BVMF:CELP7","CELP7","R$ 6,20",""]
["BVMF:CEPE3","CEPE3","R$ 0,00",""]
["BVMF:CEPE5","CEPE5","R$ 21,59",""]
["BVMF:CEPE6","CEPE6","R$ 19,20",""]
["BVMF:CESP3","CESP3","R$ 27,91",""]
["BVMF:CESP5","CESP5","R$ 28,99",""]
["BVMF:CESP6","CESP6","R$ 28,99",""]
["BVMF:CGAS3","CGAS3","R$ 82,01",""]
["BVMF:CGAS5","CGAS5","R$ 79,00",""]
["BVMF:CGRA3","CGRA3","R$ 24,22",""]
["BVMF:CGRA4","CGRA4","R$ 24,40",""]
["BVMF:CHKE34","CHKE34","R$ 6,75",""]
["BVMF:CHVX34","CHVX34","R$ 235,24",""]
["BVMF:CIEL3","CIEL3","R$ 7,24",""]
["BVMF:CLGN34","CLGN34","R$ 351,88",""]
["BVMF:CLSC3","CLSC3","R$ 47,22",""]
["BVMF:CLSC4","CLSC4","R$ 46,47",""]
["BVMF:CMCS34","CMCS34","R$ 165,20",""]
["BVMF:CMIG3","CMIG3","R$ 17,02",""]
["BVMF:CMIG4","CMIG4","R$ 14,14",""]
["BVMF:CMSA3","CMSA3","R$ 0,00",""]
["BVMF:CMSA4","CMSA4","R$ 0,00",""]
["BVMF:CNSY3","CNSY3","R$ 0,00",""]
["BVMF:COCA34","COCA34","R$ 197,27",""]
["BVMF:COCE3","COCE3","R$ 52,00",""]
["BVMF:COCE5","COCE5","R$ 59,40",""]
["BVMF:COCE6","COCE6","R$ 0,00",""]
["BVMF:COLG34","COLG34","R$ 279,72",""]
["BVMF:COPH34","COPH34","R$ 55,20",""]
["BVMF:CORR3","CORR3","R$ 0,00",""]
["BVMF:CORR4","CORR4","R$ 70,00",""]
["BVMF:COTY34","COTY34","R$ 21,13",""]
["BVMF:COWC34","COWC34","R$ 265,50",""]
["BVMF:CPFE3","CPFE3","R$ 32,23",""]
["BVMF:CPLE3","CPLE3","R$ 48,24",""]
["BVMF:CPLE5","CPLE5","R$ 0,00",""]
["BVMF:CPLE6","CPLE6","R$ 49,15",""]
["BVMF:CPRE3","CPRE3","R$ 14,00",""]
["BVMF:CPTP3B","CPTP3B","R$ 0,00",""]
["BVMF:CRDE3","CRDE3","R$ 24,57",""]
["BVMF:CREM3","CREM3","#N/A",""]
["BVMF:CRFB3","CRFB3","R$ 23,41",""]
["BVMF:CRIV3","CRIV3","R$ 5,89",""]
["BVMF:CRIV4","CRIV4","R$ 6,80",""]
["BVMF:CRPG5","CRPG5","R$ 31,15",""]
["BVMF:CRPG6","CRPG6","R$ 30,80",""]
["BVMF:CRTE3B","CRTE3B","R$ 0,00",""]
["BVMF:CRTE5B","CRTE5B","R$ 0,00",""]
["BVMF:CSAB3","CSAB3","R$ 49,80",""]
["BVMF:CSAB4","CSAB4","R$ 44,00",""]
["BVMF:CSAN3","CSAN3","R$ 50,88",""]
["BVMF:CSCO34","CSCO34","R$ 212,45",""]
["BVMF:CSMG3","CSMG3","R$ 67,40",""]
["BVMF:CSNA3","CSNA3","R$ 16,53",""]
["BVMF:CSRN3","CSRN3","R$ 18,40",""]
["BVMF:CSRN5","CSRN5","R$ 17,51",""]
["BVMF:CSRN6","CSRN6","R$ 16,77",""]
["BVMF:CTAX3","CTAX3","#N/A",""]
["BVMF:CTCA3","CTCA3","#N/A",""]
["BVMF:CTCA9","CTCA9","#N/A",""]
["BVMF:CTGP34","CTGP34","R$ 270,72",""]
["BVMF:CTKA3","CTKA3","R$ 10,25",""]
["BVMF:CTKA4","CTKA4","R$ 11,50",""]
["BVMF:CTNM3","CTNM3","R$ 12,09",""]
["BVMF:CTNM4","CTNM4","R$ 10,69",""]
["BVMF:CTSA3","CTSA3","R$ 5,01",""]
["BVMF:CTSA4","CTSA4","R$ 5,94",""]
["BVMF:CTSA8","CTSA8","R$ 0,00",""]
["BVMF:CTSH34","CTSH34","R$ 240,71",""]
["BVMF:CVCB3","CVCB3","R$ 50,87",""]
["BVMF:CVSH34","CVSH34","R$ 105,25",""]
["BVMF:CYRE3","CYRE3","R$ 24,40",""]
["BVMF:CZLT33","CZLT33","#N/A",""]
["BVMF:DAGB33","DAGB33","#N/A",""]
["BVMF:DASA3","DASA3","R$ 30,81",""]
["BVMF:DEAI34","DEAI34","R$ 237,17",""]
["BVMF:DHER34","DHER34","R$ 134,24",""]
["BVMF:DIRR3","DIRR3","R$ 12,59",""]
["BVMF:DISB34","DISB34","R$ 550,20",""]
["BVMF:DMMO3","DMMO3","R$ 4,26",""]
["BVMF:DOHL3","DOHL3","R$ 8,20",""]
["BVMF:DOHL4","DOHL4","R$ 6,90",""]
["BVMF:DOWB34","DOWB34","#N/A",""]
["BVMF:DTCY3","DTCY3","R$ 5,90",""]
["BVMF:DTCY4","DTCY4","R$ 0,00",""]
["BVMF:DTEX3","DTEX3","R$ 12,57",""]
["BVMF:DUKB34","DUKB34","R$ 333,41",""]
["BVMF:DUPO34","DUPO34","#N/A",""]
["BVMF:EALT3","EALT3","R$ 7,22",""]
["BVMF:EALT4","EALT4","R$ 4,90",""]
["BVMF:EBAY34","EBAY34","R$ 75,81",""]
["BVMF:ECOR3","ECOR3","R$ 11,78",""]
["BVMF:ECPR3","ECPR3","R$ 69,00",""]
["BVMF:ECPR4","ECPR4","R$ 99,99",""]
["BVMF:EEEL3","EEEL3","R$ 250,00",""]
["BVMF:EEEL4","EEEL4","R$ 299,98",""]
["BVMF:EGIE3","EGIE3","R$ 48,27",""]
["BVMF:EKTR3","EKTR3","R$ 18,00",""]
["BVMF:EKTR4","EKTR4","R$ 21,50",""]
["BVMF:ELEK3","ELEK3","R$ 15,99",""]
["BVMF:ELEK4","ELEK4","R$ 15,15",""]
["BVMF:ELET3","ELET3","R$ 39,39",""]
["BVMF:ELET5","ELET5","R$ 47,99",""]
["BVMF:ELET6","ELET6","R$ 39,60",""]
["BVMF:ELPL3","ELPL3","R$ 47,19",""]
["BVMF:EMAE3","EMAE3","R$ 19,52",""]
["BVMF:EMAE4","EMAE4","R$ 22,19",""]
["BVMF:EMBR3","EMBR3","R$ 19,31",""]
["BVMF:ENBR3","ENBR3","R$ 19,29",""]
["BVMF:ENEV3","ENEV3","R$ 25,88",""]
["BVMF:ENGI11","ENGI11","R$ 49,40",""]
["BVMF:ENGI3","ENGI3","R$ 13,80",""]
["BVMF:ENGI4","ENGI4","R$ 8,80",""]
["BVMF:ENMA3B","ENMA3B","R$ 49,00",""]
["BVMF:ENMA5B","ENMA5B","R$ 0,00",""]
["BVMF:ENMA6B","ENMA6B","R$ 0,00",""]
["BVMF:ENMT3","ENMT3","R$ 26,99",""]
["BVMF:ENMT4","ENMT4","R$ 28,00",""]
["BVMF:EQTL3","EQTL3","R$ 94,50",""]
["BVMF:ESRX34","ESRX34","#N/A",""]
["BVMF:ESTC3","ESTC3","R$ 34,30",""]
["BVMF:ESTR3","ESTR3","R$ 20,00",""]
["BVMF:ESTR4","ESTR4","R$ 32,00",""]
["BVMF:ETER3","ETER3","R$ 2,47",""]
["BVMF:ETRO3B","ETRO3B","R$ 0,00",""]
["BVMF:EUCA3","EUCA3","R$ 11,00",""]
["BVMF:EUCA4","EUCA4","R$ 4,95",""]
["BVMF:EVEN3","EVEN3","R$ 9,80",""]
["BVMF:EXXO34","EXXO34","R$ 70,61",""]
["BVMF:EZTC3","EZTC3","R$ 32,85",""]
["BVMF:FBMC3","FBMC3","#N/A",""]
["BVMF:FBMC4","FBMC4","#N/A",""]
["BVMF:FBOK34","FBOK34","R$ 383,50",""]
["BVMF:FCXO34","FCXO34","R$ 41,20",""]
["BVMF:FDMO34","FDMO34","R$ 36,59",""]
["BVMF:FDXB34","FDXB34","R$ 599,00",""]
["BVMF:FESA3","FESA3","R$ 31,00",""]
["BVMF:FESA4","FESA4","R$ 22,55",""]
["BVMF:FHER3","FHER3","R$ 2,16",""]
["BVMF:FIBR3","FIBR3","#N/A",""]
["BVMF:FIGE3","FIGE3","R$ 0,00",""]
["BVMF:FIGE4","FIGE4","R$ 0,00",""]
["BVMF:FJTA3","FJTA3","R$ 3,29",""]
["BVMF:FJTA4","FJTA4","R$ 3,28",""]
["BVMF:FLRY3","FLRY3","R$ 23,33",""]
["BVMF:FMXB34","FMXB34","R$ 366,84",""]
["BVMF:FNCN3","FNCN3","R$ 0,00",""]
["BVMF:FOMS3","FOMS3","#N/A",""]
["BVMF:FRAS3","FRAS3","R$ 4,75",""]
["BVMF:FRIO3","FRIO3","R$ 53,37",""]
["BVMF:FRRN3B","FRRN3B","R$ 0,00",""]
["BVMF:FRRN5B","FRRN5B","R$ 0,00",""]
["BVMF:FRRN6B","FRRN6B","R$ 0,00",""]
["BVMF:FRTA3","FRTA3","R$ 6,00",""]
["BVMF:FSLR34","FSLR34","R$ 124,31",""]
["BVMF:FTRT3B","FTRT3B","#N/A",""]
["BVMF:GDBR34","GDBR34","R$ 665,44",""]
["BVMF:GEOO34","GEOO34","R$ 39,60",""]
["BVMF:GEPA3","GEPA3","R$ 41,12",""]
["BVMF:GEPA4","GEPA4","R$ 44,91",""]
["BVMF:GFSA3","GFSA3","R$ 6,45",""]
["BVMF:GGBR3","GGBR3","R$ 11,83",""]
["BVMF:GGBR4","GGBR4","R$ 13,75",""]
["BVMF:GILD34","GILD34","R$ 128,35",""]
["BVMF:GMCO34","GMCO34","R$ 154,02",""]
["BVMF:GOAU3","GOAU3","R$ 6,60",""]
["BVMF:GOAU4","GOAU4","R$ 6,65",""]
["BVMF:GOGL34","GOGL34","R$ 187,09",""]
["BVMF:GOGL35","GOGL35","R$ 185,45",""]
["BVMF:GOLL4","GOLL4","R$ 40,97",""]
["BVMF:GPAR3","GPAR3","R$ 6,48",""]
["BVMF:GPCP3","GPCP3","R$ 20,00",""]
["BVMF:GPIV33","GPIV33","R$ 5,35",""]
["BVMF:GPRO34","GPRO34","R$ 19,77",""]
["BVMF:GPSI34","GPSI34","R$ 102,01",""]
["BVMF:GRND3","GRND3","R$ 7,60",""]
["BVMF:GRUC3","GRUC3","#N/A",""]
["BVMF:GRUC6","GRUC6","#N/A",""]
["BVMF:GSGI34","GSGI34","R$ 83,02",""]
["BVMF:GSHP3","GSHP3","R$ 0,92",""]
["BVMF:GUAR3","GUAR3","R$ 19,49",""]
["BVMF:GUAR4","GUAR4","#N/A",""]
["BVMF:HAGA3","HAGA3","R$ 5,99",""]
["BVMF:HAGA4","HAGA4","R$ 2,05",""]
["BVMF:HALI34","HALI34","R$ 88,20",""]
["BVMF:HBOR3","HBOR3","R$ 2,22",""]
["BVMF:HBOR9","HBOR9","#N/A",""]
["BVMF:HBTS3","HBTS3","R$ 0,00",""]
["BVMF:HBTS5","HBTS5","R$ 11,20",""]
["BVMF:HBTS6","HBTS6","R$ 0,00",""]
["BVMF:HCBR3","HCBR3","R$ 0,00",""]
["BVMF:HETA3","HETA3","R$ 0,00",""]
["BVMF:HETA4","HETA4","R$ 5,59",""]
["BVMF:HGTX3","HGTX3","R$ 32,00",""]
["BVMF:HOME34","HOME34","R$ 412,76",""]
["BVMF:HONB34","HONB34","R$ 665,91",""]
["BVMF:HOOT3","HOOT3","R$ 0,00",""]
["BVMF:HOOT4","HOOT4","R$ 1,90",""]
["BVMF:HPQB34","HPQB34","R$ 80,00",""]
["BVMF:HSHY34","HSHY34","R$ 114,46",""]
["BVMF:HYPE3","HYPE3","R$ 30,18",""]
["BVMF:IBMB34","IBMB34","R$ 569,21",""]
["IBOV","IBOV","R$ 101.812,13",""]
["IBRA","IBRA","R$ 3.982,98",""]
["IBXL","IBXL","R$ 16.755,28",""]
["IBXX","IBXX","R$ 42.672,69",""]
["ICO2","ICO2","R$ 2.273,54",""]
["ICON","ICON","R$ 0,93",""]
["IDIV","IDIV","R$ 12,07",""]
["BVMF:IDNT3","IDNT3","R$ 3,17",""]
["BVMF:IDVL3","IDVL3","R$ 3,20",""]
["BVMF:IDVL4","IDVL4","R$ 4,01",""]
["IEEX","IEEX","R$ 66.282,51",""]
["IFNC","IFNC","R$ 11.854,86",""]
["BVMF:IGBR3","IGBR3","R$ 2,44",""]
["IGCT","IGCT","R$ 4.425,96",""]
["IGCX","IGCX","R$ 15.519,10",""]
["IGNM","IGNM","R$ 3.298,69",""]
["BVMF:IGTA3","IGTA3","R$ 48,09",""]
["IMAT","IMAT","R$ 3.063,83",""]
["IMOB","IMOB","R$ 1.100,39",""]
["INDX","INDX","R$ 64,00",""]
["BVMF:INEP3","INEP3","R$ 9,00",""]
["BVMF:INEP4","INEP4","R$ 9,89",""]
["BVMF:IRBR3","IRBR3","R$ 95,00",""]
["ISEE","ISEE","R$ 1,19",""]
["ITAG","ITAG","R$ 21.862,17",""]
["BVMF:ITEC3","ITEC3","#N/A",""]
["BVMF:ITLC34","ITLC34","R$ 196,19",""]
["BVMF:ITSA3","ITSA3","R$ 12,67",""]
["BVMF:ITSA4","ITSA4","R$ 12,47",""]
["BVMF:ITUB3","ITUB3","R$ 29,90",""]
["BVMF:ITUB4","ITUB4","R$ 34,82",""]
["IVBX","IVBX","R$ 13.852,50",""]
["BVMF:IVPR3B","IVPR3B","R$ 0,00",""]
["BVMF:IVPR4B","IVPR4B","R$ 0,00",""]
["BVMF:JBDU3","JBDU3","R$ 3,30",""]
["BVMF:JBDU4","JBDU4","R$ 2,79",""]
["BVMF:JBSS3","JBSS3","R$ 24,90",""]
["BVMF:JCPC34","JCPC34","R$ 0,00",""]
["BVMF:JFEN3","JFEN3","R$ 1,72",""]
["BVMF:JHSF3","JHSF3","R$ 3,82",""]
["BVMF:JNJB34","JNJB34","R$ 496,92",""]
["BVMF:JOPA3","JOPA3","R$ 24,90",""]
["BVMF:JOPA4","JOPA4","R$ 23,00",""]
["BVMF:JPMC34","JPMC34","R$ 219,88",""]
["BVMF:JSLG3","JSLG3","R$ 17,00",""]
["BVMF:KEPL3","KEPL3","R$ 20,65",""]
["BVMF:KHCB34","KHCB34","R$ 120,30",""]
["BVMF:KLBN11","KLBN11","R$ 16,04",""]
["BVMF:KLBN3","KLBN3","R$ 4,15",""]
["BVMF:KLBN4","KLBN4","R$ 2,93",""]
["BVMF:KMBB34","KMBB34","R$ 521,89",""]
["BVMF:KROT3","KROT3","R$ 12,56",""]
["BVMF:LAME3","LAME3","R$ 13,99",""]
["BVMF:LAME4","LAME4","R$ 18,15",""]
["BVMF:LBRN34","LBRN34","R$ 23,41",""]
["BVMF:LCAM3","LCAM3","R$ 50,00",""]
["BVMF:LEVE3","LEVE3","R$ 24,63",""]
["BVMF:LHER3","LHER3","#N/A",""]
["BVMF:LHER4","LHER4","#N/A",""]
["BVMF:LIGT3","LIGT3","R$ 19,35",""]
["BVMF:LILY34","LILY34","R$ 203,69",""]
["BVMF:LINX3","LINX3","R$ 32,40",""]
["BVMF:LIPR3","LIPR3","R$ 60,44",""]
["BVMF:LIXC3","LIXC3","#N/A",""]
["BVMF:LIXC4","LIXC4","#N/A",""]
["BVMF:LLIS3","LLIS3","R$ 20,60",""]
["BVMF:LMTB34","LMTB34","R$ 1.388,16",""]
["BVMF:LOGN3","LOGN3","R$ 15,70",""]
["BVMF:LPSB3","LPSB3","R$ 6,74",""]
["BVMF:LREN3","LREN3","R$ 47,46",""]
["BVMF:LTEL11B","LTEL11B","R$ 0,00",""]
["BVMF:LTEL3B","LTEL3B","R$ 0,00",""]
["BVMF:LTEL5B","LTEL5B","R$ 0,00",""]
["BVMF:LUPA3","LUPA3","R$ 1,51",""]
["BVMF:LUXM3","LUXM3","R$ 0,00",""]
["BVMF:LUXM4","LUXM4","R$ 18,85",""]
["BVMF:MACY34","MACY34","R$ 85,15",""]
["BVMF:MAGG3","MAGG3","#N/A",""]
["BVMF:MAPT3","MAPT3","R$ 4,50",""]
["BVMF:MAPT4","MAPT4","R$ 2,00",""]
["BVMF:MCDC34","MCDC34","R$ 201,26",""]
["BVMF:MDIA3","MDIA3","R$ 39,13",""]
["BVMF:MDLZ34","MDLZ34","R$ 102,00",""]
["BVMF:MDTC34","MDTC34","R$ 185,60",""]
["BVMF:MEAL3","MEAL3","R$ 9,47",""]
["BVMF:MEND3","MEND3","R$ 0,00",""]
["BVMF:MEND5","MEND5","R$ 5,00",""]
["BVMF:MEND6","MEND6","R$ 5,75",""]
["BVMF:MERC3","MERC3","R$ 8,00",""]
["BVMF:MERC4","MERC4","R$ 6,99",""]
["BVMF:METB34","METB34","R$ 191,80",""]
["BVMF:MGEL3","MGEL3","R$ 0,00",""]
["BVMF:MGEL4","MGEL4","R$ 6,98",""]
["BVMF:MGLU3","MGLU3","R$ 263,72",""]
["BVMF:MILS3","MILS3","R$ 6,95",""]
["MLCX","MLCX","R$ 1.945,28",""]
["BVMF:MLFT3","MLFT3","#N/A",""]
["BVMF:MLFT4","MLFT4","#N/A",""]
["BVMF:MMAQ3","MMAQ3","R$ 0,00",""]
["BVMF:MMAQ4","MMAQ4","R$ 0,00",""]
["BVMF:MMXM3","MMXM3","R$ 2,14",""]
["BVMF:MNDL3","MNDL3","R$ 36,00",""]
["BVMF:MNPR3","MNPR3","R$ 6,09",""]
["BVMF:MNZC3B","MNZC3B","R$ 0,00",""]
["BVMF:MOAR3","MOAR3","R$ 180,00",""]
["BVMF:MOSC34","MOSC34","R$ 45,00",""]
["BVMF:MOVI3","MOVI3","R$ 14,93",""]
["BVMF:MPLU3","MPLU3","#N/A",""]
["BVMF:MRCK34","MRCK34","R$ 314,07",""]
["BVMF:MRFG3","MRFG3","R$ 6,63",""]
["BVMF:MRSA3B","MRSA3B","R$ 9,20",""]
["BVMF:MRSA5B","MRSA5B","R$ 9,00",""]
["BVMF:MRSA6B","MRSA6B","R$ 8,10",""]
["BVMF:MRVE3","MRVE3","R$ 20,28",""]
["BVMF:MSBR34","MSBR34","R$ 167,01",""]
["BVMF:MSCD34","MSCD34","R$ 1.040,40",""]
["BVMF:MSFT34","MSFT34","R$ 522,00",""]
["BVMF:MSPA3","MSPA3","R$ 47,00",""]
["BVMF:MSPA4","MSPA4","R$ 48,01",""]
["BVMF:MSRO3","MSRO3","R$ 0,00",""]
["BVMF:MTIG3","MTIG3","R$ 0,00",""]
["BVMF:MTIG4","MTIG4","R$ 100,20",""]
["BVMF:MTSA3","MTSA3","R$ 28,08",""]
["BVMF:MTSA4","MTSA4","R$ 21,45",""]
["BVMF:MULT3","MULT3","R$ 28,39",""]
["BVMF:MWET3","MWET3","R$ 6,34",""]
["BVMF:MWET4","MWET4","R$ 5,00",""]
["BVMF:MYPK3","MYPK3","R$ 21,83",""]
["BVMF:NAFG3","NAFG3","R$ 79,95",""]
["BVMF:NAFG4","NAFG4","R$ 73,01",""]
["BVMF:NATU3","NATU3","R$ 61,17",""]
["BVMF:NEMO3","NEMO3","R$ 0,00",""]
["BVMF:NEMO5","NEMO5","R$ 0,00",""]
["BVMF:NEMO6","NEMO6","R$ 0,00",""]
["BVMF:NEWT3B","NEWT3B","#N/A",""]
["BVMF:NFLX34","NFLX34","R$ 1.234,50",""]
["BVMF:NIKE34","NIKE34","R$ 321,76",""]
["BVMF:NORD3","NORD3","R$ 5,00",""]
["BVMF:NRTQ3","NRTQ3","R$ 0,00",""]
["BVMF:NUTR3","NUTR3","R$ 59,01",""]
["BVMF:ODER3","ODER3","R$ 0,00",""]
["BVMF:ODER4","ODER4","R$ 0,00",""]
["BVMF:ODPV3","ODPV3","R$ 17,50",""]
["BVMF:OFSA3","OFSA3","R$ 40,19",""]
["BVMF:OGXP3","OGXP3","#N/A",""]
["BVMF:OIBR3","OIBR3","R$ 1,56",""]
["BVMF:OIBR4","OIBR4","R$ 1,72",""]
["BVMF:OMGE3","OMGE3","R$ 27,50",""]
["BVMF:OPGM3B","OPGM3B","R$ 0,00",""]
["BVMF:OPHE3B","OPHE3B","R$ 0,00",""]
["BVMF:OPRE3B","OPRE3B","#N/A",""]
["BVMF:OPSE3B","OPSE3B","R$ 0,00",""]
["BVMF:OPTS3B","OPTS3B","R$ 0,00",""]
["BVMF:ORCL34","ORCL34","R$ 219,47",""]
["BVMF:OSXB3","OSXB3","R$ 4,24",""]
["BVMF:PARD3","PARD3","R$ 19,63",""]
["BVMF:PATI10","PATI10","#N/A",""]
["BVMF:PATI3","PATI3","R$ 21,00",""]
["BVMF:PATI4","PATI4","R$ 31,24",""]
["BVMF:PATI9","PATI9","#N/A",""]
["BVMF:PCAR3","PCAR3","R$ 94,50",""]
["BVMF:PCAR4","PCAR4","R$ 93,55",""]
["BVMF:PDGR3","PDGR3","R$ 6,45",""]
["BVMF:PEAB3","PEAB3","R$ 43,50",""]
["BVMF:PEAB4","PEAB4","R$ 43,51",""]
["BVMF:PEPB34","PEPB34","R$ 496,33",""]
["BVMF:PETR3","PETR3","R$ 28,79",""]
["BVMF:PETR4","PETR4","R$ 26,08",""]
["BVMF:PFIZ34","PFIZ34","R$ 147,97",""]
["BVMF:PFRM3","PFRM3","R$ 4,43",""]
["BVMF:PGCO34","PGCO34","R$ 455,03",""]
["BVMF:PINE3","PINE3","R$ 0,00",""]
["BVMF:PINE4","PINE4","R$ 2,66",""]
["BVMF:PLAS3","PLAS3","R$ 6,19",""]
["BVMF:PMAM3","PMAM3","R$ 22,99",""]
["BVMF:PNVL3","PNVL3","R$ 386,00",""]
["BVMF:PNVL4","PNVL4","R$ 278,00",""]
["BVMF:POMO3","POMO3","R$ 3,50",""]
["BVMF:POMO4","POMO4","R$ 3,81",""]
["BVMF:POSI3","POSI3","R$ 2,86",""]
["BVMF:PPAR3","PPAR3","R$ 0,00",""]
["BVMF:PRCA11","PRCA11","#N/A",""]
["BVMF:PRCA12","PRCA12","#N/A",""]
["BVMF:PRCA3","PRCA3","#N/A",""]
["BVMF:PRIO3","PRIO3","R$ 17,60",""]
["BVMF:PRML3","PRML3","#N/A",""]
["BVMF:PRMN3B","PRMN3B","R$ 0,00",""]
["BVMF:PRPT3B","PRPT3B","R$ 0,00",""]
["BVMF:PSEG3","PSEG3","R$ 0,00",""]
["BVMF:PSEG4","PSEG4","R$ 0,00",""]
["BVMF:PSSA3","PSSA3","R$ 52,10",""]
["BVMF:PTBL3","PTBL3","R$ 4,08",""]
["BVMF:PTNT3","PTNT3","R$ 7,00",""]
["BVMF:PTNT4","PTNT4","R$ 3,92",""]
["BVMF:QCOM34","QCOM34","R$ 285,53",""]
["BVMF:QGEP3","QGEP3","#N/A",""]
["BVMF:QUAL3","QUAL3","R$ 22,22",""]
["BVMF:QUSW3","QUSW3","R$ 0,00",""]
["BVMF:RADL3","RADL3","R$ 83,01",""]
["BVMF:RAIL3","RAIL3","R$ 21,92",""]
["BVMF:RANI3","RANI3","R$ 3,85",""]
["BVMF:RANI4","RANI4","R$ 3,47",""]
["BVMF:RAPT3","RAPT3","R$ 8,26",""]
["BVMF:RAPT4","RAPT4","R$ 9,91",""]
["BVMF:RCSL3","RCSL3","R$ 1,37",""]
["BVMF:RCSL4","RCSL4","R$ 1,22",""]
["BVMF:RDNI3","RDNI3","R$ 8,00",""]
["BVMF:REDE3","REDE3","R$ 7,55",""]
["BVMF:RENT3","RENT3","R$ 44,00",""]
["BVMF:RIGG34","RIGG34","R$ 24,76",""]
["BVMF:RLOG3","RLOG3","R$ 18,68",""]
["BVMF:RNEW11","RNEW11","R$ 21,50",""]
["BVMF:RNEW3","RNEW3","R$ 7,10",""]
["BVMF:RNEW4","RNEW4","R$ 7,05",""]
["BVMF:ROMI3","ROMI3","R$ 14,68",""]
["BVMF:ROST34","ROST34","R$ 201,91",""]
["BVMF:RPAD3","RPAD3","R$ 4,96",""]
["BVMF:RPAD5","RPAD5","R$ 7,22",""]
["BVMF:RPAD6","RPAD6","R$ 3,86",""]
["BVMF:RPMG3","RPMG3","R$ 6,40",""]
["BVMF:RSID3","RSID3","R$ 5,00",""]
["BVMF:RSUL3","RSUL3","R$ 0,00",""]
["BVMF:RSUL4","RSUL4","R$ 85,00",""]
["BVMF:SANB11","SANB11","R$ 42,85",""]
["BVMF:SANB3","SANB3","R$ 21,75",""]
["BVMF:SANB4","SANB4","R$ 21,51",""]
["BVMF:SANC34","SANC34","R$ 0,00",""]
["BVMF:SAPR3","SAPR3","R$ 21,65",""]
["BVMF:SAPR4","SAPR4","R$ 15,92",""]
["BVMF:SBSP3","SBSP3","R$ 53,40",""]
["BVMF:SBUB34","SBUB34","R$ 367,45",""]
["BVMF:SCAR3","SCAR3","R$ 33,79",""]
["BVMF:SCHW34","SCHW34","R$ 166,50",""]
["BVMF:SEDU3","SEDU3","#N/A",""]
["BVMF:SEER3","SEER3","R$ 26,34",""]
["BVMF:SGPS3","SGPS3","R$ 13,50",""]
["BVMF:SHOW3","SHOW3","R$ 5,69",""]
["BVMF:SHUL3","SHUL3","R$ 0,00",""]
["BVMF:SHUL4","SHUL4","R$ 8,76",""]
["BVMF:SLBG34","SLBG34","R$ 153,11",""]
["BVMF:SLCE3","SLCE3","R$ 18,04",""]
["BVMF:SLCT3B","SLCT3B","R$ 0,00",""]
["BVMF:SLED3","SLED3","R$ 1,70",""]
["BVMF:SLED4","SLED4","R$ 1,34",""]
["SMLL","SMLL11","R$ 47,74",""]
["BVMF:SMLS3","SMLS3","R$ 39,43",""]
["BVMF:SMTO3","SMTO3","R$ 20,21",""]
["BVMF:SNSL3","SNSL3","#N/A",""]
["BVMF:SNSY3","SNSY3","R$ 0,00",""]
["BVMF:SNSY5","SNSY5","R$ 86,00",""]
["BVMF:SNSY6","SNSY6","R$ 0,00",""]
["BVMF:SOND3","SOND3","R$ 38,00",""]
["BVMF:SOND5","SOND5","R$ 35,00",""]
["BVMF:SOND6","SOND6","R$ 31,00",""]
["BVMF:SPRI3","SPRI3","R$ 9,50",""]
["BVMF:SPRI5","SPRI5","R$ 5,05",""]
["BVMF:SPRI6","SPRI6","R$ 5,99",""]
["BVMF:SPRN34","SPRN34","R$ 0,00",""]
["BVMF:SPRT3B","SPRT3B","R$ 0,90",""]
["BVMF:SQRM11","SQRM11","R$ 0,00",""]
["BVMF:SQRM3","SQRM3","R$ 0,00",""]
["BVMF:SSBR3","SSBR3","R$ 35,49",""]
["BVMF:SSFO34","SSFO34","R$ 297,92",""]
["BVMF:STBP3","STBP3","R$ 5,28",""]
["BVMF:STKF3","STKF3","R$ 0,00",""]
["BVMF:SULA11","SULA11","R$ 42,02",""]
["BVMF:SULA3","SULA3","R$ 14,19",""]
["BVMF:SULA4","SULA4","R$ 14,29",""]
["BVMF:SUZB3","SUZB3","R$ 30,67",""]
["BVMF:TAEE11","TAEE11","R$ 27,82",""]
["BVMF:TAEE3","TAEE3","R$ 9,75",""]
["BVMF:TAEE4","TAEE4","R$ 8,84",""]
["BVMF:TCNO3","TCNO3","R$ 0,94",""]
["BVMF:TCNO4","TCNO4","R$ 0,91",""]
["BVMF:TCSA3","TCSA3","R$ 1,24",""]
["BVMF:TECN3","TECN3","R$ 2,60",""]
["BVMF:TEKA3","TEKA3","R$ 8,00",""]
["BVMF:TEKA4","TEKA4","R$ 8,64",""]
["BVMF:TELB3","TELB3","R$ 26,00",""]
["BVMF:TELB4","TELB4","R$ 27,40",""]
["BVMF:TEND3","TEND3","R$ 25,34",""]
["BVMF:TESA3","TESA3","R$ 15,65",""]
["BVMF:TEXA34","TEXA34","R$ 480,00",""]
["BVMF:TGMA3","TGMA3","R$ 31,63",""]
["BVMF:TGTB34","TGTB34","R$ 332,14",""]
["BVMF:TIET11","TIET11","R$ 12,79",""]
["BVMF:TIET3","TIET3","R$ 2,92",""]
["BVMF:TIET4","TIET4","R$ 2,45",""]
["BVMF:TIFF34","TIFF34","R$ 348,50",""]
["BVMF:TIMP3","TIMP3","R$ 12,22",""]
["BVMF:TKNO3","TKNO3","R$ 0,00",""]
["BVMF:TKNO4","TKNO4","R$ 36,50",""]
["BVMF:TLVT3B","TLVT3B","#N/A",""]
["BVMF:TMOS34","TMOS34","R$ 272,96",""]
["BVMF:TOTS3","TOTS3","R$ 48,50",""]
["BVMF:TOYB3","TOYB3","R$ 2,27",""]
["BVMF:TOYB4","TOYB4","R$ 2,07",""]
["BVMF:TPIS3","TPIS3","R$ 1,73",""]
["BVMF:TRIS3","TRIS3","R$ 8,15",""]
["BVMF:TRPL3","TRPL3","R$ 27,00",""]
["BVMF:TRPL4","TRPL4","R$ 24,20",""]
["BVMF:TRPN3","TRPN3","R$ 0,71",""]
["BVMF:TRVC34","TRVC34","R$ 284,39",""]
["BVMF:TSLA34","TSLA34","R$ 229,00",""]
["BVMF:TUPY3","TUPY3","R$ 19,21",""]
["BVMF:TWTR34","TWTR34","R$ 78,00",""]
["BVMF:TWXB34","TWXB34","#N/A",""]
["BVMF:TXRX3","TXRX3","R$ 3,29",""]
["BVMF:TXRX4","TXRX4","R$ 2,45",""]
["BVMF:UBSG34","UBSG34","R$ 43,26",""]
["BVMF:UCAS3","UCAS3","R$ 4,35",""]
["BVMF:UGPA3","UGPA3","R$ 19,89",""]
["BVMF:UNIP3","UNIP3","R$ 33,63",""]
["BVMF:UNIP5","UNIP5","R$ 34,00",""]
["BVMF:UNIP6","UNIP6","R$ 33,71",""]
["BVMF:UPAC34","UPAC34","R$ 169,60",""]
["BVMF:UPKP3B","UPKP3B","R$ 0,00",""]
["BVMF:UPSS34","UPSS34","R$ 99,84",""]
["BVMF:USBC34","USBC34","R$ 200,27",""]
["BVMF:USIM3","USIM3","R$ 10,01",""]
["BVMF:USIM5","USIM5","R$ 8,75",""]
["BVMF:USIM6","USIM6","R$ 10,10",""]
["BVMF:USSX34","USSX34","R$ 58,67",""]
["BVMF:UTEC34","UTEC34","R$ 508,99",""]
["UTIL","UTIL11","R$ 118,14",""]
["BVMF:VALE3","VALE3","R$ 49,81",""]
["BVMF:VERZ34","VERZ34","R$ 214,59",""]
["BVMF:VISA34","VISA34","R$ 689,20",""]
["BVMF:VIVR3","VIVR3","R$ 1,99",""]
["BVMF:VIVT3","VIVT3","R$ 45,00",""]
["BVMF:VIVT4","VIVT4","R$ 52,30",""]
["BVMF:VLID3","VLID3","R$ 15,21",""]
["BVMF:VLOE34","VLOE34","R$ 158,98",""]
["BVMF:VSPT3","VSPT3","R$ 0,00",""]
["BVMF:VSPT4","VSPT4","R$ 0,00",""]
["BVMF:VULC3","VULC3","R$ 7,10",""]
["BVMF:VVAR11","VVAR11","#N/A",""]
["BVMF:VVAR3","VVAR3","R$ 7,72",""]
["BVMF:VVAR4","VVAR4","#N/A",""]
["BVMF:WALM34","WALM34","R$ 105,82",""]
["BVMF:WEGE3","WEGE3","R$ 23,82",""]
["BVMF:WFCO34","WFCO34","R$ 183,51",""]
["BVMF:WHRL3","WHRL3","R$ 5,04",""]
["BVMF:WHRL4","WHRL4","R$ 5,25",""]
["BVMF:WIZS3","WIZS3","R$ 11,90",""]
["BVMF:WSON33","WSON33","R$ 35,00",""]
["BVMF:WUNI34","WUNI34","R$ 76,54",""]
["BVMF:XRXB34","XRXB34","R$ 128,81",""]
["BVMF:ARFI11B","ARFI11B","R$ 0,00",""]
["BVMF:AQLL11","AQLL11","R$ 480,00",""]
["BVMF:ATCR11","ATCR11","R$ 0,00",""]
["BVMF:BCRI11","BCRI11","R$ 130,85",""]
["BVMF:BNFS11","BNFS11","R$ 133,00",""]
["BVMF:BBFI11B","BBFI11B","R$ 2.629,00",""]
["BVMF:BBPO11","BBPO11","R$ 149,52",""]
["BVMF:BBIM11","BBIM11","R$ 0,00",""]
["BVMF:BBRC11","BBRC11","R$ 135,40",""]
["BVMF:RNDP11","RNDP11","R$ 947,00",""]
["BVMF:BCIA11","BCIA11","R$ 128,34",""]
["BVMF:CARE11","CARE11","R$ 1,59",""]
["BVMF:CXRI11","CXRI11","R$ 1.077,06",""]
["BVMF:CPTS11B","CPTS11B","R$ 112,00",""]
["BVMF:CBOP11","CBOP11","R$ 80,98",""]
["BVMF:ATSA11B","ATSA11B","#N/A",""]
["BVMF:HGBS11","HGBS11","R$ 250,90",""]
["BVMF:GRLV11","GRLV11","R$ 118,99",""]
["BVMF:HGPO11","HGPO11","R$ 180,50",""]
["BVMF:HGLG11","HGLG11","R$ 159,85",""]
["BVMF:HGRE11","HGRE11","R$ 165,70",""]
["BVMF:HGCR11","HGCR11","R$ 116,05",""]
["BVMF:FOFT11","FOFT11","R$ 96,00",""]
["BVMF:DOMC11","DOMC11","R$ 540,00",""]
["BVMF:DOVL11B","DOVL11B","R$ 0,00",""]
["BVMF:FIXX11","FIXX11","R$ 87,23",""]
["BVMF:VRTA11","VRTA11","R$ 153,79",""]
["BVMF:BMII11","BMII11","R$ 0,00",""]
["BVMF:ANCR11B","ANCR11B","R$ 2.501,01",""]
["BVMF:FAED11","FAED11","R$ 243,00",""]
["BVMF:BRCR11","BRCR11","R$ 97,13",""]
["BVMF:FEXC11","FEXC11","R$ 114,90",""]
["BVMF:BCFF11","BCFF11","R$ 96,99",""]
["BVMF:FCFL11","FCFL11","R$ 2.370,00",""]
["BVMF:CNES11","CNES11","R$ 86,12",""]
["BVMF:CEOC11","CEOC11","R$ 84,07",""]
["BVMF:THRA11","THRA11","R$ 137,89",""]
["BVMF:FAMB11B","FAMB11B","R$ 2.995,00",""]
["BVMF:FCAS11","FCAS11","#N/A",""]
["BVMF:EDGA11","EDGA11","R$ 51,00",""]
["BVMF:ELDO11B","ELDO11B","R$ 0,00",""]
["BVMF:FLRP11","FLRP11","R$ 1.340,00",""]
["BVMF:HCRI11","HCRI11","R$ 369,99",""]
["BVMF:NSLU11","NSLU11","R$ 246,12",""]
["BVMF:HTMX11","HTMX11","R$ 181,22",""]
["BVMF:MAXR11","MAXR11","R$ 2.384,00",""]
["BVMF:NCHB11","NCHB11","R$ 0,00",""]
["BVMF:NVHO11","NVHO11","R$ 26,90",""]
["BVMF:PQDP11","PQDP11","R$ 3.396,00",""]
["BVMF:PRSV11","PRSV11","R$ 456,00",""]
["BVMF:JRDM11","JRDM11","R$ 89,70",""]
["BVMF:SHDP11B","SHDP11B","R$ 0,00",""]
["BVMF:WPLZ11B","WPLZ11B","#N/A",""]
["BVMF:SAIC11B","SAIC11B","R$ 42,01",""]
["BVMF:TBOF11","TBOF11","R$ 85,00",""]
["BVMF:ALMI11","ALMI11","R$ 1.427,66",""]
["BVMF:TRNT11","TRNT11","R$ 200,00",""]
["BVMF:VLOL11","VLOL11","R$ 103,91",""]
["BVMF:AGCX11","AGCX11","#N/A",""]
["BVMF:BBVJ11","BBVJ11","R$ 67,55",""]
["BVMF:BMLC11B","BMLC11B","R$ 91,00",""]
["BVMF:BRHT11B","BRHT11B","R$ 0,00",""]
["BVMF:BPFF11","BPFF11","R$ 105,40",""]
["BVMF:BVAR11","BVAR11","R$ 0,00",""]
["BVMF:CXCE11B","CXCE11B","R$ 2.329,00",""]
["BVMF:CXTL11","CXTL11","R$ 385,55",""]
["BVMF:CTXT11","CTXT11","R$ 60,80",""]
["BVMF:FLMA11","FLMA11","R$ 4,25",""]
["BVMF:EDFO11B","EDFO11B","R$ 310,00",""]
["BVMF:EURO11","EURO11","R$ 165,02",""]
["BVMF:FIGS11","FIGS11","R$ 64,20",""]
["BVMF:ABCP11","ABCP11","R$ 101,94",""]
["BVMF:GWIR11","GWIR11","#N/A",""]
["BVMF:FIIB11","FIIB11","R$ 518,75",""]
["BVMF:FINF11","FINF11","R$ 0,00",""]
["BVMF:FMOF11","FMOF11","R$ 87,00",""]
["BVMF:MBRF11","MBRF11","R$ 1.235,00",""]
["BVMF:PABY11","PABY11","R$ 26,65",""]
["BVMF:FPNG11","FPNG11","R$ 0,00",""]
["BVMF:VPSI11","VPSI11","R$ 0,00",""]
["BVMF:FPAB11","FPAB11","R$ 370,00",""]
["BVMF:RBRF11","RBRF11","R$ 106,00",""]
["BVMF:FFCI11","FFCI11","R$ 171,40",""]
["BVMF:RNGO11","RNGO11","R$ 85,00",""]
["BVMF:SFND11","SFND11","R$ 0,00",""]
["BVMF:SCPF11","SCPF11","R$ 10,67",""]
["BVMF:SHPH11","SHPH11","R$ 955,00",""]
["BVMF:TGAR11","TGAR11","R$ 132,00",""]
["BVMF:ONEF11","ONEF11","R$ 147,40",""]
["BVMF:FVBI11","FVBI11","R$ 134,92",""]
["BVMF:VERE11","VERE11","R$ 0,00",""]
["BVMF:FVPQ11","FVPQ11","R$ 184,00",""]
["BVMF:FIVN11","FIVN11","R$ 3,57",""]
["BVMF:GGRC11","GGRC11","R$ 144,90",""]
["BVMF:RBBV11","RBBV11","R$ 87,28",""]
["BVMF:JPPC11","JPPC11","R$ 650,00",""]
["BVMF:JSRE11","JSRE11","R$ 112,50",""]
["BVMF:JTPR11","JTPR11","R$ 0,00",""]
["BVMF:KNRE11","KNRE11","R$ 6,15",""]
["BVMF:KNIP11","KNIP11","R$ 118,99",""]
["BVMF:KNRI11","KNRI11","R$ 153,49",""]
["BVMF:KNCR11","KNCR11","R$ 104,29",""]
["BVMF:LATR11B","LATR11B","R$ 0,00",""]
["BVMF:MXRF11","MXRF11","R$ 11,96",""]
["BVMF:MFII11","MFII11","R$ 121,87",""]
["BVMF:DRIT11B","DRIT11B","R$ 165,00",""]
["BVMF:FTCE11B","FTCE11B","R$ 2.878,99",""]
["BVMF:OUJP11","OUJP11","R$ 117,01",""]
["BVMF:PRSN11B","PRSN11B","R$ 0,00",""]
["BVMF:PLRI11","PLRI11","R$ 61,50",""]
["BVMF:PORD11","PORD11","R$ 106,31",""]
["BVMF:RBDS11","RBDS11","R$ 225,00",""]
["BVMF:RBGS11","RBGS11","R$ 43,45",""]
["BVMF:FIIP11B","FIIP11B","R$ 206,17",""]
["BVMF:RBRD11","RBRD11","R$ 101,90",""]
["BVMF:REIT11B","REIT11B","#N/A",""]
["BVMF:RDES11","RDES11","R$ 68,47",""]
["BVMF:RBCB11","RBCB11","R$ 38,00",""]
["BVMF:RBVO11","RBVO11","R$ 43,33",""]
["BVMF:SAAG11","SAAG11","R$ 128,72",""]
["BVMF:FISD11","FISD11","R$ 0,00",""]
["BVMF:SDIL11","SDIL11","R$ 114,00",""]
["BVMF:SPTW11","SPTW11","R$ 87,75",""]
["BVMF:SPAF11","SPAF11","R$ 0,00",""]
["BVMF:TSNC11","TSNC11","R$ 0,00",""]
["BVMF:XTED11","XTED11","R$ 7,70",""]
["BVMF:TRXL11","TRXL11","R$ 107,50",""]
["BVMF:VLJS11","VLJS11","R$ 0,00",""]
["BVMF:VISC11","VISC11","R$ 112,42",""]
["BVMF:XPCM11","XPCM11","R$ 59,62",""]
["BVMF:RBED11","RBED11","R$ 175,00",""]
["IFIX","IFIX","R$ 53,09",""]
["BVMF:SMAL11","SMAL11","R$ 110,25",""]
["BVMF:BOVA11","BOVA11","R$ 97,98",""]
["BVMF:MALL11","MALL11","R$ 109,00",""]
["BVMF:RBRR11","RBRR11","R$ 107,76",""]
["BVMF:XPML11","XPML11","R$ 107,50",""]
["BVMF:XPLG11","XPLG11","R$ 107,15",""]
["BVMF:BIDI4","BIDI4","R$ 16,45",""]
["BVMF:IRDM11","IRDM11","R$ 112,80",""]